{"text_format":"1","workbook":"xlsx","n_sheets":72,"sheets":["Instructions","ResultsSheet","Menu","Regatta Info","Club Listing","Summary","Race0101","Race0102","Race0103","Race0104","Race0105","Race0106","Race0107","Race0108","Race0109","Race0110","Race0112","Race0129","Race0130","Race0131","Race0132","Race0201","Race0202","Race0203","Race0204","Race0205","Race0206","Race0207","Race0208","Race0209","Race0210","Race0212","Race0229","Race0230","Race0231","Race0232","Race0701","Race0702","Race0703","Race0704","Race0705","Race0706","Race0707","Race0708","Race0709","Race0710","Race0711","Race0712","Race0713","Race0714","Race0715","Race1301","Race1302","Race1303","Race1304","Race1305","Race1306","Race1307","Race1308","Race1309","Race1310","Race1321","Race1322","Race1323","Race1324","Race1325","Race1326","Race1327","Race1328","Race1402","Race1407","SummaryPoints"],"not_rendered":{"charts":0,"images":1,"macros":1,"external_links":207,"defined_names":885,"comments":1,"pivot_tables":1},"unopened":[],"bounds":{"document_bytes":16777216,"sheet_cells":100000,"rows_first":2000,"rows_last":500,"rows_between":2000,"halvings":0,"cell_chars":16384,"cell_head_chars":4096},"cells_cut":0,"cells_raw":0,"read":"whole","date_system":"1900"}

{"sheet":"Instructions","index":0,"n_rows":58,"n_cols":13,"rows_kept":58,"cut":false,"hidden":false,"merged":[]}
["Spreadsheet developed by Green Technical Solutions Pty Ltd"]
["Version 1.2","2009-01-11"]
[]
["The following are the steps to follow to use the spreadsheet to record the results of a regatta."]
[]
["Step 1","If this is the first time using this spreadsheet - print out this page and leave it beside the computer."]
[]
["Step 2","Click on the Menu tab - this is the tab that you will navigate fom to all race tabs and other setup tabs."]
[]
["Step 3","Click on the Regatta Info button / tab and update the information with the details of the regatta."]
[null,"This information is copied to each race tab automatically.  "]
[null,"If the printouts do not have the right regatta information update this tab."]
[null,"Click on the Menu button / tab to get back to the navigation page."]
[]
["Step 4","Click on the Club Listing button / tab and update the information with the details of the clubs attending the regatta."]
[null,"The Club Code is used as a short cut method of entering the canoe's club on the race tabs."]
[null,"The use of the short cut Club Code allows a check to make sure that the Club Name is entered correctly."]
[null,"Once the Club Listing has been updated for the regatta - print out the Club Listing and keep near computer."]
[null,"Click on the Menu button / tab to get back to the navigation page."]
[]
["Step 5","Click on the button on the Menu tab for the race you want to enter results for."]
[null,"On the left is the team definition."]
[null,"On the top is the canoe definition."]
[null,"Click on the button that matches both the team definition and canoe definition."]
[]
[null,"The Race Tab"]
[5.0999999999999996,"Check the correct Race tab has been selected.",null,null,null,null,null,5.2,"Enter the distance of the race"]
[null,null,null,null,null,null,null,null,null,null,null,5.9,"Use the Menu button to get back"]
[]
[]
[]
[]
[]
[]
[]
[]
[]
[]
[]
[]
[]
[]
[]
[5.3,"Enter Canoe Number"]
[5.4,"Enter Club Code - this should automatically update the Club section - if not the Club Code is wrong or not in the Club Listing."]
[5.5,"Enter the Team Name if relevant - normally if a club has more than one team in a race."]
[5.6,"Enter the time in Hours, Minutes, Seconds, 100ths of Seconds"]
[5.7,"Official Points (Y/N)"]
[null,"If the race is not an official race change this field to N and the Points will all be set to zero (0)."]
[null,"You can then type in the points appropriate for the race based on local / zone rules"]
[5.8,"Unofficial Teams"]
[null,"If a team participates in the race that is not official then enter UOF into the Club Code."]
[null,"The points must then be edited manually with zero (0) entered in the Points for the Unofficial team."]
[]
["Step 6 ","Results - right click on the pivot table and select Refresh."]
[null,"Use the + - buttons to review the results summaries."]
[]
["Developer",null,"Paul Green",null,"0419 739 979",null,null,"Paul@GreenTechnicalSolutions.com.au"]

{"sheet":"ResultsSheet","index":1,"n_rows":0,"n_cols":0,"rows_kept":0,"cut":false,"hidden":false,"merged":[]}

{"sheet":"Menu","index":2,"n_rows":36,"n_cols":9,"rows_kept":36,"cut":false,"hidden":false,"merged":[[0,0,0,2],[0,3,0,5],[0,6,0,7]]}
["RegattaInfo",null,null,"ClubName",null,null,"Summary"]
[]
["S/J","Gender","Division",null,"OC6","OC6","OC2","OC1","SUP-Open"]
[null,null,null,null,"Marathon","Short Course","Marathon","Marathon","Short Course"]
["Senior","Men","21 & Under",null,"Race0101","Race0201","Race0701","Race1301"]
["Senior","Men","Open",null,"Race0102","Race0202","Race0702","Race1302","Race1402"]
["Senior","Men","Masters",null,"Race0103","Race0203","Race0703","Race1303"]
["Senior","Men","Senior Masters",null,"Race0104","Race0204","Race0704","Race1304"]
["Senior","Men","Golden Masters",null,"Race0105","Race0205","Race0705","Race1305"]
["Senior","Women","21 & Under",null,"Race0106","Race0206","Race0706","Race1306"]
["Senior","Women","Open",null,"Race0107","Race0207","Race0707","Race1307","Race1407"]
["Senior","Women","Masters",null,"Race0108","Race0208","Race0708","Race1308"]
["Senior","Women","Senior Masters",null,"Race0109","Race0209","Race0709","Race1309"]
["Senior","Women","Golden Masters",null,"Race0110","Race0210","Race0710","Race1310"]
["Senior","Mixed","21 & Under",null,null,null,"Race0711"]
["Senior","Mixed","Open",null,"Race0112","Race0212","Race0712"]
["Senior","Mixed","Masters",null,null,null,"Race0713"]
["Senior","Mixed","Senior Masters",null,null,null,"Race0714"]
["Senior","Mixed","Golden Masters",null,null,null,"Race0715"]
["Senior","Novice","21 & Under"]
["Senior","Novice","Open"]
["Senior","Novice","Masters"]
["Senior","Novice","Senior Masters"]
["Senior","Novice","Golden Masters"]
["Junior","Boys","12 & Under",null,null,null,null,"Race1321"]
["Junior","Boys","14 & Under",null,null,null,null,"Race1322"]
["Junior","Boys","16 & Under",null,null,null,null,"Race1323"]
["Junior","Boys","19 & Under",null,null,null,null,"Race1324"]
["Junior","Girls","12 & Under",null,null,null,null,"Race1325"]
["Junior","Girls","14 & Under",null,null,null,null,"Race1326"]
["Junior","Girls","16 & Under",null,null,null,null,"Race1327"]
["Junior","Girls","19 & Under",null,null,null,null,"Race1328"]
["Junior","Mixed","12 & Under",null,"Race0129","Race0229"]
["Junior","Mixed","14 & Under",null,"Race0130","Race0230"]
["Junior","Mixed","16 & Under",null,"Race0131","Race0231"]
["Junior","Mixed","19 & Under",null,"Race0132","Race0232"]

{"sheet":"Regatta Info","index":3,"n_rows":4,"n_cols":4,"rows_kept":4,"cut":false,"hidden":false,"merged":[]}
[null,null,null,"hlMenu"]
["Zone","NQ Zone"]
["Host Club","Outrigger Whitsunday"]
["Regatta Date","27th Feb 2010"]

{"sheet":"Club Listing","index":4,"n_rows":102,"n_cols":4,"rows_kept":102,"cut":false,"hidden":false,"merged":[]}
[null,null,null,"hlMenu"]
["Key","Club Name"]
[1,"Arafura"]
[2,"BRD"]
[3,"Brisbane"]
[4,"Cairns"]
[5,"Cairns Beaches"]
[6,"Canoe Point"]
[7,"Capricorn Coast "]
[8,"Cardwell"]
[9,"Coconuts"]
[10,"Coffs Coast"]
[11,"Coral Sea"]
[12,"Cronulla"]
[13,"Eastern Suburbs"]
[14,"Fraser Coast"]
[15,"Geelong"]
[16,"Hamilton Island"]
[17,"Hekili"]
[18,"Ikaika"]
[19,"Inland"]
[20,"Kai Opua"]
[21,"Kaipuna"]
[22,"Konedobu Kanu Klab"]
[23,"Licorice Allsorts"]
[24,"Magnetic Island"]
[25,"Malanuka"]
[26,"Malolo"]
[27,"Mana Pacifika"]
[28,"Melbourne"]
[29,"Mission Beach"]
[30,"Mont Dore Shell Va'a New Caledonia"]
[31,"Mooloolaba"]
[32,"Noosa"]
[33,"Northcliffe"]
[34,"Northern Beaches"]
[35,"Outrigger Australia"]
[36,"Outrigger Whitsunday"]
[37,"Panamuna"]
[38,"Patterson Lakes"]
[39,"Pittwater"]
[40,"Port Douglas"]
[41,"Port Stephens"]
[42,"QuOzzies"]
[43,"River City"]
[44,"Rockhampton"]
[45,"Singapore Paddle Club"]
[46,"Sunset Bay"]
[47,"Surfers Paradise"]
[48,"Te Ta'i U'o Va'a"]
[49,"Team Hawaii"]
[50,"Torquay"]
[51,"Townsville"]
[52,"Tweed Coast"]
[53,"Waitakere"]
[54,"Westcoast"]
[55,{"$f":"A57","v":55}]
[56,56]
[57,57]
[58,58]
[59,59]
[60,60]
[61,61]
[62,62]
[63,63]
[64,64]
[65,65]
[66,66]
[67,67]
[68,68]
[69,69]
[70,70]
[71,71]
[72,72]
[73,73]
[74,74]
[75,75]
[76,76]
[77,77]
[78,78]
[79,79]
[80,80]
[81,81]
[82,82]
[83,83]
[84,84]
[85,{"$f":"A87","v":85}]
[86,86]
[87,87]
[88,88]
[89,89]
[90,90]
[91,91]
[92,92]
[93,93]
[94,94]
[95,95]
[96,96]
[97,97]
[98,98]
[99,"Bob The Builders"]
[100,"AAA Unofficial Crews"]

{"sheet":"Summary","index":5,"n_rows":16,"n_cols":4,"rows_kept":16,"cut":false,"hidden":false,"merged":[]}
[null,null,"hlMenu"]
[]
[null,"Full Points Summary"]
[null,"(Right Click on pivot table and then select the Refresh option)"]
[null,"If unofficial crews have been given points the race points will need to be edited manually on the race sheet"]
[null,"Sum of Points","Column Labels"]
[null,"Row Labels",0,"Grand Total"]
[null,"Junior",1456,1456]
[null,"OC1",568,568]
[null,"OC6",888,888]
[null,"Senior",4359,4359]
[null,"OC1",710,710]
[null,"OC2",1065,1065]
[null,"OC6",2442,2442]
[null,"SUP-Open",142,142]
[null,"Grand Total",5815,5815]

{"sheet":"Race0101","index":6,"n_rows":57,"n_cols":7,"rows_kept":57,"cut":false,"hidden":false,"merged":[]}
["Zone",{"$f":"'Regatta Info'!B2","v":"NQ Zone"},"Host Club",{"$f":"'Regatta Info'!B3","v":"Outrigger Whitsunday"},"Dates",{"$f":"'Regatta Info'!B4","v":"27th Feb 2010"},"hlMenu"]
[null,"Official Points (Y/N)","y"]
[]
["CLASS",{"$f":"Menu!E3","v":"OC6"},"Event ",{"$f":"Menu!E4","v":"Marathon"},"Distance"]
[null,{"$f":"Menu!A5","v":"Senior"},"Division",{"$f":"Menu!C5","v":"21 & Under"},{"$f":"Menu!B5","v":"Men"}]
[null,"Canoe","Team  ",null,"Time"]
["Position","Number","Name","Club","HH:MM:SS","Points"]
[1,null,null,null,null,{"$f":"IF($C$2=\"Y\", 14,0)","v":14}]
[2,null,null,null,null,{"$f":"IF($C$2=\"Y\", 12,0)","v":12}]
[3,null,null,null,null,{"$f":"IF($C$2=\"Y\", 10,0)","v":10}]
[4,null,null,null,null,{"$f":"IF($C$2=\"Y\", 8,0)","v":8}]
[5,null,null,null,null,{"$f":"IF($C$2=\"Y\", 7,0)","v":7}]
[6,null,null,null,null,{"$f":"IF($C$2=\"Y\", 6,0)","v":6}]
[7,null,null,null,null,{"$f":"IF($C$2=\"Y\", 5,0)","v":5}]
[8,null,null,null,null,{"$f":"IF($C$2=\"Y\", 4,0)","v":4}]
[9,null,null,null,null,{"$f":"IF($C$2=\"Y\", 3,0)","v":3}]
[10,null,null,null,null,{"$f":"IF($C$2=\"Y\", 2,0)","v":2}]
[11,null,null,null,null,{"$f":"IF($C$2=\"Y\", 1,0)","v":1}]
[12,null,null,null,null,1]
[13,null,null,null,null,1]
[14,null,null,null,null,1]
[15,null,null,null,null,1]
[16,null,null,null,null,1]
[17,null,null,null,null,1]
[18,null,null,null,null,1]
[19,null,null,null,null,1]
[20,null,null,null,null,1]
[21,null,null,null,null,1]
[22,null,null,null,null,1]
[23,null,null,null,null,1]
[24,null,null,null,null,1]
[25,null,null,null,null,1]
[26,null,null,null,null,1]
[27,null,null,null,null,1]
[28,null,null,null,null,1]
[29,null,null,null,null,1]
[30,null,null,null,null,1]
[31,null,null,null,null,1]
[32,null,null,null,null,1]
[33,null,null,null,null,1]
[34,null,null,null,null,1]
[35,null,null,null,null,1]
[36,null,null,null,null,1]
[37,null,null,null,null,1]
[38,null,null,null,null,1]
[39,null,null,null,null,1]
[40,null,null,null,null,1]
[41,null,null,null,null,1]
[42,null,null,null,null,1]
[43,null,null,null,null,1]
[44,null,null,null,null,1]
[45,null,null,null,null,1]
[46,null,null,null,null,1]
[47,null,null,null,null,1]
[48,null,null,null,null,1]
[49,null,null,null,null,1]
[50,null,null,null,null,1]

{"sheet":"Race0102","index":7,"n_rows":57,"n_cols":7,"rows_kept":57,"cut":false,"hidden":false,"merged":[]}
["Zone",{"$f":"'Regatta Info'!B2","v":"NQ Zone"},"Host Club",{"$f":"'Regatta Info'!B3","v":"Outrigger Whitsunday"},"Dates",{"$f":"'Regatta Info'!B4","v":"27th Feb 2010"},"hlMenu"]
[null,"Official Points (Y/N)","y"]
[]
["CLASS",{"$f":"Menu!E3","v":"OC6"},"Event ",{"$f":"Menu!E4","v":"Marathon"},"Distance"]
[null,{"$f":"Menu!A6","v":"Senior"},"Division",{"$f":"Menu!C6","v":"Open"},{"$f":"Menu!B6","v":"Men"}]
[null,"Canoe","Team  ",null,"Time"]
["Position","Number","Name","Club","HH:MM:SS","Points"]
[1,null,null,null,null,{"$f":"IF($C$2=\"Y\", 14,0)","v":14}]
[2,null,null,null,null,{"$f":"IF($C$2=\"Y\", 12,0)","v":12}]
[3,null,null,null,null,{"$f":"IF($C$2=\"Y\", 10,0)","v":10}]
[4,null,null,null,null,{"$f":"IF($C$2=\"Y\", 8,0)","v":8}]
[5,null,null,null,null,{"$f":"IF($C$2=\"Y\", 7,0)","v":7}]
[6,null,null,null,null,{"$f":"IF($C$2=\"Y\", 6,0)","v":6}]
[7,null,null,null,null,{"$f":"IF($C$2=\"Y\", 5,0)","v":5}]
[8,null,null,null,null,{"$f":"IF($C$2=\"Y\", 4,0)","v":4}]
[9,null,null,null,null,{"$f":"IF($C$2=\"Y\", 3,0)","v":3}]
[10,null,null,null,null,{"$f":"IF($C$2=\"Y\", 2,0)","v":2}]
[11,null,null,null,null,{"$f":"IF($C$2=\"Y\", 1,0)","v":1}]
[12,null,null,null,null,1]
[13,null,null,null,null,1]
[14,null,null,null,null,1]
[15,null,null,null,null,1]
[16,null,null,null,null,1]
[17,null,null,null,null,1]
[18,null,null,null,null,1]
[19,null,null,null,null,1]
[20,null,null,null,null,1]
[21,null,null,null,null,1]
[22,null,null,null,null,1]
[23,null,null,null,null,1]
[24,null,null,null,null,1]
[25,null,null,null,null,1]
[26,null,null,null,null,1]
[27,null,null,null,null,1]
[28,null,null,null,null,1]
[29,null,null,null,null,1]
[30,null,null,null,null,1]
[31,null,null,null,null,1]
[32,null,null,null,null,1]
[33,null,null,null,null,1]
[34,null,null,null,null,1]
[35,null,null,null,null,1]
[36,null,null,null,null,1]
[37,null,null,null,null,1]
[38,null,null,null,null,1]
[39,null,null,null,null,1]
[40,null,null,null,null,1]
[41,null,null,null,null,1]
[42,null,null,null,null,1]
[43,null,null,null,null,1]
[44,null,null,null,null,1]
[45,null,null,null,null,1]
[46,null,null,null,null,1]
[47,null,null,null,null,1]
[48,null,null,null,null,1]
[49,null,null,null,null,1]
[50,null,null,null,null,1]

{"sheet":"Race0103","index":8,"n_rows":57,"n_cols":7,"rows_kept":57,"cut":false,"hidden":false,"merged":[]}
["Zone",{"$f":"'Regatta Info'!B2","v":"NQ Zone"},"Host Club",{"$f":"'Regatta Info'!B3","v":"Outrigger Whitsunday"},"Dates",{"$f":"'Regatta Info'!B4","v":"27th Feb 2010"},"hlMenu"]
[null,"Official Points (Y/N)","y"]
[]
["CLASS",{"$f":"Menu!E3","v":"OC6"},"Event ",{"$f":"Menu!E4","v":"Marathon"},"Distance"]
[null,{"$f":"Menu!A7","v":"Senior"},"Division",{"$f":"Menu!C7","v":"Masters"},{"$f":"Menu!B7","v":"Men"}]
[null,"Canoe","Team  ",null,"Time"]
["Position","Number","Name","Club","HH:MM:SS","Points"]
[1,null,null,null,null,{"$f":"IF($C$2=\"Y\", 14,0)","v":14}]
[2,null,null,null,null,{"$f":"IF($C$2=\"Y\", 12,0)","v":12}]
[3,null,null,null,null,{"$f":"IF($C$2=\"Y\", 10,0)","v":10}]
[4,null,null,null,null,{"$f":"IF($C$2=\"Y\", 8,0)","v":8}]
[5,null,null,null,null,{"$f":"IF($C$2=\"Y\", 7,0)","v":7}]
[6,null,null,null,null,{"$f":"IF($C$2=\"Y\", 6,0)","v":6}]
[7,null,null,null,null,{"$f":"IF($C$2=\"Y\", 5,0)","v":5}]
[8,null,null,null,null,{"$f":"IF($C$2=\"Y\", 4,0)","v":4}]
[9,null,null,null,null,{"$f":"IF($C$2=\"Y\", 3,0)","v":3}]
[10,null,null,null,null,{"$f":"IF($C$2=\"Y\", 2,0)","v":2}]
[11,null,null,null,null,{"$f":"IF($C$2=\"Y\", 1,0)","v":1}]
[12,null,null,null,null,1]
[13,null,null,null,null,1]
[14,null,null,null,null,1]
[15,null,null,null,null,1]
[16,null,null,null,null,1]
[17,null,null,null,null,1]
[18,null,null,null,null,1]
[19,null,null,null,null,1]
[20,null,null,null,null,1]
[21,null,null,null,null,1]
[22,null,null,null,null,1]
[23,null,null,null,null,1]
[24,null,null,null,null,1]
[25,null,null,null,null,1]
[26,null,null,null,null,1]
[27,null,null,null,null,1]
[28,null,null,null,null,1]
[29,null,null,null,null,1]
[30,null,null,null,null,1]
[31,null,null,null,null,1]
[32,null,null,null,null,1]
[33,null,null,null,null,1]
[34,null,null,null,null,1]
[35,null,null,null,null,1]
[36,null,null,null,null,1]
[37,null,null,null,null,1]
[38,null,null,null,null,1]
[39,null,null,null,null,1]
[40,null,null,null,null,1]
[41,null,null,null,null,1]
[42,null,null,null,null,1]
[43,null,null,null,null,1]
[44,null,null,null,null,1]
[45,null,null,null,null,1]
[46,null,null,null,null,1]
[47,null,null,null,null,1]
[48,null,null,null,null,1]
[49,null,null,null,null,1]
[50,null,null,null,null,1]

{"sheet":"Race0104","index":9,"n_rows":57,"n_cols":7,"rows_kept":57,"cut":false,"hidden":false,"merged":[]}
["Zone",{"$f":"'Regatta Info'!B2","v":"NQ Zone"},"Host Club",{"$f":"'Regatta Info'!B3","v":"Outrigger Whitsunday"},"Dates",{"$f":"'Regatta Info'!B4","v":"27th Feb 2010"},"hlMenu"]
[null,"Official Points (Y/N)","y"]
[]
["CLASS",{"$f":"Menu!E3","v":"OC6"},"Event ",{"$f":"Menu!E4","v":"Marathon"},"Distance"]
[null,{"$f":"Menu!A8","v":"Senior"},"Division",{"$f":"Menu!C8","v":"Senior Masters"},{"$f":"Menu!B8","v":"Men"}]
[null,"Canoe","Team  ",null,"Time"]
["Position","Number","Name","Club","HH:MM:SS","Points"]
[1,null,null,null,null,{"$f":"IF($C$2=\"Y\", 14,0)","v":14}]
[2,null,null,null,null,{"$f":"IF($C$2=\"Y\", 12,0)","v":12}]
[3,null,null,null,null,{"$f":"IF($C$2=\"Y\", 10,0)","v":10}]
[4,null,null,null,null,{"$f":"IF($C$2=\"Y\", 8,0)","v":8}]
[5,null,null,null,null,{"$f":"IF($C$2=\"Y\", 7,0)","v":7}]
[6,null,null,null,null,{"$f":"IF($C$2=\"Y\", 6,0)","v":6}]
[7,null,null,null,null,{"$f":"IF($C$2=\"Y\", 5,0)","v":5}]
[8,null,null,null,null,{"$f":"IF($C$2=\"Y\", 4,0)","v":4}]
[9,null,null,null,null,{"$f":"IF($C$2=\"Y\", 3,0)","v":3}]
[10,null,null,null,null,{"$f":"IF($C$2=\"Y\", 2,0)","v":2}]
[11,null,null,null,null,{"$f":"IF($C$2=\"Y\", 1,0)","v":1}]
[12,null,null,null,null,1]
[13,null,null,null,null,1]
[14,null,null,null,null,1]
[15,null,null,null,null,1]
[16,null,null,null,null,1]
[17,null,null,null,null,1]
[18,null,null,null,null,1]
[19,null,null,null,null,1]
[20,null,null,null,null,1]
[21,null,null,null,null,1]
[22,null,null,null,null,1]
[23,null,null,null,null,1]
[24,null,null,null,null,1]
[25,null,null,null,null,1]
[26,null,null,null,null,1]
[27,null,null,null,null,1]
[28,null,null,null,null,1]
[29,null,null,null,null,1]
[30,null,null,null,null,1]
[31,null,null,null,null,1]
[32,null,null,null,null,1]
[33,null,null,null,null,1]
[34,null,null,null,null,1]
[35,null,null,null,null,1]
[36,null,null,null,null,1]
[37,null,null,null,null,1]
[38,null,null,null,null,1]
[39,null,null,null,null,1]
[40,null,null,null,null,1]
[41,null,null,null,null,1]
[42,null,null,null,null,1]
[43,null,null,null,null,1]
[44,null,null,null,null,1]
[45,null,null,null,null,1]
[46,null,null,null,null,1]
[47,null,null,null,null,1]
[48,null,null,null,null,1]
[49,null,null,null,null,1]
[50,null,null,null,null,1]

{"sheet":"Race0105","index":10,"n_rows":57,"n_cols":7,"rows_kept":57,"cut":false,"hidden":false,"merged":[]}
["Zone",{"$f":"'Regatta Info'!B2","v":"NQ Zone"},"Host Club",{"$f":"'Regatta Info'!B3","v":"Outrigger Whitsunday"},"Dates",{"$f":"'Regatta Info'!B4","v":"27th Feb 2010"},"hlMenu"]
[null,"Official Points (Y/N)","y"]
[]
["CLASS",{"$f":"Menu!E3","v":"OC6"},"Event ",{"$f":"Menu!E4","v":"Marathon"},"Distance"]
[null,{"$f":"Menu!A9","v":"Senior"},"Division",{"$f":"Menu!C9","v":"Golden Masters"},{"$f":"Menu!B9","v":"Men"}]
[null,"Canoe","Team  ",null,"Time"]
["Position","Number","Name","Club","HH:MM:SS","Points"]
[1,null,null,null,null,{"$f":"IF($C$2=\"Y\", 14,0)","v":14}]
[2,null,null,null,null,{"$f":"IF($C$2=\"Y\", 12,0)","v":12}]
[3,null,null,null,null,{"$f":"IF($C$2=\"Y\", 10,0)","v":10}]
[4,null,null,null,null,{"$f":"IF($C$2=\"Y\", 8,0)","v":8}]
[5,null,null,null,null,{"$f":"IF($C$2=\"Y\", 7,0)","v":7}]
[6,null,null,null,null,{"$f":"IF($C$2=\"Y\", 6,0)","v":6}]
[7,null,null,null,null,{"$f":"IF($C$2=\"Y\", 5,0)","v":5}]
[8,null,null,null,null,{"$f":"IF($C$2=\"Y\", 4,0)","v":4}]
[9,null,null,null,null,{"$f":"IF($C$2=\"Y\", 3,0)","v":3}]
[10,null,null,null,null,{"$f":"IF($C$2=\"Y\", 2,0)","v":2}]
[11,null,null,null,null,{"$f":"IF($C$2=\"Y\", 1,0)","v":1}]
[12,null,null,null,null,1]
[13,null,null,null,null,1]
[14,null,null,null,null,1]
[15,null,null,null,null,1]
[16,null,null,null,null,1]
[17,null,null,null,null,1]
[18,null,null,null,null,1]
[19,null,null,null,null,1]
[20,null,null,null,null,1]
[21,null,null,null,null,1]
[22,null,null,null,null,1]
[23,null,null,null,null,1]
[24,null,null,null,null,1]
[25,null,null,null,null,1]
[26,null,null,null,null,1]
[27,null,null,null,null,1]
[28,null,null,null,null,1]
[29,null,null,null,null,1]
[30,null,null,null,null,1]
[31,null,null,null,null,1]
[32,null,null,null,null,1]
[33,null,null,null,null,1]
[34,null,null,null,null,1]
[35,null,null,null,null,1]
[36,null,null,null,null,1]
[37,null,null,null,null,1]
[38,null,null,null,null,1]
[39,null,null,null,null,1]
[40,null,null,null,null,1]
[41,null,null,null,null,1]
[42,null,null,null,null,1]
[43,null,null,null,null,1]
[44,null,null,null,null,1]
[45,null,null,null,null,1]
[46,null,null,null,null,1]
[47,null,null,null,null,1]
[48,null,null,null,null,1]
[49,null,null,null,null,1]
[50,null,null,null,null,1]

{"sheet":"Race0106","index":11,"n_rows":57,"n_cols":7,"rows_kept":57,"cut":false,"hidden":false,"merged":[]}
["Zone",{"$f":"'Regatta Info'!B2","v":"NQ Zone"},"Host Club",{"$f":"'Regatta Info'!B3","v":"Outrigger Whitsunday"},"Dates",{"$f":"'Regatta Info'!B4","v":"27th Feb 2010"},"hlMenu"]
[null,"Official Points (Y/N)","y"]
[]
["CLASS",{"$f":"Menu!E3","v":"OC6"},"Event ",{"$f":"Menu!E4","v":"Marathon"},"Distance"]
[null,{"$f":"Menu!A10","v":"Senior"},"Division",{"$f":"Menu!C10","v":"21 & Under"},{"$f":"Menu!B10","v":"Women"}]
[null,"Canoe","Team  ",null,"Time"]
["Position","Number","Name","Club","HH:MM:SS","Points"]
[1,null,null,null,null,{"$f":"IF($C$2=\"Y\", 14,0)","v":14}]
[2,null,null,null,null,{"$f":"IF($C$2=\"Y\", 12,0)","v":12}]
[3,null,null,null,null,{"$f":"IF($C$2=\"Y\", 10,0)","v":10}]
[4,null,null,null,null,{"$f":"IF($C$2=\"Y\", 8,0)","v":8}]
[5,null,null,null,null,{"$f":"IF($C$2=\"Y\", 7,0)","v":7}]
[6,null,null,null,null,{"$f":"IF($C$2=\"Y\", 6,0)","v":6}]
[7,null,null,null,null,{"$f":"IF($C$2=\"Y\", 5,0)","v":5}]
[8,null,null,null,null,{"$f":"IF($C$2=\"Y\", 4,0)","v":4}]
[9,null,null,null,null,{"$f":"IF($C$2=\"Y\", 3,0)","v":3}]
[10,null,null,null,null,{"$f":"IF($C$2=\"Y\", 2,0)","v":2}]
[11,null,null,null,null,{"$f":"IF($C$2=\"Y\", 1,0)","v":1}]
[12,null,null,null,null,1]
[13,null,null,null,null,1]
[14,null,null,null,null,1]
[15,null,null,null,null,1]
[16,null,null,null,null,1]
[17,null,null,null,null,1]
[18,null,null,null,null,1]
[19,null,null,null,null,1]
[20,null,null,null,null,1]
[21,null,null,null,null,1]
[22,null,null,null,null,1]
[23,null,null,null,null,1]
[24,null,null,null,null,1]
[25,null,null,null,null,1]
[26,null,null,null,null,1]
[27,null,null,null,null,1]
[28,null,null,null,null,1]
[29,null,null,null,null,1]
[30,null,null,null,null,1]
[31,null,null,null,null,1]
[32,null,null,null,null,1]
[33,null,null,null,null,1]
[34,null,null,null,null,1]
[35,null,null,null,null,1]
[36,null,null,null,null,1]
[37,null,null,null,null,1]
[38,null,null,null,null,1]
[39,null,null,null,null,1]
[40,null,null,null,null,1]
[41,null,null,null,null,1]
[42,null,null,null,null,1]
[43,null,null,null,null,1]
[44,null,null,null,null,1]
[45,null,null,null,null,1]
[46,null,null,null,null,1]
[47,null,null,null,null,1]
[48,null,null,null,null,1]
[49,null,null,null,null,1]
[50,null,null,null,null,1]

{"sheet":"Race0107","index":12,"n_rows":57,"n_cols":7,"rows_kept":57,"cut":false,"hidden":false,"merged":[]}
["Zone",{"$f":"'Regatta Info'!B2","v":"NQ Zone"},"Host Club",{"$f":"'Regatta Info'!B3","v":"Outrigger Whitsunday"},"Dates",{"$f":"'Regatta Info'!B4","v":"27th Feb 2010"},"hlMenu"]
[null,"Official Points (Y/N)","y"]
[]
["CLASS",{"$f":"Menu!E3","v":"OC6"},"Event ",{"$f":"Menu!E4","v":"Marathon"},"Distance"]
[null,{"$f":"Menu!A11","v":"Senior"},"Division",{"$f":"Menu!C11","v":"Open"},{"$f":"Menu!B11","v":"Women"}]
[null,"Canoe","Team  ",null,"Time"]
["Position","Number","Name","Club","HH:MM:SS","Points"]
[1,null,null,null,null,{"$f":"IF($C$2=\"Y\", 14,0)","v":14}]
[2,null,null,null,null,{"$f":"IF($C$2=\"Y\", 12,0)","v":12}]
[3,null,null,null,null,{"$f":"IF($C$2=\"Y\", 10,0)","v":10}]
[4,null,null,null,null,{"$f":"IF($C$2=\"Y\", 8,0)","v":8}]
[5,null,null,null,null,{"$f":"IF($C$2=\"Y\", 7,0)","v":7}]
[6,null,null,null,null,{"$f":"IF($C$2=\"Y\", 6,0)","v":6}]
[7,null,null,null,null,{"$f":"IF($C$2=\"Y\", 5,0)","v":5}]
[8,null,null,null,null,{"$f":"IF($C$2=\"Y\", 4,0)","v":4}]
[9,null,null,null,null,{"$f":"IF($C$2=\"Y\", 3,0)","v":3}]
[10,null,null,null,null,{"$f":"IF($C$2=\"Y\", 2,0)","v":2}]
[11,null,null,null,null,{"$f":"IF($C$2=\"Y\", 1,0)","v":1}]
[12,null,null,null,null,1]
[13,null,null,null,null,1]
[14,null,null,null,null,1]
[15,null,null,null,null,1]
[16,null,null,null,null,1]
[17,null,null,null,null,1]
[18,null,null,null,null,1]
[19,null,null,null,null,1]
[20,null,null,null,null,1]
[21,null,null,null,null,1]
[22,null,null,null,null,1]
[23,null,null,null,null,1]
[24,null,null,null,null,1]
[25,null,null,null,null,1]
[26,null,null,null,null,1]
[27,null,null,null,null,1]
[28,null,null,null,null,1]
[29,null,null,null,null,1]
[30,null,null,null,null,1]
[31,null,null,null,null,1]
[32,null,null,null,null,1]
[33,null,null,null,null,1]
[34,null,null,null,null,1]
[35,null,null,null,null,1]
[36,null,null,null,null,1]
[37,null,null,null,null,1]
[38,null,null,null,null,1]
[39,null,null,null,null,1]
[40,null,null,null,null,1]
[41,null,null,null,null,1]
[42,null,null,null,null,1]
[43,null,null,null,null,1]
[44,null,null,null,null,1]
[45,null,null,null,null,1]
[46,null,null,null,null,1]
[47,null,null,null,null,1]
[48,null,null,null,null,1]
[49,null,null,null,null,1]
[50,null,null,null,null,1]

{"sheet":"Race0108","index":13,"n_rows":57,"n_cols":7,"rows_kept":57,"cut":false,"hidden":false,"merged":[]}
["Zone",{"$f":"'Regatta Info'!B2","v":"NQ Zone"},"Host Club",{"$f":"'Regatta Info'!B3","v":"Outrigger Whitsunday"},"Dates",{"$f":"'Regatta Info'!B4","v":"27th Feb 2010"},"hlMenu"]
[null,"Official Points (Y/N)","y"]
[]
["CLASS",{"$f":"Menu!E3","v":"OC6"},"Event ",{"$f":"Menu!E4","v":"Marathon"},"Distance"]
[null,{"$f":"Menu!A12","v":"Senior"},"Division",{"$f":"Menu!C12","v":"Masters"},{"$f":"Menu!B12","v":"Women"}]
[null,"Canoe","Team  ",null,"Time"]
["Position","Number","Name","Club","HH:MM:SS","Points"]
[1,null,null,null,null,{"$f":"IF($C$2=\"Y\", 14,0)","v":14}]
[2,null,null,null,null,{"$f":"IF($C$2=\"Y\", 12,0)","v":12}]
[3,null,null,null,null,{"$f":"IF($C$2=\"Y\", 10,0)","v":10}]
[4,null,null,null,null,{"$f":"IF($C$2=\"Y\", 8,0)","v":8}]
[5,null,null,null,null,{"$f":"IF($C$2=\"Y\", 7,0)","v":7}]
[6,null,null,null,null,{"$f":"IF($C$2=\"Y\", 6,0)","v":6}]
[7,null,null,null,null,{"$f":"IF($C$2=\"Y\", 5,0)","v":5}]
[8,null,null,null,null,{"$f":"IF($C$2=\"Y\", 4,0)","v":4}]
[9,null,null,null,null,{"$f":"IF($C$2=\"Y\", 3,0)","v":3}]
[10,null,null,null,null,{"$f":"IF($C$2=\"Y\", 2,0)","v":2}]
[11,null,null,null,null,{"$f":"IF($C$2=\"Y\", 1,0)","v":1}]
[12,null,null,null,null,1]
[13,null,null,null,null,1]
[14,null,null,null,null,1]
[15,null,null,null,null,1]
[16,null,null,null,null,1]
[17,null,null,null,null,1]
[18,null,null,null,null,1]
[19,null,null,null,null,1]
[20,null,null,null,null,1]
[21,null,null,null,null,1]
[22,null,null,null,null,1]
[23,null,null,null,null,1]
[24,null,null,null,null,1]
[25,null,null,null,null,1]
[26,null,null,null,null,1]
[27,null,null,null,null,1]
[28,null,null,null,null,1]
[29,null,null,null,null,1]
[30,null,null,null,null,1]
[31,null,null,null,null,1]
[32,null,null,null,null,1]
[33,null,null,null,null,1]
[34,null,null,null,null,1]
[35,null,null,null,null,1]
[36,null,null,null,null,1]
[37,null,null,null,null,1]
[38,null,null,null,null,1]
[39,null,null,null,null,1]
[40,null,null,null,null,1]
[41,null,null,null,null,1]
[42,null,null,null,null,1]
[43,null,null,null,null,1]
[44,null,null,null,null,1]
[45,null,null,null,null,1]
[46,null,null,null,null,1]
[47,null,null,null,null,1]
[48,null,null,null,null,1]
[49,null,null,null,null,1]
[50,null,null,null,null,1]

{"sheet":"Race0109","index":14,"n_rows":57,"n_cols":7,"rows_kept":57,"cut":false,"hidden":false,"merged":[]}
["Zone",{"$f":"'Regatta Info'!B2","v":"NQ Zone"},"Host Club",{"$f":"'Regatta Info'!B3","v":"Outrigger Whitsunday"},"Dates",{"$f":"'Regatta Info'!B4","v":"27th Feb 2010"},"hlMenu"]
[null,"Official Points (Y/N)","y"]
[]
["CLASS",{"$f":"Menu!E3","v":"OC6"},"Event ",{"$f":"Menu!E4","v":"Marathon"},"Distance"]
[null,{"$f":"Menu!A13","v":"Senior"},"Division",{"$f":"Menu!C13","v":"Senior Masters"},{"$f":"Menu!B13","v":"Women"}]
[null,"Canoe","Team  ",null,"Time"]
["Position","Number","Name","Club","HH:MM:SS","Points"]
[1,null,null,null,null,{"$f":"IF($C$2=\"Y\", 14,0)","v":14}]
[2,null,null,null,null,{"$f":"IF($C$2=\"Y\", 12,0)","v":12}]
[3,null,null,null,null,{"$f":"IF($C$2=\"Y\", 10,0)","v":10}]
[4,null,null,null,null,{"$f":"IF($C$2=\"Y\", 8,0)","v":8}]
[5,null,null,null,null,{"$f":"IF($C$2=\"Y\", 7,0)","v":7}]
[6,null,null,null,null,{"$f":"IF($C$2=\"Y\", 6,0)","v":6}]
[7,null,null,null,null,{"$f":"IF($C$2=\"Y\", 5,0)","v":5}]
[8,null,null,null,null,{"$f":"IF($C$2=\"Y\", 4,0)","v":4}]
[9,null,null,null,null,{"$f":"IF($C$2=\"Y\", 3,0)","v":3}]
[10,null,null,null,null,{"$f":"IF($C$2=\"Y\", 2,0)","v":2}]
[11,null,null,null,null,{"$f":"IF($C$2=\"Y\", 1,0)","v":1}]
[12,null,null,null,null,1]
[13,null,null,null,null,1]
[14,null,null,null,null,1]
[15,null,null,null,null,1]
[16,null,null,null,null,1]
[17,null,null,null,null,1]
[18,null,null,null,null,1]
[19,null,null,null,null,1]
[20,null,null,null,null,1]
[21,null,null,null,null,1]
[22,null,null,null,null,1]
[23,null,null,null,null,1]
[24,null,null,null,null,1]
[25,null,null,null,null,1]
[26,null,null,null,null,1]
[27,null,null,null,null,1]
[28,null,null,null,null,1]
[29,null,null,null,null,1]
[30,null,null,null,null,1]
[31,null,null,null,null,1]
[32,null,null,null,null,1]
[33,null,null,null,null,1]
[34,null,null,null,null,1]
[35,null,null,null,null,1]
[36,null,null,null,null,1]
[37,null,null,null,null,1]
[38,null,null,null,null,1]
[39,null,null,null,null,1]
[40,null,null,null,null,1]
[41,null,null,null,null,1]
[42,null,null,null,null,1]
[43,null,null,null,null,1]
[44,null,null,null,null,1]
[45,null,null,null,null,1]
[46,null,null,null,null,1]
[47,null,null,null,null,1]
[48,null,null,null,null,1]
[49,null,null,null,null,1]
[50,null,null,null,null,1]

{"sheet":"Race0110","index":15,"n_rows":57,"n_cols":7,"rows_kept":57,"cut":false,"hidden":false,"merged":[]}
["Zone",{"$f":"'Regatta Info'!B2","v":"NQ Zone"},"Host Club",{"$f":"'Regatta Info'!B3","v":"Outrigger Whitsunday"},"Dates",{"$f":"'Regatta Info'!B4","v":"27th Feb 2010"},"hlMenu"]
[null,"Official Points (Y/N)","y"]
[]
["CLASS",{"$f":"Menu!E3","v":"OC6"},"Event ",{"$f":"Menu!E4","v":"Marathon"},"Distance"]
[null,{"$f":"Menu!A14","v":"Senior"},"Division",{"$f":"Menu!C14","v":"Golden Masters"},{"$f":"Menu!B14","v":"Women"}]
[null,"Canoe","Team  ",null,"Time"]
["Position","Number","Name","Club","HH:MM:SS","Points"]
[1,null,null,null,null,{"$f":"IF($C$2=\"Y\", 14,0)","v":14}]
[2,null,null,null,null,{"$f":"IF($C$2=\"Y\", 12,0)","v":12}]
[3,null,null,null,null,{"$f":"IF($C$2=\"Y\", 10,0)","v":10}]
[4,null,null,null,null,{"$f":"IF($C$2=\"Y\", 8,0)","v":8}]
[5,null,null,null,null,{"$f":"IF($C$2=\"Y\", 7,0)","v":7}]
[6,null,null,null,null,{"$f":"IF($C$2=\"Y\", 6,0)","v":6}]
[7,null,null,null,null,{"$f":"IF($C$2=\"Y\", 5,0)","v":5}]
[8,null,null,null,null,{"$f":"IF($C$2=\"Y\", 4,0)","v":4}]
[9,null,null,null,null,{"$f":"IF($C$2=\"Y\", 3,0)","v":3}]
[10,null,null,null,null,{"$f":"IF($C$2=\"Y\", 2,0)","v":2}]
[11,null,null,null,null,{"$f":"IF($C$2=\"Y\", 1,0)","v":1}]
[12,null,null,null,null,1]
[13,null,null,null,null,1]
[14,null,null,null,null,1]
[15,null,null,null,null,1]
[16,null,null,null,null,1]
[17,null,null,null,null,1]
[18,null,null,null,null,1]
[19,null,null,null,null,1]
[20,null,null,null,null,1]
[21,null,null,null,null,1]
[22,null,null,null,null,1]
[23,null,null,null,null,1]
[24,null,null,null,null,1]
[25,null,null,null,null,1]
[26,null,null,null,null,1]
[27,null,null,null,null,1]
[28,null,null,null,null,1]
[29,null,null,null,null,1]
[30,null,null,null,null,1]
[31,null,null,null,null,1]
[32,null,null,null,null,1]
[33,null,null,null,null,1]
[34,null,null,null,null,1]
[35,null,null,null,null,1]
[36,null,null,null,null,1]
[37,null,null,null,null,1]
[38,null,null,null,null,1]
[39,null,null,null,null,1]
[40,null,null,null,null,1]
[41,null,null,null,null,1]
[42,null,null,null,null,1]
[43,null,null,null,null,1]
[44,null,null,null,null,1]
[45,null,null,null,null,1]
[46,null,null,null,null,1]
[47,null,null,null,null,1]
[48,null,null,null,null,1]
[49,null,null,null,null,1]
[50,null,null,null,null,1]

{"sheet":"Race0112","index":16,"n_rows":57,"n_cols":7,"rows_kept":57,"cut":false,"hidden":false,"merged":[]}
["Zone",{"$f":"'Regatta Info'!B2","v":"NQ Zone"},"Host Club",{"$f":"'Regatta Info'!B3","v":"Outrigger Whitsunday"},"Dates",{"$f":"'Regatta Info'!B4","v":"27th Feb 2010"},"hlMenu"]
[null,"Official Points (Y/N)","y"]
[]
["CLASS",{"$f":"Menu!E3","v":"OC6"},"Event ",{"$f":"Menu!E4","v":"Marathon"},"Distance"]
[null,{"$f":"Menu!A16","v":"Senior"},"Division",{"$f":"Menu!C16","v":"Open"},{"$f":"Menu!B16","v":"Mixed"}]
[null,"Canoe","Team  ",null,"Time"]
["Position","Number","Name","Club","HH:MM:SS","Points"]
[1,null,null,null,null,{"$f":"IF($C$2=\"Y\", 14,0)","v":14}]
[2,null,null,null,null,{"$f":"IF($C$2=\"Y\", 12,0)","v":12}]
[3,null,null,null,null,{"$f":"IF($C$2=\"Y\", 10,0)","v":10}]
[4,null,null,null,null,{"$f":"IF($C$2=\"Y\", 8,0)","v":8}]
[5,null,null,null,null,{"$f":"IF($C$2=\"Y\", 7,0)","v":7}]
[6,null,null,null,null,{"$f":"IF($C$2=\"Y\", 6,0)","v":6}]
[7,null,null,null,null,{"$f":"IF($C$2=\"Y\", 5,0)","v":5}]
[8,null,null,null,null,{"$f":"IF($C$2=\"Y\", 4,0)","v":4}]
[9,null,null,null,null,{"$f":"IF($C$2=\"Y\", 3,0)","v":3}]
[10,null,null,null,null,{"$f":"IF($C$2=\"Y\", 2,0)","v":2}]
[11,null,null,null,null,{"$f":"IF($C$2=\"Y\", 1,0)","v":1}]
[12,null,null,null,null,1]
[13,null,null,null,null,1]
[14,null,null,null,null,1]
[15,null,null,null,null,1]
[16,null,null,null,null,1]
[17,null,null,null,null,1]
[18,null,null,null,null,1]
[19,null,null,null,null,1]
[20,null,null,null,null,1]
[21,null,null,null,null,1]
[22,null,null,null,null,1]
[23,null,null,null,null,1]
[24,null,null,null,null,1]
[25,null,null,null,null,1]
[26,null,null,null,null,1]
[27,null,null,null,null,1]
[28,null,null,null,null,1]
[29,null,null,null,null,1]
[30,null,null,null,null,1]
[31,null,null,null,null,1]
[32,null,null,null,null,1]
[33,null,null,null,null,1]
[34,null,null,null,null,1]
[35,null,null,null,null,1]
[36,null,null,null,null,1]
[37,null,null,null,null,1]
[38,null,null,null,null,1]
[39,null,null,null,null,1]
[40,null,null,null,null,1]
[41,null,null,null,null,1]
[42,null,null,null,null,1]
[43,null,null,null,null,1]
[44,null,null,null,null,1]
[45,null,null,null,null,1]
[46,null,null,null,null,1]
[47,null,null,null,null,1]
[48,null,null,null,null,1]
[49,null,null,null,null,1]
[50,null,null,null,null,1]

{"sheet":"Race0129","index":17,"n_rows":57,"n_cols":7,"rows_kept":57,"cut":false,"hidden":false,"merged":[]}
["Zone",{"$f":"'Regatta Info'!B2","v":"NQ Zone"},"Host Club",{"$f":"'Regatta Info'!B3","v":"Outrigger Whitsunday"},"Dates",{"$f":"'Regatta Info'!B4","v":"27th Feb 2010"},"hlMenu"]
[null,"Official Points (Y/N)","y"]
[]
["CLASS",{"$f":"Menu!E3","v":"OC6"},"Event ",{"$f":"Menu!E4","v":"Marathon"},"Distance"]
[null,{"$f":"Menu!A33","v":"Junior"},"Division",{"$f":"Menu!C33","v":"12 & Under"},{"$f":"Menu!B33","v":"Mixed"}]
[null,"Canoe","Team  ",null,"Time"]
["Position","Number","Name","Club","HH:MM:SS","Points"]
[1,null,null,null,null,{"$f":"IF($C$2=\"Y\", 14,0)","v":14}]
[2,null,null,null,null,{"$f":"IF($C$2=\"Y\", 12,0)","v":12}]
[3,null,null,null,null,{"$f":"IF($C$2=\"Y\", 10,0)","v":10}]
[4,null,null,null,null,{"$f":"IF($C$2=\"Y\", 8,0)","v":8}]
[5,null,null,null,null,{"$f":"IF($C$2=\"Y\", 7,0)","v":7}]
[6,null,null,null,null,{"$f":"IF($C$2=\"Y\", 6,0)","v":6}]
[7,null,null,null,null,{"$f":"IF($C$2=\"Y\", 5,0)","v":5}]
[8,null,null,null,null,{"$f":"IF($C$2=\"Y\", 4,0)","v":4}]
[9,null,null,null,null,{"$f":"IF($C$2=\"Y\", 3,0)","v":3}]
[10,null,null,null,null,{"$f":"IF($C$2=\"Y\", 2,0)","v":2}]
[11,null,null,null,null,{"$f":"IF($C$2=\"Y\", 1,0)","v":1}]
[12,null,null,null,null,1]
[13,null,null,null,null,1]
[14,null,null,null,null,1]
[15,null,null,null,null,1]
[16,null,null,null,null,1]
[17,null,null,null,null,1]
[18,null,null,null,null,1]
[19,null,null,null,null,1]
[20,null,null,null,null,1]
[21,null,null,null,null,1]
[22,null,null,null,null,1]
[23,null,null,null,null,1]
[24,null,null,null,null,1]
[25,null,null,null,null,1]
[26,null,null,null,null,1]
[27,null,null,null,null,1]
[28,null,null,null,null,1]
[29,null,null,null,null,1]
[30,null,null,null,null,1]
[31,null,null,null,null,1]
[32,null,null,null,null,1]
[33,null,null,null,null,1]
[34,null,null,null,null,1]
[35,null,null,null,null,1]
[36,null,null,null,null,1]
[37,null,null,null,null,1]
[38,null,null,null,null,1]
[39,null,null,null,null,1]
[40,null,null,null,null,1]
[41,null,null,null,null,1]
[42,null,null,null,null,1]
[43,null,null,null,null,1]
[44,null,null,null,null,1]
[45,null,null,null,null,1]
[46,null,null,null,null,1]
[47,null,null,null,null,1]
[48,null,null,null,null,1]
[49,null,null,null,null,1]
[50,null,null,null,null,1]

{"sheet":"Race0130","index":18,"n_rows":57,"n_cols":7,"rows_kept":57,"cut":false,"hidden":false,"merged":[]}
["Zone",{"$f":"'Regatta Info'!B2","v":"NQ Zone"},"Host Club",{"$f":"'Regatta Info'!B3","v":"Outrigger Whitsunday"},"Dates",{"$f":"'Regatta Info'!B4","v":"27th Feb 2010"},"hlMenu"]
[null,"Official Points (Y/N)","y"]
[]
["CLASS",{"$f":"Menu!E3","v":"OC6"},"Event ",{"$f":"Menu!E4","v":"Marathon"},"Distance"]
[null,{"$f":"Menu!A34","v":"Junior"},"Division",{"$f":"Menu!C34","v":"14 & Under"},{"$f":"Menu!B34","v":"Mixed"}]
[null,"Canoe","Team  ",null,"Time"]
["Position","Number","Name","Club","HH:MM:SS","Points"]
[1,null,null,null,null,{"$f":"IF($C$2=\"Y\", 14,0)","v":14}]
[2,null,null,null,null,{"$f":"IF($C$2=\"Y\", 12,0)","v":12}]
[3,null,null,null,null,{"$f":"IF($C$2=\"Y\", 10,0)","v":10}]
[4,null,null,null,null,{"$f":"IF($C$2=\"Y\", 8,0)","v":8}]
[5,null,null,null,null,{"$f":"IF($C$2=\"Y\", 7,0)","v":7}]
[6,null,null,null,null,{"$f":"IF($C$2=\"Y\", 6,0)","v":6}]
[7,null,null,null,null,{"$f":"IF($C$2=\"Y\", 5,0)","v":5}]
[8,null,null,null,null,{"$f":"IF($C$2=\"Y\", 4,0)","v":4}]
[9,null,null,null,null,{"$f":"IF($C$2=\"Y\", 3,0)","v":3}]
[10,null,null,null,null,{"$f":"IF($C$2=\"Y\", 2,0)","v":2}]
[11,null,null,null,null,{"$f":"IF($C$2=\"Y\", 1,0)","v":1}]
[12,null,null,null,null,1]
[13,null,null,null,null,1]
[14,null,null,null,null,1]
[15,null,null,null,null,1]
[16,null,null,null,null,1]
[17,null,null,null,null,1]
[18,null,null,null,null,1]
[19,null,null,null,null,1]
[20,null,null,null,null,1]
[21,null,null,null,null,1]
[22,null,null,null,null,1]
[23,null,null,null,null,1]
[24,null,null,null,null,1]
[25,null,null,null,null,1]
[26,null,null,null,null,1]
[27,null,null,null,null,1]
[28,null,null,null,null,1]
[29,null,null,null,null,1]
[30,null,null,null,null,1]
[31,null,null,null,null,1]
[32,null,null,null,null,1]
[33,null,null,null,null,1]
[34,null,null,null,null,1]
[35,null,null,null,null,1]
[36,null,null,null,null,1]
[37,null,null,null,null,1]
[38,null,null,null,null,1]
[39,null,null,null,null,1]
[40,null,null,null,null,1]
[41,null,null,null,null,1]
[42,null,null,null,null,1]
[43,null,null,null,null,1]
[44,null,null,null,null,1]
[45,null,null,null,null,1]
[46,null,null,null,null,1]
[47,null,null,null,null,1]
[48,null,null,null,null,1]
[49,null,null,null,null,1]
[50,null,null,null,null,1]

{"sheet":"Race0131","index":19,"n_rows":57,"n_cols":7,"rows_kept":57,"cut":false,"hidden":false,"merged":[]}
["Zone",{"$f":"'Regatta Info'!B2","v":"NQ Zone"},"Host Club",{"$f":"'Regatta Info'!B3","v":"Outrigger Whitsunday"},"Dates",{"$f":"'Regatta Info'!B4","v":"27th Feb 2010"},"hlMenu"]
[null,"Official Points (Y/N)","y"]
[]
["CLASS",{"$f":"Menu!E3","v":"OC6"},"Event ",{"$f":"Menu!E4","v":"Marathon"},"Distance"]
[null,{"$f":"Menu!A35","v":"Junior"},"Division",{"$f":"Menu!C35","v":"16 & Under"},{"$f":"Menu!B35","v":"Mixed"}]
[null,"Canoe","Team  ",null,"Time"]
["Position","Number","Name","Club","HH:MM:SS","Points"]
[1,null,null,null,null,{"$f":"IF($C$2=\"Y\", 14,0)","v":14}]
[2,null,null,null,null,{"$f":"IF($C$2=\"Y\", 12,0)","v":12}]
[3,null,null,null,null,{"$f":"IF($C$2=\"Y\", 10,0)","v":10}]
[4,null,null,null,null,{"$f":"IF($C$2=\"Y\", 8,0)","v":8}]
[5,null,null,null,null,{"$f":"IF($C$2=\"Y\", 7,0)","v":7}]
[6,null,null,null,null,{"$f":"IF($C$2=\"Y\", 6,0)","v":6}]
[7,null,null,null,null,{"$f":"IF($C$2=\"Y\", 5,0)","v":5}]
[8,null,null,null,null,{"$f":"IF($C$2=\"Y\", 4,0)","v":4}]
[9,null,null,null,null,{"$f":"IF($C$2=\"Y\", 3,0)","v":3}]
[10,null,null,null,null,{"$f":"IF($C$2=\"Y\", 2,0)","v":2}]
[11,null,null,null,null,{"$f":"IF($C$2=\"Y\", 1,0)","v":1}]
[12,null,null,null,null,1]
[13,null,null,null,null,1]
[14,null,null,null,null,1]
[15,null,null,null,null,1]
[16,null,null,null,null,1]
[17,null,null,null,null,1]
[18,null,null,null,null,1]
[19,null,null,null,null,1]
[20,null,null,null,null,1]
[21,null,null,null,null,1]
[22,null,null,null,null,1]
[23,null,null,null,null,1]
[24,null,null,null,null,1]
[25,null,null,null,null,1]
[26,null,null,null,null,1]
[27,null,null,null,null,1]
[28,null,null,null,null,1]
[29,null,null,null,null,1]
[30,null,null,null,null,1]
[31,null,null,null,null,1]
[32,null,null,null,null,1]
[33,null,null,null,null,1]
[34,null,null,null,null,1]
[35,null,null,null,null,1]
[36,null,null,null,null,1]
[37,null,null,null,null,1]
[38,null,null,null,null,1]
[39,null,null,null,null,1]
[40,null,null,null,null,1]
[41,null,null,null,null,1]
[42,null,null,null,null,1]
[43,null,null,null,null,1]
[44,null,null,null,null,1]
[45,null,null,null,null,1]
[46,null,null,null,null,1]
[47,null,null,null,null,1]
[48,null,null,null,null,1]
[49,null,null,null,null,1]
[50,null,null,null,null,1]

{"sheet":"Race0132","index":20,"n_rows":57,"n_cols":7,"rows_kept":57,"cut":false,"hidden":false,"merged":[]}
["Zone",{"$f":"'Regatta Info'!B2","v":"NQ Zone"},"Host Club",{"$f":"'Regatta Info'!B3","v":"Outrigger Whitsunday"},"Dates",{"$f":"'Regatta Info'!B4","v":"27th Feb 2010"},"hlMenu"]
[null,"Official Points (Y/N)","y"]
[]
["CLASS",{"$f":"Menu!E3","v":"OC6"},"Event ",{"$f":"Menu!E4","v":"Marathon"},"Distance"]
[null,{"$f":"Menu!A36","v":"Junior"},"Division",{"$f":"Menu!C36","v":"19 & Under"},{"$f":"Menu!B36","v":"Mixed"}]
[null,"Canoe","Team  ",null,"Time"]
["Position","Number","Name","Club","HH:MM:SS","Points"]
[1,null,null,null,null,{"$f":"IF($C$2=\"Y\", 14,0)","v":14}]
[2,null,null,null,null,{"$f":"IF($C$2=\"Y\", 12,0)","v":12}]
[3,null,null,null,null,{"$f":"IF($C$2=\"Y\", 10,0)","v":10}]
[4,null,null,null,null,{"$f":"IF($C$2=\"Y\", 8,0)","v":8}]
[5,null,null,null,null,{"$f":"IF($C$2=\"Y\", 7,0)","v":7}]
[6,null,null,null,null,{"$f":"IF($C$2=\"Y\", 6,0)","v":6}]
[7,null,null,null,null,{"$f":"IF($C$2=\"Y\", 5,0)","v":5}]
[8,null,null,null,null,{"$f":"IF($C$2=\"Y\", 4,0)","v":4}]
[9,null,null,null,null,{"$f":"IF($C$2=\"Y\", 3,0)","v":3}]
[10,null,null,null,null,{"$f":"IF($C$2=\"Y\", 2,0)","v":2}]
[11,null,null,null,null,{"$f":"IF($C$2=\"Y\", 1,0)","v":1}]
[12,null,null,null,null,1]
[13,null,null,null,null,1]
[14,null,null,null,null,1]
[15,null,null,null,null,1]
[16,null,null,null,null,1]
[17,null,null,null,null,1]
[18,null,null,null,null,1]
[19,null,null,null,null,1]
[20,null,null,null,null,1]
[21,null,null,null,null,1]
[22,null,null,null,null,1]
[23,null,null,null,null,1]
[24,null,null,null,null,1]
[25,null,null,null,null,1]
[26,null,null,null,null,1]
[27,null,null,null,null,1]
[28,null,null,null,null,1]
[29,null,null,null,null,1]
[30,null,null,null,null,1]
[31,null,null,null,null,1]
[32,null,null,null,null,1]
[33,null,null,null,null,1]
[34,null,null,null,null,1]
[35,null,null,null,null,1]
[36,null,null,null,null,1]
[37,null,null,null,null,1]
[38,null,null,null,null,1]
[39,null,null,null,null,1]
[40,null,null,null,null,1]
[41,null,null,null,null,1]
[42,null,null,null,null,1]
[43,null,null,null,null,1]
[44,null,null,null,null,1]
[45,null,null,null,null,1]
[46,null,null,null,null,1]
[47,null,null,null,null,1]
[48,null,null,null,null,1]
[49,null,null,null,null,1]
[50,null,null,null,null,1]

{"sheet":"Race0201","index":21,"n_rows":57,"n_cols":7,"rows_kept":57,"cut":false,"hidden":false,"merged":[]}
["Zone",{"$f":"'Regatta Info'!B2","v":"NQ Zone"},"Host Club",{"$f":"'Regatta Info'!B3","v":"Outrigger Whitsunday"},"Dates",{"$f":"'Regatta Info'!B4","v":"27th Feb 2010"},"hlMenu"]
[null,"Official Points (Y/N)","y"]
[]
["CLASS",{"$f":"Menu!F3","v":"OC6"},"Event ",{"$f":"Menu!F4","v":"Short Course"},"Distance"]
[null,{"$f":"Menu!A5","v":"Senior"},"Division",{"$f":"Menu!C5","v":"21 & Under"},{"$f":"Menu!B5","v":"Men"}]
[null,"Canoe","Team  ",null,"Time"]
["Position","Number","Name","Club","HH:MM:SS","Points"]
[1,null,null,null,null,{"$f":"IF($C$2=\"Y\", 14,0)","v":14}]
[2,null,null,null,null,{"$f":"IF($C$2=\"Y\", 12,0)","v":12}]
[3,null,null,null,null,{"$f":"IF($C$2=\"Y\", 10,0)","v":10}]
[4,null,null,null,null,{"$f":"IF($C$2=\"Y\", 8,0)","v":8}]
[5,null,null,null,null,{"$f":"IF($C$2=\"Y\", 7,0)","v":7}]
[6,null,null,null,null,{"$f":"IF($C$2=\"Y\", 6,0)","v":6}]
[7,null,null,null,null,{"$f":"IF($C$2=\"Y\", 5,0)","v":5}]
[8,null,null,null,null,{"$f":"IF($C$2=\"Y\", 4,0)","v":4}]
[9,null,null,null,null,{"$f":"IF($C$2=\"Y\", 3,0)","v":3}]
[10,null,null,null,null,{"$f":"IF($C$2=\"Y\", 2,0)","v":2}]
[11,null,null,null,null,{"$f":"IF($C$2=\"Y\", 1,0)","v":1}]
[12,null,null,null,null,1]
[13,null,null,null,null,1]
[14,null,null,null,null,1]
[15,null,null,null,null,1]
[16,null,null,null,null,1]
[17,null,null,null,null,1]
[18,null,null,null,null,1]
[19,null,null,null,null,1]
[20,null,null,null,null,1]
[21,null,null,null,null,1]
[22,null,null,null,null,1]
[23,null,null,null,null,1]
[24,null,null,null,null,1]
[25,null,null,null,null,1]
[26,null,null,null,null,1]
[27,null,null,null,null,1]
[28,null,null,null,null,1]
[29,null,null,null,null,1]
[30,null,null,null,null,1]
[31,null,null,null,null,1]
[32,null,null,null,null,1]
[33,null,null,null,null,1]
[34,null,null,null,null,1]
[35,null,null,null,null,1]
[36,null,null,null,null,1]
[37,null,null,null,null,1]
[38,null,null,null,null,1]
[39,null,null,null,null,1]
[40,null,null,null,null,1]
[41,null,null,null,null,1]
[42,null,null,null,null,1]
[43,null,null,null,null,1]
[44,null,null,null,null,1]
[45,null,null,null,null,1]
[46,null,null,null,null,1]
[47,null,null,null,null,1]
[48,null,null,null,null,1]
[49,null,null,null,null,1]
[50,null,null,null,null,1]

{"sheet":"Race0202","index":22,"n_rows":57,"n_cols":7,"rows_kept":57,"cut":false,"hidden":false,"merged":[]}
["Zone",{"$f":"'Regatta Info'!B2","v":"NQ Zone"},"Host Club",{"$f":"'Regatta Info'!B3","v":"Outrigger Whitsunday"},"Dates",{"$f":"'Regatta Info'!B4","v":"27th Feb 2010"},"hlMenu"]
[null,"Official Points (Y/N)","y"]
[]
["CLASS",{"$f":"Menu!F3","v":"OC6"},"Event ",{"$f":"Menu!F4","v":"Short Course"},"Distance"]
[null,{"$f":"Menu!A6","v":"Senior"},"Division",{"$f":"Menu!C6","v":"Open"},{"$f":"Menu!B6","v":"Men"}]
[null,"Canoe","Team  ",null,"Time"]
["Position","Number","Name","Club","HH:MM:SS","Points"]
[1,null,null,null,null,{"$f":"IF($C$2=\"Y\", 14,0)","v":14}]
[2,null,null,null,null,{"$f":"IF($C$2=\"Y\", 12,0)","v":12}]
[3,null,null,null,null,{"$f":"IF($C$2=\"Y\", 10,0)","v":10}]
[4,null,null,null,null,{"$f":"IF($C$2=\"Y\", 8,0)","v":8}]
[5,null,null,null,null,{"$f":"IF($C$2=\"Y\", 7,0)","v":7}]
[6,null,null,null,null,{"$f":"IF($C$2=\"Y\", 6,0)","v":6}]
[7,null,null,null,null,{"$f":"IF($C$2=\"Y\", 5,0)","v":5}]
[8,null,null,null,null,{"$f":"IF($C$2=\"Y\", 4,0)","v":4}]
[9,null,null,null,null,{"$f":"IF($C$2=\"Y\", 3,0)","v":3}]
[10,null,null,null,null,{"$f":"IF($C$2=\"Y\", 2,0)","v":2}]
[11,null,null,null,null,{"$f":"IF($C$2=\"Y\", 1,0)","v":1}]
[12,null,null,null,null,1]
[13,null,null,null,null,1]
[14,null,null,null,null,1]
[15,null,null,null,null,1]
[16,null,null,null,null,1]
[17,null,null,null,null,1]
[18,null,null,null,null,1]
[19,null,null,null,null,1]
[20,null,null,null,null,1]
[21,null,null,null,null,1]
[22,null,null,null,null,1]
[23,null,null,null,null,1]
[24,null,null,null,null,1]
[25,null,null,null,null,1]
[26,null,null,null,null,1]
[27,null,null,null,null,1]
[28,null,null,null,null,1]
[29,null,null,null,null,1]
[30,null,null,null,null,1]
[31,null,null,null,null,1]
[32,null,null,null,null,1]
[33,null,null,null,null,1]
[34,null,null,null,null,1]
[35,null,null,null,null,1]
[36,null,null,null,null,1]
[37,null,null,null,null,1]
[38,null,null,null,null,1]
[39,null,null,null,null,1]
[40,null,null,null,null,1]
[41,null,null,null,null,1]
[42,null,null,null,null,1]
[43,null,null,null,null,1]
[44,null,null,null,null,1]
[45,null,null,null,null,1]
[46,null,null,null,null,1]
[47,null,null,null,null,1]
[48,null,null,null,null,1]
[49,null,null,null,null,1]
[50,null,null,null,null,1]

{"sheet":"Race0203","index":23,"n_rows":57,"n_cols":7,"rows_kept":57,"cut":false,"hidden":false,"merged":[]}
["Zone",{"$f":"'Regatta Info'!B2","v":"NQ Zone"},"Host Club",{"$f":"'Regatta Info'!B3","v":"Outrigger Whitsunday"},"Dates",{"$f":"'Regatta Info'!B4","v":"27th Feb 2010"},"hlMenu"]
[null,"Official Points (Y/N)","y"]
[]
["CLASS",{"$f":"Menu!F3","v":"OC6"},"Event ",{"$f":"Menu!F4","v":"Short Course"},"Distance"]
[null,{"$f":"Menu!A7","v":"Senior"},"Division",{"$f":"Menu!C7","v":"Masters"},{"$f":"Menu!B7","v":"Men"}]
[null,"Canoe","Team  ",null,"Time"]
["Position","Number","Name","Club","HH:MM:SS","Points"]
[1,null,null,null,null,{"$f":"IF($C$2=\"Y\", 14,0)","v":14}]
[2,null,null,null,null,{"$f":"IF($C$2=\"Y\", 12,0)","v":12}]
[3,null,null,null,null,{"$f":"IF($C$2=\"Y\", 10,0)","v":10}]
[4,null,null,null,null,{"$f":"IF($C$2=\"Y\", 8,0)","v":8}]
[5,null,null,null,null,{"$f":"IF($C$2=\"Y\", 7,0)","v":7}]
[6,null,null,null,null,{"$f":"IF($C$2=\"Y\", 6,0)","v":6}]
[7,null,null,null,null,{"$f":"IF($C$2=\"Y\", 5,0)","v":5}]
[8,null,null,null,null,{"$f":"IF($C$2=\"Y\", 4,0)","v":4}]
[9,null,null,null,null,{"$f":"IF($C$2=\"Y\", 3,0)","v":3}]
[10,null,null,null,null,{"$f":"IF($C$2=\"Y\", 2,0)","v":2}]
[11,null,null,null,null,{"$f":"IF($C$2=\"Y\", 1,0)","v":1}]
[12,null,null,null,null,1]
[13,null,null,null,null,1]
[14,null,null,null,null,1]
[15,null,null,null,null,1]
[16,null,null,null,null,1]
[17,null,null,null,null,1]
[18,null,null,null,null,1]
[19,null,null,null,null,1]
[20,null,null,null,null,1]
[21,null,null,null,null,1]
[22,null,null,null,null,1]
[23,null,null,null,null,1]
[24,null,null,null,null,1]
[25,null,null,null,null,1]
[26,null,null,null,null,1]
[27,null,null,null,null,1]
[28,null,null,null,null,1]
[29,null,null,null,null,1]
[30,null,null,null,null,1]
[31,null,null,null,null,1]
[32,null,null,null,null,1]
[33,null,null,null,null,1]
[34,null,null,null,null,1]
[35,null,null,null,null,1]
[36,null,null,null,null,1]
[37,null,null,null,null,1]
[38,null,null,null,null,1]
[39,null,null,null,null,1]
[40,null,null,null,null,1]
[41,null,null,null,null,1]
[42,null,null,null,null,1]
[43,null,null,null,null,1]
[44,null,null,null,null,1]
[45,null,null,null,null,1]
[46,null,null,null,null,1]
[47,null,null,null,null,1]
[48,null,null,null,null,1]
[49,null,null,null,null,1]
[50,null,null,null,null,1]

{"sheet":"Race0204","index":24,"n_rows":57,"n_cols":7,"rows_kept":57,"cut":false,"hidden":false,"merged":[]}
["Zone",{"$f":"'Regatta Info'!B2","v":"NQ Zone"},"Host Club",{"$f":"'Regatta Info'!B3","v":"Outrigger Whitsunday"},"Dates",{"$f":"'Regatta Info'!B4","v":"27th Feb 2010"},"hlMenu"]
[null,"Official Points (Y/N)","y"]
[]
["CLASS",{"$f":"Menu!F3","v":"OC6"},"Event ",{"$f":"Menu!F4","v":"Short Course"},"Distance"]
[null,{"$f":"Menu!A8","v":"Senior"},"Division",{"$f":"Menu!C8","v":"Senior Masters"},{"$f":"Menu!B8","v":"Men"}]
[null,"Canoe","Team  ",null,"Time"]
["Position","Number","Name","Club","HH:MM:SS","Points"]
[1,null,null,null,null,{"$f":"IF($C$2=\"Y\", 14,0)","v":14}]
[2,null,null,null,null,{"$f":"IF($C$2=\"Y\", 12,0)","v":12}]
[3,null,null,null,null,{"$f":"IF($C$2=\"Y\", 10,0)","v":10}]
[4,null,null,null,null,{"$f":"IF($C$2=\"Y\", 8,0)","v":8}]
[5,null,null,null,null,{"$f":"IF($C$2=\"Y\", 7,0)","v":7}]
[6,null,null,null,null,{"$f":"IF($C$2=\"Y\", 6,0)","v":6}]
[7,null,null,null,null,{"$f":"IF($C$2=\"Y\", 5,0)","v":5}]
[8,null,null,null,null,{"$f":"IF($C$2=\"Y\", 4,0)","v":4}]
[9,null,null,null,null,{"$f":"IF($C$2=\"Y\", 3,0)","v":3}]
[10,null,null,null,null,{"$f":"IF($C$2=\"Y\", 2,0)","v":2}]
[11,null,null,null,null,{"$f":"IF($C$2=\"Y\", 1,0)","v":1}]
[12,null,null,null,null,1]
[13,null,null,null,null,1]
[14,null,null,null,null,1]
[15,null,null,null,null,1]
[16,null,null,null,null,1]
[17,null,null,null,null,1]
[18,null,null,null,null,1]
[19,null,null,null,null,1]
[20,null,null,null,null,1]
[21,null,null,null,null,1]
[22,null,null,null,null,1]
[23,null,null,null,null,1]
[24,null,null,null,null,1]
[25,null,null,null,null,1]
[26,null,null,null,null,1]
[27,null,null,null,null,1]
[28,null,null,null,null,1]
[29,null,null,null,null,1]
[30,null,null,null,null,1]
[31,null,null,null,null,1]
[32,null,null,null,null,1]
[33,null,null,null,null,1]
[34,null,null,null,null,1]
[35,null,null,null,null,1]
[36,null,null,null,null,1]
[37,null,null,null,null,1]
[38,null,null,null,null,1]
[39,null,null,null,null,1]
[40,null,null,null,null,1]
[41,null,null,null,null,1]
[42,null,null,null,null,1]
[43,null,null,null,null,1]
[44,null,null,null,null,1]
[45,null,null,null,null,1]
[46,null,null,null,null,1]
[47,null,null,null,null,1]
[48,null,null,null,null,1]
[49,null,null,null,null,1]
[50,null,null,null,null,1]

{"sheet":"Race0205","index":25,"n_rows":57,"n_cols":7,"rows_kept":57,"cut":false,"hidden":false,"merged":[]}
["Zone",{"$f":"'Regatta Info'!B2","v":"NQ Zone"},"Host Club",{"$f":"'Regatta Info'!B3","v":"Outrigger Whitsunday"},"Dates",{"$f":"'Regatta Info'!B4","v":"27th Feb 2010"},"hlMenu"]
[null,"Official Points (Y/N)","y"]
[]
["CLASS",{"$f":"Menu!F3","v":"OC6"},"Event ",{"$f":"Menu!F4","v":"Short Course"},"Distance"]
[null,{"$f":"Menu!A9","v":"Senior"},"Division",{"$f":"Menu!C9","v":"Golden Masters"},{"$f":"Menu!B9","v":"Men"}]
[null,"Canoe","Team  ",null,"Time"]
["Position","Number","Name","Club","HH:MM:SS","Points"]
[1,null,null,null,null,{"$f":"IF($C$2=\"Y\", 14,0)","v":14}]
[2,null,null,null,null,{"$f":"IF($C$2=\"Y\", 12,0)","v":12}]
[3,null,null,null,null,{"$f":"IF($C$2=\"Y\", 10,0)","v":10}]
[4,null,null,null,null,{"$f":"IF($C$2=\"Y\", 8,0)","v":8}]
[5,null,null,null,null,{"$f":"IF($C$2=\"Y\", 7,0)","v":7}]
[6,null,null,null,null,{"$f":"IF($C$2=\"Y\", 6,0)","v":6}]
[7,null,null,null,null,{"$f":"IF($C$2=\"Y\", 5,0)","v":5}]
[8,null,null,null,null,{"$f":"IF($C$2=\"Y\", 4,0)","v":4}]
[9,null,null,null,null,{"$f":"IF($C$2=\"Y\", 3,0)","v":3}]
[10,null,null,null,null,{"$f":"IF($C$2=\"Y\", 2,0)","v":2}]
[11,null,null,null,null,{"$f":"IF($C$2=\"Y\", 1,0)","v":1}]
[12,null,null,null,null,1]
[13,null,null,null,null,1]
[14,null,null,null,null,1]
[15,null,null,null,null,1]
[16,null,null,null,null,1]
[17,null,null,null,null,1]
[18,null,null,null,null,1]
[19,null,null,null,null,1]
[20,null,null,null,null,1]
[21,null,null,null,null,1]
[22,null,null,null,null,1]
[23,null,null,null,null,1]
[24,null,null,null,null,1]
[25,null,null,null,null,1]
[26,null,null,null,null,1]
[27,null,null,null,null,1]
[28,null,null,null,null,1]
[29,null,null,null,null,1]
[30,null,null,null,null,1]
[31,null,null,null,null,1]
[32,null,null,null,null,1]
[33,null,null,null,null,1]
[34,null,null,null,null,1]
[35,null,null,null,null,1]
[36,null,null,null,null,1]
[37,null,null,null,null,1]
[38,null,null,null,null,1]
[39,null,null,null,null,1]
[40,null,null,null,null,1]
[41,null,null,null,null,1]
[42,null,null,null,null,1]
[43,null,null,null,null,1]
[44,null,null,null,null,1]
[45,null,null,null,null,1]
[46,null,null,null,null,1]
[47,null,null,null,null,1]
[48,null,null,null,null,1]
[49,null,null,null,null,1]
[50,null,null,null,null,1]

{"sheet":"Race0206","index":26,"n_rows":57,"n_cols":7,"rows_kept":57,"cut":false,"hidden":false,"merged":[]}
["Zone",{"$f":"'Regatta Info'!B2","v":"NQ Zone"},"Host Club",{"$f":"'Regatta Info'!B3","v":"Outrigger Whitsunday"},"Dates",{"$f":"'Regatta Info'!B4","v":"27th Feb 2010"},"hlMenu"]
[null,"Official Points (Y/N)","y"]
[]
["CLASS",{"$f":"Menu!F3","v":"OC6"},"Event ",{"$f":"Menu!F4","v":"Short Course"},"Distance"]
[null,{"$f":"Menu!A10","v":"Senior"},"Division",{"$f":"Menu!C10","v":"21 & Under"},{"$f":"Menu!B10","v":"Women"}]
[null,"Canoe","Team  ",null,"Time"]
["Position","Number","Name","Club","HH:MM:SS","Points"]
[1,null,null,null,null,{"$f":"IF($C$2=\"Y\", 14,0)","v":14}]
[2,null,null,null,null,{"$f":"IF($C$2=\"Y\", 12,0)","v":12}]
[3,null,null,null,null,{"$f":"IF($C$2=\"Y\", 10,0)","v":10}]
[4,null,null,null,null,{"$f":"IF($C$2=\"Y\", 8,0)","v":8}]
[5,null,null,null,null,{"$f":"IF($C$2=\"Y\", 7,0)","v":7}]
[6,null,null,null,null,{"$f":"IF($C$2=\"Y\", 6,0)","v":6}]
[7,null,null,null,null,{"$f":"IF($C$2=\"Y\", 5,0)","v":5}]
[8,null,null,null,null,{"$f":"IF($C$2=\"Y\", 4,0)","v":4}]
[9,null,null,null,null,{"$f":"IF($C$2=\"Y\", 3,0)","v":3}]
[10,null,null,null,null,{"$f":"IF($C$2=\"Y\", 2,0)","v":2}]
[11,null,null,null,null,{"$f":"IF($C$2=\"Y\", 1,0)","v":1}]
[12,null,null,null,null,1]
[13,null,null,null,null,1]
[14,null,null,null,null,1]
[15,null,null,null,null,1]
[16,null,null,null,null,1]
[17,null,null,null,null,1]
[18,null,null,null,null,1]
[19,null,null,null,null,1]
[20,null,null,null,null,1]
[21,null,null,null,null,1]
[22,null,null,null,null,1]
[23,null,null,null,null,1]
[24,null,null,null,null,1]
[25,null,null,null,null,1]
[26,null,null,null,null,1]
[27,null,null,null,null,1]
[28,null,null,null,null,1]
[29,null,null,null,null,1]
[30,null,null,null,null,1]
[31,null,null,null,null,1]
[32,null,null,null,null,1]
[33,null,null,null,null,1]
[34,null,null,null,null,1]
[35,null,null,null,null,1]
[36,null,null,null,null,1]
[37,null,null,null,null,1]
[38,null,null,null,null,1]
[39,null,null,null,null,1]
[40,null,null,null,null,1]
[41,null,null,null,null,1]
[42,null,null,null,null,1]
[43,null,null,null,null,1]
[44,null,null,null,null,1]
[45,null,null,null,null,1]
[46,null,null,null,null,1]
[47,null,null,null,null,1]
[48,null,null,null,null,1]
[49,null,null,null,null,1]
[50,null,null,null,null,1]

{"sheet":"Race0207","index":27,"n_rows":57,"n_cols":7,"rows_kept":57,"cut":false,"hidden":false,"merged":[]}
["Zone",{"$f":"'Regatta Info'!B2","v":"NQ Zone"},"Host Club",{"$f":"'Regatta Info'!B3","v":"Outrigger Whitsunday"},"Dates",{"$f":"'Regatta Info'!B4","v":"27th Feb 2010"},"hlMenu"]
[null,"Official Points (Y/N)","y"]
[]
["CLASS",{"$f":"Menu!F3","v":"OC6"},"Event ",{"$f":"Menu!F4","v":"Short Course"},"Distance"]
[null,{"$f":"Menu!A11","v":"Senior"},"Division",{"$f":"Menu!C11","v":"Open"},{"$f":"Menu!B11","v":"Women"}]
[null,"Canoe","Team  ",null,"Time"]
["Position","Number","Name","Club","HH:MM:SS","Points"]
[1,null,null,null,null,{"$f":"IF($C$2=\"Y\", 14,0)","v":14}]
[2,null,null,null,null,{"$f":"IF($C$2=\"Y\", 12,0)","v":12}]
[3,null,null,null,null,{"$f":"IF($C$2=\"Y\", 10,0)","v":10}]
[4,null,null,null,null,{"$f":"IF($C$2=\"Y\", 8,0)","v":8}]
[5,null,null,null,null,{"$f":"IF($C$2=\"Y\", 7,0)","v":7}]
[6,null,null,null,null,{"$f":"IF($C$2=\"Y\", 6,0)","v":6}]
[7,null,null,null,null,{"$f":"IF($C$2=\"Y\", 5,0)","v":5}]
[8,null,null,null,null,{"$f":"IF($C$2=\"Y\", 4,0)","v":4}]
[9,null,null,null,null,{"$f":"IF($C$2=\"Y\", 3,0)","v":3}]
[10,null,null,null,null,{"$f":"IF($C$2=\"Y\", 2,0)","v":2}]
[11,null,null,null,null,{"$f":"IF($C$2=\"Y\", 1,0)","v":1}]
[12,null,null,null,null,1]
[13,null,null,null,null,1]
[14,null,null,null,null,1]
[15,null,null,null,null,1]
[16,null,null,null,null,1]
[17,null,null,null,null,1]
[18,null,null,null,null,1]
[19,null,null,null,null,1]
[20,null,null,null,null,1]
[21,null,null,null,null,1]
[22,null,null,null,null,1]
[23,null,null,null,null,1]
[24,null,null,null,null,1]
[25,null,null,null,null,1]
[26,null,null,null,null,1]
[27,null,null,null,null,1]
[28,null,null,null,null,1]
[29,null,null,null,null,1]
[30,null,null,null,null,1]
[31,null,null,null,null,1]
[32,null,null,null,null,1]
[33,null,null,null,null,1]
[34,null,null,null,null,1]
[35,null,null,null,null,1]
[36,null,null,null,null,1]
[37,null,null,null,null,1]
[38,null,null,null,null,1]
[39,null,null,null,null,1]
[40,null,null,null,null,1]
[41,null,null,null,null,1]
[42,null,null,null,null,1]
[43,null,null,null,null,1]
[44,null,null,null,null,1]
[45,null,null,null,null,1]
[46,null,null,null,null,1]
[47,null,null,null,null,1]
[48,null,null,null,null,1]
[49,null,null,null,null,1]
[50,null,null,null,null,1]

{"sheet":"Race0208","index":28,"n_rows":57,"n_cols":7,"rows_kept":57,"cut":false,"hidden":false,"merged":[]}
["Zone",{"$f":"'Regatta Info'!B2","v":"NQ Zone"},"Host Club",{"$f":"'Regatta Info'!B3","v":"Outrigger Whitsunday"},"Dates",{"$f":"'Regatta Info'!B4","v":"27th Feb 2010"},"hlMenu"]
[null,"Official Points (Y/N)","y"]
[]
["CLASS",{"$f":"Menu!F3","v":"OC6"},"Event ",{"$f":"Menu!F4","v":"Short Course"},"Distance"]
[null,{"$f":"Menu!A12","v":"Senior"},"Division",{"$f":"Menu!C12","v":"Masters"},{"$f":"Menu!B12","v":"Women"}]
[null,"Canoe","Team  ",null,"Time"]
["Position","Number","Name","Club","HH:MM:SS","Points"]
[1,null,null,null,null,{"$f":"IF($C$2=\"Y\", 14,0)","v":14}]
[2,null,null,null,null,{"$f":"IF($C$2=\"Y\", 12,0)","v":12}]
[3,null,null,null,null,{"$f":"IF($C$2=\"Y\", 10,0)","v":10}]
[4,null,null,null,null,{"$f":"IF($C$2=\"Y\", 8,0)","v":8}]
[5,null,null,null,null,{"$f":"IF($C$2=\"Y\", 7,0)","v":7}]
[6,null,null,null,null,{"$f":"IF($C$2=\"Y\", 6,0)","v":6}]
[7,null,null,null,null,{"$f":"IF($C$2=\"Y\", 5,0)","v":5}]
[8,null,null,null,null,{"$f":"IF($C$2=\"Y\", 4,0)","v":4}]
[9,null,null,null,null,{"$f":"IF($C$2=\"Y\", 3,0)","v":3}]
[10,null,null,null,null,{"$f":"IF($C$2=\"Y\", 2,0)","v":2}]
[11,null,null,null,null,{"$f":"IF($C$2=\"Y\", 1,0)","v":1}]
[12,null,null,null,null,1]
[13,null,null,null,null,1]
[14,null,null,null,null,1]
[15,null,null,null,null,1]
[16,null,null,null,null,1]
[17,null,null,null,null,1]
[18,null,null,null,null,1]
[19,null,null,null,null,1]
[20,null,null,null,null,1]
[21,null,null,null,null,1]
[22,null,null,null,null,1]
[23,null,null,null,null,1]
[24,null,null,null,null,1]
[25,null,null,null,null,1]
[26,null,null,null,null,1]
[27,null,null,null,null,1]
[28,null,null,null,null,1]
[29,null,null,null,null,1]
[30,null,null,null,null,1]
[31,null,null,null,null,1]
[32,null,null,null,null,1]
[33,null,null,null,null,1]
[34,null,null,null,null,1]
[35,null,null,null,null,1]
[36,null,null,null,null,1]
[37,null,null,null,null,1]
[38,null,null,null,null,1]
[39,null,null,null,null,1]
[40,null,null,null,null,1]
[41,null,null,null,null,1]
[42,null,null,null,null,1]
[43,null,null,null,null,1]
[44,null,null,null,null,1]
[45,null,null,null,null,1]
[46,null,null,null,null,1]
[47,null,null,null,null,1]
[48,null,null,null,null,1]
[49,null,null,null,null,1]
[50,null,null,null,null,1]

{"sheet":"Race0209","index":29,"n_rows":57,"n_cols":7,"rows_kept":57,"cut":false,"hidden":false,"merged":[]}
["Zone",{"$f":"'Regatta Info'!B2","v":"NQ Zone"},"Host Club",{"$f":"'Regatta Info'!B3","v":"Outrigger Whitsunday"},"Dates",{"$f":"'Regatta Info'!B4","v":"27th Feb 2010"},"hlMenu"]
[null,"Official Points (Y/N)","y"]
[]
["CLASS",{"$f":"Menu!F3","v":"OC6"},"Event ",{"$f":"Menu!F4","v":"Short Course"},"Distance"]
[null,{"$f":"Menu!A13","v":"Senior"},"Division",{"$f":"Menu!C13","v":"Senior Masters"},{"$f":"Menu!B13","v":"Women"}]
[null,"Canoe","Team  ",null,"Time"]
["Position","Number","Name","Club","HH:MM:SS","Points"]
[1,null,null,null,null,{"$f":"IF($C$2=\"Y\", 14,0)","v":14}]
[2,null,null,null,null,{"$f":"IF($C$2=\"Y\", 12,0)","v":12}]
[3,null,null,null,null,{"$f":"IF($C$2=\"Y\", 10,0)","v":10}]
[4,null,null,null,null,{"$f":"IF($C$2=\"Y\", 8,0)","v":8}]
[5,null,null,null,null,{"$f":"IF($C$2=\"Y\", 7,0)","v":7}]
[6,null,null,null,null,{"$f":"IF($C$2=\"Y\", 6,0)","v":6}]
[7,null,null,null,null,{"$f":"IF($C$2=\"Y\", 5,0)","v":5}]
[8,null,null,null,null,{"$f":"IF($C$2=\"Y\", 4,0)","v":4}]
[9,null,null,null,null,{"$f":"IF($C$2=\"Y\", 3,0)","v":3}]
[10,null,null,null,null,{"$f":"IF($C$2=\"Y\", 2,0)","v":2}]
[11,null,null,null,null,{"$f":"IF($C$2=\"Y\", 1,0)","v":1}]
[12,null,null,null,null,1]
[13,null,null,null,null,1]
[14,null,null,null,null,1]
[15,null,null,null,null,1]
[16,null,null,null,null,1]
[17,null,null,null,null,1]
[18,null,null,null,null,1]
[19,null,null,null,null,1]
[20,null,null,null,null,1]
[21,null,null,null,null,1]
[22,null,null,null,null,1]
[23,null,null,null,null,1]
[24,null,null,null,null,1]
[25,null,null,null,null,1]
[26,null,null,null,null,1]
[27,null,null,null,null,1]
[28,null,null,null,null,1]
[29,null,null,null,null,1]
[30,null,null,null,null,1]
[31,null,null,null,null,1]
[32,null,null,null,null,1]
[33,null,null,null,null,1]
[34,null,null,null,null,1]
[35,null,null,null,null,1]
[36,null,null,null,null,1]
[37,null,null,null,null,1]
[38,null,null,null,null,1]
[39,null,null,null,null,1]
[40,null,null,null,null,1]
[41,null,null,null,null,1]
[42,null,null,null,null,1]
[43,null,null,null,null,1]
[44,null,null,null,null,1]
[45,null,null,null,null,1]
[46,null,null,null,null,1]
[47,null,null,null,null,1]
[48,null,null,null,null,1]
[49,null,null,null,null,1]
[50,null,null,null,null,1]

{"sheet":"Race0210","index":30,"n_rows":57,"n_cols":7,"rows_kept":57,"cut":false,"hidden":false,"merged":[]}
["Zone",{"$f":"'Regatta Info'!B2","v":"NQ Zone"},"Host Club",{"$f":"'Regatta Info'!B3","v":"Outrigger Whitsunday"},"Dates",{"$f":"'Regatta Info'!B4","v":"27th Feb 2010"},"hlMenu"]
[null,"Official Points (Y/N)","y"]
[]
["CLASS",{"$f":"Menu!F3","v":"OC6"},"Event ",{"$f":"Menu!F4","v":"Short Course"},"Distance"]
[null,{"$f":"Menu!A14","v":"Senior"},"Division",{"$f":"Menu!C14","v":"Golden Masters"},{"$f":"Menu!B14","v":"Women"}]
[null,"Canoe","Team  ",null,"Time"]
["Position","Number","Name","Club","HH:MM:SS","Points"]
[1,null,null,null,null,{"$f":"IF($C$2=\"Y\", 14,0)","v":14}]
[2,null,null,null,null,{"$f":"IF($C$2=\"Y\", 12,0)","v":12}]
[3,null,null,null,null,{"$f":"IF($C$2=\"Y\", 10,0)","v":10}]
[4,null,null,null,null,{"$f":"IF($C$2=\"Y\", 8,0)","v":8}]
[5,null,null,null,null,{"$f":"IF($C$2=\"Y\", 7,0)","v":7}]
[6,null,null,null,null,{"$f":"IF($C$2=\"Y\", 6,0)","v":6}]
[7,null,null,null,null,{"$f":"IF($C$2=\"Y\", 5,0)","v":5}]
[8,null,null,null,null,{"$f":"IF($C$2=\"Y\", 4,0)","v":4}]
[9,null,null,null,null,{"$f":"IF($C$2=\"Y\", 3,0)","v":3}]
[10,null,null,null,null,{"$f":"IF($C$2=\"Y\", 2,0)","v":2}]
[11,null,null,null,null,{"$f":"IF($C$2=\"Y\", 1,0)","v":1}]
[12,null,null,null,null,1]
[13,null,null,null,null,1]
[14,null,null,null,null,1]
[15,null,null,null,null,1]
[16,null,null,null,null,1]
[17,null,null,null,null,1]
[18,null,null,null,null,1]
[19,null,null,null,null,1]
[20,null,null,null,null,1]
[21,null,null,null,null,1]
[22,null,null,null,null,1]
[23,null,null,null,null,1]
[24,null,null,null,null,1]
[25,null,null,null,null,1]
[26,null,null,null,null,1]
[27,null,null,null,null,1]
[28,null,null,null,null,1]
[29,null,null,null,null,1]
[30,null,null,null,null,1]
[31,null,null,null,null,1]
[32,null,null,null,null,1]
[33,null,null,null,null,1]
[34,null,null,null,null,1]
[35,null,null,null,null,1]
[36,null,null,null,null,1]
[37,null,null,null,null,1]
[38,null,null,null,null,1]
[39,null,null,null,null,1]
[40,null,null,null,null,1]
[41,null,null,null,null,1]
[42,null,null,null,null,1]
[43,null,null,null,null,1]
[44,null,null,null,null,1]
[45,null,null,null,null,1]
[46,null,null,null,null,1]
[47,null,null,null,null,1]
[48,null,null,null,null,1]
[49,null,null,null,null,1]
[50,null,null,null,null,1]

{"sheet":"Race0212","index":31,"n_rows":57,"n_cols":7,"rows_kept":57,"cut":false,"hidden":false,"merged":[]}
["Zone",{"$f":"'Regatta Info'!B2","v":"NQ Zone"},"Host Club",{"$f":"'Regatta Info'!B3","v":"Outrigger Whitsunday"},"Dates",{"$f":"'Regatta Info'!B4","v":"27th Feb 2010"},"hlMenu"]
[null,"Official Points (Y/N)","y"]
[]
["CLASS",{"$f":"Menu!F3","v":"OC6"},"Event ",{"$f":"Menu!F4","v":"Short Course"},"Distance"]
[null,{"$f":"Menu!A16","v":"Senior"},"Division",{"$f":"Menu!C16","v":"Open"},{"$f":"Menu!B16","v":"Mixed"}]
[null,"Canoe","Team  ",null,"Time"]
["Position","Number","Name","Club","HH:MM:SS","Points"]
[1,null,null,null,null,{"$f":"IF($C$2=\"Y\", 14,0)","v":14}]
[2,null,null,null,null,{"$f":"IF($C$2=\"Y\", 12,0)","v":12}]
[3,null,null,null,null,{"$f":"IF($C$2=\"Y\", 10,0)","v":10}]
[4,null,null,null,null,{"$f":"IF($C$2=\"Y\", 8,0)","v":8}]
[5,null,null,null,null,{"$f":"IF($C$2=\"Y\", 7,0)","v":7}]
[6,null,null,null,null,{"$f":"IF($C$2=\"Y\", 6,0)","v":6}]
[7,null,null,null,null,{"$f":"IF($C$2=\"Y\", 5,0)","v":5}]
[8,null,null,null,null,{"$f":"IF($C$2=\"Y\", 4,0)","v":4}]
[9,null,null,null,null,{"$f":"IF($C$2=\"Y\", 3,0)","v":3}]
[10,null,null,null,null,{"$f":"IF($C$2=\"Y\", 2,0)","v":2}]
[11,null,null,null,null,{"$f":"IF($C$2=\"Y\", 1,0)","v":1}]
[12,null,null,null,null,1]
[13,null,null,null,null,1]
[14,null,null,null,null,1]
[15,null,null,null,null,1]
[16,null,null,null,null,1]
[17,null,null,null,null,1]
[18,null,null,null,null,1]
[19,null,null,null,null,1]
[20,null,null,null,null,1]
[21,null,null,null,null,1]
[22,null,null,null,null,1]
[23,null,null,null,null,1]
[24,null,null,null,null,1]
[25,null,null,null,null,1]
[26,null,null,null,null,1]
[27,null,null,null,null,1]
[28,null,null,null,null,1]
[29,null,null,null,null,1]
[30,null,null,null,null,1]
[31,null,null,null,null,1]
[32,null,null,null,null,1]
[33,null,null,null,null,1]
[34,null,null,null,null,1]
[35,null,null,null,null,1]
[36,null,null,null,null,1]
[37,null,null,null,null,1]
[38,null,null,null,null,1]
[39,null,null,null,null,1]
[40,null,null,null,null,1]
[41,null,null,null,null,1]
[42,null,null,null,null,1]
[43,null,null,null,null,1]
[44,null,null,null,null,1]
[45,null,null,null,null,1]
[46,null,null,null,null,1]
[47,null,null,null,null,1]
[48,null,null,null,null,1]
[49,null,null,null,null,1]
[50,null,null,null,null,1]

{"sheet":"Race0229","index":32,"n_rows":57,"n_cols":7,"rows_kept":57,"cut":false,"hidden":false,"merged":[]}
["Zone",{"$f":"'Regatta Info'!B2","v":"NQ Zone"},"Host Club",{"$f":"'Regatta Info'!B3","v":"Outrigger Whitsunday"},"Dates",{"$f":"'Regatta Info'!B4","v":"27th Feb 2010"},"hlMenu"]
[null,"Official Points (Y/N)","y"]
[]
["CLASS",{"$f":"Menu!F3","v":"OC6"},"Event ",{"$f":"Menu!F4","v":"Short Course"},"Distance"]
[null,{"$f":"Menu!A33","v":"Junior"},"Division",{"$f":"Menu!C33","v":"12 & Under"},{"$f":"Menu!B33","v":"Mixed"}]
[null,"Canoe","Team  ",null,"Time"]
["Position","Number","Name","Club","HH:MM:SS","Points"]
[1,null,null,null,null,{"$f":"IF($C$2=\"Y\", 14,0)","v":14}]
[2,null,null,null,null,{"$f":"IF($C$2=\"Y\", 12,0)","v":12}]
[3,null,null,null,null,{"$f":"IF($C$2=\"Y\", 10,0)","v":10}]
[4,null,null,null,null,{"$f":"IF($C$2=\"Y\", 8,0)","v":8}]
[5,null,null,null,null,{"$f":"IF($C$2=\"Y\", 7,0)","v":7}]
[6,null,null,null,null,{"$f":"IF($C$2=\"Y\", 6,0)","v":6}]
[7,null,null,null,null,{"$f":"IF($C$2=\"Y\", 5,0)","v":5}]
[8,null,null,null,null,{"$f":"IF($C$2=\"Y\", 4,0)","v":4}]
[9,null,null,null,null,{"$f":"IF($C$2=\"Y\", 3,0)","v":3}]
[10,null,null,null,null,{"$f":"IF($C$2=\"Y\", 2,0)","v":2}]
[11,null,null,null,null,{"$f":"IF($C$2=\"Y\", 1,0)","v":1}]
[12,null,null,null,null,1]
[13,null,null,null,null,1]
[14,null,null,null,null,1]
[15,null,null,null,null,1]
[16,null,null,null,null,1]
[17,null,null,null,null,1]
[18,null,null,null,null,1]
[19,null,null,null,null,1]
[20,null,null,null,null,1]
[21,null,null,null,null,1]
[22,null,null,null,null,1]
[23,null,null,null,null,1]
[24,null,null,null,null,1]
[25,null,null,null,null,1]
[26,null,null,null,null,1]
[27,null,null,null,null,1]
[28,null,null,null,null,1]
[29,null,null,null,null,1]
[30,null,null,null,null,1]
[31,null,null,null,null,1]
[32,null,null,null,null,1]
[33,null,null,null,null,1]
[34,null,null,null,null,1]
[35,null,null,null,null,1]
[36,null,null,null,null,1]
[37,null,null,null,null,1]
[38,null,null,null,null,1]
[39,null,null,null,null,1]
[40,null,null,null,null,1]
[41,null,null,null,null,1]
[42,null,null,null,null,1]
[43,null,null,null,null,1]
[44,null,null,null,null,1]
[45,null,null,null,null,1]
[46,null,null,null,null,1]
[47,null,null,null,null,1]
[48,null,null,null,null,1]
[49,null,null,null,null,1]
[50,null,null,null,null,1]

{"sheet":"Race0230","index":33,"n_rows":57,"n_cols":7,"rows_kept":57,"cut":false,"hidden":false,"merged":[]}
["Zone",{"$f":"'Regatta Info'!B2","v":"NQ Zone"},"Host Club",{"$f":"'Regatta Info'!B3","v":"Outrigger Whitsunday"},"Dates",{"$f":"'Regatta Info'!B4","v":"27th Feb 2010"},"hlMenu"]
[null,"Official Points (Y/N)","y"]
[]
["CLASS",{"$f":"Menu!F3","v":"OC6"},"Event ",{"$f":"Menu!F4","v":"Short Course"},"Distance"]
[null,{"$f":"Menu!A34","v":"Junior"},"Division",{"$f":"Menu!C34","v":"14 & Under"},{"$f":"Menu!B34","v":"Mixed"}]
[null,"Canoe","Team  ",null,"Time"]
["Position","Number","Name","Club","HH:MM:SS","Points"]
[1,null,null,null,null,{"$f":"IF($C$2=\"Y\", 14,0)","v":14}]
[2,null,null,null,null,{"$f":"IF($C$2=\"Y\", 12,0)","v":12}]
[3,null,null,null,null,{"$f":"IF($C$2=\"Y\", 10,0)","v":10}]
[4,null,null,null,null,{"$f":"IF($C$2=\"Y\", 8,0)","v":8}]
[5,null,null,null,null,{"$f":"IF($C$2=\"Y\", 7,0)","v":7}]
[6,null,null,null,null,{"$f":"IF($C$2=\"Y\", 6,0)","v":6}]
[7,null,null,null,null,{"$f":"IF($C$2=\"Y\", 5,0)","v":5}]
[8,null,null,null,null,{"$f":"IF($C$2=\"Y\", 4,0)","v":4}]
[9,null,null,null,null,{"$f":"IF($C$2=\"Y\", 3,0)","v":3}]
[10,null,null,null,null,{"$f":"IF($C$2=\"Y\", 2,0)","v":2}]
[11,null,null,null,null,{"$f":"IF($C$2=\"Y\", 1,0)","v":1}]
[12,null,null,null,null,1]
[13,null,null,null,null,1]
[14,null,null,null,null,1]
[15,null,null,null,null,1]
[16,null,null,null,null,1]
[17,null,null,null,null,1]
[18,null,null,null,null,1]
[19,null,null,null,null,1]
[20,null,null,null,null,1]
[21,null,null,null,null,1]
[22,null,null,null,null,1]
[23,null,null,null,null,1]
[24,null,null,null,null,1]
[25,null,null,null,null,1]
[26,null,null,null,null,1]
[27,null,null,null,null,1]
[28,null,null,null,null,1]
[29,null,null,null,null,1]
[30,null,null,null,null,1]
[31,null,null,null,null,1]
[32,null,null,null,null,1]
[33,null,null,null,null,1]
[34,null,null,null,null,1]
[35,null,null,null,null,1]
[36,null,null,null,null,1]
[37,null,null,null,null,1]
[38,null,null,null,null,1]
[39,null,null,null,null,1]
[40,null,null,null,null,1]
[41,null,null,null,null,1]
[42,null,null,null,null,1]
[43,null,null,null,null,1]
[44,null,null,null,null,1]
[45,null,null,null,null,1]
[46,null,null,null,null,1]
[47,null,null,null,null,1]
[48,null,null,null,null,1]
[49,null,null,null,null,1]
[50,null,null,null,null,1]

{"sheet":"Race0231","index":34,"n_rows":57,"n_cols":7,"rows_kept":57,"cut":false,"hidden":false,"merged":[]}
["Zone",{"$f":"'Regatta Info'!B2","v":"NQ Zone"},"Host Club",{"$f":"'Regatta Info'!B3","v":"Outrigger Whitsunday"},"Dates",{"$f":"'Regatta Info'!B4","v":"27th Feb 2010"},"hlMenu"]
[null,"Official Points (Y/N)","y"]
[]
["CLASS",{"$f":"Menu!F3","v":"OC6"},"Event ",{"$f":"Menu!F4","v":"Short Course"},"Distance"]
[null,{"$f":"Menu!A35","v":"Junior"},"Division",{"$f":"Menu!C35","v":"16 & Under"},{"$f":"Menu!B35","v":"Mixed"}]
[null,"Canoe","Team  ",null,"Time"]
["Position","Number","Name","Club","HH:MM:SS","Points"]
[1,null,null,null,null,{"$f":"IF($C$2=\"Y\", 14,0)","v":14}]
[2,null,null,null,null,{"$f":"IF($C$2=\"Y\", 12,0)","v":12}]
[3,null,null,null,null,{"$f":"IF($C$2=\"Y\", 10,0)","v":10}]
[4,null,null,null,null,{"$f":"IF($C$2=\"Y\", 8,0)","v":8}]
[5,null,null,null,null,{"$f":"IF($C$2=\"Y\", 7,0)","v":7}]
[6,null,null,null,null,{"$f":"IF($C$2=\"Y\", 6,0)","v":6}]
[7,null,null,null,null,{"$f":"IF($C$2=\"Y\", 5,0)","v":5}]
[8,null,null,null,null,{"$f":"IF($C$2=\"Y\", 4,0)","v":4}]
[9,null,null,null,null,{"$f":"IF($C$2=\"Y\", 3,0)","v":3}]
[10,null,null,null,null,{"$f":"IF($C$2=\"Y\", 2,0)","v":2}]
[11,null,null,null,null,{"$f":"IF($C$2=\"Y\", 1,0)","v":1}]
[12,null,null,null,null,1]
[13,null,null,null,null,1]
[14,null,null,null,null,1]
[15,null,null,null,null,1]
[16,null,null,null,null,1]
[17,null,null,null,null,1]
[18,null,null,null,null,1]
[19,null,null,null,null,1]
[20,null,null,null,null,1]
[21,null,null,null,null,1]
[22,null,null,null,null,1]
[23,null,null,null,null,1]
[24,null,null,null,null,1]
[25,null,null,null,null,1]
[26,null,null,null,null,1]
[27,null,null,null,null,1]
[28,null,null,null,null,1]
[29,null,null,null,null,1]
[30,null,null,null,null,1]
[31,null,null,null,null,1]
[32,null,null,null,null,1]
[33,null,null,null,null,1]
[34,null,null,null,null,1]
[35,null,null,null,null,1]
[36,null,null,null,null,1]
[37,null,null,null,null,1]
[38,null,null,null,null,1]
[39,null,null,null,null,1]
[40,null,null,null,null,1]
[41,null,null,null,null,1]
[42,null,null,null,null,1]
[43,null,null,null,null,1]
[44,null,null,null,null,1]
[45,null,null,null,null,1]
[46,null,null,null,null,1]
[47,null,null,null,null,1]
[48,null,null,null,null,1]
[49,null,null,null,null,1]
[50,null,null,null,null,1]

{"sheet":"Race0232","index":35,"n_rows":57,"n_cols":7,"rows_kept":57,"cut":false,"hidden":false,"merged":[]}
["Zone",{"$f":"'Regatta Info'!B2","v":"NQ Zone"},"Host Club",{"$f":"'Regatta Info'!B3","v":"Outrigger Whitsunday"},"Dates",{"$f":"'Regatta Info'!B4","v":"27th Feb 2010"},"hlMenu"]
[null,"Official Points (Y/N)","y"]
[]
["CLASS",{"$f":"Menu!F3","v":"OC6"},"Event ",{"$f":"Menu!F4","v":"Short Course"},"Distance"]
[null,{"$f":"Menu!A36","v":"Junior"},"Division",{"$f":"Menu!C36","v":"19 & Under"},{"$f":"Menu!B36","v":"Mixed"}]
[null,"Canoe","Team  ",null,"Time"]
["Position","Number","Name","Club","HH:MM:SS","Points"]
[1,null,null,null,null,{"$f":"IF($C$2=\"Y\", 14,0)","v":14}]
[2,null,null,null,null,{"$f":"IF($C$2=\"Y\", 12,0)","v":12}]
[3,null,null,null,null,{"$f":"IF($C$2=\"Y\", 10,0)","v":10}]
[4,null,null,null,null,{"$f":"IF($C$2=\"Y\", 8,0)","v":8}]
[5,null,null,null,null,{"$f":"IF($C$2=\"Y\", 7,0)","v":7}]
[6,null,null,null,null,{"$f":"IF($C$2=\"Y\", 6,0)","v":6}]
[7,null,null,null,null,{"$f":"IF($C$2=\"Y\", 5,0)","v":5}]
[8,null,null,null,null,{"$f":"IF($C$2=\"Y\", 4,0)","v":4}]
[9,null,null,null,null,{"$f":"IF($C$2=\"Y\", 3,0)","v":3}]
[10,null,null,null,null,{"$f":"IF($C$2=\"Y\", 2,0)","v":2}]
[11,null,null,null,null,{"$f":"IF($C$2=\"Y\", 1,0)","v":1}]
[12,null,null,null,null,1]
[13,null,null,null,null,1]
[14,null,null,null,null,1]
[15,null,null,null,null,1]
[16,null,null,null,null,1]
[17,null,null,null,null,1]
[18,null,null,null,null,1]
[19,null,null,null,null,1]
[20,null,null,null,null,1]
[21,null,null,null,null,1]
[22,null,null,null,null,1]
[23,null,null,null,null,1]
[24,null,null,null,null,1]
[25,null,null,null,null,1]
[26,null,null,null,null,1]
[27,null,null,null,null,1]
[28,null,null,null,null,1]
[29,null,null,null,null,1]
[30,null,null,null,null,1]
[31,null,null,null,null,1]
[32,null,null,null,null,1]
[33,null,null,null,null,1]
[34,null,null,null,null,1]
[35,null,null,null,null,1]
[36,null,null,null,null,1]
[37,null,null,null,null,1]
[38,null,null,null,null,1]
[39,null,null,null,null,1]
[40,null,null,null,null,1]
[41,null,null,null,null,1]
[42,null,null,null,null,1]
[43,null,null,null,null,1]
[44,null,null,null,null,1]
[45,null,null,null,null,1]
[46,null,null,null,null,1]
[47,null,null,null,null,1]
[48,null,null,null,null,1]
[49,null,null,null,null,1]
[50,null,null,null,null,1]

{"sheet":"Race0701","index":36,"n_rows":57,"n_cols":7,"rows_kept":57,"cut":false,"hidden":false,"merged":[]}
["Zone",{"$f":"'Regatta Info'!B2","v":"NQ Zone"},"Host Club",{"$f":"'Regatta Info'!B3","v":"Outrigger Whitsunday"},"Dates",{"$f":"'Regatta Info'!B4","v":"27th Feb 2010"},"hlMenu"]
[null,"Official Points (Y/N)","y"]
[]
["CLASS",{"$f":"Menu!G3","v":"OC2"},"Event ",{"$f":"Menu!G4","v":"Marathon"},"Distance"]
[null,{"$f":"Menu!A5","v":"Senior"},"Division",{"$f":"Menu!C5","v":"21 & Under"},{"$f":"Menu!B5","v":"Men"}]
[null,"Canoe","Team  ",null,"Time"]
["Position","Number","Name","Club","HH:MM:SS","Points"]
[1,null,null,null,null,{"$f":"IF($C$2=\"Y\", 9,0)","v":9}]
[2,null,null,null,null,{"$f":"IF($C$2=\"Y\", 7,0)","v":7}]
[3,null,null,null,null,{"$f":"IF($C$2=\"Y\", 5,0)","v":5}]
[4,null,null,null,null,{"$f":"IF($C$2=\"Y\", 3,0)","v":3}]
[5,null,null,null,null,{"$f":"IF($C$2=\"Y\", 2,0)","v":2}]
[6,null,null,null,null,{"$f":"IF($C$2=\"Y\", 1,0)","v":1}]
[7,null,null,null,null,1]
[8,null,null,null,null,1]
[9,null,null,null,null,1]
[10,null,null,null,null,1]
[11,null,null,null,null,1]
[12,null,null,null,null,1]
[13,null,null,null,null,1]
[14,null,null,null,null,1]
[15,null,null,null,null,1]
[16,null,null,null,null,1]
[17,null,null,null,null,1]
[18,null,null,null,null,1]
[19,null,null,null,null,1]
[20,null,null,null,null,1]
[21,null,null,null,null,1]
[22,null,null,null,null,1]
[23,null,null,null,null,1]
[24,null,null,null,null,1]
[25,null,null,null,null,1]
[26,null,null,null,null,1]
[27,null,null,null,null,1]
[28,null,null,null,null,1]
[29,null,null,null,null,1]
[30,null,null,null,null,1]
[31,null,null,null,null,1]
[32,null,null,null,null,1]
[33,null,null,null,null,1]
[34,null,null,null,null,1]
[35,null,null,null,null,1]
[36,null,null,null,null,1]
[37,null,null,null,null,1]
[38,null,null,null,null,1]
[39,null,null,null,null,1]
[40,null,null,null,null,1]
[41,null,null,null,null,1]
[42,null,null,null,null,1]
[43,null,null,null,null,1]
[44,null,null,null,null,1]
[45,null,null,null,null,1]
[46,null,null,null,null,1]
[47,null,null,null,null,1]
[48,null,null,null,null,1]
[49,null,null,null,null,1]
[50,null,null,null,null,1]

{"sheet":"Race0702","index":37,"n_rows":57,"n_cols":7,"rows_kept":57,"cut":false,"hidden":false,"merged":[]}
["Zone",{"$f":"'Regatta Info'!B2","v":"NQ Zone"},"Host Club",{"$f":"'Regatta Info'!B3","v":"Outrigger Whitsunday"},"Dates",{"$f":"'Regatta Info'!B4","v":"27th Feb 2010"},"hlMenu"]
[null,"Official Points (Y/N)","y"]
[]
["CLASS",{"$f":"Menu!G3","v":"OC2"},"Event ",{"$f":"Menu!G4","v":"Marathon"},"Distance"]
[null,{"$f":"Menu!A6","v":"Senior"},"Division",{"$f":"Menu!C6","v":"Open"},{"$f":"Menu!B6","v":"Men"}]
[null,"Canoe","Team  ",null,"Time"]
["Position","Number","Name","Club","HH:MM:SS","Points"]
[1,null,null,null,null,{"$f":"IF($C$2=\"Y\", 9,0)","v":9}]
[2,null,null,null,null,{"$f":"IF($C$2=\"Y\", 7,0)","v":7}]
[3,null,null,null,null,{"$f":"IF($C$2=\"Y\", 5,0)","v":5}]
[4,null,null,null,null,{"$f":"IF($C$2=\"Y\", 3,0)","v":3}]
[5,null,null,null,null,{"$f":"IF($C$2=\"Y\", 2,0)","v":2}]
[6,null,null,null,null,{"$f":"IF($C$2=\"Y\", 1,0)","v":1}]
[7,null,null,null,null,1]
[8,null,null,null,null,1]
[9,null,null,null,null,1]
[10,null,null,null,null,1]
[11,null,null,null,null,1]
[12,null,null,null,null,1]
[13,null,null,null,null,1]
[14,null,null,null,null,1]
[15,null,null,null,null,1]
[16,null,null,null,null,1]
[17,null,null,null,null,1]
[18,null,null,null,null,1]
[19,null,null,null,null,1]
[20,null,null,null,null,1]
[21,null,null,null,null,1]
[22,null,null,null,null,1]
[23,null,null,null,null,1]
[24,null,null,null,null,1]
[25,null,null,null,null,1]
[26,null,null,null,null,1]
[27,null,null,null,null,1]
[28,null,null,null,null,1]
[29,null,null,null,null,1]
[30,null,null,null,null,1]
[31,null,null,null,null,1]
[32,null,null,null,null,1]
[33,null,null,null,null,1]
[34,null,null,null,null,1]
[35,null,null,null,null,1]
[36,null,null,null,null,1]
[37,null,null,null,null,1]
[38,null,null,null,null,1]
[39,null,null,null,null,1]
[40,null,null,null,null,1]
[41,null,null,null,null,1]
[42,null,null,null,null,1]
[43,null,null,null,null,1]
[44,null,null,null,null,1]
[45,null,null,null,null,1]
[46,null,null,null,null,1]
[47,null,null,null,null,1]
[48,null,null,null,null,1]
[49,null,null,null,null,1]
[50,null,null,null,null,1]

{"sheet":"Race0703","index":38,"n_rows":57,"n_cols":7,"rows_kept":57,"cut":false,"hidden":false,"merged":[]}
["Zone",{"$f":"'Regatta Info'!B2","v":"NQ Zone"},"Host Club",{"$f":"'Regatta Info'!B3","v":"Outrigger Whitsunday"},"Dates",{"$f":"'Regatta Info'!B4","v":"27th Feb 2010"},"hlMenu"]
[null,"Official Points (Y/N)","y"]
[]
["CLASS",{"$f":"Menu!G3","v":"OC2"},"Event ",{"$f":"Menu!G4","v":"Marathon"},"Distance"]
[null,{"$f":"Menu!A7","v":"Senior"},"Division",{"$f":"Menu!C7","v":"Masters"},{"$f":"Menu!B7","v":"Men"}]
[null,"Canoe","Team  ",null,"Time"]
["Position","Number","Name","Club","HH:MM:SS","Points"]
[1,null,null,null,null,{"$f":"IF($C$2=\"Y\", 9,0)","v":9}]
[2,null,null,null,null,{"$f":"IF($C$2=\"Y\", 7,0)","v":7}]
[3,null,null,null,null,{"$f":"IF($C$2=\"Y\", 5,0)","v":5}]
[4,null,null,null,null,{"$f":"IF($C$2=\"Y\", 3,0)","v":3}]
[5,null,null,null,null,{"$f":"IF($C$2=\"Y\", 2,0)","v":2}]
[6,null,null,null,null,{"$f":"IF($C$2=\"Y\", 1,0)","v":1}]
[7,null,null,null,null,1]
[8,null,null,null,null,1]
[9,null,null,null,null,1]
[10,null,null,null,null,1]
[11,null,null,null,null,1]
[12,null,null,null,null,1]
[13,null,null,null,null,1]
[14,null,null,null,null,1]
[15,null,null,null,null,1]
[16,null,null,null,null,1]
[17,null,null,null,null,1]
[18,null,null,null,null,1]
[19,null,null,null,null,1]
[20,null,null,null,null,1]
[21,null,null,null,null,1]
[22,null,null,null,null,1]
[23,null,null,null,null,1]
[24,null,null,null,null,1]
[25,null,null,null,null,1]
[26,null,null,null,null,1]
[27,null,null,null,null,1]
[28,null,null,null,null,1]
[29,null,null,null,null,1]
[30,null,null,null,null,1]
[31,null,null,null,null,1]
[32,null,null,null,null,1]
[33,null,null,null,null,1]
[34,null,null,null,null,1]
[35,null,null,null,null,1]
[36,null,null,null,null,1]
[37,null,null,null,null,1]
[38,null,null,null,null,1]
[39,null,null,null,null,1]
[40,null,null,null,null,1]
[41,null,null,null,null,1]
[42,null,null,null,null,1]
[43,null,null,null,null,1]
[44,null,null,null,null,1]
[45,null,null,null,null,1]
[46,null,null,null,null,1]
[47,null,null,null,null,1]
[48,null,null,null,null,1]
[49,null,null,null,null,1]
[50,null,null,null,null,1]

{"sheet":"Race0704","index":39,"n_rows":57,"n_cols":7,"rows_kept":57,"cut":false,"hidden":false,"merged":[]}
["Zone",{"$f":"'Regatta Info'!B2","v":"NQ Zone"},"Host Club",{"$f":"'Regatta Info'!B3","v":"Outrigger Whitsunday"},"Dates",{"$f":"'Regatta Info'!B4","v":"27th Feb 2010"},"hlMenu"]
[null,"Official Points (Y/N)","y"]
[]
["CLASS",{"$f":"Menu!G3","v":"OC2"},"Event ",{"$f":"Menu!G4","v":"Marathon"},"Distance"]
[null,{"$f":"Menu!A8","v":"Senior"},"Division",{"$f":"Menu!C8","v":"Senior Masters"},{"$f":"Menu!B8","v":"Men"}]
[null,"Canoe","Team  ",null,"Time"]
["Position","Number","Name","Club","HH:MM:SS","Points"]
[1,null,null,null,null,{"$f":"IF($C$2=\"Y\", 9,0)","v":9}]
[2,null,null,null,null,{"$f":"IF($C$2=\"Y\", 7,0)","v":7}]
[3,null,null,null,null,{"$f":"IF($C$2=\"Y\", 5,0)","v":5}]
[4,null,null,null,null,{"$f":"IF($C$2=\"Y\", 3,0)","v":3}]
[5,null,null,null,null,{"$f":"IF($C$2=\"Y\", 2,0)","v":2}]
[6,null,null,null,null,{"$f":"IF($C$2=\"Y\", 1,0)","v":1}]
[7,null,null,null,null,1]
[8,null,null,null,null,1]
[9,null,null,null,null,1]
[10,null,null,null,null,1]
[11,null,null,null,null,1]
[12,null,null,null,null,1]
[13,null,null,null,null,1]
[14,null,null,null,null,1]
[15,null,null,null,null,1]
[16,null,null,null,null,1]
[17,null,null,null,null,1]
[18,null,null,null,null,1]
[19,null,null,null,null,1]
[20,null,null,null,null,1]
[21,null,null,null,null,1]
[22,null,null,null,null,1]
[23,null,null,null,null,1]
[24,null,null,null,null,1]
[25,null,null,null,null,1]
[26,null,null,null,null,1]
[27,null,null,null,null,1]
[28,null,null,null,null,1]
[29,null,null,null,null,1]
[30,null,null,null,null,1]
[31,null,null,null,null,1]
[32,null,null,null,null,1]
[33,null,null,null,null,1]
[34,null,null,null,null,1]
[35,null,null,null,null,1]
[36,null,null,null,null,1]
[37,null,null,null,null,1]
[38,null,null,null,null,1]
[39,null,null,null,null,1]
[40,null,null,null,null,1]
[41,null,null,null,null,1]
[42,null,null,null,null,1]
[43,null,null,null,null,1]
[44,null,null,null,null,1]
[45,null,null,null,null,1]
[46,null,null,null,null,1]
[47,null,null,null,null,1]
[48,null,null,null,null,1]
[49,null,null,null,null,1]
[50,null,null,null,null,1]

{"sheet":"Race0705","index":40,"n_rows":57,"n_cols":7,"rows_kept":57,"cut":false,"hidden":false,"merged":[]}
["Zone",{"$f":"'Regatta Info'!B2","v":"NQ Zone"},"Host Club",{"$f":"'Regatta Info'!B3","v":"Outrigger Whitsunday"},"Dates",{"$f":"'Regatta Info'!B4","v":"27th Feb 2010"},"hlMenu"]
[null,"Official Points (Y/N)","y"]
[]
["CLASS",{"$f":"Menu!G3","v":"OC2"},"Event ",{"$f":"Menu!G4","v":"Marathon"},"Distance"]
[null,{"$f":"Menu!A9","v":"Senior"},"Division",{"$f":"Menu!C9","v":"Golden Masters"},{"$f":"Menu!B9","v":"Men"}]
[null,"Canoe","Team  ",null,"Time"]
["Position","Number","Name","Club","HH:MM:SS","Points"]
[1,null,null,null,null,{"$f":"IF($C$2=\"Y\", 9,0)","v":9}]
[2,null,null,null,null,{"$f":"IF($C$2=\"Y\", 7,0)","v":7}]
[3,null,null,null,null,{"$f":"IF($C$2=\"Y\", 5,0)","v":5}]
[4,null,null,null,null,{"$f":"IF($C$2=\"Y\", 3,0)","v":3}]
[5,null,null,null,null,{"$f":"IF($C$2=\"Y\", 2,0)","v":2}]
[6,null,null,null,null,{"$f":"IF($C$2=\"Y\", 1,0)","v":1}]
[7,null,null,null,null,1]
[8,null,null,null,null,1]
[9,null,null,null,null,1]
[10,null,null,null,null,1]
[11,null,null,null,null,1]
[12,null,null,null,null,1]
[13,null,null,null,null,1]
[14,null,null,null,null,1]
[15,null,null,null,null,1]
[16,null,null,null,null,1]
[17,null,null,null,null,1]
[18,null,null,null,null,1]
[19,null,null,null,null,1]
[20,null,null,null,null,1]
[21,null,null,null,null,1]
[22,null,null,null,null,1]
[23,null,null,null,null,1]
[24,null,null,null,null,1]
[25,null,null,null,null,1]
[26,null,null,null,null,1]
[27,null,null,null,null,1]
[28,null,null,null,null,1]
[29,null,null,null,null,1]
[30,null,null,null,null,1]
[31,null,null,null,null,1]
[32,null,null,null,null,1]
[33,null,null,null,null,1]
[34,null,null,null,null,1]
[35,null,null,null,null,1]
[36,null,null,null,null,1]
[37,null,null,null,null,1]
[38,null,null,null,null,1]
[39,null,null,null,null,1]
[40,null,null,null,null,1]
[41,null,null,null,null,1]
[42,null,null,null,null,1]
[43,null,null,null,null,1]
[44,null,null,null,null,1]
[45,null,null,null,null,1]
[46,null,null,null,null,1]
[47,null,null,null,null,1]
[48,null,null,null,null,1]
[49,null,null,null,null,1]
[50,null,null,null,null,1]

{"sheet":"Race0706","index":41,"n_rows":57,"n_cols":7,"rows_kept":57,"cut":false,"hidden":false,"merged":[]}
["Zone",{"$f":"'Regatta Info'!B2","v":"NQ Zone"},"Host Club",{"$f":"'Regatta Info'!B3","v":"Outrigger Whitsunday"},"Dates",{"$f":"'Regatta Info'!B4","v":"27th Feb 2010"},"hlMenu"]
[null,"Official Points (Y/N)","y"]
[]
["CLASS",{"$f":"Menu!G3","v":"OC2"},"Event ",{"$f":"Menu!G4","v":"Marathon"},"Distance"]
[null,{"$f":"Menu!A10","v":"Senior"},"Division",{"$f":"Menu!C10","v":"21 & Under"},{"$f":"Menu!B10","v":"Women"}]
[null,"Canoe","Team  ",null,"Time"]
["Position","Number","Name","Club","HH:MM:SS","Points"]
[1,null,null,null,null,{"$f":"IF($C$2=\"Y\", 9,0)","v":9}]
[2,null,null,null,null,{"$f":"IF($C$2=\"Y\", 7,0)","v":7}]
[3,null,null,null,null,{"$f":"IF($C$2=\"Y\", 5,0)","v":5}]
[4,null,null,null,null,{"$f":"IF($C$2=\"Y\", 3,0)","v":3}]
[5,null,null,null,null,{"$f":"IF($C$2=\"Y\", 2,0)","v":2}]
[6,null,null,null,null,{"$f":"IF($C$2=\"Y\", 1,0)","v":1}]
[7,null,null,null,null,1]
[8,null,null,null,null,1]
[9,null,null,null,null,1]
[10,null,null,null,null,1]
[11,null,null,null,null,1]
[12,null,null,null,null,1]
[13,null,null,null,null,1]
[14,null,null,null,null,1]
[15,null,null,null,null,1]
[16,null,null,null,null,1]
[17,null,null,null,null,1]
[18,null,null,null,null,1]
[19,null,null,null,null,1]
[20,null,null,null,null,1]
[21,null,null,null,null,1]
[22,null,null,null,null,1]
[23,null,null,null,null,1]
[24,null,null,null,null,1]
[25,null,null,null,null,1]
[26,null,null,null,null,1]
[27,null,null,null,null,1]
[28,null,null,null,null,1]
[29,null,null,null,null,1]
[30,null,null,null,null,1]
[31,null,null,null,null,1]
[32,null,null,null,null,1]
[33,null,null,null,null,1]
[34,null,null,null,null,1]
[35,null,null,null,null,1]
[36,null,null,null,null,1]
[37,null,null,null,null,1]
[38,null,null,null,null,1]
[39,null,null,null,null,1]
[40,null,null,null,null,1]
[41,null,null,null,null,1]
[42,null,null,null,null,1]
[43,null,null,null,null,1]
[44,null,null,null,null,1]
[45,null,null,null,null,1]
[46,null,null,null,null,1]
[47,null,null,null,null,1]
[48,null,null,null,null,1]
[49,null,null,null,null,1]
[50,null,null,null,null,1]

{"sheet":"Race0707","index":42,"n_rows":57,"n_cols":7,"rows_kept":57,"cut":false,"hidden":false,"merged":[]}
["Zone",{"$f":"'Regatta Info'!B2","v":"NQ Zone"},"Host Club",{"$f":"'Regatta Info'!B3","v":"Outrigger Whitsunday"},"Dates",{"$f":"'Regatta Info'!B4","v":"27th Feb 2010"},"hlMenu"]
[null,"Official Points (Y/N)","y"]
[]
["CLASS",{"$f":"Menu!G3","v":"OC2"},"Event ",{"$f":"Menu!G4","v":"Marathon"},"Distance"]
[null,{"$f":"Menu!A11","v":"Senior"},"Division",{"$f":"Menu!C11","v":"Open"},{"$f":"Menu!B11","v":"Women"}]
[null,"Canoe","Team  ",null,"Time"]
["Position","Number","Name","Club","HH:MM:SS","Points"]
[1,null,null,null,null,{"$f":"IF($C$2=\"Y\", 9,0)","v":9}]
[2,null,null,null,null,{"$f":"IF($C$2=\"Y\", 7,0)","v":7}]
[3,null,null,null,null,{"$f":"IF($C$2=\"Y\", 5,0)","v":5}]
[4,null,null,null,null,{"$f":"IF($C$2=\"Y\", 3,0)","v":3}]
[5,null,null,null,null,{"$f":"IF($C$2=\"Y\", 2,0)","v":2}]
[6,null,null,null,null,{"$f":"IF($C$2=\"Y\", 1,0)","v":1}]
[7,null,null,null,null,1]
[8,null,null,null,null,1]
[9,null,null,null,null,1]
[10,null,null,null,null,1]
[11,null,null,null,null,1]
[12,null,null,null,null,1]
[13,null,null,null,null,1]
[14,null,null,null,null,1]
[15,null,null,null,null,1]
[16,null,null,null,null,1]
[17,null,null,null,null,1]
[18,null,null,null,null,1]
[19,null,null,null,null,1]
[20,null,null,null,null,1]
[21,null,null,null,null,1]
[22,null,null,null,null,1]
[23,null,null,null,null,1]
[24,null,null,null,null,1]
[25,null,null,null,null,1]
[26,null,null,null,null,1]
[27,null,null,null,null,1]
[28,null,null,null,null,1]
[29,null,null,null,null,1]
[30,null,null,null,null,1]
[31,null,null,null,null,1]
[32,null,null,null,null,1]
[33,null,null,null,null,1]
[34,null,null,null,null,1]
[35,null,null,null,null,1]
[36,null,null,null,null,1]
[37,null,null,null,null,1]
[38,null,null,null,null,1]
[39,null,null,null,null,1]
[40,null,null,null,null,1]
[41,null,null,null,null,1]
[42,null,null,null,null,1]
[43,null,null,null,null,1]
[44,null,null,null,null,1]
[45,null,null,null,null,1]
[46,null,null,null,null,1]
[47,null,null,null,null,1]
[48,null,null,null,null,1]
[49,null,null,null,null,1]
[50,null,null,null,null,1]

{"sheet":"Race0708","index":43,"n_rows":57,"n_cols":7,"rows_kept":57,"cut":false,"hidden":false,"merged":[]}
["Zone",{"$f":"'Regatta Info'!B2","v":"NQ Zone"},"Host Club",{"$f":"'Regatta Info'!B3","v":"Outrigger Whitsunday"},"Dates",{"$f":"'Regatta Info'!B4","v":"27th Feb 2010"},"hlMenu"]
[null,"Official Points (Y/N)","y"]
[]
["CLASS",{"$f":"Menu!G3","v":"OC2"},"Event ",{"$f":"Menu!G4","v":"Marathon"},"Distance"]
[null,{"$f":"Menu!A12","v":"Senior"},"Division",{"$f":"Menu!C12","v":"Masters"},{"$f":"Menu!B12","v":"Women"}]
[null,"Canoe","Team  ",null,"Time"]
["Position","Number","Name","Club","HH:MM:SS","Points"]
[1,null,null,null,null,{"$f":"IF($C$2=\"Y\", 9,0)","v":9}]
[2,null,null,null,null,{"$f":"IF($C$2=\"Y\", 7,0)","v":7}]
[3,null,null,null,null,{"$f":"IF($C$2=\"Y\", 5,0)","v":5}]
[4,null,null,null,null,{"$f":"IF($C$2=\"Y\", 3,0)","v":3}]
[5,null,null,null,null,{"$f":"IF($C$2=\"Y\", 2,0)","v":2}]
[6,null,null,null,null,{"$f":"IF($C$2=\"Y\", 1,0)","v":1}]
[7,null,null,null,null,1]
[8,null,null,null,null,1]
[9,null,null,null,null,1]
[10,null,null,null,null,1]
[11,null,null,null,null,1]
[12,null,null,null,null,1]
[13,null,null,null,null,1]
[14,null,null,null,null,1]
[15,null,null,null,null,1]
[16,null,null,null,null,1]
[17,null,null,null,null,1]
[18,null,null,null,null,1]
[19,null,null,null,null,1]
[20,null,null,null,null,1]
[21,null,null,null,null,1]
[22,null,null,null,null,1]
[23,null,null,null,null,1]
[24,null,null,null,null,1]
[25,null,null,null,null,1]
[26,null,null,null,null,1]
[27,null,null,null,null,1]
[28,null,null,null,null,1]
[29,null,null,null,null,1]
[30,null,null,null,null,1]
[31,null,null,null,null,1]
[32,null,null,null,null,1]
[33,null,null,null,null,1]
[34,null,null,null,null,1]
[35,null,null,null,null,1]
[36,null,null,null,null,1]
[37,null,null,null,null,1]
[38,null,null,null,null,1]
[39,null,null,null,null,1]
[40,null,null,null,null,1]
[41,null,null,null,null,1]
[42,null,null,null,null,1]
[43,null,null,null,null,1]
[44,null,null,null,null,1]
[45,null,null,null,null,1]
[46,null,null,null,null,1]
[47,null,null,null,null,1]
[48,null,null,null,null,1]
[49,null,null,null,null,1]
[50,null,null,null,null,1]

{"sheet":"Race0709","index":44,"n_rows":57,"n_cols":7,"rows_kept":57,"cut":false,"hidden":false,"merged":[]}
["Zone",{"$f":"'Regatta Info'!B2","v":"NQ Zone"},"Host Club",{"$f":"'Regatta Info'!B3","v":"Outrigger Whitsunday"},"Dates",{"$f":"'Regatta Info'!B4","v":"27th Feb 2010"},"hlMenu"]
[null,"Official Points (Y/N)","y"]
[]
["CLASS",{"$f":"Menu!G3","v":"OC2"},"Event ",{"$f":"Menu!G4","v":"Marathon"},"Distance"]
[null,{"$f":"Menu!A13","v":"Senior"},"Division",{"$f":"Menu!C13","v":"Senior Masters"},{"$f":"Menu!B13","v":"Women"}]
[null,"Canoe","Team  ",null,"Time"]
["Position","Number","Name","Club","HH:MM:SS","Points"]
[1,null,null,null,null,{"$f":"IF($C$2=\"Y\", 9,0)","v":9}]
[2,null,null,null,null,{"$f":"IF($C$2=\"Y\", 7,0)","v":7}]
[3,null,null,null,null,{"$f":"IF($C$2=\"Y\", 5,0)","v":5}]
[4,null,null,null,null,{"$f":"IF($C$2=\"Y\", 3,0)","v":3}]
[5,null,null,null,null,{"$f":"IF($C$2=\"Y\", 2,0)","v":2}]
[6,null,null,null,null,{"$f":"IF($C$2=\"Y\", 1,0)","v":1}]
[7,null,null,null,null,1]
[8,null,null,null,null,1]
[9,null,null,null,null,1]
[10,null,null,null,null,1]
[11,null,null,null,null,1]
[12,null,null,null,null,1]
[13,null,null,null,null,1]
[14,null,null,null,null,1]
[15,null,null,null,null,1]
[16,null,null,null,null,1]
[17,null,null,null,null,1]
[18,null,null,null,null,1]
[19,null,null,null,null,1]
[20,null,null,null,null,1]
[21,null,null,null,null,1]
[22,null,null,null,null,1]
[23,null,null,null,null,1]
[24,null,null,null,null,1]
[25,null,null,null,null,1]
[26,null,null,null,null,1]
[27,null,null,null,null,1]
[28,null,null,null,null,1]
[29,null,null,null,null,1]
[30,null,null,null,null,1]
[31,null,null,null,null,1]
[32,null,null,null,null,1]
[33,null,null,null,null,1]
[34,null,null,null,null,1]
[35,null,null,null,null,1]
[36,null,null,null,null,1]
[37,null,null,null,null,1]
[38,null,null,null,null,1]
[39,null,null,null,null,1]
[40,null,null,null,null,1]
[41,null,null,null,null,1]
[42,null,null,null,null,1]
[43,null,null,null,null,1]
[44,null,null,null,null,1]
[45,null,null,null,null,1]
[46,null,null,null,null,1]
[47,null,null,null,null,1]
[48,null,null,null,null,1]
[49,null,null,null,null,1]
[50,null,null,null,null,1]

{"sheet":"Race0710","index":45,"n_rows":57,"n_cols":7,"rows_kept":57,"cut":false,"hidden":false,"merged":[]}
["Zone",{"$f":"'Regatta Info'!B2","v":"NQ Zone"},"Host Club",{"$f":"'Regatta Info'!B3","v":"Outrigger Whitsunday"},"Dates",{"$f":"'Regatta Info'!B4","v":"27th Feb 2010"},"hlMenu"]
[null,"Official Points (Y/N)","y"]
[]
["CLASS",{"$f":"Menu!G3","v":"OC2"},"Event ",{"$f":"Menu!G4","v":"Marathon"},"Distance"]
[null,{"$f":"Menu!A14","v":"Senior"},"Division",{"$f":"Menu!C14","v":"Golden Masters"},{"$f":"Menu!B14","v":"Women"}]
[null,"Canoe","Team  ",null,"Time"]
["Position","Number","Name","Club","HH:MM:SS","Points"]
[1,null,null,null,null,{"$f":"IF($C$2=\"Y\", 9,0)","v":9}]
[2,null,null,null,null,{"$f":"IF($C$2=\"Y\", 7,0)","v":7}]
[3,null,null,null,null,{"$f":"IF($C$2=\"Y\", 5,0)","v":5}]
[4,null,null,null,null,{"$f":"IF($C$2=\"Y\", 3,0)","v":3}]
[5,null,null,null,null,{"$f":"IF($C$2=\"Y\", 2,0)","v":2}]
[6,null,null,null,null,{"$f":"IF($C$2=\"Y\", 1,0)","v":1}]
[7,null,null,null,null,1]
[8,null,null,null,null,1]
[9,null,null,null,null,1]
[10,null,null,null,null,1]
[11,null,null,null,null,1]
[12,null,null,null,null,1]
[13,null,null,null,null,1]
[14,null,null,null,null,1]
[15,null,null,null,null,1]
[16,null,null,null,null,1]
[17,null,null,null,null,1]
[18,null,null,null,null,1]
[19,null,null,null,null,1]
[20,null,null,null,null,1]
[21,null,null,null,null,1]
[22,null,null,null,null,1]
[23,null,null,null,null,1]
[24,null,null,null,null,1]
[25,null,null,null,null,1]
[26,null,null,null,null,1]
[27,null,null,null,null,1]
[28,null,null,null,null,1]
[29,null,null,null,null,1]
[30,null,null,null,null,1]
[31,null,null,null,null,1]
[32,null,null,null,null,1]
[33,null,null,null,null,1]
[34,null,null,null,null,1]
[35,null,null,null,null,1]
[36,null,null,null,null,1]
[37,null,null,null,null,1]
[38,null,null,null,null,1]
[39,null,null,null,null,1]
[40,null,null,null,null,1]
[41,null,null,null,null,1]
[42,null,null,null,null,1]
[43,null,null,null,null,1]
[44,null,null,null,null,1]
[45,null,null,null,null,1]
[46,null,null,null,null,1]
[47,null,null,null,null,1]
[48,null,null,null,null,1]
[49,null,null,null,null,1]
[50,null,null,null,null,1]

{"sheet":"Race0711","index":46,"n_rows":57,"n_cols":7,"rows_kept":57,"cut":false,"hidden":false,"merged":[]}
["Zone",{"$f":"'Regatta Info'!B2","v":"NQ Zone"},"Host Club",{"$f":"'Regatta Info'!B3","v":"Outrigger Whitsunday"},"Dates",{"$f":"'Regatta Info'!B4","v":"27th Feb 2010"},"hlMenu"]
[null,"Official Points (Y/N)","y"]
[]
["CLASS",{"$f":"Menu!G3","v":"OC2"},"Event ",{"$f":"Menu!G4","v":"Marathon"},"Distance"]
[null,{"$f":"Menu!A15","v":"Senior"},"Division",{"$f":"Menu!C15","v":"21 & Under"},{"$f":"Menu!B15","v":"Mixed"}]
[null,"Canoe","Team  ",null,"Time"]
["Position","Number","Name","Club","HH:MM:SS","Points"]
[1,null,null,null,null,{"$f":"IF($C$2=\"Y\", 9,0)","v":9}]
[2,null,null,null,null,{"$f":"IF($C$2=\"Y\", 7,0)","v":7}]
[3,null,null,null,null,{"$f":"IF($C$2=\"Y\", 5,0)","v":5}]
[4,null,null,null,null,{"$f":"IF($C$2=\"Y\", 3,0)","v":3}]
[5,null,null,null,null,{"$f":"IF($C$2=\"Y\", 2,0)","v":2}]
[6,null,null,null,null,{"$f":"IF($C$2=\"Y\", 1,0)","v":1}]
[7,null,null,null,null,1]
[8,null,null,null,null,1]
[9,null,null,null,null,1]
[10,null,null,null,null,1]
[11,null,null,null,null,1]
[12,null,null,null,null,1]
[13,null,null,null,null,1]
[14,null,null,null,null,1]
[15,null,null,null,null,1]
[16,null,null,null,null,1]
[17,null,null,null,null,1]
[18,null,null,null,null,1]
[19,null,null,null,null,1]
[20,null,null,null,null,1]
[21,null,null,null,null,1]
[22,null,null,null,null,1]
[23,null,null,null,null,1]
[24,null,null,null,null,1]
[25,null,null,null,null,1]
[26,null,null,null,null,1]
[27,null,null,null,null,1]
[28,null,null,null,null,1]
[29,null,null,null,null,1]
[30,null,null,null,null,1]
[31,null,null,null,null,1]
[32,null,null,null,null,1]
[33,null,null,null,null,1]
[34,null,null,null,null,1]
[35,null,null,null,null,1]
[36,null,null,null,null,1]
[37,null,null,null,null,1]
[38,null,null,null,null,1]
[39,null,null,null,null,1]
[40,null,null,null,null,1]
[41,null,null,null,null,1]
[42,null,null,null,null,1]
[43,null,null,null,null,1]
[44,null,null,null,null,1]
[45,null,null,null,null,1]
[46,null,null,null,null,1]
[47,null,null,null,null,1]
[48,null,null,null,null,1]
[49,null,null,null,null,1]
[50,null,null,null,null,1]

{"sheet":"Race0712","index":47,"n_rows":57,"n_cols":7,"rows_kept":57,"cut":false,"hidden":false,"merged":[]}
["Zone",{"$f":"'Regatta Info'!B2","v":"NQ Zone"},"Host Club",{"$f":"'Regatta Info'!B3","v":"Outrigger Whitsunday"},"Dates",{"$f":"'Regatta Info'!B4","v":"27th Feb 2010"},"hlMenu"]
[null,"Official Points (Y/N)","y"]
[]
["CLASS",{"$f":"Menu!G3","v":"OC2"},"Event ",{"$f":"Menu!G4","v":"Marathon"},"Distance"]
[null,{"$f":"Menu!A16","v":"Senior"},"Division",{"$f":"Menu!C16","v":"Open"},{"$f":"Menu!B16","v":"Mixed"}]
[null,"Canoe","Team  ",null,"Time"]
["Position","Number","Name","Club","HH:MM:SS","Points"]
[1,null,null,null,null,{"$f":"IF($C$2=\"Y\", 9,0)","v":9}]
[2,null,null,null,null,{"$f":"IF($C$2=\"Y\", 7,0)","v":7}]
[3,null,null,null,null,{"$f":"IF($C$2=\"Y\", 5,0)","v":5}]
[4,null,null,null,null,{"$f":"IF($C$2=\"Y\", 3,0)","v":3}]
[5,null,null,null,null,{"$f":"IF($C$2=\"Y\", 2,0)","v":2}]
[6,null,null,null,null,{"$f":"IF($C$2=\"Y\", 1,0)","v":1}]
[7,null,null,null,null,1]
[8,null,null,null,null,1]
[9,null,null,null,null,1]
[10,null,null,null,null,1]
[11,null,null,null,null,1]
[12,null,null,null,null,1]
[13,null,null,null,null,1]
[14,null,null,null,null,1]
[15,null,null,null,null,1]
[16,null,null,null,null,1]
[17,null,null,null,null,1]
[18,null,null,null,null,1]
[19,null,null,null,null,1]
[20,null,null,null,null,1]
[21,null,null,null,null,1]
[22,null,null,null,null,1]
[23,null,null,null,null,1]
[24,null,null,null,null,1]
[25,null,null,null,null,1]
[26,null,null,null,null,1]
[27,null,null,null,null,1]
[28,null,null,null,null,1]
[29,null,null,null,null,1]
[30,null,null,null,null,1]
[31,null,null,null,null,1]
[32,null,null,null,null,1]
[33,null,null,null,null,1]
[34,null,null,null,null,1]
[35,null,null,null,null,1]
[36,null,null,null,null,1]
[37,null,null,null,null,1]
[38,null,null,null,null,1]
[39,null,null,null,null,1]
[40,null,null,null,null,1]
[41,null,null,null,null,1]
[42,null,null,null,null,1]
[43,null,null,null,null,1]
[44,null,null,null,null,1]
[45,null,null,null,null,1]
[46,null,null,null,null,1]
[47,null,null,null,null,1]
[48,null,null,null,null,1]
[49,null,null,null,null,1]
[50,null,null,null,null,1]

{"sheet":"Race0713","index":48,"n_rows":57,"n_cols":7,"rows_kept":57,"cut":false,"hidden":false,"merged":[]}
["Zone",{"$f":"'Regatta Info'!B2","v":"NQ Zone"},"Host Club",{"$f":"'Regatta Info'!B3","v":"Outrigger Whitsunday"},"Dates",{"$f":"'Regatta Info'!B4","v":"27th Feb 2010"},"hlMenu"]
[null,"Official Points (Y/N)","y"]
[]
["CLASS",{"$f":"Menu!G3","v":"OC2"},"Event ",{"$f":"Menu!G4","v":"Marathon"},"Distance"]
[null,{"$f":"Menu!A17","v":"Senior"},"Division",{"$f":"Menu!C17","v":"Masters"},{"$f":"Menu!B17","v":"Mixed"}]
[null,"Canoe","Team  ",null,"Time"]
["Position","Number","Name","Club","HH:MM:SS","Points"]
[1,null,null,null,null,{"$f":"IF($C$2=\"Y\", 9,0)","v":9}]
[2,null,null,null,null,{"$f":"IF($C$2=\"Y\", 7,0)","v":7}]
[3,null,null,null,null,{"$f":"IF($C$2=\"Y\", 5,0)","v":5}]
[4,null,null,null,null,{"$f":"IF($C$2=\"Y\", 3,0)","v":3}]
[5,null,null,null,null,{"$f":"IF($C$2=\"Y\", 2,0)","v":2}]
[6,null,null,null,null,{"$f":"IF($C$2=\"Y\", 1,0)","v":1}]
[7,null,null,null,null,1]
[8,null,null,null,null,1]
[9,null,null,null,null,1]
[10,null,null,null,null,1]
[11,null,null,null,null,1]
[12,null,null,null,null,1]
[13,null,null,null,null,1]
[14,null,null,null,null,1]
[15,null,null,null,null,1]
[16,null,null,null,null,1]
[17,null,null,null,null,1]
[18,null,null,null,null,1]
[19,null,null,null,null,1]
[20,null,null,null,null,1]
[21,null,null,null,null,1]
[22,null,null,null,null,1]
[23,null,null,null,null,1]
[24,null,null,null,null,1]
[25,null,null,null,null,1]
[26,null,null,null,null,1]
[27,null,null,null,null,1]
[28,null,null,null,null,1]
[29,null,null,null,null,1]
[30,null,null,null,null,1]
[31,null,null,null,null,1]
[32,null,null,null,null,1]
[33,null,null,null,null,1]
[34,null,null,null,null,1]
[35,null,null,null,null,1]
[36,null,null,null,null,1]
[37,null,null,null,null,1]
[38,null,null,null,null,1]
[39,null,null,null,null,1]
[40,null,null,null,null,1]
[41,null,null,null,null,1]
[42,null,null,null,null,1]
[43,null,null,null,null,1]
[44,null,null,null,null,1]
[45,null,null,null,null,1]
[46,null,null,null,null,1]
[47,null,null,null,null,1]
[48,null,null,null,null,1]
[49,null,null,null,null,1]
[50,null,null,null,null,1]

{"sheet":"Race0714","index":49,"n_rows":57,"n_cols":7,"rows_kept":57,"cut":false,"hidden":false,"merged":[]}
["Zone",{"$f":"'Regatta Info'!B2","v":"NQ Zone"},"Host Club",{"$f":"'Regatta Info'!B3","v":"Outrigger Whitsunday"},"Dates",{"$f":"'Regatta Info'!B4","v":"27th Feb 2010"},"hlMenu"]
[null,"Official Points (Y/N)","y"]
[]
["CLASS",{"$f":"Menu!G3","v":"OC2"},"Event ",{"$f":"Menu!G4","v":"Marathon"},"Distance"]
[null,{"$f":"Menu!A18","v":"Senior"},"Division",{"$f":"Menu!C18","v":"Senior Masters"},{"$f":"Menu!B18","v":"Mixed"}]
[null,"Canoe","Team  ",null,"Time"]
["Position","Number","Name","Club","HH:MM:SS","Points"]
[1,null,null,null,null,{"$f":"IF($C$2=\"Y\", 9,0)","v":9}]
[2,null,null,null,null,{"$f":"IF($C$2=\"Y\", 7,0)","v":7}]
[3,null,null,null,null,{"$f":"IF($C$2=\"Y\", 5,0)","v":5}]
[4,null,null,null,null,{"$f":"IF($C$2=\"Y\", 3,0)","v":3}]
[5,null,null,null,null,{"$f":"IF($C$2=\"Y\", 2,0)","v":2}]
[6,null,null,null,null,{"$f":"IF($C$2=\"Y\", 1,0)","v":1}]
[7,null,null,null,null,1]
[8,null,null,null,null,1]
[9,null,null,null,null,1]
[10,null,null,null,null,1]
[11,null,null,null,null,1]
[12,null,null,null,null,1]
[13,null,null,null,null,1]
[14,null,null,null,null,1]
[15,null,null,null,null,1]
[16,null,null,null,null,1]
[17,null,null,null,null,1]
[18,null,null,null,null,1]
[19,null,null,null,null,1]
[20,null,null,null,null,1]
[21,null,null,null,null,1]
[22,null,null,null,null,1]
[23,null,null,null,null,1]
[24,null,null,null,null,1]
[25,null,null,null,null,1]
[26,null,null,null,null,1]
[27,null,null,null,null,1]
[28,null,null,null,null,1]
[29,null,null,null,null,1]
[30,null,null,null,null,1]
[31,null,null,null,null,1]
[32,null,null,null,null,1]
[33,null,null,null,null,1]
[34,null,null,null,null,1]
[35,null,null,null,null,1]
[36,null,null,null,null,1]
[37,null,null,null,null,1]
[38,null,null,null,null,1]
[39,null,null,null,null,1]
[40,null,null,null,null,1]
[41,null,null,null,null,1]
[42,null,null,null,null,1]
[43,null,null,null,null,1]
[44,null,null,null,null,1]
[45,null,null,null,null,1]
[46,null,null,null,null,1]
[47,null,null,null,null,1]
[48,null,null,null,null,1]
[49,null,null,null,null,1]
[50,null,null,null,null,1]

{"sheet":"Race0715","index":50,"n_rows":57,"n_cols":7,"rows_kept":57,"cut":false,"hidden":false,"merged":[]}
["Zone",{"$f":"'Regatta Info'!B2","v":"NQ Zone"},"Host Club",{"$f":"'Regatta Info'!B3","v":"Outrigger Whitsunday"},"Dates",{"$f":"'Regatta Info'!B4","v":"27th Feb 2010"},"hlMenu"]
[null,"Official Points (Y/N)","y"]
[]
["CLASS",{"$f":"Menu!G3","v":"OC2"},"Event ",{"$f":"Menu!G4","v":"Marathon"},"Distance"]
[null,{"$f":"Menu!A19","v":"Senior"},"Division",{"$f":"Menu!C19","v":"Golden Masters"},{"$f":"Menu!B19","v":"Mixed"}]
[null,"Canoe","Team  ",null,"Time"]
["Position","Number","Name","Club","HH:MM:SS","Points"]
[1,null,null,null,null,{"$f":"IF($C$2=\"Y\", 9,0)","v":9}]
[2,null,null,null,null,{"$f":"IF($C$2=\"Y\", 7,0)","v":7}]
[3,null,null,null,null,{"$f":"IF($C$2=\"Y\", 5,0)","v":5}]
[4,null,null,null,null,{"$f":"IF($C$2=\"Y\", 3,0)","v":3}]
[5,null,null,null,null,{"$f":"IF($C$2=\"Y\", 2,0)","v":2}]
[6,null,null,null,null,{"$f":"IF($C$2=\"Y\", 1,0)","v":1}]
[7,null,null,null,null,1]
[8,null,null,null,null,1]
[9,null,null,null,null,1]
[10,null,null,null,null,1]
[11,null,null,null,null,1]
[12,null,null,null,null,1]
[13,null,null,null,null,1]
[14,null,null,null,null,1]
[15,null,null,null,null,1]
[16,null,null,null,null,1]
[17,null,null,null,null,1]
[18,null,null,null,null,1]
[19,null,null,null,null,1]
[20,null,null,null,null,1]
[21,null,null,null,null,1]
[22,null,null,null,null,1]
[23,null,null,null,null,1]
[24,null,null,null,null,1]
[25,null,null,null,null,1]
[26,null,null,null,null,1]
[27,null,null,null,null,1]
[28,null,null,null,null,1]
[29,null,null,null,null,1]
[30,null,null,null,null,1]
[31,null,null,null,null,1]
[32,null,null,null,null,1]
[33,null,null,null,null,1]
[34,null,null,null,null,1]
[35,null,null,null,null,1]
[36,null,null,null,null,1]
[37,null,null,null,null,1]
[38,null,null,null,null,1]
[39,null,null,null,null,1]
[40,null,null,null,null,1]
[41,null,null,null,null,1]
[42,null,null,null,null,1]
[43,null,null,null,null,1]
[44,null,null,null,null,1]
[45,null,null,null,null,1]
[46,null,null,null,null,1]
[47,null,null,null,null,1]
[48,null,null,null,null,1]
[49,null,null,null,null,1]
[50,null,null,null,null,1]

{"sheet":"Race1301","index":51,"n_rows":57,"n_cols":7,"rows_kept":57,"cut":false,"hidden":false,"merged":[]}
["Zone",{"$f":"'Regatta Info'!B2","v":"NQ Zone"},"Host Club",{"$f":"'Regatta Info'!B3","v":"Outrigger Whitsunday"},"Dates",{"$f":"'Regatta Info'!B4","v":"27th Feb 2010"},"hlMenu"]
[null,"Official Points (Y/N)","y"]
[]
["CLASS",{"$f":"Menu!H3","v":"OC1"},"Event ",{"$f":"Menu!H4","v":"Marathon"},"Distance"]
[null,{"$f":"Menu!A5","v":"Senior"},"Division",{"$f":"Menu!C5","v":"21 & Under"},{"$f":"Menu!B5","v":"Men"}]
[null,"Canoe","Team  ",null,"Time"]
["Position","Number","Name","Club","HH:MM:SS","Points"]
[1,null,null,null,null,{"$f":"IF($C$2=\"Y\", 9,0)","v":9}]
[2,null,null,null,null,{"$f":"IF($C$2=\"Y\", 7,0)","v":7}]
[3,null,null,null,null,{"$f":"IF($C$2=\"Y\", 5,0)","v":5}]
[4,null,null,null,null,{"$f":"IF($C$2=\"Y\", 3,0)","v":3}]
[5,null,null,null,null,{"$f":"IF($C$2=\"Y\", 2,0)","v":2}]
[6,null,null,null,null,{"$f":"IF($C$2=\"Y\", 1,0)","v":1}]
[7,null,null,null,null,1]
[8,null,null,null,null,1]
[9,null,null,null,null,1]
[10,null,null,null,null,1]
[11,null,null,null,null,1]
[12,null,null,null,null,1]
[13,null,null,null,null,1]
[14,null,null,null,null,1]
[15,null,null,null,null,1]
[16,null,null,null,null,1]
[17,null,null,null,null,1]
[18,null,null,null,null,1]
[19,null,null,null,null,1]
[20,null,null,null,null,1]
[21,null,null,null,null,1]
[22,null,null,null,null,1]
[23,null,null,null,null,1]
[24,null,null,null,null,1]
[25,null,null,null,null,1]
[26,null,null,null,null,1]
[27,null,null,null,null,1]
[28,null,null,null,null,1]
[29,null,null,null,null,1]
[30,null,null,null,null,1]
[31,null,null,null,null,1]
[32,null,null,null,null,1]
[33,null,null,null,null,1]
[34,null,null,null,null,1]
[35,null,null,null,null,1]
[36,null,null,null,null,1]
[37,null,null,null,null,1]
[38,null,null,null,null,1]
[39,null,null,null,null,1]
[40,null,null,null,null,1]
[41,null,null,null,null,1]
[42,null,null,null,null,1]
[43,null,null,null,null,1]
[44,null,null,null,null,1]
[45,null,null,null,null,1]
[46,null,null,null,null,1]
[47,null,null,null,null,1]
[48,null,null,null,null,1]
[49,null,null,null,null,1]
[50,null,null,null,null,1]

{"sheet":"Race1302","index":52,"n_rows":57,"n_cols":7,"rows_kept":57,"cut":false,"hidden":false,"merged":[]}
["Zone",{"$f":"'Regatta Info'!B2","v":"NQ Zone"},"Host Club",{"$f":"'Regatta Info'!B3","v":"Outrigger Whitsunday"},"Dates",{"$f":"'Regatta Info'!B4","v":"27th Feb 2010"},"hlMenu"]
[null,"Official Points (Y/N)","y"]
[]
["CLASS",{"$f":"Menu!H3","v":"OC1"},"Event ",{"$f":"Menu!H4","v":"Marathon"},"Distance"]
[null,{"$f":"Menu!A6","v":"Senior"},"Division",{"$f":"Menu!C6","v":"Open"},{"$f":"Menu!B6","v":"Men"}]
[null,"Canoe","Team  ",null,"Time"]
["Position","Number","Name","Club","HH:MM:SS","Points"]
[1,null,null,null,null,{"$f":"IF($C$2=\"Y\", 9,0)","v":9}]
[2,null,null,null,null,{"$f":"IF($C$2=\"Y\", 7,0)","v":7}]
[3,null,null,null,null,{"$f":"IF($C$2=\"Y\", 5,0)","v":5}]
[4,null,null,null,null,{"$f":"IF($C$2=\"Y\", 3,0)","v":3}]
[5,null,null,null,null,{"$f":"IF($C$2=\"Y\", 2,0)","v":2}]
[6,null,null,null,null,{"$f":"IF($C$2=\"Y\", 1,0)","v":1}]
[7,null,null,null,null,1]
[8,null,null,null,null,1]
[9,null,null,null,null,1]
[10,null,null,null,null,1]
[11,null,null,null,null,1]
[12,null,null,null,null,1]
[13,null,null,null,null,1]
[14,null,null,null,null,1]
[15,null,null,null,null,1]
[16,null,null,null,null,1]
[17,null,null,null,null,1]
[18,null,null,null,null,1]
[19,null,null,null,null,1]
[20,null,null,null,null,1]
[21,null,null,null,null,1]
[22,null,null,null,null,1]
[23,null,null,null,null,1]
[24,null,null,null,null,1]
[25,null,null,null,null,1]
[26,null,null,null,null,1]
[27,null,null,null,null,1]
[28,null,null,null,null,1]
[29,null,null,null,null,1]
[30,null,null,null,null,1]
[31,null,null,null,null,1]
[32,null,null,null,null,1]
[33,null,null,null,null,1]
[34,null,null,null,null,1]
[35,null,null,null,null,1]
[36,null,null,null,null,1]
[37,null,null,null,null,1]
[38,null,null,null,null,1]
[39,null,null,null,null,1]
[40,null,null,null,null,1]
[41,null,null,null,null,1]
[42,null,null,null,null,1]
[43,null,null,null,null,1]
[44,null,null,null,null,1]
[45,null,null,null,null,1]
[46,null,null,null,null,1]
[47,null,null,null,null,1]
[48,null,null,null,null,1]
[49,null,null,null,null,1]
[50,null,null,null,null,1]

{"sheet":"Race1303","index":53,"n_rows":57,"n_cols":7,"rows_kept":57,"cut":false,"hidden":false,"merged":[]}
["Zone",{"$f":"'Regatta Info'!B2","v":"NQ Zone"},"Host Club",{"$f":"'Regatta Info'!B3","v":"Outrigger Whitsunday"},"Dates",{"$f":"'Regatta Info'!B4","v":"27th Feb 2010"},"hlMenu"]
[null,"Official Points (Y/N)","y"]
[]
["CLASS",{"$f":"Menu!H3","v":"OC1"},"Event ",{"$f":"Menu!H4","v":"Marathon"},"Distance"]
[null,{"$f":"Menu!A7","v":"Senior"},"Division",{"$f":"Menu!C7","v":"Masters"},{"$f":"Menu!B7","v":"Men"}]
[null,"Canoe","Team  ",null,"Time"]
["Position","Number","Name","Club","HH:MM:SS","Points"]
[1,null,null,null,null,{"$f":"IF($C$2=\"Y\", 9,0)","v":9}]
[2,null,null,null,null,{"$f":"IF($C$2=\"Y\", 7,0)","v":7}]
[3,null,null,null,null,{"$f":"IF($C$2=\"Y\", 5,0)","v":5}]
[4,null,null,null,null,{"$f":"IF($C$2=\"Y\", 3,0)","v":3}]
[5,null,null,null,null,{"$f":"IF($C$2=\"Y\", 2,0)","v":2}]
[6,null,null,null,null,{"$f":"IF($C$2=\"Y\", 1,0)","v":1}]
[7,null,null,null,null,1]
[8,null,null,null,null,1]
[9,null,null,null,null,1]
[10,null,null,null,null,1]
[11,null,null,null,null,1]
[12,null,null,null,null,1]
[13,null,null,null,null,1]
[14,null,null,null,null,1]
[15,null,null,null,null,1]
[16,null,null,null,null,1]
[17,null,null,null,null,1]
[18,null,null,null,null,1]
[19,null,null,null,null,1]
[20,null,null,null,null,1]
[21,null,null,null,null,1]
[22,null,null,null,null,1]
[23,null,null,null,null,1]
[24,null,null,null,null,1]
[25,null,null,null,null,1]
[26,null,null,null,null,1]
[27,null,null,null,null,1]
[28,null,null,null,null,1]
[29,null,null,null,null,1]
[30,null,null,null,null,1]
[31,null,null,null,null,1]
[32,null,null,null,null,1]
[33,null,null,null,null,1]
[34,null,null,null,null,1]
[35,null,null,null,null,1]
[36,null,null,null,null,1]
[37,null,null,null,null,1]
[38,null,null,null,null,1]
[39,null,null,null,null,1]
[40,null,null,null,null,1]
[41,null,null,null,null,1]
[42,null,null,null,null,1]
[43,null,null,null,null,1]
[44,null,null,null,null,1]
[45,null,null,null,null,1]
[46,null,null,null,null,1]
[47,null,null,null,null,1]
[48,null,null,null,null,1]
[49,null,null,null,null,1]
[50,null,null,null,null,1]

{"sheet":"Race1304","index":54,"n_rows":57,"n_cols":7,"rows_kept":57,"cut":false,"hidden":false,"merged":[]}
["Zone",{"$f":"'Regatta Info'!B2","v":"NQ Zone"},"Host Club",{"$f":"'Regatta Info'!B3","v":"Outrigger Whitsunday"},"Dates",{"$f":"'Regatta Info'!B4","v":"27th Feb 2010"},"hlMenu"]
[null,"Official Points (Y/N)","y"]
[]
["CLASS",{"$f":"Menu!H3","v":"OC1"},"Event ",{"$f":"Menu!H4","v":"Marathon"},"Distance"]
[null,{"$f":"Menu!A5","v":"Senior"},"Division",{"$f":"Menu!C8","v":"Senior Masters"},{"$f":"Menu!B8","v":"Men"}]
[null,"Canoe","Team  ",null,"Time"]
["Position","Number","Name","Club","HH:MM:SS","Points"]
[1,null,null,null,null,{"$f":"IF($C$2=\"Y\", 9,0)","v":9}]
[2,null,null,null,null,{"$f":"IF($C$2=\"Y\", 7,0)","v":7}]
[3,null,null,null,null,{"$f":"IF($C$2=\"Y\", 5,0)","v":5}]
[4,null,null,null,null,{"$f":"IF($C$2=\"Y\", 3,0)","v":3}]
[5,null,null,null,null,{"$f":"IF($C$2=\"Y\", 2,0)","v":2}]
[6,null,null,null,null,{"$f":"IF($C$2=\"Y\", 1,0)","v":1}]
[7,null,null,null,null,1]
[8,null,null,null,null,1]
[9,null,null,null,null,1]
[10,null,null,null,null,1]
[11,null,null,null,null,1]
[12,null,null,null,null,1]
[13,null,null,null,null,1]
[14,null,null,null,null,1]
[15,null,null,null,null,1]
[16,null,null,null,null,1]
[17,null,null,null,null,1]
[18,null,null,null,null,1]
[19,null,null,null,null,1]
[20,null,null,null,null,1]
[21,null,null,null,null,1]
[22,null,null,null,null,1]
[23,null,null,null,null,1]
[24,null,null,null,null,1]
[25,null,null,null,null,1]
[26,null,null,null,null,1]
[27,null,null,null,null,1]
[28,null,null,null,null,1]
[29,null,null,null,null,1]
[30,null,null,null,null,1]
[31,null,null,null,null,1]
[32,null,null,null,null,1]
[33,null,null,null,null,1]
[34,null,null,null,null,1]
[35,null,null,null,null,1]
[36,null,null,null,null,1]
[37,null,null,null,null,1]
[38,null,null,null,null,1]
[39,null,null,null,null,1]
[40,null,null,null,null,1]
[41,null,null,null,null,1]
[42,null,null,null,null,1]
[43,null,null,null,null,1]
[44,null,null,null,null,1]
[45,null,null,null,null,1]
[46,null,null,null,null,1]
[47,null,null,null,null,1]
[48,null,null,null,null,1]
[49,null,null,null,null,1]
[50,null,null,null,null,1]

{"sheet":"Race1305","index":55,"n_rows":57,"n_cols":7,"rows_kept":57,"cut":false,"hidden":false,"merged":[]}
["Zone",{"$f":"'Regatta Info'!B2","v":"NQ Zone"},"Host Club",{"$f":"'Regatta Info'!B3","v":"Outrigger Whitsunday"},"Dates",{"$f":"'Regatta Info'!B4","v":"27th Feb 2010"},"hlMenu"]
[null,"Official Points (Y/N)","y"]
[]
["CLASS",{"$f":"Menu!H3","v":"OC1"},"Event ",{"$f":"Menu!H4","v":"Marathon"},"Distance"]
[null,{"$f":"Menu!A5","v":"Senior"},"Division",{"$f":"Menu!C9","v":"Golden Masters"},{"$f":"Menu!B9","v":"Men"}]
[null,"Canoe","Team  ",null,"Time"]
["Position","Number","Name","Club","HH:MM:SS","Points"]
[1,null,null,null,null,{"$f":"IF($C$2=\"Y\", 9,0)","v":9}]
[2,null,null,null,null,{"$f":"IF($C$2=\"Y\", 7,0)","v":7}]
[3,null,null,null,null,{"$f":"IF($C$2=\"Y\", 5,0)","v":5}]
[4,null,null,null,null,{"$f":"IF($C$2=\"Y\", 3,0)","v":3}]
[5,null,null,null,null,{"$f":"IF($C$2=\"Y\", 2,0)","v":2}]
[6,null,null,null,null,{"$f":"IF($C$2=\"Y\", 1,0)","v":1}]
[7,null,null,null,null,1]
[8,null,null,null,null,1]
[9,null,null,null,null,1]
[10,null,null,null,null,1]
[11,null,null,null,null,1]
[12,null,null,null,null,1]
[13,null,null,null,null,1]
[14,null,null,null,null,1]
[15,null,null,null,null,1]
[16,null,null,null,null,1]
[17,null,null,null,null,1]
[18,null,null,null,null,1]
[19,null,null,null,null,1]
[20,null,null,null,null,1]
[21,null,null,null,null,1]
[22,null,null,null,null,1]
[23,null,null,null,null,1]
[24,null,null,null,null,1]
[25,null,null,null,null,1]
[26,null,null,null,null,1]
[27,null,null,null,null,1]
[28,null,null,null,null,1]
[29,null,null,null,null,1]
[30,null,null,null,null,1]
[31,null,null,null,null,1]
[32,null,null,null,null,1]
[33,null,null,null,null,1]
[34,null,null,null,null,1]
[35,null,null,null,null,1]
[36,null,null,null,null,1]
[37,null,null,null,null,1]
[38,null,null,null,null,1]
[39,null,null,null,null,1]
[40,null,null,null,null,1]
[41,null,null,null,null,1]
[42,null,null,null,null,1]
[43,null,null,null,null,1]
[44,null,null,null,null,1]
[45,null,null,null,null,1]
[46,null,null,null,null,1]
[47,null,null,null,null,1]
[48,null,null,null,null,1]
[49,null,null,null,null,1]
[50,null,null,null,null,1]

{"sheet":"Race1306","index":56,"n_rows":57,"n_cols":7,"rows_kept":57,"cut":false,"hidden":false,"merged":[]}
["Zone",{"$f":"'Regatta Info'!B2","v":"NQ Zone"},"Host Club",{"$f":"'Regatta Info'!B3","v":"Outrigger Whitsunday"},"Dates",{"$f":"'Regatta Info'!B4","v":"27th Feb 2010"},"hlMenu"]
[null,"Official Points (Y/N)","y"]
[]
["CLASS",{"$f":"Menu!H3","v":"OC1"},"Event ",{"$f":"Menu!H4","v":"Marathon"},"Distance"]
[null,{"$f":"Menu!A5","v":"Senior"},"Division",{"$f":"Menu!C10","v":"21 & Under"},{"$f":"Menu!B10","v":"Women"}]
[null,"Canoe","Team  ",null,"Time"]
["Position","Number","Name","Club","HH:MM:SS","Points"]
[1,null,null,null,null,{"$f":"IF($C$2=\"Y\", 9,0)","v":9}]
[2,null,null,null,null,{"$f":"IF($C$2=\"Y\", 7,0)","v":7}]
[3,null,null,null,null,{"$f":"IF($C$2=\"Y\", 5,0)","v":5}]
[4,null,null,null,null,{"$f":"IF($C$2=\"Y\", 3,0)","v":3}]
[5,null,null,null,null,{"$f":"IF($C$2=\"Y\", 2,0)","v":2}]
[6,null,null,null,null,{"$f":"IF($C$2=\"Y\", 1,0)","v":1}]
[7,null,null,null,null,1]
[8,null,null,null,null,1]
[9,null,null,null,null,1]
[10,null,null,null,null,1]
[11,null,null,null,null,1]
[12,null,null,null,null,1]
[13,null,null,null,null,1]
[14,null,null,null,null,1]
[15,null,null,null,null,1]
[16,null,null,null,null,1]
[17,null,null,null,null,1]
[18,null,null,null,null,1]
[19,null,null,null,null,1]
[20,null,null,null,null,1]
[21,null,null,null,null,1]
[22,null,null,null,null,1]
[23,null,null,null,null,1]
[24,null,null,null,null,1]
[25,null,null,null,null,1]
[26,null,null,null,null,1]
[27,null,null,null,null,1]
[28,null,null,null,null,1]
[29,null,null,null,null,1]
[30,null,null,null,null,1]
[31,null,null,null,null,1]
[32,null,null,null,null,1]
[33,null,null,null,null,1]
[34,null,null,null,null,1]
[35,null,null,null,null,1]
[36,null,null,null,null,1]
[37,null,null,null,null,1]
[38,null,null,null,null,1]
[39,null,null,null,null,1]
[40,null,null,null,null,1]
[41,null,null,null,null,1]
[42,null,null,null,null,1]
[43,null,null,null,null,1]
[44,null,null,null,null,1]
[45,null,null,null,null,1]
[46,null,null,null,null,1]
[47,null,null,null,null,1]
[48,null,null,null,null,1]
[49,null,null,null,null,1]
[50,null,null,null,null,1]

{"sheet":"Race1307","index":57,"n_rows":57,"n_cols":7,"rows_kept":57,"cut":false,"hidden":false,"merged":[]}
["Zone",{"$f":"'Regatta Info'!B2","v":"NQ Zone"},"Host Club",{"$f":"'Regatta Info'!B3","v":"Outrigger Whitsunday"},"Dates",{"$f":"'Regatta Info'!B4","v":"27th Feb 2010"},"hlMenu"]
[null,"Official Points (Y/N)","y"]
[]
["CLASS",{"$f":"Menu!H3","v":"OC1"},"Event ",{"$f":"Menu!H4","v":"Marathon"},"Distance"]
[null,{"$f":"Menu!A5","v":"Senior"},"Division",{"$f":"Menu!C11","v":"Open"},{"$f":"Menu!B11","v":"Women"}]
[null,"Canoe","Team  ",null,"Time"]
["Position","Number","Name","Club","HH:MM:SS","Points"]
[1,null,null,null,null,{"$f":"IF($C$2=\"Y\", 9,0)","v":9}]
[2,null,null,null,null,{"$f":"IF($C$2=\"Y\", 7,0)","v":7}]
[3,null,null,null,null,{"$f":"IF($C$2=\"Y\", 5,0)","v":5}]
[4,null,null,null,null,{"$f":"IF($C$2=\"Y\", 3,0)","v":3}]
[5,null,null,null,null,{"$f":"IF($C$2=\"Y\", 2,0)","v":2}]
[6,null,null,null,null,{"$f":"IF($C$2=\"Y\", 1,0)","v":1}]
[7,null,null,null,null,1]
[8,null,null,null,null,1]
[9,null,null,null,null,1]
[10,null,null,null,null,1]
[11,null,null,null,null,1]
[12,null,null,null,null,1]
[13,null,null,null,null,1]
[14,null,null,null,null,1]
[15,null,null,null,null,1]
[16,null,null,null,null,1]
[17,null,null,null,null,1]
[18,null,null,null,null,1]
[19,null,null,null,null,1]
[20,null,null,null,null,1]
[21,null,null,null,null,1]
[22,null,null,null,null,1]
[23,null,null,null,null,1]
[24,null,null,null,null,1]
[25,null,null,null,null,1]
[26,null,null,null,null,1]
[27,null,null,null,null,1]
[28,null,null,null,null,1]
[29,null,null,null,null,1]
[30,null,null,null,null,1]
[31,null,null,null,null,1]
[32,null,null,null,null,1]
[33,null,null,null,null,1]
[34,null,null,null,null,1]
[35,null,null,null,null,1]
[36,null,null,null,null,1]
[37,null,null,null,null,1]
[38,null,null,null,null,1]
[39,null,null,null,null,1]
[40,null,null,null,null,1]
[41,null,null,null,null,1]
[42,null,null,null,null,1]
[43,null,null,null,null,1]
[44,null,null,null,null,1]
[45,null,null,null,null,1]
[46,null,null,null,null,1]
[47,null,null,null,null,1]
[48,null,null,null,null,1]
[49,null,null,null,null,1]
[50,null,null,null,null,1]

{"sheet":"Race1308","index":58,"n_rows":57,"n_cols":7,"rows_kept":57,"cut":false,"hidden":false,"merged":[]}
["Zone",{"$f":"'Regatta Info'!B2","v":"NQ Zone"},"Host Club",{"$f":"'Regatta Info'!B3","v":"Outrigger Whitsunday"},"Dates",{"$f":"'Regatta Info'!B4","v":"27th Feb 2010"},"hlMenu"]
[null,"Official Points (Y/N)","y"]
[]
["CLASS",{"$f":"Menu!H3","v":"OC1"},"Event ",{"$f":"Menu!H4","v":"Marathon"},"Distance"]
[null,{"$f":"Menu!A5","v":"Senior"},"Division",{"$f":"Menu!C12","v":"Masters"},{"$f":"Menu!B12","v":"Women"}]
[null,"Canoe","Team  ",null,"Time"]
["Position","Number","Name","Club","HH:MM:SS","Points"]
[1,null,null,null,null,{"$f":"IF($C$2=\"Y\", 9,0)","v":9}]
[2,null,null,null,null,{"$f":"IF($C$2=\"Y\", 7,0)","v":7}]
[3,null,null,null,null,{"$f":"IF($C$2=\"Y\", 5,0)","v":5}]
[4,null,null,null,null,{"$f":"IF($C$2=\"Y\", 3,0)","v":3}]
[5,null,null,null,null,{"$f":"IF($C$2=\"Y\", 2,0)","v":2}]
[6,null,null,null,null,{"$f":"IF($C$2=\"Y\", 1,0)","v":1}]
[7,null,null,null,null,1]
[8,null,null,null,null,1]
[9,null,null,null,null,1]
[10,null,null,null,null,1]
[11,null,null,null,null,1]
[12,null,null,null,null,1]
[13,null,null,null,null,1]
[14,null,null,null,null,1]
[15,null,null,null,null,1]
[16,null,null,null,null,1]
[17,null,null,null,null,1]
[18,null,null,null,null,1]
[19,null,null,null,null,1]
[20,null,null,null,null,1]
[21,null,null,null,null,1]
[22,null,null,null,null,1]
[23,null,null,null,null,1]
[24,null,null,null,null,1]
[25,null,null,null,null,1]
[26,null,null,null,null,1]
[27,null,null,null,null,1]
[28,null,null,null,null,1]
[29,null,null,null,null,1]
[30,null,null,null,null,1]
[31,null,null,null,null,1]
[32,null,null,null,null,1]
[33,null,null,null,null,1]
[34,null,null,null,null,1]
[35,null,null,null,null,1]
[36,null,null,null,null,1]
[37,null,null,null,null,1]
[38,null,null,null,null,1]
[39,null,null,null,null,1]
[40,null,null,null,null,1]
[41,null,null,null,null,1]
[42,null,null,null,null,1]
[43,null,null,null,null,1]
[44,null,null,null,null,1]
[45,null,null,null,null,1]
[46,null,null,null,null,1]
[47,null,null,null,null,1]
[48,null,null,null,null,1]
[49,null,null,null,null,1]
[50,null,null,null,null,1]

{"sheet":"Race1309","index":59,"n_rows":57,"n_cols":7,"rows_kept":57,"cut":false,"hidden":false,"merged":[]}
["Zone",{"$f":"'Regatta Info'!B2","v":"NQ Zone"},"Host Club",{"$f":"'Regatta Info'!B3","v":"Outrigger Whitsunday"},"Dates",{"$f":"'Regatta Info'!B4","v":"27th Feb 2010"},"hlMenu"]
[null,"Official Points (Y/N)","y"]
[]
["CLASS",{"$f":"Menu!H3","v":"OC1"},"Event ",{"$f":"Menu!H4","v":"Marathon"},"Distance"]
[null,{"$f":"Menu!A5","v":"Senior"},"Division",{"$f":"Menu!C13","v":"Senior Masters"},{"$f":"Menu!B13","v":"Women"}]
[null,"Canoe","Team  ",null,"Time"]
["Position","Number","Name","Club","HH:MM:SS","Points"]
[1,null,null,null,null,{"$f":"IF($C$2=\"Y\", 9,0)","v":9}]
[2,null,null,null,null,{"$f":"IF($C$2=\"Y\", 7,0)","v":7}]
[3,null,null,null,null,{"$f":"IF($C$2=\"Y\", 5,0)","v":5}]
[4,null,null,null,null,{"$f":"IF($C$2=\"Y\", 3,0)","v":3}]
[5,null,null,null,null,{"$f":"IF($C$2=\"Y\", 2,0)","v":2}]
[6,null,null,null,null,{"$f":"IF($C$2=\"Y\", 1,0)","v":1}]
[7,null,null,null,null,1]
[8,null,null,null,null,1]
[9,null,null,null,null,1]
[10,null,null,null,null,1]
[11,null,null,null,null,1]
[12,null,null,null,null,1]
[13,null,null,null,null,1]
[14,null,null,null,null,1]
[15,null,null,null,null,1]
[16,null,null,null,null,1]
[17,null,null,null,null,1]
[18,null,null,null,null,1]
[19,null,null,null,null,1]
[20,null,null,null,null,1]
[21,null,null,null,null,1]
[22,null,null,null,null,1]
[23,null,null,null,null,1]
[24,null,null,null,null,1]
[25,null,null,null,null,1]
[26,null,null,null,null,1]
[27,null,null,null,null,1]
[28,null,null,null,null,1]
[29,null,null,null,null,1]
[30,null,null,null,null,1]
[31,null,null,null,null,1]
[32,null,null,null,null,1]
[33,null,null,null,null,1]
[34,null,null,null,null,1]
[35,null,null,null,null,1]
[36,null,null,null,null,1]
[37,null,null,null,null,1]
[38,null,null,null,null,1]
[39,null,null,null,null,1]
[40,null,null,null,null,1]
[41,null,null,null,null,1]
[42,null,null,null,null,1]
[43,null,null,null,null,1]
[44,null,null,null,null,1]
[45,null,null,null,null,1]
[46,null,null,null,null,1]
[47,null,null,null,null,1]
[48,null,null,null,null,1]
[49,null,null,null,null,1]
[50,null,null,null,null,1]

{"sheet":"Race1310","index":60,"n_rows":57,"n_cols":7,"rows_kept":57,"cut":false,"hidden":false,"merged":[]}
["Zone",{"$f":"'Regatta Info'!B2","v":"NQ Zone"},"Host Club",{"$f":"'Regatta Info'!B3","v":"Outrigger Whitsunday"},"Dates",{"$f":"'Regatta Info'!B4","v":"27th Feb 2010"},"hlMenu"]
[null,"Official Points (Y/N)","y"]
[]
["CLASS",{"$f":"Menu!H3","v":"OC1"},"Event ",{"$f":"Menu!H4","v":"Marathon"},"Distance"]
[null,{"$f":"Menu!A14","v":"Senior"},"Division",{"$f":"Menu!C14","v":"Golden Masters"},{"$f":"Menu!B14","v":"Women"}]
[null,"Canoe","Team  ",null,"Time"]
["Position","Number","Name","Club","HH:MM:SS","Points"]
[1,null,null,null,null,{"$f":"IF($C$2=\"Y\", 9,0)","v":9}]
[2,null,null,null,null,{"$f":"IF($C$2=\"Y\", 7,0)","v":7}]
[3,null,null,null,null,{"$f":"IF($C$2=\"Y\", 5,0)","v":5}]
[4,null,null,null,null,{"$f":"IF($C$2=\"Y\", 3,0)","v":3}]
[5,null,null,null,null,{"$f":"IF($C$2=\"Y\", 2,0)","v":2}]
[6,null,null,null,null,{"$f":"IF($C$2=\"Y\", 1,0)","v":1}]
[7,null,null,null,null,1]
[8,null,null,null,null,1]
[9,null,null,null,null,1]
[10,null,null,null,null,1]
[11,null,null,null,null,1]
[12,null,null,null,null,1]
[13,null,null,null,null,1]
[14,null,null,null,null,1]
[15,null,null,null,null,1]
[16,null,null,null,null,1]
[17,null,null,null,null,1]
[18,null,null,null,null,1]
[19,null,null,null,null,1]
[20,null,null,null,null,1]
[21,null,null,null,null,1]
[22,null,null,null,null,1]
[23,null,null,null,null,1]
[24,null,null,null,null,1]
[25,null,null,null,null,1]
[26,null,null,null,null,1]
[27,null,null,null,null,1]
[28,null,null,null,null,1]
[29,null,null,null,null,1]
[30,null,null,null,null,1]
[31,null,null,null,null,1]
[32,null,null,null,null,1]
[33,null,null,null,null,1]
[34,null,null,null,null,1]
[35,null,null,null,null,1]
[36,null,null,null,null,1]
[37,null,null,null,null,1]
[38,null,null,null,null,1]
[39,null,null,null,null,1]
[40,null,null,null,null,1]
[41,null,null,null,null,1]
[42,null,null,null,null,1]
[43,null,null,null,null,1]
[44,null,null,null,null,1]
[45,null,null,null,null,1]
[46,null,null,null,null,1]
[47,null,null,null,null,1]
[48,null,null,null,null,1]
[49,null,null,null,null,1]
[50,null,null,null,null,1]

{"sheet":"Race1321","index":61,"n_rows":57,"n_cols":7,"rows_kept":57,"cut":false,"hidden":false,"merged":[]}
["Zone",{"$f":"'Regatta Info'!B2","v":"NQ Zone"},"Host Club",{"$f":"'Regatta Info'!B3","v":"Outrigger Whitsunday"},"Dates",{"$f":"'Regatta Info'!B4","v":"27th Feb 2010"},"hlMenu"]
[null,"Official Points (Y/N)","y"]
[]
["CLASS",{"$f":"Menu!H3","v":"OC1"},"Event ",{"$f":"Menu!H4","v":"Marathon"},"Distance"]
[null,{"$f":"Menu!A25","v":"Junior"},"Division",{"$f":"Menu!C25","v":"12 & Under"},{"$f":"Menu!B25","v":"Boys"}]
[null,"Canoe","Team  ",null,"Time"]
["Position","Number","Name","Club","HH:MM:SS","Points"]
[1,null,null,null,null,{"$f":"IF($C$2=\"Y\", 9,0)","v":9}]
[2,null,null,null,null,{"$f":"IF($C$2=\"Y\", 7,0)","v":7}]
[3,null,null,null,null,{"$f":"IF($C$2=\"Y\", 5,0)","v":5}]
[4,null,null,null,null,{"$f":"IF($C$2=\"Y\", 3,0)","v":3}]
[5,null,null,null,null,{"$f":"IF($C$2=\"Y\", 2,0)","v":2}]
[6,null,null,null,null,{"$f":"IF($C$2=\"Y\", 1,0)","v":1}]
[7,null,null,null,null,1]
[8,null,null,null,null,1]
[9,null,null,null,null,1]
[10,null,null,null,null,1]
[11,null,null,null,null,1]
[12,null,null,null,null,1]
[13,null,null,null,null,1]
[14,null,null,null,null,1]
[15,null,null,null,null,1]
[16,null,null,null,null,1]
[17,null,null,null,null,1]
[18,null,null,null,null,1]
[19,null,null,null,null,1]
[20,null,null,null,null,1]
[21,null,null,null,null,1]
[22,null,null,null,null,1]
[23,null,null,null,null,1]
[24,null,null,null,null,1]
[25,null,null,null,null,1]
[26,null,null,null,null,1]
[27,null,null,null,null,1]
[28,null,null,null,null,1]
[29,null,null,null,null,1]
[30,null,null,null,null,1]
[31,null,null,null,null,1]
[32,null,null,null,null,1]
[33,null,null,null,null,1]
[34,null,null,null,null,1]
[35,null,null,null,null,1]
[36,null,null,null,null,1]
[37,null,null,null,null,1]
[38,null,null,null,null,1]
[39,null,null,null,null,1]
[40,null,null,null,null,1]
[41,null,null,null,null,1]
[42,null,null,null,null,1]
[43,null,null,null,null,1]
[44,null,null,null,null,1]
[45,null,null,null,null,1]
[46,null,null,null,null,1]
[47,null,null,null,null,1]
[48,null,null,null,null,1]
[49,null,null,null,null,1]
[50,null,null,null,null,1]

{"sheet":"Race1322","index":62,"n_rows":57,"n_cols":7,"rows_kept":57,"cut":false,"hidden":false,"merged":[]}
["Zone",{"$f":"'Regatta Info'!B2","v":"NQ Zone"},"Host Club",{"$f":"'Regatta Info'!B3","v":"Outrigger Whitsunday"},"Dates",{"$f":"'Regatta Info'!B4","v":"27th Feb 2010"},"hlMenu"]
[null,"Official Points (Y/N)","y"]
[]
["CLASS",{"$f":"Menu!H3","v":"OC1"},"Event ",{"$f":"Menu!H4","v":"Marathon"},"Distance"]
[null,{"$f":"Menu!A26","v":"Junior"},"Division",{"$f":"Menu!C26","v":"14 & Under"},{"$f":"Menu!B26","v":"Boys"}]
[null,"Canoe","Team  ",null,"Time"]
["Position","Number","Name","Club","HH:MM:SS","Points"]
[1,null,null,null,null,{"$f":"IF($C$2=\"Y\", 9,0)","v":9}]
[2,null,null,null,null,{"$f":"IF($C$2=\"Y\", 7,0)","v":7}]
[3,null,null,null,null,{"$f":"IF($C$2=\"Y\", 5,0)","v":5}]
[4,null,null,null,null,{"$f":"IF($C$2=\"Y\", 3,0)","v":3}]
[5,null,null,null,null,{"$f":"IF($C$2=\"Y\", 2,0)","v":2}]
[6,null,null,null,null,{"$f":"IF($C$2=\"Y\", 1,0)","v":1}]
[7,null,null,null,null,1]
[8,null,null,null,null,1]
[9,null,null,null,null,1]
[10,null,null,null,null,1]
[11,null,null,null,null,1]
[12,null,null,null,null,1]
[13,null,null,null,null,1]
[14,null,null,null,null,1]
[15,null,null,null,null,1]
[16,null,null,null,null,1]
[17,null,null,null,null,1]
[18,null,null,null,null,1]
[19,null,null,null,null,1]
[20,null,null,null,null,1]
[21,null,null,null,null,1]
[22,null,null,null,null,1]
[23,null,null,null,null,1]
[24,null,null,null,null,1]
[25,null,null,null,null,1]
[26,null,null,null,null,1]
[27,null,null,null,null,1]
[28,null,null,null,null,1]
[29,null,null,null,null,1]
[30,null,null,null,null,1]
[31,null,null,null,null,1]
[32,null,null,null,null,1]
[33,null,null,null,null,1]
[34,null,null,null,null,1]
[35,null,null,null,null,1]
[36,null,null,null,null,1]
[37,null,null,null,null,1]
[38,null,null,null,null,1]
[39,null,null,null,null,1]
[40,null,null,null,null,1]
[41,null,null,null,null,1]
[42,null,null,null,null,1]
[43,null,null,null,null,1]
[44,null,null,null,null,1]
[45,null,null,null,null,1]
[46,null,null,null,null,1]
[47,null,null,null,null,1]
[48,null,null,null,null,1]
[49,null,null,null,null,1]
[50,null,null,null,null,1]

{"sheet":"Race1323","index":63,"n_rows":57,"n_cols":7,"rows_kept":57,"cut":false,"hidden":false,"merged":[]}
["Zone",{"$f":"'Regatta Info'!B2","v":"NQ Zone"},"Host Club",{"$f":"'Regatta Info'!B3","v":"Outrigger Whitsunday"},"Dates",{"$f":"'Regatta Info'!B4","v":"27th Feb 2010"},"hlMenu"]
[null,"Official Points (Y/N)","y"]
[]
["CLASS",{"$f":"Menu!H3","v":"OC1"},"Event ",{"$f":"Menu!H4","v":"Marathon"},"Distance"]
[null,{"$f":"Menu!A27","v":"Junior"},"Division",{"$f":"Menu!C27","v":"16 & Under"},{"$f":"Menu!B27","v":"Boys"}]
[null,"Canoe","Team  ",null,"Time"]
["Position","Number","Name","Club","HH:MM:SS","Points"]
[1,null,null,null,null,{"$f":"IF($C$2=\"Y\", 9,0)","v":9}]
[2,null,null,null,null,{"$f":"IF($C$2=\"Y\", 7,0)","v":7}]
[3,null,null,null,null,{"$f":"IF($C$2=\"Y\", 5,0)","v":5}]
[4,null,null,null,null,{"$f":"IF($C$2=\"Y\", 3,0)","v":3}]
[5,null,null,null,null,{"$f":"IF($C$2=\"Y\", 2,0)","v":2}]
[6,null,null,null,null,{"$f":"IF($C$2=\"Y\", 1,0)","v":1}]
[7,null,null,null,null,1]
[8,null,null,null,null,1]
[9,null,null,null,null,1]
[10,null,null,null,null,1]
[11,null,null,null,null,1]
[12,null,null,null,null,1]
[13,null,null,null,null,1]
[14,null,null,null,null,1]
[15,null,null,null,null,1]
[16,null,null,null,null,1]
[17,null,null,null,null,1]
[18,null,null,null,null,1]
[19,null,null,null,null,1]
[20,null,null,null,null,1]
[21,null,null,null,null,1]
[22,null,null,null,null,1]
[23,null,null,null,null,1]
[24,null,null,null,null,1]
[25,null,null,null,null,1]
[26,null,null,null,null,1]
[27,null,null,null,null,1]
[28,null,null,null,null,1]
[29,null,null,null,null,1]
[30,null,null,null,null,1]
[31,null,null,null,null,1]
[32,null,null,null,null,1]
[33,null,null,null,null,1]
[34,null,null,null,null,1]
[35,null,null,null,null,1]
[36,null,null,null,null,1]
[37,null,null,null,null,1]
[38,null,null,null,null,1]
[39,null,null,null,null,1]
[40,null,null,null,null,1]
[41,null,null,null,null,1]
[42,null,null,null,null,1]
[43,null,null,null,null,1]
[44,null,null,null,null,1]
[45,null,null,null,null,1]
[46,null,null,null,null,1]
[47,null,null,null,null,1]
[48,null,null,null,null,1]
[49,null,null,null,null,1]
[50,null,null,null,null,1]

{"sheet":"Race1324","index":64,"n_rows":57,"n_cols":7,"rows_kept":57,"cut":false,"hidden":false,"merged":[]}
["Zone",{"$f":"'Regatta Info'!B2","v":"NQ Zone"},"Host Club",{"$f":"'Regatta Info'!B3","v":"Outrigger Whitsunday"},"Dates",{"$f":"'Regatta Info'!B4","v":"27th Feb 2010"},"hlMenu"]
[null,"Official Points (Y/N)","y"]
[]
["CLASS",{"$f":"Menu!H3","v":"OC1"},"Event ",{"$f":"Menu!H4","v":"Marathon"},"Distance"]
[null,{"$f":"Menu!A28","v":"Junior"},"Division",{"$f":"Menu!C28","v":"19 & Under"},{"$f":"Menu!B28","v":"Boys"}]
[null,"Canoe","Team  ",null,"Time"]
["Position","Number","Name","Club","HH:MM:SS","Points"]
[1,null,null,null,null,{"$f":"IF($C$2=\"Y\", 9,0)","v":9}]
[2,null,null,null,null,{"$f":"IF($C$2=\"Y\", 7,0)","v":7}]
[3,null,null,null,null,{"$f":"IF($C$2=\"Y\", 5,0)","v":5}]
[4,null,null,null,null,{"$f":"IF($C$2=\"Y\", 3,0)","v":3}]
[5,null,null,null,null,{"$f":"IF($C$2=\"Y\", 2,0)","v":2}]
[6,null,null,null,null,{"$f":"IF($C$2=\"Y\", 1,0)","v":1}]
[7,null,null,null,null,1]
[8,null,null,null,null,1]
[9,null,null,null,null,1]
[10,null,null,null,null,1]
[11,null,null,null,null,1]
[12,null,null,null,null,1]
[13,null,null,null,null,1]
[14,null,null,null,null,1]
[15,null,null,null,null,1]
[16,null,null,null,null,1]
[17,null,null,null,null,1]
[18,null,null,null,null,1]
[19,null,null,null,null,1]
[20,null,null,null,null,1]
[21,null,null,null,null,1]
[22,null,null,null,null,1]
[23,null,null,null,null,1]
[24,null,null,null,null,1]
[25,null,null,null,null,1]
[26,null,null,null,null,1]
[27,null,null,null,null,1]
[28,null,null,null,null,1]
[29,null,null,null,null,1]
[30,null,null,null,null,1]
[31,null,null,null,null,1]
[32,null,null,null,null,1]
[33,null,null,null,null,1]
[34,null,null,null,null,1]
[35,null,null,null,null,1]
[36,null,null,null,null,1]
[37,null,null,null,null,1]
[38,null,null,null,null,1]
[39,null,null,null,null,1]
[40,null,null,null,null,1]
[41,null,null,null,null,1]
[42,null,null,null,null,1]
[43,null,null,null,null,1]
[44,null,null,null,null,1]
[45,null,null,null,null,1]
[46,null,null,null,null,1]
[47,null,null,null,null,1]
[48,null,null,null,null,1]
[49,null,null,null,null,1]
[50,null,null,null,null,1]

{"sheet":"Race1325","index":65,"n_rows":57,"n_cols":7,"rows_kept":57,"cut":false,"hidden":false,"merged":[]}
["Zone",{"$f":"'Regatta Info'!B2","v":"NQ Zone"},"Host Club",{"$f":"'Regatta Info'!B3","v":"Outrigger Whitsunday"},"Dates",{"$f":"'Regatta Info'!B4","v":"27th Feb 2010"},"hlMenu"]
[null,"Official Points (Y/N)","y"]
[]
["CLASS",{"$f":"Menu!H3","v":"OC1"},"Event ",{"$f":"Menu!H4","v":"Marathon"},"Distance"]
[null,{"$f":"Menu!A29","v":"Junior"},"Division",{"$f":"Menu!C29","v":"12 & Under"},{"$f":"Menu!B29","v":"Girls"}]
[null,"Canoe","Team  ",null,"Time"]
["Position","Number","Name","Club","HH:MM:SS","Points"]
[1,null,null,null,null,{"$f":"IF($C$2=\"Y\", 9,0)","v":9}]
[2,null,null,null,null,{"$f":"IF($C$2=\"Y\", 7,0)","v":7}]
[3,null,null,null,null,{"$f":"IF($C$2=\"Y\", 5,0)","v":5}]
[4,null,null,null,null,{"$f":"IF($C$2=\"Y\", 3,0)","v":3}]
[5,null,null,null,null,{"$f":"IF($C$2=\"Y\", 2,0)","v":2}]
[6,null,null,null,null,{"$f":"IF($C$2=\"Y\", 1,0)","v":1}]
[7,null,null,null,null,1]
[8,null,null,null,null,1]
[9,null,null,null,null,1]
[10,null,null,null,null,1]
[11,null,null,null,null,1]
[12,null,null,null,null,1]
[13,null,null,null,null,1]
[14,null,null,null,null,1]
[15,null,null,null,null,1]
[16,null,null,null,null,1]
[17,null,null,null,null,1]
[18,null,null,null,null,1]
[19,null,null,null,null,1]
[20,null,null,null,null,1]
[21,null,null,null,null,1]
[22,null,null,null,null,1]
[23,null,null,null,null,1]
[24,null,null,null,null,1]
[25,null,null,null,null,1]
[26,null,null,null,null,1]
[27,null,null,null,null,1]
[28,null,null,null,null,1]
[29,null,null,null,null,1]
[30,null,null,null,null,1]
[31,null,null,null,null,1]
[32,null,null,null,null,1]
[33,null,null,null,null,1]
[34,null,null,null,null,1]
[35,null,null,null,null,1]
[36,null,null,null,null,1]
[37,null,null,null,null,1]
[38,null,null,null,null,1]
[39,null,null,null,null,1]
[40,null,null,null,null,1]
[41,null,null,null,null,1]
[42,null,null,null,null,1]
[43,null,null,null,null,1]
[44,null,null,null,null,1]
[45,null,null,null,null,1]
[46,null,null,null,null,1]
[47,null,null,null,null,1]
[48,null,null,null,null,1]
[49,null,null,null,null,1]
[50,null,null,null,null,1]

{"sheet":"Race1326","index":66,"n_rows":57,"n_cols":7,"rows_kept":57,"cut":false,"hidden":false,"merged":[]}
["Zone",{"$f":"'Regatta Info'!B2","v":"NQ Zone"},"Host Club",{"$f":"'Regatta Info'!B3","v":"Outrigger Whitsunday"},"Dates",{"$f":"'Regatta Info'!B4","v":"27th Feb 2010"},"hlMenu"]
[null,"Official Points (Y/N)","y"]
[]
["CLASS",{"$f":"Menu!H3","v":"OC1"},"Event ",{"$f":"Menu!H4","v":"Marathon"},"Distance"]
[null,{"$f":"Menu!A30","v":"Junior"},"Division",{"$f":"Menu!C30","v":"14 & Under"},{"$f":"Menu!B30","v":"Girls"}]
[null,"Canoe","Team  ",null,"Time"]
["Position","Number","Name","Club","HH:MM:SS","Points"]
[1,null,null,null,null,{"$f":"IF($C$2=\"Y\", 9,0)","v":9}]
[2,null,null,null,null,{"$f":"IF($C$2=\"Y\", 7,0)","v":7}]
[3,null,null,null,null,{"$f":"IF($C$2=\"Y\", 5,0)","v":5}]
[4,null,null,null,null,{"$f":"IF($C$2=\"Y\", 3,0)","v":3}]
[5,null,null,null,null,{"$f":"IF($C$2=\"Y\", 2,0)","v":2}]
[6,null,null,null,null,{"$f":"IF($C$2=\"Y\", 1,0)","v":1}]
[7,null,null,null,null,1]
[8,null,null,null,null,1]
[9,null,null,null,null,1]
[10,null,null,null,null,1]
[11,null,null,null,null,1]
[12,null,null,null,null,1]
[13,null,null,null,null,1]
[14,null,null,null,null,1]
[15,null,null,null,null,1]
[16,null,null,null,null,1]
[17,null,null,null,null,1]
[18,null,null,null,null,1]
[19,null,null,null,null,1]
[20,null,null,null,null,1]
[21,null,null,null,null,1]
[22,null,null,null,null,1]
[23,null,null,null,null,1]
[24,null,null,null,null,1]
[25,null,null,null,null,1]
[26,null,null,null,null,1]
[27,null,null,null,null,1]
[28,null,null,null,null,1]
[29,null,null,null,null,1]
[30,null,null,null,null,1]
[31,null,null,null,null,1]
[32,null,null,null,null,1]
[33,null,null,null,null,1]
[34,null,null,null,null,1]
[35,null,null,null,null,1]
[36,null,null,null,null,1]
[37,null,null,null,null,1]
[38,null,null,null,null,1]
[39,null,null,null,null,1]
[40,null,null,null,null,1]
[41,null,null,null,null,1]
[42,null,null,null,null,1]
[43,null,null,null,null,1]
[44,null,null,null,null,1]
[45,null,null,null,null,1]
[46,null,null,null,null,1]
[47,null,null,null,null,1]
[48,null,null,null,null,1]
[49,null,null,null,null,1]
[50,null,null,null,null,1]

{"sheet":"Race1327","index":67,"n_rows":57,"n_cols":7,"rows_kept":57,"cut":false,"hidden":false,"merged":[]}
["Zone",{"$f":"'Regatta Info'!B2","v":"NQ Zone"},"Host Club",{"$f":"'Regatta Info'!B3","v":"Outrigger Whitsunday"},"Dates",{"$f":"'Regatta Info'!B4","v":"27th Feb 2010"},"hlMenu"]
[null,"Official Points (Y/N)","y"]
[]
["CLASS",{"$f":"Menu!H3","v":"OC1"},"Event ",{"$f":"Menu!H4","v":"Marathon"},"Distance"]
[null,{"$f":"Menu!A31","v":"Junior"},"Division",{"$f":"Menu!C31","v":"16 & Under"},{"$f":"Menu!B31","v":"Girls"}]
[null,"Canoe","Team  ",null,"Time"]
["Position","Number","Name","Club","HH:MM:SS","Points"]
[1,null,null,null,null,{"$f":"IF($C$2=\"Y\", 9,0)","v":9}]
[2,null,null,null,null,{"$f":"IF($C$2=\"Y\", 7,0)","v":7}]
[3,null,null,null,null,{"$f":"IF($C$2=\"Y\", 5,0)","v":5}]
[4,null,null,null,null,{"$f":"IF($C$2=\"Y\", 3,0)","v":3}]
[5,null,null,null,null,{"$f":"IF($C$2=\"Y\", 2,0)","v":2}]
[6,null,null,null,null,{"$f":"IF($C$2=\"Y\", 1,0)","v":1}]
[7,null,null,null,null,1]
[8,null,null,null,null,1]
[9,null,null,null,null,1]
[10,null,null,null,null,1]
[11,null,null,null,null,1]
[12,null,null,null,null,1]
[13,null,null,null,null,1]
[14,null,null,null,null,1]
[15,null,null,null,null,1]
[16,null,null,null,null,1]
[17,null,null,null,null,1]
[18,null,null,null,null,1]
[19,null,null,null,null,1]
[20,null,null,null,null,1]
[21,null,null,null,null,1]
[22,null,null,null,null,1]
[23,null,null,null,null,1]
[24,null,null,null,null,1]
[25,null,null,null,null,1]
[26,null,null,null,null,1]
[27,null,null,null,null,1]
[28,null,null,null,null,1]
[29,null,null,null,null,1]
[30,null,null,null,null,1]
[31,null,null,null,null,1]
[32,null,null,null,null,1]
[33,null,null,null,null,1]
[34,null,null,null,null,1]
[35,null,null,null,null,1]
[36,null,null,null,null,1]
[37,null,null,null,null,1]
[38,null,null,null,null,1]
[39,null,null,null,null,1]
[40,null,null,null,null,1]
[41,null,null,null,null,1]
[42,null,null,null,null,1]
[43,null,null,null,null,1]
[44,null,null,null,null,1]
[45,null,null,null,null,1]
[46,null,null,null,null,1]
[47,null,null,null,null,1]
[48,null,null,null,null,1]
[49,null,null,null,null,1]
[50,null,null,null,null,1]

{"sheet":"Race1328","index":68,"n_rows":57,"n_cols":7,"rows_kept":57,"cut":false,"hidden":false,"merged":[]}
["Zone",{"$f":"'Regatta Info'!B2","v":"NQ Zone"},"Host Club",{"$f":"'Regatta Info'!B3","v":"Outrigger Whitsunday"},"Dates",{"$f":"'Regatta Info'!B4","v":"27th Feb 2010"},"hlMenu"]
[null,"Official Points (Y/N)","y"]
[]
["CLASS",{"$f":"Menu!H3","v":"OC1"},"Event ",{"$f":"Menu!H4","v":"Marathon"},"Distance"]
[null,{"$f":"Menu!A32","v":"Junior"},"Division",{"$f":"Menu!C32","v":"19 & Under"},{"$f":"Menu!B32","v":"Girls"}]
[null,"Canoe","Team  ",null,"Time"]
["Position","Number","Name","Club","HH:MM:SS","Points"]
[1,null,null,null,null,{"$f":"IF($C$2=\"Y\", 9,0)","v":9}]
[2,null,null,null,null,{"$f":"IF($C$2=\"Y\", 7,0)","v":7}]
[3,null,null,null,null,{"$f":"IF($C$2=\"Y\", 5,0)","v":5}]
[4,null,null,null,null,{"$f":"IF($C$2=\"Y\", 3,0)","v":3}]
[5,null,null,null,null,{"$f":"IF($C$2=\"Y\", 2,0)","v":2}]
[6,null,null,null,null,{"$f":"IF($C$2=\"Y\", 1,0)","v":1}]
[7,null,null,null,null,1]
[8,null,null,null,null,1]
[9,null,null,null,null,1]
[10,null,null,null,null,1]
[11,null,null,null,null,1]
[12,null,null,null,null,1]
[13,null,null,null,null,1]
[14,null,null,null,null,1]
[15,null,null,null,null,1]
[16,null,null,null,null,1]
[17,null,null,null,null,1]
[18,null,null,null,null,1]
[19,null,null,null,null,1]
[20,null,null,null,null,1]
[21,null,null,null,null,1]
[22,null,null,null,null,1]
[23,null,null,null,null,1]
[24,null,null,null,null,1]
[25,null,null,null,null,1]
[26,null,null,null,null,1]
[27,null,null,null,null,1]
[28,null,null,null,null,1]
[29,null,null,null,null,1]
[30,null,null,null,null,1]
[31,null,null,null,null,1]
[32,null,null,null,null,1]
[33,null,null,null,null,1]
[34,null,null,null,null,1]
[35,null,null,null,null,1]
[36,null,null,null,null,1]
[37,null,null,null,null,1]
[38,null,null,null,null,1]
[39,null,null,null,null,1]
[40,null,null,null,null,1]
[41,null,null,null,null,1]
[42,null,null,null,null,1]
[43,null,null,null,null,1]
[44,null,null,null,null,1]
[45,null,null,null,null,1]
[46,null,null,null,null,1]
[47,null,null,null,null,1]
[48,null,null,null,null,1]
[49,null,null,null,null,1]
[50,null,null,null,null,1]

{"sheet":"Race1402","index":69,"n_rows":57,"n_cols":7,"rows_kept":57,"cut":false,"hidden":false,"merged":[]}
["Zone",{"$f":"'Regatta Info'!B2","v":"NQ Zone"},"Host Club",{"$f":"'Regatta Info'!B3","v":"Outrigger Whitsunday"},"Dates",{"$f":"'Regatta Info'!B4","v":"27th Feb 2010"},"hlMenu"]
[null,"Official Points (Y/N)","y"]
[]
["CLASS",{"$f":"Menu!I3","v":"SUP-Open"},"Event ",{"$f":"Menu!I4","v":"Short Course"},"Distance"]
[null,{"$f":"Menu!A6","v":"Senior"},"Division",{"$f":"Menu!C6","v":"Open"},{"$f":"Menu!B6","v":"Men"}]
[null,"Canoe","Team  ",null,"Time"]
["Position","Number","Name","Club","HH:MM:SS","Points"]
[1,null,null,null,null,{"$f":"IF($C$2=\"Y\", 9,0)","v":9}]
[2,null,null,null,null,{"$f":"IF($C$2=\"Y\", 7,0)","v":7}]
[3,null,null,null,null,{"$f":"IF($C$2=\"Y\", 5,0)","v":5}]
[4,null,null,null,null,{"$f":"IF($C$2=\"Y\", 3,0)","v":3}]
[5,null,null,null,null,{"$f":"IF($C$2=\"Y\", 2,0)","v":2}]
[6,null,null,null,null,{"$f":"IF($C$2=\"Y\", 1,0)","v":1}]
[7,null,null,null,null,1]
[8,null,null,null,null,1]
[9,null,null,null,null,1]
[10,null,null,null,null,1]
[11,null,null,null,null,1]
[12,null,null,null,null,1]
[13,null,null,null,null,1]
[14,null,null,null,null,1]
[15,null,null,null,null,1]
[16,null,null,null,null,1]
[17,null,null,null,null,1]
[18,null,null,null,null,1]
[19,null,null,null,null,1]
[20,null,null,null,null,1]
[21,null,null,null,null,1]
[22,null,null,null,null,1]
[23,null,null,null,null,1]
[24,null,null,null,null,1]
[25,null,null,null,null,1]
[26,null,null,null,null,1]
[27,null,null,null,null,1]
[28,null,null,null,null,1]
[29,null,null,null,null,1]
[30,null,null,null,null,1]
[31,null,null,null,null,1]
[32,null,null,null,null,1]
[33,null,null,null,null,1]
[34,null,null,null,null,1]
[35,null,null,null,null,1]
[36,null,null,null,null,1]
[37,null,null,null,null,1]
[38,null,null,null,null,1]
[39,null,null,null,null,1]
[40,null,null,null,null,1]
[41,null,null,null,null,1]
[42,null,null,null,null,1]
[43,null,null,null,null,1]
[44,null,null,null,null,1]
[45,null,null,null,null,1]
[46,null,null,null,null,1]
[47,null,null,null,null,1]
[48,null,null,null,null,1]
[49,null,null,null,null,1]
[50,null,null,null,null,1]

{"sheet":"Race1407","index":70,"n_rows":57,"n_cols":7,"rows_kept":57,"cut":false,"hidden":false,"merged":[]}
["Zone",{"$f":"'Regatta Info'!B2","v":"NQ Zone"},"Host Club",{"$f":"'Regatta Info'!B3","v":"Outrigger Whitsunday"},"Dates",{"$f":"'Regatta Info'!B4","v":"27th Feb 2010"},"hlMenu"]
[null,"Official Points (Y/N)","y"]
[]
["CLASS",{"$f":"Menu!I3","v":"SUP-Open"},"Event ",{"$f":"Menu!I4","v":"Short Course"},"Distance"]
[null,{"$f":"Menu!A5","v":"Senior"},"Division",{"$f":"Menu!C11","v":"Open"},{"$f":"Menu!B11","v":"Women"}]
[null,"Canoe","Team  ",null,"Time"]
["Position","Number","Name","Club","HH:MM:SS","Points"]
[1,null,null,null,null,{"$f":"IF($C$2=\"Y\", 9,0)","v":9}]
[2,null,null,null,null,{"$f":"IF($C$2=\"Y\", 7,0)","v":7}]
[3,null,null,null,null,{"$f":"IF($C$2=\"Y\", 5,0)","v":5}]
[4,null,null,null,null,{"$f":"IF($C$2=\"Y\", 3,0)","v":3}]
[5,null,null,null,null,{"$f":"IF($C$2=\"Y\", 2,0)","v":2}]
[6,null,null,null,null,{"$f":"IF($C$2=\"Y\", 1,0)","v":1}]
[7,null,null,null,null,1]
[8,null,null,null,null,1]
[9,null,null,null,null,1]
[10,null,null,null,null,1]
[11,null,null,null,null,1]
[12,null,null,null,null,1]
[13,null,null,null,null,1]
[14,null,null,null,null,1]
[15,null,null,null,null,1]
[16,null,null,null,null,1]
[17,null,null,null,null,1]
[18,null,null,null,null,1]
[19,null,null,null,null,1]
[20,null,null,null,null,1]
[21,null,null,null,null,1]
[22,null,null,null,null,1]
[23,null,null,null,null,1]
[24,null,null,null,null,1]
[25,null,null,null,null,1]
[26,null,null,null,null,1]
[27,null,null,null,null,1]
[28,null,null,null,null,1]
[29,null,null,null,null,1]
[30,null,null,null,null,1]
[31,null,null,null,null,1]
[32,null,null,null,null,1]
[33,null,null,null,null,1]
[34,null,null,null,null,1]
[35,null,null,null,null,1]
[36,null,null,null,null,1]
[37,null,null,null,null,1]
[38,null,null,null,null,1]
[39,null,null,null,null,1]
[40,null,null,null,null,1]
[41,null,null,null,null,1]
[42,null,null,null,null,1]
[43,null,null,null,null,1]
[44,null,null,null,null,1]
[45,null,null,null,null,1]
[46,null,null,null,null,1]
[47,null,null,null,null,1]
[48,null,null,null,null,1]
[49,null,null,null,null,1]
[50,null,null,null,null,1]

{"sheet":"SummaryPoints","index":71,"n_rows":3251,"n_cols":10,"rows_kept":3251,"cut":false,"hidden":false,"merged":[]}
[null,"Junior/Senior","Class","Gender","Division","Event","Position","Club","Team Name","Points"]
["Race0101",{"$f":"Race0101!B$5","v":"Senior"},{"$f":"Race0101!B$4","v":"OC6"},{"$f":"Race0101!E$5","v":"Men"},{"$f":"Race0101!D$5","v":"21 & Under"},{"$f":"Race0101!D$4","v":"Marathon"},{"$f":"Race0101!A$8","v":1},{"$f":"Race0101!D$8","v":0},{"$f":"Race0101!C$8","v":0},{"$f":"Race0101!F$8","v":14}]
[null,{"$f":"Race0101!B$5","v":"Senior"},{"$f":"Race0101!B$4","v":"OC6"},{"$f":"Race0101!E$5","v":"Men"},{"$f":"Race0101!D$5","v":"21 & Under"},{"$f":"Race0101!D$4","v":"Marathon"},{"$f":"Race0101!A$9","v":2},{"$f":"Race0101!D$9","v":0},{"$f":"Race0101!C$9","v":0},{"$f":"Race0101!F$9","v":12}]
[null,{"$f":"Race0101!B$5","v":"Senior"},{"$f":"Race0101!B$4","v":"OC6"},{"$f":"Race0101!E$5","v":"Men"},{"$f":"Race0101!D$5","v":"21 & Under"},{"$f":"Race0101!D$4","v":"Marathon"},{"$f":"Race0101!A$10","v":3},{"$f":"Race0101!D$10","v":0},{"$f":"Race0101!C$10","v":0},{"$f":"Race0101!F$10","v":10}]
[null,{"$f":"Race0101!B$5","v":"Senior"},{"$f":"Race0101!B$4","v":"OC6"},{"$f":"Race0101!E$5","v":"Men"},{"$f":"Race0101!D$5","v":"21 & Under"},{"$f":"Race0101!D$4","v":"Marathon"},{"$f":"Race0101!A$11","v":4},{"$f":"Race0101!D$11","v":0},{"$f":"Race0101!C$11","v":0},{"$f":"Race0101!F$11","v":8}]
[null,{"$f":"Race0101!B$5","v":"Senior"},{"$f":"Race0101!B$4","v":"OC6"},{"$f":"Race0101!E$5","v":"Men"},{"$f":"Race0101!D$5","v":"21 & Under"},{"$f":"Race0101!D$4","v":"Marathon"},{"$f":"Race0101!A$12","v":5},{"$f":"Race0101!D$12","v":0},{"$f":"Race0101!C$12","v":0},{"$f":"Race0101!F$12","v":7}]
[null,{"$f":"Race0101!B$5","v":"Senior"},{"$f":"Race0101!B$4","v":"OC6"},{"$f":"Race0101!E$5","v":"Men"},{"$f":"Race0101!D$5","v":"21 & Under"},{"$f":"Race0101!D$4","v":"Marathon"},{"$f":"Race0101!A$13","v":6},{"$f":"Race0101!D$13","v":0},{"$f":"Race0101!C$13","v":0},{"$f":"Race0101!F$13","v":6}]
[null,{"$f":"Race0101!B$5","v":"Senior"},{"$f":"Race0101!B$4","v":"OC6"},{"$f":"Race0101!E$5","v":"Men"},{"$f":"Race0101!D$5","v":"21 & Under"},{"$f":"Race0101!D$4","v":"Marathon"},{"$f":"Race0101!A$14","v":7},{"$f":"Race0101!D$14","v":0},{"$f":"Race0101!C$14","v":0},{"$f":"Race0101!F$14","v":5}]
[null,{"$f":"Race0101!B$5","v":"Senior"},{"$f":"Race0101!B$4","v":"OC6"},{"$f":"Race0101!E$5","v":"Men"},{"$f":"Race0101!D$5","v":"21 & Under"},{"$f":"Race0101!D$4","v":"Marathon"},{"$f":"Race0101!A$15","v":8},{"$f":"Race0101!D$15","v":0},{"$f":"Race0101!C$15","v":0},{"$f":"Race0101!F$15","v":4}]
[null,{"$f":"Race0101!B$5","v":"Senior"},{"$f":"Race0101!B$4","v":"OC6"},{"$f":"Race0101!E$5","v":"Men"},{"$f":"Race0101!D$5","v":"21 & Under"},{"$f":"Race0101!D$4","v":"Marathon"},{"$f":"Race0101!A$16","v":9},{"$f":"Race0101!D$16","v":0},{"$f":"Race0101!C$16","v":0},{"$f":"Race0101!F$16","v":3}]
[null,{"$f":"Race0101!B$5","v":"Senior"},{"$f":"Race0101!B$4","v":"OC6"},{"$f":"Race0101!E$5","v":"Men"},{"$f":"Race0101!D$5","v":"21 & Under"},{"$f":"Race0101!D$4","v":"Marathon"},{"$f":"Race0101!A$17","v":10},{"$f":"Race0101!D$17","v":0},{"$f":"Race0101!C$17","v":0},{"$f":"Race0101!F$17","v":2}]
[null,{"$f":"Race0101!B$5","v":"Senior"},{"$f":"Race0101!B$4","v":"OC6"},{"$f":"Race0101!E$5","v":"Men"},{"$f":"Race0101!D$5","v":"21 & Under"},{"$f":"Race0101!D$4","v":"Marathon"},{"$f":"Race0101!A$18","v":11},{"$f":"Race0101!D$18","v":0},{"$f":"Race0101!C$18","v":0},{"$f":"Race0101!F$18","v":1}]
[null,{"$f":"Race0101!B$5","v":"Senior"},{"$f":"Race0101!B$4","v":"OC6"},{"$f":"Race0101!E$5","v":"Men"},{"$f":"Race0101!D$5","v":"21 & Under"},{"$f":"Race0101!D$4","v":"Marathon"},{"$f":"Race0101!A$19","v":12},{"$f":"Race0101!D$19","v":0},{"$f":"Race0101!C$19","v":0},{"$f":"Race0101!F$19","v":1}]
[null,{"$f":"Race0101!B$5","v":"Senior"},{"$f":"Race0101!B$4","v":"OC6"},{"$f":"Race0101!E$5","v":"Men"},{"$f":"Race0101!D$5","v":"21 & Under"},{"$f":"Race0101!D$4","v":"Marathon"},{"$f":"Race0101!A$20","v":13},{"$f":"Race0101!D$20","v":0},{"$f":"Race0101!C$20","v":0},{"$f":"Race0101!F$20","v":1}]
[null,{"$f":"Race0101!B$5","v":"Senior"},{"$f":"Race0101!B$4","v":"OC6"},{"$f":"Race0101!E$5","v":"Men"},{"$f":"Race0101!D$5","v":"21 & Under"},{"$f":"Race0101!D$4","v":"Marathon"},{"$f":"Race0101!A$21","v":14},{"$f":"Race0101!D$21","v":0},{"$f":"Race0101!C$21","v":0},{"$f":"Race0101!F$21","v":1}]
[null,{"$f":"Race0101!B$5","v":"Senior"},{"$f":"Race0101!B$4","v":"OC6"},{"$f":"Race0101!E$5","v":"Men"},{"$f":"Race0101!D$5","v":"21 & Under"},{"$f":"Race0101!D$4","v":"Marathon"},{"$f":"Race0101!A$22","v":15},{"$f":"Race0101!D$22","v":0},{"$f":"Race0101!C$22","v":0},{"$f":"Race0101!F$22","v":1}]
[null,{"$f":"Race0101!B$5","v":"Senior"},{"$f":"Race0101!B$4","v":"OC6"},{"$f":"Race0101!E$5","v":"Men"},{"$f":"Race0101!D$5","v":"21 & Under"},{"$f":"Race0101!D$4","v":"Marathon"},{"$f":"Race0101!A$23","v":16},{"$f":"Race0101!D$23","v":0},{"$f":"Race0101!C$23","v":0},{"$f":"Race0101!F$23","v":1}]
[null,{"$f":"Race0101!B$5","v":"Senior"},{"$f":"Race0101!B$4","v":"OC6"},{"$f":"Race0101!E$5","v":"Men"},{"$f":"Race0101!D$5","v":"21 & Under"},{"$f":"Race0101!D$4","v":"Marathon"},{"$f":"Race0101!A$24","v":17},{"$f":"Race0101!D$24","v":0},{"$f":"Race0101!C$24","v":0},{"$f":"Race0101!F$24","v":1}]
[null,{"$f":"Race0101!B$5","v":"Senior"},{"$f":"Race0101!B$4","v":"OC6"},{"$f":"Race0101!E$5","v":"Men"},{"$f":"Race0101!D$5","v":"21 & Under"},{"$f":"Race0101!D$4","v":"Marathon"},{"$f":"Race0101!A$25","v":18},{"$f":"Race0101!D$25","v":0},{"$f":"Race0101!C$25","v":0},{"$f":"Race0101!F$25","v":1}]
[null,{"$f":"Race0101!B$5","v":"Senior"},{"$f":"Race0101!B$4","v":"OC6"},{"$f":"Race0101!E$5","v":"Men"},{"$f":"Race0101!D$5","v":"21 & Under"},{"$f":"Race0101!D$4","v":"Marathon"},{"$f":"Race0101!A$26","v":19},{"$f":"Race0101!D$26","v":0},{"$f":"Race0101!C$26","v":0},{"$f":"Race0101!F$26","v":1}]
[null,{"$f":"Race0101!B$5","v":"Senior"},{"$f":"Race0101!B$4","v":"OC6"},{"$f":"Race0101!E$5","v":"Men"},{"$f":"Race0101!D$5","v":"21 & Under"},{"$f":"Race0101!D$4","v":"Marathon"},{"$f":"Race0101!A$27","v":20},{"$f":"Race0101!D$27","v":0},{"$f":"Race0101!C$27","v":0},{"$f":"Race0101!F$27","v":1}]
[null,{"$f":"Race0101!B$5","v":"Senior"},{"$f":"Race0101!B$4","v":"OC6"},{"$f":"Race0101!E$5","v":"Men"},{"$f":"Race0101!D$5","v":"21 & Under"},{"$f":"Race0101!D$4","v":"Marathon"},{"$f":"Race0101!A$28","v":21},{"$f":"Race0101!D$28","v":0},{"$f":"Race0101!C$28","v":0},{"$f":"Race0101!F$28","v":1}]
[null,{"$f":"Race0101!B$5","v":"Senior"},{"$f":"Race0101!B$4","v":"OC6"},{"$f":"Race0101!E$5","v":"Men"},{"$f":"Race0101!D$5","v":"21 & Under"},{"$f":"Race0101!D$4","v":"Marathon"},{"$f":"Race0101!A$29","v":22},{"$f":"Race0101!D$29","v":0},{"$f":"Race0101!C$29","v":0},{"$f":"Race0101!F$29","v":1}]
[null,{"$f":"Race0101!B$5","v":"Senior"},{"$f":"Race0101!B$4","v":"OC6"},{"$f":"Race0101!E$5","v":"Men"},{"$f":"Race0101!D$5","v":"21 & Under"},{"$f":"Race0101!D$4","v":"Marathon"},{"$f":"Race0101!A$30","v":23},{"$f":"Race0101!D$30","v":0},{"$f":"Race0101!C$30","v":0},{"$f":"Race0101!F$30","v":1}]
[null,{"$f":"Race0101!B$5","v":"Senior"},{"$f":"Race0101!B$4","v":"OC6"},{"$f":"Race0101!E$5","v":"Men"},{"$f":"Race0101!D$5","v":"21 & Under"},{"$f":"Race0101!D$4","v":"Marathon"},{"$f":"Race0101!A$31","v":24},{"$f":"Race0101!D$31","v":0},{"$f":"Race0101!C$31","v":0},{"$f":"Race0101!F$31","v":1}]
[null,{"$f":"Race0101!B$5","v":"Senior"},{"$f":"Race0101!B$4","v":"OC6"},{"$f":"Race0101!E$5","v":"Men"},{"$f":"Race0101!D$5","v":"21 & Under"},{"$f":"Race0101!D$4","v":"Marathon"},{"$f":"Race0101!A$32","v":25},{"$f":"Race0101!D$32","v":0},{"$f":"Race0101!C$32","v":0},{"$f":"Race0101!F$32","v":1}]
[null,{"$f":"Race0101!B$5","v":"Senior"},{"$f":"Race0101!B$4","v":"OC6"},{"$f":"Race0101!E$5","v":"Men"},{"$f":"Race0101!D$5","v":"21 & Under"},{"$f":"Race0101!D$4","v":"Marathon"},{"$f":"Race0101!A$33","v":26},{"$f":"Race0101!D$33","v":0},{"$f":"Race0101!C$33","v":0},{"$f":"Race0101!F$33","v":1}]
[null,{"$f":"Race0101!B$5","v":"Senior"},{"$f":"Race0101!B$4","v":"OC6"},{"$f":"Race0101!E$5","v":"Men"},{"$f":"Race0101!D$5","v":"21 & Under"},{"$f":"Race0101!D$4","v":"Marathon"},{"$f":"Race0101!A$34","v":27},{"$f":"Race0101!D$34","v":0},{"$f":"Race0101!C$34","v":0},{"$f":"Race0101!F$34","v":1}]
[null,{"$f":"Race0101!B$5","v":"Senior"},{"$f":"Race0101!B$4","v":"OC6"},{"$f":"Race0101!E$5","v":"Men"},{"$f":"Race0101!D$5","v":"21 & Under"},{"$f":"Race0101!D$4","v":"Marathon"},{"$f":"Race0101!A$35","v":28},{"$f":"Race0101!D$35","v":0},{"$f":"Race0101!C$35","v":0},{"$f":"Race0101!F$35","v":1}]
[null,{"$f":"Race0101!B$5","v":"Senior"},{"$f":"Race0101!B$4","v":"OC6"},{"$f":"Race0101!E$5","v":"Men"},{"$f":"Race0101!D$5","v":"21 & Under"},{"$f":"Race0101!D$4","v":"Marathon"},{"$f":"Race0101!A$36","v":29},{"$f":"Race0101!D$36","v":0},{"$f":"Race0101!C$36","v":0},{"$f":"Race0101!F$36","v":1}]
[null,{"$f":"Race0101!B$5","v":"Senior"},{"$f":"Race0101!B$4","v":"OC6"},{"$f":"Race0101!E$5","v":"Men"},{"$f":"Race0101!D$5","v":"21 & Under"},{"$f":"Race0101!D$4","v":"Marathon"},{"$f":"Race0101!A$37","v":30},{"$f":"Race0101!D$37","v":0},{"$f":"Race0101!C$37","v":0},{"$f":"Race0101!F$37","v":1}]
[null,{"$f":"Race0101!B$5","v":"Senior"},{"$f":"Race0101!B$4","v":"OC6"},{"$f":"Race0101!E$5","v":"Men"},{"$f":"Race0101!D$5","v":"21 & Under"},{"$f":"Race0101!D$4","v":"Marathon"},{"$f":"Race0101!A$38","v":31},{"$f":"Race0101!D$38","v":0},{"$f":"Race0101!C$38","v":0},{"$f":"Race0101!F$38","v":1}]
[null,{"$f":"Race0101!B$5","v":"Senior"},{"$f":"Race0101!B$4","v":"OC6"},{"$f":"Race0101!E$5","v":"Men"},{"$f":"Race0101!D$5","v":"21 & Under"},{"$f":"Race0101!D$4","v":"Marathon"},{"$f":"Race0101!A$39","v":32},{"$f":"Race0101!D$39","v":0},{"$f":"Race0101!C$39","v":0},{"$f":"Race0101!F$39","v":1}]
[null,{"$f":"Race0101!B$5","v":"Senior"},{"$f":"Race0101!B$4","v":"OC6"},{"$f":"Race0101!E$5","v":"Men"},{"$f":"Race0101!D$5","v":"21 & Under"},{"$f":"Race0101!D$4","v":"Marathon"},{"$f":"Race0101!A$40","v":33},{"$f":"Race0101!D$40","v":0},{"$f":"Race0101!C$40","v":0},{"$f":"Race0101!F$40","v":1}]
[null,{"$f":"Race0101!B$5","v":"Senior"},{"$f":"Race0101!B$4","v":"OC6"},{"$f":"Race0101!E$5","v":"Men"},{"$f":"Race0101!D$5","v":"21 & Under"},{"$f":"Race0101!D$4","v":"Marathon"},{"$f":"Race0101!A$41","v":34},{"$f":"Race0101!D$41","v":0},{"$f":"Race0101!C$41","v":0},{"$f":"Race0101!F$41","v":1}]
[null,{"$f":"Race0101!B$5","v":"Senior"},{"$f":"Race0101!B$4","v":"OC6"},{"$f":"Race0101!E$5","v":"Men"},{"$f":"Race0101!D$5","v":"21 & Under"},{"$f":"Race0101!D$4","v":"Marathon"},{"$f":"Race0101!A$42","v":35},{"$f":"Race0101!D$42","v":0},{"$f":"Race0101!C$42","v":0},{"$f":"Race0101!F$42","v":1}]
[null,{"$f":"Race0101!B$5","v":"Senior"},{"$f":"Race0101!B$4","v":"OC6"},{"$f":"Race0101!E$5","v":"Men"},{"$f":"Race0101!D$5","v":"21 & Under"},{"$f":"Race0101!D$4","v":"Marathon"},{"$f":"Race0101!A$43","v":36},{"$f":"Race0101!D$43","v":0},{"$f":"Race0101!C$43","v":0},{"$f":"Race0101!F$43","v":1}]
[null,{"$f":"Race0101!B$5","v":"Senior"},{"$f":"Race0101!B$4","v":"OC6"},{"$f":"Race0101!E$5","v":"Men"},{"$f":"Race0101!D$5","v":"21 & Under"},{"$f":"Race0101!D$4","v":"Marathon"},{"$f":"Race0101!A$44","v":37},{"$f":"Race0101!D$44","v":0},{"$f":"Race0101!C$44","v":0},{"$f":"Race0101!F$44","v":1}]
[null,{"$f":"Race0101!B$5","v":"Senior"},{"$f":"Race0101!B$4","v":"OC6"},{"$f":"Race0101!E$5","v":"Men"},{"$f":"Race0101!D$5","v":"21 & Under"},{"$f":"Race0101!D$4","v":"Marathon"},{"$f":"Race0101!A$45","v":38},{"$f":"Race0101!D$45","v":0},{"$f":"Race0101!C$45","v":0},{"$f":"Race0101!F$45","v":1}]
[null,{"$f":"Race0101!B$5","v":"Senior"},{"$f":"Race0101!B$4","v":"OC6"},{"$f":"Race0101!E$5","v":"Men"},{"$f":"Race0101!D$5","v":"21 & Under"},{"$f":"Race0101!D$4","v":"Marathon"},{"$f":"Race0101!A$46","v":39},{"$f":"Race0101!D$46","v":0},{"$f":"Race0101!C$46","v":0},{"$f":"Race0101!F$46","v":1}]
[null,{"$f":"Race0101!B$5","v":"Senior"},{"$f":"Race0101!B$4","v":"OC6"},{"$f":"Race0101!E$5","v":"Men"},{"$f":"Race0101!D$5","v":"21 & Under"},{"$f":"Race0101!D$4","v":"Marathon"},{"$f":"Race0101!A$47","v":40},{"$f":"Race0101!D$47","v":0},{"$f":"Race0101!C$47","v":0},{"$f":"Race0101!F$47","v":1}]
[null,{"$f":"Race0101!B$5","v":"Senior"},{"$f":"Race0101!B$4","v":"OC6"},{"$f":"Race0101!E$5","v":"Men"},{"$f":"Race0101!D$5","v":"21 & Under"},{"$f":"Race0101!D$4","v":"Marathon"},{"$f":"Race0101!A$48","v":41},{"$f":"Race0101!D$48","v":0},{"$f":"Race0101!C$48","v":0},{"$f":"Race0101!F$48","v":1}]
[null,{"$f":"Race0101!B$5","v":"Senior"},{"$f":"Race0101!B$4","v":"OC6"},{"$f":"Race0101!E$5","v":"Men"},{"$f":"Race0101!D$5","v":"21 & Under"},{"$f":"Race0101!D$4","v":"Marathon"},{"$f":"Race0101!A$49","v":42},{"$f":"Race0101!D$49","v":0},{"$f":"Race0101!C$49","v":0},{"$f":"Race0101!F$49","v":1}]
[null,{"$f":"Race0101!B$5","v":"Senior"},{"$f":"Race0101!B$4","v":"OC6"},{"$f":"Race0101!E$5","v":"Men"},{"$f":"Race0101!D$5","v":"21 & Under"},{"$f":"Race0101!D$4","v":"Marathon"},{"$f":"Race0101!A$50","v":43},{"$f":"Race0101!D$50","v":0},{"$f":"Race0101!C$50","v":0},{"$f":"Race0101!F$50","v":1}]
[null,{"$f":"Race0101!B$5","v":"Senior"},{"$f":"Race0101!B$4","v":"OC6"},{"$f":"Race0101!E$5","v":"Men"},{"$f":"Race0101!D$5","v":"21 & Under"},{"$f":"Race0101!D$4","v":"Marathon"},{"$f":"Race0101!A$51","v":44},{"$f":"Race0101!D$51","v":0},{"$f":"Race0101!C$51","v":0},{"$f":"Race0101!F$51","v":1}]
[null,{"$f":"Race0101!B$5","v":"Senior"},{"$f":"Race0101!B$4","v":"OC6"},{"$f":"Race0101!E$5","v":"Men"},{"$f":"Race0101!D$5","v":"21 & Under"},{"$f":"Race0101!D$4","v":"Marathon"},{"$f":"Race0101!A$52","v":45},{"$f":"Race0101!D$52","v":0},{"$f":"Race0101!C$52","v":0},{"$f":"Race0101!F$52","v":1}]
[null,{"$f":"Race0101!B$5","v":"Senior"},{"$f":"Race0101!B$4","v":"OC6"},{"$f":"Race0101!E$5","v":"Men"},{"$f":"Race0101!D$5","v":"21 & Under"},{"$f":"Race0101!D$4","v":"Marathon"},{"$f":"Race0101!A$53","v":46},{"$f":"Race0101!D$53","v":0},{"$f":"Race0101!C$53","v":0},{"$f":"Race0101!F$53","v":1}]
[null,{"$f":"Race0101!B$5","v":"Senior"},{"$f":"Race0101!B$4","v":"OC6"},{"$f":"Race0101!E$5","v":"Men"},{"$f":"Race0101!D$5","v":"21 & Under"},{"$f":"Race0101!D$4","v":"Marathon"},{"$f":"Race0101!A$54","v":47},{"$f":"Race0101!D$54","v":0},{"$f":"Race0101!C$54","v":0},{"$f":"Race0101!F$54","v":1}]
[null,{"$f":"Race0101!B$5","v":"Senior"},{"$f":"Race0101!B$4","v":"OC6"},{"$f":"Race0101!E$5","v":"Men"},{"$f":"Race0101!D$5","v":"21 & Under"},{"$f":"Race0101!D$4","v":"Marathon"},{"$f":"Race0101!A$55","v":48},{"$f":"Race0101!D$55","v":0},{"$f":"Race0101!C$55","v":0},{"$f":"Race0101!F$55","v":1}]
[null,{"$f":"Race0101!B$5","v":"Senior"},{"$f":"Race0101!B$4","v":"OC6"},{"$f":"Race0101!E$5","v":"Men"},{"$f":"Race0101!D$5","v":"21 & Under"},{"$f":"Race0101!D$4","v":"Marathon"},{"$f":"Race0101!A$56","v":49},{"$f":"Race0101!D$56","v":0},{"$f":"Race0101!C$56","v":0},{"$f":"Race0101!F$56","v":1}]
[null,{"$f":"Race0101!B$5","v":"Senior"},{"$f":"Race0101!B$4","v":"OC6"},{"$f":"Race0101!E$5","v":"Men"},{"$f":"Race0101!D$5","v":"21 & Under"},{"$f":"Race0101!D$4","v":"Marathon"},{"$f":"Race0101!A$57","v":50},{"$f":"Race0101!D$57","v":0},{"$f":"Race0101!C$57","v":0},{"$f":"Race0101!F$57","v":1}]
["Race0102",{"$f":"Race0102!B$5","v":"Senior"},{"$f":"Race0102!B$4","v":"OC6"},{"$f":"Race0102!E$5","v":"Men"},{"$f":"Race0102!D$5","v":"Open"},{"$f":"Race0102!D$4","v":"Marathon"},{"$f":"Race0102!A$8","v":1},{"$f":"Race0102!D$8","v":0},{"$f":"Race0102!C$8","v":0},{"$f":"Race0102!F$8","v":14}]
[null,{"$f":"Race0102!B$5","v":"Senior"},{"$f":"Race0102!B$4","v":"OC6"},{"$f":"Race0102!E$5","v":"Men"},{"$f":"Race0102!D$5","v":"Open"},{"$f":"Race0102!D$4","v":"Marathon"},{"$f":"Race0102!A$9","v":2},{"$f":"Race0102!D$9","v":0},{"$f":"Race0102!C$9","v":0},{"$f":"Race0102!F$9","v":12}]
[null,{"$f":"Race0102!B$5","v":"Senior"},{"$f":"Race0102!B$4","v":"OC6"},{"$f":"Race0102!E$5","v":"Men"},{"$f":"Race0102!D$5","v":"Open"},{"$f":"Race0102!D$4","v":"Marathon"},{"$f":"Race0102!A$10","v":3},{"$f":"Race0102!D$10","v":0},{"$f":"Race0102!C$10","v":0},{"$f":"Race0102!F$10","v":10}]
[null,{"$f":"Race0102!B$5","v":"Senior"},{"$f":"Race0102!B$4","v":"OC6"},{"$f":"Race0102!E$5","v":"Men"},{"$f":"Race0102!D$5","v":"Open"},{"$f":"Race0102!D$4","v":"Marathon"},{"$f":"Race0102!A$11","v":4},{"$f":"Race0102!D$11","v":0},{"$f":"Race0102!C$11","v":0},{"$f":"Race0102!F$11","v":8}]
[null,{"$f":"Race0102!B$5","v":"Senior"},{"$f":"Race0102!B$4","v":"OC6"},{"$f":"Race0102!E$5","v":"Men"},{"$f":"Race0102!D$5","v":"Open"},{"$f":"Race0102!D$4","v":"Marathon"},{"$f":"Race0102!A$12","v":5},{"$f":"Race0102!D$12","v":0},{"$f":"Race0102!C$12","v":0},{"$f":"Race0102!F$12","v":7}]
[null,{"$f":"Race0102!B$5","v":"Senior"},{"$f":"Race0102!B$4","v":"OC6"},{"$f":"Race0102!E$5","v":"Men"},{"$f":"Race0102!D$5","v":"Open"},{"$f":"Race0102!D$4","v":"Marathon"},{"$f":"Race0102!A$13","v":6},{"$f":"Race0102!D$13","v":0},{"$f":"Race0102!C$13","v":0},{"$f":"Race0102!F$13","v":6}]
[null,{"$f":"Race0102!B$5","v":"Senior"},{"$f":"Race0102!B$4","v":"OC6"},{"$f":"Race0102!E$5","v":"Men"},{"$f":"Race0102!D$5","v":"Open"},{"$f":"Race0102!D$4","v":"Marathon"},{"$f":"Race0102!A$14","v":7},{"$f":"Race0102!D$14","v":0},{"$f":"Race0102!C$14","v":0},{"$f":"Race0102!F$14","v":5}]
[null,{"$f":"Race0102!B$5","v":"Senior"},{"$f":"Race0102!B$4","v":"OC6"},{"$f":"Race0102!E$5","v":"Men"},{"$f":"Race0102!D$5","v":"Open"},{"$f":"Race0102!D$4","v":"Marathon"},{"$f":"Race0102!A$15","v":8},{"$f":"Race0102!D$15","v":0},{"$f":"Race0102!C$15","v":0},{"$f":"Race0102!F$15","v":4}]
[null,{"$f":"Race0102!B$5","v":"Senior"},{"$f":"Race0102!B$4","v":"OC6"},{"$f":"Race0102!E$5","v":"Men"},{"$f":"Race0102!D$5","v":"Open"},{"$f":"Race0102!D$4","v":"Marathon"},{"$f":"Race0102!A$16","v":9},{"$f":"Race0102!D$16","v":0},{"$f":"Race0102!C$16","v":0},{"$f":"Race0102!F$16","v":3}]
[null,{"$f":"Race0102!B$5","v":"Senior"},{"$f":"Race0102!B$4","v":"OC6"},{"$f":"Race0102!E$5","v":"Men"},{"$f":"Race0102!D$5","v":"Open"},{"$f":"Race0102!D$4","v":"Marathon"},{"$f":"Race0102!A$17","v":10},{"$f":"Race0102!D$17","v":0},{"$f":"Race0102!C$17","v":0},{"$f":"Race0102!F$17","v":2}]
[null,{"$f":"Race0102!B$5","v":"Senior"},{"$f":"Race0102!B$4","v":"OC6"},{"$f":"Race0102!E$5","v":"Men"},{"$f":"Race0102!D$5","v":"Open"},{"$f":"Race0102!D$4","v":"Marathon"},{"$f":"Race0102!A$18","v":11},{"$f":"Race0102!D$18","v":0},{"$f":"Race0102!C$18","v":0},{"$f":"Race0102!F$18","v":1}]
[null,{"$f":"Race0102!B$5","v":"Senior"},{"$f":"Race0102!B$4","v":"OC6"},{"$f":"Race0102!E$5","v":"Men"},{"$f":"Race0102!D$5","v":"Open"},{"$f":"Race0102!D$4","v":"Marathon"},{"$f":"Race0102!A$19","v":12},{"$f":"Race0102!D$19","v":0},{"$f":"Race0102!C$19","v":0},{"$f":"Race0102!F$19","v":1}]
[null,{"$f":"Race0102!B$5","v":"Senior"},{"$f":"Race0102!B$4","v":"OC6"},{"$f":"Race0102!E$5","v":"Men"},{"$f":"Race0102!D$5","v":"Open"},{"$f":"Race0102!D$4","v":"Marathon"},{"$f":"Race0102!A$20","v":13},{"$f":"Race0102!D$20","v":0},{"$f":"Race0102!C$20","v":0},{"$f":"Race0102!F$20","v":1}]
[null,{"$f":"Race0102!B$5","v":"Senior"},{"$f":"Race0102!B$4","v":"OC6"},{"$f":"Race0102!E$5","v":"Men"},{"$f":"Race0102!D$5","v":"Open"},{"$f":"Race0102!D$4","v":"Marathon"},{"$f":"Race0102!A$21","v":14},{"$f":"Race0102!D$21","v":0},{"$f":"Race0102!C$21","v":0},{"$f":"Race0102!F$21","v":1}]
[null,{"$f":"Race0102!B$5","v":"Senior"},{"$f":"Race0102!B$4","v":"OC6"},{"$f":"Race0102!E$5","v":"Men"},{"$f":"Race0102!D$5","v":"Open"},{"$f":"Race0102!D$4","v":"Marathon"},{"$f":"Race0102!A$22","v":15},{"$f":"Race0102!D$22","v":0},{"$f":"Race0102!C$22","v":0},{"$f":"Race0102!F$22","v":1}]
[null,{"$f":"Race0102!B$5","v":"Senior"},{"$f":"Race0102!B$4","v":"OC6"},{"$f":"Race0102!E$5","v":"Men"},{"$f":"Race0102!D$5","v":"Open"},{"$f":"Race0102!D$4","v":"Marathon"},{"$f":"Race0102!A$23","v":16},{"$f":"Race0102!D$23","v":0},{"$f":"Race0102!C$23","v":0},{"$f":"Race0102!F$23","v":1}]
[null,{"$f":"Race0102!B$5","v":"Senior"},{"$f":"Race0102!B$4","v":"OC6"},{"$f":"Race0102!E$5","v":"Men"},{"$f":"Race0102!D$5","v":"Open"},{"$f":"Race0102!D$4","v":"Marathon"},{"$f":"Race0102!A$24","v":17},{"$f":"Race0102!D$24","v":0},{"$f":"Race0102!C$24","v":0},{"$f":"Race0102!F$24","v":1}]
[null,{"$f":"Race0102!B$5","v":"Senior"},{"$f":"Race0102!B$4","v":"OC6"},{"$f":"Race0102!E$5","v":"Men"},{"$f":"Race0102!D$5","v":"Open"},{"$f":"Race0102!D$4","v":"Marathon"},{"$f":"Race0102!A$25","v":18},{"$f":"Race0102!D$25","v":0},{"$f":"Race0102!C$25","v":0},{"$f":"Race0102!F$25","v":1}]
[null,{"$f":"Race0102!B$5","v":"Senior"},{"$f":"Race0102!B$4","v":"OC6"},{"$f":"Race0102!E$5","v":"Men"},{"$f":"Race0102!D$5","v":"Open"},{"$f":"Race0102!D$4","v":"Marathon"},{"$f":"Race0102!A$26","v":19},{"$f":"Race0102!D$26","v":0},{"$f":"Race0102!C$26","v":0},{"$f":"Race0102!F$26","v":1}]
[null,{"$f":"Race0102!B$5","v":"Senior"},{"$f":"Race0102!B$4","v":"OC6"},{"$f":"Race0102!E$5","v":"Men"},{"$f":"Race0102!D$5","v":"Open"},{"$f":"Race0102!D$4","v":"Marathon"},{"$f":"Race0102!A$27","v":20},{"$f":"Race0102!D$27","v":0},{"$f":"Race0102!C$27","v":0},{"$f":"Race0102!F$27","v":1}]
[null,{"$f":"Race0102!B$5","v":"Senior"},{"$f":"Race0102!B$4","v":"OC6"},{"$f":"Race0102!E$5","v":"Men"},{"$f":"Race0102!D$5","v":"Open"},{"$f":"Race0102!D$4","v":"Marathon"},{"$f":"Race0102!A$28","v":21},{"$f":"Race0102!D$28","v":0},{"$f":"Race0102!C$28","v":0},{"$f":"Race0102!F$28","v":1}]
[null,{"$f":"Race0102!B$5","v":"Senior"},{"$f":"Race0102!B$4","v":"OC6"},{"$f":"Race0102!E$5","v":"Men"},{"$f":"Race0102!D$5","v":"Open"},{"$f":"Race0102!D$4","v":"Marathon"},{"$f":"Race0102!A$29","v":22},{"$f":"Race0102!D$29","v":0},{"$f":"Race0102!C$29","v":0},{"$f":"Race0102!F$29","v":1}]
[null,{"$f":"Race0102!B$5","v":"Senior"},{"$f":"Race0102!B$4","v":"OC6"},{"$f":"Race0102!E$5","v":"Men"},{"$f":"Race0102!D$5","v":"Open"},{"$f":"Race0102!D$4","v":"Marathon"},{"$f":"Race0102!A$30","v":23},{"$f":"Race0102!D$30","v":0},{"$f":"Race0102!C$30","v":0},{"$f":"Race0102!F$30","v":1}]
[null,{"$f":"Race0102!B$5","v":"Senior"},{"$f":"Race0102!B$4","v":"OC6"},{"$f":"Race0102!E$5","v":"Men"},{"$f":"Race0102!D$5","v":"Open"},{"$f":"Race0102!D$4","v":"Marathon"},{"$f":"Race0102!A$31","v":24},{"$f":"Race0102!D$31","v":0},{"$f":"Race0102!C$31","v":0},{"$f":"Race0102!F$31","v":1}]
[null,{"$f":"Race0102!B$5","v":"Senior"},{"$f":"Race0102!B$4","v":"OC6"},{"$f":"Race0102!E$5","v":"Men"},{"$f":"Race0102!D$5","v":"Open"},{"$f":"Race0102!D$4","v":"Marathon"},{"$f":"Race0102!A$32","v":25},{"$f":"Race0102!D$32","v":0},{"$f":"Race0102!C$32","v":0},{"$f":"Race0102!F$32","v":1}]
[null,{"$f":"Race0102!B$5","v":"Senior"},{"$f":"Race0102!B$4","v":"OC6"},{"$f":"Race0102!E$5","v":"Men"},{"$f":"Race0102!D$5","v":"Open"},{"$f":"Race0102!D$4","v":"Marathon"},{"$f":"Race0102!A$33","v":26},{"$f":"Race0102!D$33","v":0},{"$f":"Race0102!C$33","v":0},{"$f":"Race0102!F$33","v":1}]
[null,{"$f":"Race0102!B$5","v":"Senior"},{"$f":"Race0102!B$4","v":"OC6"},{"$f":"Race0102!E$5","v":"Men"},{"$f":"Race0102!D$5","v":"Open"},{"$f":"Race0102!D$4","v":"Marathon"},{"$f":"Race0102!A$34","v":27},{"$f":"Race0102!D$34","v":0},{"$f":"Race0102!C$34","v":0},{"$f":"Race0102!F$34","v":1}]
[null,{"$f":"Race0102!B$5","v":"Senior"},{"$f":"Race0102!B$4","v":"OC6"},{"$f":"Race0102!E$5","v":"Men"},{"$f":"Race0102!D$5","v":"Open"},{"$f":"Race0102!D$4","v":"Marathon"},{"$f":"Race0102!A$35","v":28},{"$f":"Race0102!D$35","v":0},{"$f":"Race0102!C$35","v":0},{"$f":"Race0102!F$35","v":1}]
[null,{"$f":"Race0102!B$5","v":"Senior"},{"$f":"Race0102!B$4","v":"OC6"},{"$f":"Race0102!E$5","v":"Men"},{"$f":"Race0102!D$5","v":"Open"},{"$f":"Race0102!D$4","v":"Marathon"},{"$f":"Race0102!A$36","v":29},{"$f":"Race0102!D$36","v":0},{"$f":"Race0102!C$36","v":0},{"$f":"Race0102!F$36","v":1}]
[null,{"$f":"Race0102!B$5","v":"Senior"},{"$f":"Race0102!B$4","v":"OC6"},{"$f":"Race0102!E$5","v":"Men"},{"$f":"Race0102!D$5","v":"Open"},{"$f":"Race0102!D$4","v":"Marathon"},{"$f":"Race0102!A$37","v":30},{"$f":"Race0102!D$37","v":0},{"$f":"Race0102!C$37","v":0},{"$f":"Race0102!F$37","v":1}]
[null,{"$f":"Race0102!B$5","v":"Senior"},{"$f":"Race0102!B$4","v":"OC6"},{"$f":"Race0102!E$5","v":"Men"},{"$f":"Race0102!D$5","v":"Open"},{"$f":"Race0102!D$4","v":"Marathon"},{"$f":"Race0102!A$38","v":31},{"$f":"Race0102!D$38","v":0},{"$f":"Race0102!C$38","v":0},{"$f":"Race0102!F$38","v":1}]
[null,{"$f":"Race0102!B$5","v":"Senior"},{"$f":"Race0102!B$4","v":"OC6"},{"$f":"Race0102!E$5","v":"Men"},{"$f":"Race0102!D$5","v":"Open"},{"$f":"Race0102!D$4","v":"Marathon"},{"$f":"Race0102!A$39","v":32},{"$f":"Race0102!D$39","v":0},{"$f":"Race0102!C$39","v":0},{"$f":"Race0102!F$39","v":1}]
[null,{"$f":"Race0102!B$5","v":"Senior"},{"$f":"Race0102!B$4","v":"OC6"},{"$f":"Race0102!E$5","v":"Men"},{"$f":"Race0102!D$5","v":"Open"},{"$f":"Race0102!D$4","v":"Marathon"},{"$f":"Race0102!A$40","v":33},{"$f":"Race0102!D$40","v":0},{"$f":"Race0102!C$40","v":0},{"$f":"Race0102!F$40","v":1}]
[null,{"$f":"Race0102!B$5","v":"Senior"},{"$f":"Race0102!B$4","v":"OC6"},{"$f":"Race0102!E$5","v":"Men"},{"$f":"Race0102!D$5","v":"Open"},{"$f":"Race0102!D$4","v":"Marathon"},{"$f":"Race0102!A$41","v":34},{"$f":"Race0102!D$41","v":0},{"$f":"Race0102!C$41","v":0},{"$f":"Race0102!F$41","v":1}]
[null,{"$f":"Race0102!B$5","v":"Senior"},{"$f":"Race0102!B$4","v":"OC6"},{"$f":"Race0102!E$5","v":"Men"},{"$f":"Race0102!D$5","v":"Open"},{"$f":"Race0102!D$4","v":"Marathon"},{"$f":"Race0102!A$42","v":35},{"$f":"Race0102!D$42","v":0},{"$f":"Race0102!C$42","v":0},{"$f":"Race0102!F$42","v":1}]
[null,{"$f":"Race0102!B$5","v":"Senior"},{"$f":"Race0102!B$4","v":"OC6"},{"$f":"Race0102!E$5","v":"Men"},{"$f":"Race0102!D$5","v":"Open"},{"$f":"Race0102!D$4","v":"Marathon"},{"$f":"Race0102!A$43","v":36},{"$f":"Race0102!D$43","v":0},{"$f":"Race0102!C$43","v":0},{"$f":"Race0102!F$43","v":1}]
[null,{"$f":"Race0102!B$5","v":"Senior"},{"$f":"Race0102!B$4","v":"OC6"},{"$f":"Race0102!E$5","v":"Men"},{"$f":"Race0102!D$5","v":"Open"},{"$f":"Race0102!D$4","v":"Marathon"},{"$f":"Race0102!A$44","v":37},{"$f":"Race0102!D$44","v":0},{"$f":"Race0102!C$44","v":0},{"$f":"Race0102!F$44","v":1}]
[null,{"$f":"Race0102!B$5","v":"Senior"},{"$f":"Race0102!B$4","v":"OC6"},{"$f":"Race0102!E$5","v":"Men"},{"$f":"Race0102!D$5","v":"Open"},{"$f":"Race0102!D$4","v":"Marathon"},{"$f":"Race0102!A$45","v":38},{"$f":"Race0102!D$45","v":0},{"$f":"Race0102!C$45","v":0},{"$f":"Race0102!F$45","v":1}]
[null,{"$f":"Race0102!B$5","v":"Senior"},{"$f":"Race0102!B$4","v":"OC6"},{"$f":"Race0102!E$5","v":"Men"},{"$f":"Race0102!D$5","v":"Open"},{"$f":"Race0102!D$4","v":"Marathon"},{"$f":"Race0102!A$46","v":39},{"$f":"Race0102!D$46","v":0},{"$f":"Race0102!C$46","v":0},{"$f":"Race0102!F$46","v":1}]
[null,{"$f":"Race0102!B$5","v":"Senior"},{"$f":"Race0102!B$4","v":"OC6"},{"$f":"Race0102!E$5","v":"Men"},{"$f":"Race0102!D$5","v":"Open"},{"$f":"Race0102!D$4","v":"Marathon"},{"$f":"Race0102!A$47","v":40},{"$f":"Race0102!D$47","v":0},{"$f":"Race0102!C$47","v":0},{"$f":"Race0102!F$47","v":1}]
[null,{"$f":"Race0102!B$5","v":"Senior"},{"$f":"Race0102!B$4","v":"OC6"},{"$f":"Race0102!E$5","v":"Men"},{"$f":"Race0102!D$5","v":"Open"},{"$f":"Race0102!D$4","v":"Marathon"},{"$f":"Race0102!A$48","v":41},{"$f":"Race0102!D$48","v":0},{"$f":"Race0102!C$48","v":0},{"$f":"Race0102!F$48","v":1}]
[null,{"$f":"Race0102!B$5","v":"Senior"},{"$f":"Race0102!B$4","v":"OC6"},{"$f":"Race0102!E$5","v":"Men"},{"$f":"Race0102!D$5","v":"Open"},{"$f":"Race0102!D$4","v":"Marathon"},{"$f":"Race0102!A$49","v":42},{"$f":"Race0102!D$49","v":0},{"$f":"Race0102!C$49","v":0},{"$f":"Race0102!F$49","v":1}]
[null,{"$f":"Race0102!B$5","v":"Senior"},{"$f":"Race0102!B$4","v":"OC6"},{"$f":"Race0102!E$5","v":"Men"},{"$f":"Race0102!D$5","v":"Open"},{"$f":"Race0102!D$4","v":"Marathon"},{"$f":"Race0102!A$50","v":43},{"$f":"Race0102!D$50","v":0},{"$f":"Race0102!C$50","v":0},{"$f":"Race0102!F$50","v":1}]
[null,{"$f":"Race0102!B$5","v":"Senior"},{"$f":"Race0102!B$4","v":"OC6"},{"$f":"Race0102!E$5","v":"Men"},{"$f":"Race0102!D$5","v":"Open"},{"$f":"Race0102!D$4","v":"Marathon"},{"$f":"Race0102!A$51","v":44},{"$f":"Race0102!D$51","v":0},{"$f":"Race0102!C$51","v":0},{"$f":"Race0102!F$51","v":1}]
[null,{"$f":"Race0102!B$5","v":"Senior"},{"$f":"Race0102!B$4","v":"OC6"},{"$f":"Race0102!E$5","v":"Men"},{"$f":"Race0102!D$5","v":"Open"},{"$f":"Race0102!D$4","v":"Marathon"},{"$f":"Race0102!A$52","v":45},{"$f":"Race0102!D$52","v":0},{"$f":"Race0102!C$52","v":0},{"$f":"Race0102!F$52","v":1}]
[null,{"$f":"Race0102!B$5","v":"Senior"},{"$f":"Race0102!B$4","v":"OC6"},{"$f":"Race0102!E$5","v":"Men"},{"$f":"Race0102!D$5","v":"Open"},{"$f":"Race0102!D$4","v":"Marathon"},{"$f":"Race0102!A$53","v":46},{"$f":"Race0102!D$53","v":0},{"$f":"Race0102!C$53","v":0},{"$f":"Race0102!F$53","v":1}]
[null,{"$f":"Race0102!B$5","v":"Senior"},{"$f":"Race0102!B$4","v":"OC6"},{"$f":"Race0102!E$5","v":"Men"},{"$f":"Race0102!D$5","v":"Open"},{"$f":"Race0102!D$4","v":"Marathon"},{"$f":"Race0102!A$54","v":47},{"$f":"Race0102!D$54","v":0},{"$f":"Race0102!C$54","v":0},{"$f":"Race0102!F$54","v":1}]
[null,{"$f":"Race0102!B$5","v":"Senior"},{"$f":"Race0102!B$4","v":"OC6"},{"$f":"Race0102!E$5","v":"Men"},{"$f":"Race0102!D$5","v":"Open"},{"$f":"Race0102!D$4","v":"Marathon"},{"$f":"Race0102!A$55","v":48},{"$f":"Race0102!D$55","v":0},{"$f":"Race0102!C$55","v":0},{"$f":"Race0102!F$55","v":1}]
[null,{"$f":"Race0102!B$5","v":"Senior"},{"$f":"Race0102!B$4","v":"OC6"},{"$f":"Race0102!E$5","v":"Men"},{"$f":"Race0102!D$5","v":"Open"},{"$f":"Race0102!D$4","v":"Marathon"},{"$f":"Race0102!A$56","v":49},{"$f":"Race0102!D$56","v":0},{"$f":"Race0102!C$56","v":0},{"$f":"Race0102!F$56","v":1}]
[null,{"$f":"Race0102!B$5","v":"Senior"},{"$f":"Race0102!B$4","v":"OC6"},{"$f":"Race0102!E$5","v":"Men"},{"$f":"Race0102!D$5","v":"Open"},{"$f":"Race0102!D$4","v":"Marathon"},{"$f":"Race0102!A$57","v":50},{"$f":"Race0102!D$57","v":0},{"$f":"Race0102!C$57","v":0},{"$f":"Race0102!F$57","v":1}]
["Race0103",{"$f":"Race0103!B$5","v":"Senior"},{"$f":"Race0103!B$4","v":"OC6"},{"$f":"Race0103!E$5","v":"Men"},{"$f":"Race0103!D$5","v":"Masters"},{"$f":"Race0103!D$4","v":"Marathon"},{"$f":"Race0103!A$8","v":1},{"$f":"Race0103!D$8","v":0},{"$f":"Race0103!C$8","v":0},{"$f":"Race0103!F$8","v":14}]
[null,{"$f":"Race0103!B$5","v":"Senior"},{"$f":"Race0103!B$4","v":"OC6"},{"$f":"Race0103!E$5","v":"Men"},{"$f":"Race0103!D$5","v":"Masters"},{"$f":"Race0103!D$4","v":"Marathon"},{"$f":"Race0103!A$9","v":2},{"$f":"Race0103!D$9","v":0},{"$f":"Race0103!C$9","v":0},{"$f":"Race0103!F$9","v":12}]
[null,{"$f":"Race0103!B$5","v":"Senior"},{"$f":"Race0103!B$4","v":"OC6"},{"$f":"Race0103!E$5","v":"Men"},{"$f":"Race0103!D$5","v":"Masters"},{"$f":"Race0103!D$4","v":"Marathon"},{"$f":"Race0103!A$10","v":3},{"$f":"Race0103!D$10","v":0},{"$f":"Race0103!C$10","v":0},{"$f":"Race0103!F$10","v":10}]
[null,{"$f":"Race0103!B$5","v":"Senior"},{"$f":"Race0103!B$4","v":"OC6"},{"$f":"Race0103!E$5","v":"Men"},{"$f":"Race0103!D$5","v":"Masters"},{"$f":"Race0103!D$4","v":"Marathon"},{"$f":"Race0103!A$11","v":4},{"$f":"Race0103!D$11","v":0},{"$f":"Race0103!C$11","v":0},{"$f":"Race0103!F$11","v":8}]
[null,{"$f":"Race0103!B$5","v":"Senior"},{"$f":"Race0103!B$4","v":"OC6"},{"$f":"Race0103!E$5","v":"Men"},{"$f":"Race0103!D$5","v":"Masters"},{"$f":"Race0103!D$4","v":"Marathon"},{"$f":"Race0103!A$12","v":5},{"$f":"Race0103!D$12","v":0},{"$f":"Race0103!C$12","v":0},{"$f":"Race0103!F$12","v":7}]
[null,{"$f":"Race0103!B$5","v":"Senior"},{"$f":"Race0103!B$4","v":"OC6"},{"$f":"Race0103!E$5","v":"Men"},{"$f":"Race0103!D$5","v":"Masters"},{"$f":"Race0103!D$4","v":"Marathon"},{"$f":"Race0103!A$13","v":6},{"$f":"Race0103!D$13","v":0},{"$f":"Race0103!C$13","v":0},{"$f":"Race0103!F$13","v":6}]
[null,{"$f":"Race0103!B$5","v":"Senior"},{"$f":"Race0103!B$4","v":"OC6"},{"$f":"Race0103!E$5","v":"Men"},{"$f":"Race0103!D$5","v":"Masters"},{"$f":"Race0103!D$4","v":"Marathon"},{"$f":"Race0103!A$14","v":7},{"$f":"Race0103!D$14","v":0},{"$f":"Race0103!C$14","v":0},{"$f":"Race0103!F$14","v":5}]
[null,{"$f":"Race0103!B$5","v":"Senior"},{"$f":"Race0103!B$4","v":"OC6"},{"$f":"Race0103!E$5","v":"Men"},{"$f":"Race0103!D$5","v":"Masters"},{"$f":"Race0103!D$4","v":"Marathon"},{"$f":"Race0103!A$15","v":8},{"$f":"Race0103!D$15","v":0},{"$f":"Race0103!C$15","v":0},{"$f":"Race0103!F$15","v":4}]
[null,{"$f":"Race0103!B$5","v":"Senior"},{"$f":"Race0103!B$4","v":"OC6"},{"$f":"Race0103!E$5","v":"Men"},{"$f":"Race0103!D$5","v":"Masters"},{"$f":"Race0103!D$4","v":"Marathon"},{"$f":"Race0103!A$16","v":9},{"$f":"Race0103!D$16","v":0},{"$f":"Race0103!C$16","v":0},{"$f":"Race0103!F$16","v":3}]
[null,{"$f":"Race0103!B$5","v":"Senior"},{"$f":"Race0103!B$4","v":"OC6"},{"$f":"Race0103!E$5","v":"Men"},{"$f":"Race0103!D$5","v":"Masters"},{"$f":"Race0103!D$4","v":"Marathon"},{"$f":"Race0103!A$17","v":10},{"$f":"Race0103!D$17","v":0},{"$f":"Race0103!C$17","v":0},{"$f":"Race0103!F$17","v":2}]
[null,{"$f":"Race0103!B$5","v":"Senior"},{"$f":"Race0103!B$4","v":"OC6"},{"$f":"Race0103!E$5","v":"Men"},{"$f":"Race0103!D$5","v":"Masters"},{"$f":"Race0103!D$4","v":"Marathon"},{"$f":"Race0103!A$18","v":11},{"$f":"Race0103!D$18","v":0},{"$f":"Race0103!C$18","v":0},{"$f":"Race0103!F$18","v":1}]
[null,{"$f":"Race0103!B$5","v":"Senior"},{"$f":"Race0103!B$4","v":"OC6"},{"$f":"Race0103!E$5","v":"Men"},{"$f":"Race0103!D$5","v":"Masters"},{"$f":"Race0103!D$4","v":"Marathon"},{"$f":"Race0103!A$19","v":12},{"$f":"Race0103!D$19","v":0},{"$f":"Race0103!C$19","v":0},{"$f":"Race0103!F$19","v":1}]
[null,{"$f":"Race0103!B$5","v":"Senior"},{"$f":"Race0103!B$4","v":"OC6"},{"$f":"Race0103!E$5","v":"Men"},{"$f":"Race0103!D$5","v":"Masters"},{"$f":"Race0103!D$4","v":"Marathon"},{"$f":"Race0103!A$20","v":13},{"$f":"Race0103!D$20","v":0},{"$f":"Race0103!C$20","v":0},{"$f":"Race0103!F$20","v":1}]
[null,{"$f":"Race0103!B$5","v":"Senior"},{"$f":"Race0103!B$4","v":"OC6"},{"$f":"Race0103!E$5","v":"Men"},{"$f":"Race0103!D$5","v":"Masters"},{"$f":"Race0103!D$4","v":"Marathon"},{"$f":"Race0103!A$21","v":14},{"$f":"Race0103!D$21","v":0},{"$f":"Race0103!C$21","v":0},{"$f":"Race0103!F$21","v":1}]
[null,{"$f":"Race0103!B$5","v":"Senior"},{"$f":"Race0103!B$4","v":"OC6"},{"$f":"Race0103!E$5","v":"Men"},{"$f":"Race0103!D$5","v":"Masters"},{"$f":"Race0103!D$4","v":"Marathon"},{"$f":"Race0103!A$22","v":15},{"$f":"Race0103!D$22","v":0},{"$f":"Race0103!C$22","v":0},{"$f":"Race0103!F$22","v":1}]
[null,{"$f":"Race0103!B$5","v":"Senior"},{"$f":"Race0103!B$4","v":"OC6"},{"$f":"Race0103!E$5","v":"Men"},{"$f":"Race0103!D$5","v":"Masters"},{"$f":"Race0103!D$4","v":"Marathon"},{"$f":"Race0103!A$23","v":16},{"$f":"Race0103!D$23","v":0},{"$f":"Race0103!C$23","v":0},{"$f":"Race0103!F$23","v":1}]
[null,{"$f":"Race0103!B$5","v":"Senior"},{"$f":"Race0103!B$4","v":"OC6"},{"$f":"Race0103!E$5","v":"Men"},{"$f":"Race0103!D$5","v":"Masters"},{"$f":"Race0103!D$4","v":"Marathon"},{"$f":"Race0103!A$24","v":17},{"$f":"Race0103!D$24","v":0},{"$f":"Race0103!C$24","v":0},{"$f":"Race0103!F$24","v":1}]
[null,{"$f":"Race0103!B$5","v":"Senior"},{"$f":"Race0103!B$4","v":"OC6"},{"$f":"Race0103!E$5","v":"Men"},{"$f":"Race0103!D$5","v":"Masters"},{"$f":"Race0103!D$4","v":"Marathon"},{"$f":"Race0103!A$25","v":18},{"$f":"Race0103!D$25","v":0},{"$f":"Race0103!C$25","v":0},{"$f":"Race0103!F$25","v":1}]
[null,{"$f":"Race0103!B$5","v":"Senior"},{"$f":"Race0103!B$4","v":"OC6"},{"$f":"Race0103!E$5","v":"Men"},{"$f":"Race0103!D$5","v":"Masters"},{"$f":"Race0103!D$4","v":"Marathon"},{"$f":"Race0103!A$26","v":19},{"$f":"Race0103!D$26","v":0},{"$f":"Race0103!C$26","v":0},{"$f":"Race0103!F$26","v":1}]
[null,{"$f":"Race0103!B$5","v":"Senior"},{"$f":"Race0103!B$4","v":"OC6"},{"$f":"Race0103!E$5","v":"Men"},{"$f":"Race0103!D$5","v":"Masters"},{"$f":"Race0103!D$4","v":"Marathon"},{"$f":"Race0103!A$27","v":20},{"$f":"Race0103!D$27","v":0},{"$f":"Race0103!C$27","v":0},{"$f":"Race0103!F$27","v":1}]
[null,{"$f":"Race0103!B$5","v":"Senior"},{"$f":"Race0103!B$4","v":"OC6"},{"$f":"Race0103!E$5","v":"Men"},{"$f":"Race0103!D$5","v":"Masters"},{"$f":"Race0103!D$4","v":"Marathon"},{"$f":"Race0103!A$28","v":21},{"$f":"Race0103!D$28","v":0},{"$f":"Race0103!C$28","v":0},{"$f":"Race0103!F$28","v":1}]
[null,{"$f":"Race0103!B$5","v":"Senior"},{"$f":"Race0103!B$4","v":"OC6"},{"$f":"Race0103!E$5","v":"Men"},{"$f":"Race0103!D$5","v":"Masters"},{"$f":"Race0103!D$4","v":"Marathon"},{"$f":"Race0103!A$29","v":22},{"$f":"Race0103!D$29","v":0},{"$f":"Race0103!C$29","v":0},{"$f":"Race0103!F$29","v":1}]
[null,{"$f":"Race0103!B$5","v":"Senior"},{"$f":"Race0103!B$4","v":"OC6"},{"$f":"Race0103!E$5","v":"Men"},{"$f":"Race0103!D$5","v":"Masters"},{"$f":"Race0103!D$4","v":"Marathon"},{"$f":"Race0103!A$30","v":23},{"$f":"Race0103!D$30","v":0},{"$f":"Race0103!C$30","v":0},{"$f":"Race0103!F$30","v":1}]
[null,{"$f":"Race0103!B$5","v":"Senior"},{"$f":"Race0103!B$4","v":"OC6"},{"$f":"Race0103!E$5","v":"Men"},{"$f":"Race0103!D$5","v":"Masters"},{"$f":"Race0103!D$4","v":"Marathon"},{"$f":"Race0103!A$31","v":24},{"$f":"Race0103!D$31","v":0},{"$f":"Race0103!C$31","v":0},{"$f":"Race0103!F$31","v":1}]
[null,{"$f":"Race0103!B$5","v":"Senior"},{"$f":"Race0103!B$4","v":"OC6"},{"$f":"Race0103!E$5","v":"Men"},{"$f":"Race0103!D$5","v":"Masters"},{"$f":"Race0103!D$4","v":"Marathon"},{"$f":"Race0103!A$32","v":25},{"$f":"Race0103!D$32","v":0},{"$f":"Race0103!C$32","v":0},{"$f":"Race0103!F$32","v":1}]
[null,{"$f":"Race0103!B$5","v":"Senior"},{"$f":"Race0103!B$4","v":"OC6"},{"$f":"Race0103!E$5","v":"Men"},{"$f":"Race0103!D$5","v":"Masters"},{"$f":"Race0103!D$4","v":"Marathon"},{"$f":"Race0103!A$33","v":26},{"$f":"Race0103!D$33","v":0},{"$f":"Race0103!C$33","v":0},{"$f":"Race0103!F$33","v":1}]
[null,{"$f":"Race0103!B$5","v":"Senior"},{"$f":"Race0103!B$4","v":"OC6"},{"$f":"Race0103!E$5","v":"Men"},{"$f":"Race0103!D$5","v":"Masters"},{"$f":"Race0103!D$4","v":"Marathon"},{"$f":"Race0103!A$34","v":27},{"$f":"Race0103!D$34","v":0},{"$f":"Race0103!C$34","v":0},{"$f":"Race0103!F$34","v":1}]
[null,{"$f":"Race0103!B$5","v":"Senior"},{"$f":"Race0103!B$4","v":"OC6"},{"$f":"Race0103!E$5","v":"Men"},{"$f":"Race0103!D$5","v":"Masters"},{"$f":"Race0103!D$4","v":"Marathon"},{"$f":"Race0103!A$35","v":28},{"$f":"Race0103!D$35","v":0},{"$f":"Race0103!C$35","v":0},{"$f":"Race0103!F$35","v":1}]
[null,{"$f":"Race0103!B$5","v":"Senior"},{"$f":"Race0103!B$4","v":"OC6"},{"$f":"Race0103!E$5","v":"Men"},{"$f":"Race0103!D$5","v":"Masters"},{"$f":"Race0103!D$4","v":"Marathon"},{"$f":"Race0103!A$36","v":29},{"$f":"Race0103!D$36","v":0},{"$f":"Race0103!C$36","v":0},{"$f":"Race0103!F$36","v":1}]
[null,{"$f":"Race0103!B$5","v":"Senior"},{"$f":"Race0103!B$4","v":"OC6"},{"$f":"Race0103!E$5","v":"Men"},{"$f":"Race0103!D$5","v":"Masters"},{"$f":"Race0103!D$4","v":"Marathon"},{"$f":"Race0103!A$37","v":30},{"$f":"Race0103!D$37","v":0},{"$f":"Race0103!C$37","v":0},{"$f":"Race0103!F$37","v":1}]
[null,{"$f":"Race0103!B$5","v":"Senior"},{"$f":"Race0103!B$4","v":"OC6"},{"$f":"Race0103!E$5","v":"Men"},{"$f":"Race0103!D$5","v":"Masters"},{"$f":"Race0103!D$4","v":"Marathon"},{"$f":"Race0103!A$38","v":31},{"$f":"Race0103!D$38","v":0},{"$f":"Race0103!C$38","v":0},{"$f":"Race0103!F$38","v":1}]
[null,{"$f":"Race0103!B$5","v":"Senior"},{"$f":"Race0103!B$4","v":"OC6"},{"$f":"Race0103!E$5","v":"Men"},{"$f":"Race0103!D$5","v":"Masters"},{"$f":"Race0103!D$4","v":"Marathon"},{"$f":"Race0103!A$39","v":32},{"$f":"Race0103!D$39","v":0},{"$f":"Race0103!C$39","v":0},{"$f":"Race0103!F$39","v":1}]
[null,{"$f":"Race0103!B$5","v":"Senior"},{"$f":"Race0103!B$4","v":"OC6"},{"$f":"Race0103!E$5","v":"Men"},{"$f":"Race0103!D$5","v":"Masters"},{"$f":"Race0103!D$4","v":"Marathon"},{"$f":"Race0103!A$40","v":33},{"$f":"Race0103!D$40","v":0},{"$f":"Race0103!C$40","v":0},{"$f":"Race0103!F$40","v":1}]
[null,{"$f":"Race0103!B$5","v":"Senior"},{"$f":"Race0103!B$4","v":"OC6"},{"$f":"Race0103!E$5","v":"Men"},{"$f":"Race0103!D$5","v":"Masters"},{"$f":"Race0103!D$4","v":"Marathon"},{"$f":"Race0103!A$41","v":34},{"$f":"Race0103!D$41","v":0},{"$f":"Race0103!C$41","v":0},{"$f":"Race0103!F$41","v":1}]
[null,{"$f":"Race0103!B$5","v":"Senior"},{"$f":"Race0103!B$4","v":"OC6"},{"$f":"Race0103!E$5","v":"Men"},{"$f":"Race0103!D$5","v":"Masters"},{"$f":"Race0103!D$4","v":"Marathon"},{"$f":"Race0103!A$42","v":35},{"$f":"Race0103!D$42","v":0},{"$f":"Race0103!C$42","v":0},{"$f":"Race0103!F$42","v":1}]
[null,{"$f":"Race0103!B$5","v":"Senior"},{"$f":"Race0103!B$4","v":"OC6"},{"$f":"Race0103!E$5","v":"Men"},{"$f":"Race0103!D$5","v":"Masters"},{"$f":"Race0103!D$4","v":"Marathon"},{"$f":"Race0103!A$43","v":36},{"$f":"Race0103!D$43","v":0},{"$f":"Race0103!C$43","v":0},{"$f":"Race0103!F$43","v":1}]
[null,{"$f":"Race0103!B$5","v":"Senior"},{"$f":"Race0103!B$4","v":"OC6"},{"$f":"Race0103!E$5","v":"Men"},{"$f":"Race0103!D$5","v":"Masters"},{"$f":"Race0103!D$4","v":"Marathon"},{"$f":"Race0103!A$44","v":37},{"$f":"Race0103!D$44","v":0},{"$f":"Race0103!C$44","v":0},{"$f":"Race0103!F$44","v":1}]
[null,{"$f":"Race0103!B$5","v":"Senior"},{"$f":"Race0103!B$4","v":"OC6"},{"$f":"Race0103!E$5","v":"Men"},{"$f":"Race0103!D$5","v":"Masters"},{"$f":"Race0103!D$4","v":"Marathon"},{"$f":"Race0103!A$45","v":38},{"$f":"Race0103!D$45","v":0},{"$f":"Race0103!C$45","v":0},{"$f":"Race0103!F$45","v":1}]
[null,{"$f":"Race0103!B$5","v":"Senior"},{"$f":"Race0103!B$4","v":"OC6"},{"$f":"Race0103!E$5","v":"Men"},{"$f":"Race0103!D$5","v":"Masters"},{"$f":"Race0103!D$4","v":"Marathon"},{"$f":"Race0103!A$46","v":39},{"$f":"Race0103!D$46","v":0},{"$f":"Race0103!C$46","v":0},{"$f":"Race0103!F$46","v":1}]
[null,{"$f":"Race0103!B$5","v":"Senior"},{"$f":"Race0103!B$4","v":"OC6"},{"$f":"Race0103!E$5","v":"Men"},{"$f":"Race0103!D$5","v":"Masters"},{"$f":"Race0103!D$4","v":"Marathon"},{"$f":"Race0103!A$47","v":40},{"$f":"Race0103!D$47","v":0},{"$f":"Race0103!C$47","v":0},{"$f":"Race0103!F$47","v":1}]
[null,{"$f":"Race0103!B$5","v":"Senior"},{"$f":"Race0103!B$4","v":"OC6"},{"$f":"Race0103!E$5","v":"Men"},{"$f":"Race0103!D$5","v":"Masters"},{"$f":"Race0103!D$4","v":"Marathon"},{"$f":"Race0103!A$48","v":41},{"$f":"Race0103!D$48","v":0},{"$f":"Race0103!C$48","v":0},{"$f":"Race0103!F$48","v":1}]
[null,{"$f":"Race0103!B$5","v":"Senior"},{"$f":"Race0103!B$4","v":"OC6"},{"$f":"Race0103!E$5","v":"Men"},{"$f":"Race0103!D$5","v":"Masters"},{"$f":"Race0103!D$4","v":"Marathon"},{"$f":"Race0103!A$49","v":42},{"$f":"Race0103!D$49","v":0},{"$f":"Race0103!C$49","v":0},{"$f":"Race0103!F$49","v":1}]
[null,{"$f":"Race0103!B$5","v":"Senior"},{"$f":"Race0103!B$4","v":"OC6"},{"$f":"Race0103!E$5","v":"Men"},{"$f":"Race0103!D$5","v":"Masters"},{"$f":"Race0103!D$4","v":"Marathon"},{"$f":"Race0103!A$50","v":43},{"$f":"Race0103!D$50","v":0},{"$f":"Race0103!C$50","v":0},{"$f":"Race0103!F$50","v":1}]
[null,{"$f":"Race0103!B$5","v":"Senior"},{"$f":"Race0103!B$4","v":"OC6"},{"$f":"Race0103!E$5","v":"Men"},{"$f":"Race0103!D$5","v":"Masters"},{"$f":"Race0103!D$4","v":"Marathon"},{"$f":"Race0103!A$51","v":44},{"$f":"Race0103!D$51","v":0},{"$f":"Race0103!C$51","v":0},{"$f":"Race0103!F$51","v":1}]
[null,{"$f":"Race0103!B$5","v":"Senior"},{"$f":"Race0103!B$4","v":"OC6"},{"$f":"Race0103!E$5","v":"Men"},{"$f":"Race0103!D$5","v":"Masters"},{"$f":"Race0103!D$4","v":"Marathon"},{"$f":"Race0103!A$52","v":45},{"$f":"Race0103!D$52","v":0},{"$f":"Race0103!C$52","v":0},{"$f":"Race0103!F$52","v":1}]
[null,{"$f":"Race0103!B$5","v":"Senior"},{"$f":"Race0103!B$4","v":"OC6"},{"$f":"Race0103!E$5","v":"Men"},{"$f":"Race0103!D$5","v":"Masters"},{"$f":"Race0103!D$4","v":"Marathon"},{"$f":"Race0103!A$53","v":46},{"$f":"Race0103!D$53","v":0},{"$f":"Race0103!C$53","v":0},{"$f":"Race0103!F$53","v":1}]
[null,{"$f":"Race0103!B$5","v":"Senior"},{"$f":"Race0103!B$4","v":"OC6"},{"$f":"Race0103!E$5","v":"Men"},{"$f":"Race0103!D$5","v":"Masters"},{"$f":"Race0103!D$4","v":"Marathon"},{"$f":"Race0103!A$54","v":47},{"$f":"Race0103!D$54","v":0},{"$f":"Race0103!C$54","v":0},{"$f":"Race0103!F$54","v":1}]
[null,{"$f":"Race0103!B$5","v":"Senior"},{"$f":"Race0103!B$4","v":"OC6"},{"$f":"Race0103!E$5","v":"Men"},{"$f":"Race0103!D$5","v":"Masters"},{"$f":"Race0103!D$4","v":"Marathon"},{"$f":"Race0103!A$55","v":48},{"$f":"Race0103!D$55","v":0},{"$f":"Race0103!C$55","v":0},{"$f":"Race0103!F$55","v":1}]
[null,{"$f":"Race0103!B$5","v":"Senior"},{"$f":"Race0103!B$4","v":"OC6"},{"$f":"Race0103!E$5","v":"Men"},{"$f":"Race0103!D$5","v":"Masters"},{"$f":"Race0103!D$4","v":"Marathon"},{"$f":"Race0103!A$56","v":49},{"$f":"Race0103!D$56","v":0},{"$f":"Race0103!C$56","v":0},{"$f":"Race0103!F$56","v":1}]
[null,{"$f":"Race0103!B$5","v":"Senior"},{"$f":"Race0103!B$4","v":"OC6"},{"$f":"Race0103!E$5","v":"Men"},{"$f":"Race0103!D$5","v":"Masters"},{"$f":"Race0103!D$4","v":"Marathon"},{"$f":"Race0103!A$57","v":50},{"$f":"Race0103!D$57","v":0},{"$f":"Race0103!C$57","v":0},{"$f":"Race0103!F$57","v":1}]
["Race0104",{"$f":"Race0104!B$5","v":"Senior"},{"$f":"Race0104!B$4","v":"OC6"},{"$f":"Race0104!E$5","v":"Men"},{"$f":"Race0104!D$5","v":"Senior Masters"},{"$f":"Race0104!D$4","v":"Marathon"},{"$f":"Race0104!A$8","v":1},{"$f":"Race0104!D$8","v":0},{"$f":"Race0104!C$8","v":0},{"$f":"Race0104!F$8","v":14}]
[null,{"$f":"Race0104!B$5","v":"Senior"},{"$f":"Race0104!B$4","v":"OC6"},{"$f":"Race0104!E$5","v":"Men"},{"$f":"Race0104!D$5","v":"Senior Masters"},{"$f":"Race0104!D$4","v":"Marathon"},{"$f":"Race0104!A$9","v":2},{"$f":"Race0104!D$9","v":0},{"$f":"Race0104!C$9","v":0},{"$f":"Race0104!F$9","v":12}]
[null,{"$f":"Race0104!B$5","v":"Senior"},{"$f":"Race0104!B$4","v":"OC6"},{"$f":"Race0104!E$5","v":"Men"},{"$f":"Race0104!D$5","v":"Senior Masters"},{"$f":"Race0104!D$4","v":"Marathon"},{"$f":"Race0104!A$10","v":3},{"$f":"Race0104!D$10","v":0},{"$f":"Race0104!C$10","v":0},{"$f":"Race0104!F$10","v":10}]
[null,{"$f":"Race0104!B$5","v":"Senior"},{"$f":"Race0104!B$4","v":"OC6"},{"$f":"Race0104!E$5","v":"Men"},{"$f":"Race0104!D$5","v":"Senior Masters"},{"$f":"Race0104!D$4","v":"Marathon"},{"$f":"Race0104!A$11","v":4},{"$f":"Race0104!D$11","v":0},{"$f":"Race0104!C$11","v":0},{"$f":"Race0104!F$11","v":8}]
[null,{"$f":"Race0104!B$5","v":"Senior"},{"$f":"Race0104!B$4","v":"OC6"},{"$f":"Race0104!E$5","v":"Men"},{"$f":"Race0104!D$5","v":"Senior Masters"},{"$f":"Race0104!D$4","v":"Marathon"},{"$f":"Race0104!A$12","v":5},{"$f":"Race0104!D$12","v":0},{"$f":"Race0104!C$12","v":0},{"$f":"Race0104!F$12","v":7}]
[null,{"$f":"Race0104!B$5","v":"Senior"},{"$f":"Race0104!B$4","v":"OC6"},{"$f":"Race0104!E$5","v":"Men"},{"$f":"Race0104!D$5","v":"Senior Masters"},{"$f":"Race0104!D$4","v":"Marathon"},{"$f":"Race0104!A$13","v":6},{"$f":"Race0104!D$13","v":0},{"$f":"Race0104!C$13","v":0},{"$f":"Race0104!F$13","v":6}]
[null,{"$f":"Race0104!B$5","v":"Senior"},{"$f":"Race0104!B$4","v":"OC6"},{"$f":"Race0104!E$5","v":"Men"},{"$f":"Race0104!D$5","v":"Senior Masters"},{"$f":"Race0104!D$4","v":"Marathon"},{"$f":"Race0104!A$14","v":7},{"$f":"Race0104!D$14","v":0},{"$f":"Race0104!C$14","v":0},{"$f":"Race0104!F$14","v":5}]
[null,{"$f":"Race0104!B$5","v":"Senior"},{"$f":"Race0104!B$4","v":"OC6"},{"$f":"Race0104!E$5","v":"Men"},{"$f":"Race0104!D$5","v":"Senior Masters"},{"$f":"Race0104!D$4","v":"Marathon"},{"$f":"Race0104!A$15","v":8},{"$f":"Race0104!D$15","v":0},{"$f":"Race0104!C$15","v":0},{"$f":"Race0104!F$15","v":4}]
[null,{"$f":"Race0104!B$5","v":"Senior"},{"$f":"Race0104!B$4","v":"OC6"},{"$f":"Race0104!E$5","v":"Men"},{"$f":"Race0104!D$5","v":"Senior Masters"},{"$f":"Race0104!D$4","v":"Marathon"},{"$f":"Race0104!A$16","v":9},{"$f":"Race0104!D$16","v":0},{"$f":"Race0104!C$16","v":0},{"$f":"Race0104!F$16","v":3}]
[null,{"$f":"Race0104!B$5","v":"Senior"},{"$f":"Race0104!B$4","v":"OC6"},{"$f":"Race0104!E$5","v":"Men"},{"$f":"Race0104!D$5","v":"Senior Masters"},{"$f":"Race0104!D$4","v":"Marathon"},{"$f":"Race0104!A$17","v":10},{"$f":"Race0104!D$17","v":0},{"$f":"Race0104!C$17","v":0},{"$f":"Race0104!F$17","v":2}]
[null,{"$f":"Race0104!B$5","v":"Senior"},{"$f":"Race0104!B$4","v":"OC6"},{"$f":"Race0104!E$5","v":"Men"},{"$f":"Race0104!D$5","v":"Senior Masters"},{"$f":"Race0104!D$4","v":"Marathon"},{"$f":"Race0104!A$18","v":11},{"$f":"Race0104!D$18","v":0},{"$f":"Race0104!C$18","v":0},{"$f":"Race0104!F$18","v":1}]
[null,{"$f":"Race0104!B$5","v":"Senior"},{"$f":"Race0104!B$4","v":"OC6"},{"$f":"Race0104!E$5","v":"Men"},{"$f":"Race0104!D$5","v":"Senior Masters"},{"$f":"Race0104!D$4","v":"Marathon"},{"$f":"Race0104!A$19","v":12},{"$f":"Race0104!D$19","v":0},{"$f":"Race0104!C$19","v":0},{"$f":"Race0104!F$19","v":1}]
[null,{"$f":"Race0104!B$5","v":"Senior"},{"$f":"Race0104!B$4","v":"OC6"},{"$f":"Race0104!E$5","v":"Men"},{"$f":"Race0104!D$5","v":"Senior Masters"},{"$f":"Race0104!D$4","v":"Marathon"},{"$f":"Race0104!A$20","v":13},{"$f":"Race0104!D$20","v":0},{"$f":"Race0104!C$20","v":0},{"$f":"Race0104!F$20","v":1}]
[null,{"$f":"Race0104!B$5","v":"Senior"},{"$f":"Race0104!B$4","v":"OC6"},{"$f":"Race0104!E$5","v":"Men"},{"$f":"Race0104!D$5","v":"Senior Masters"},{"$f":"Race0104!D$4","v":"Marathon"},{"$f":"Race0104!A$21","v":14},{"$f":"Race0104!D$21","v":0},{"$f":"Race0104!C$21","v":0},{"$f":"Race0104!F$21","v":1}]
[null,{"$f":"Race0104!B$5","v":"Senior"},{"$f":"Race0104!B$4","v":"OC6"},{"$f":"Race0104!E$5","v":"Men"},{"$f":"Race0104!D$5","v":"Senior Masters"},{"$f":"Race0104!D$4","v":"Marathon"},{"$f":"Race0104!A$22","v":15},{"$f":"Race0104!D$22","v":0},{"$f":"Race0104!C$22","v":0},{"$f":"Race0104!F$22","v":1}]
[null,{"$f":"Race0104!B$5","v":"Senior"},{"$f":"Race0104!B$4","v":"OC6"},{"$f":"Race0104!E$5","v":"Men"},{"$f":"Race0104!D$5","v":"Senior Masters"},{"$f":"Race0104!D$4","v":"Marathon"},{"$f":"Race0104!A$23","v":16},{"$f":"Race0104!D$23","v":0},{"$f":"Race0104!C$23","v":0},{"$f":"Race0104!F$23","v":1}]
[null,{"$f":"Race0104!B$5","v":"Senior"},{"$f":"Race0104!B$4","v":"OC6"},{"$f":"Race0104!E$5","v":"Men"},{"$f":"Race0104!D$5","v":"Senior Masters"},{"$f":"Race0104!D$4","v":"Marathon"},{"$f":"Race0104!A$24","v":17},{"$f":"Race0104!D$24","v":0},{"$f":"Race0104!C$24","v":0},{"$f":"Race0104!F$24","v":1}]
[null,{"$f":"Race0104!B$5","v":"Senior"},{"$f":"Race0104!B$4","v":"OC6"},{"$f":"Race0104!E$5","v":"Men"},{"$f":"Race0104!D$5","v":"Senior Masters"},{"$f":"Race0104!D$4","v":"Marathon"},{"$f":"Race0104!A$25","v":18},{"$f":"Race0104!D$25","v":0},{"$f":"Race0104!C$25","v":0},{"$f":"Race0104!F$25","v":1}]
[null,{"$f":"Race0104!B$5","v":"Senior"},{"$f":"Race0104!B$4","v":"OC6"},{"$f":"Race0104!E$5","v":"Men"},{"$f":"Race0104!D$5","v":"Senior Masters"},{"$f":"Race0104!D$4","v":"Marathon"},{"$f":"Race0104!A$26","v":19},{"$f":"Race0104!D$26","v":0},{"$f":"Race0104!C$26","v":0},{"$f":"Race0104!F$26","v":1}]
[null,{"$f":"Race0104!B$5","v":"Senior"},{"$f":"Race0104!B$4","v":"OC6"},{"$f":"Race0104!E$5","v":"Men"},{"$f":"Race0104!D$5","v":"Senior Masters"},{"$f":"Race0104!D$4","v":"Marathon"},{"$f":"Race0104!A$27","v":20},{"$f":"Race0104!D$27","v":0},{"$f":"Race0104!C$27","v":0},{"$f":"Race0104!F$27","v":1}]
[null,{"$f":"Race0104!B$5","v":"Senior"},{"$f":"Race0104!B$4","v":"OC6"},{"$f":"Race0104!E$5","v":"Men"},{"$f":"Race0104!D$5","v":"Senior Masters"},{"$f":"Race0104!D$4","v":"Marathon"},{"$f":"Race0104!A$28","v":21},{"$f":"Race0104!D$28","v":0},{"$f":"Race0104!C$28","v":0},{"$f":"Race0104!F$28","v":1}]
[null,{"$f":"Race0104!B$5","v":"Senior"},{"$f":"Race0104!B$4","v":"OC6"},{"$f":"Race0104!E$5","v":"Men"},{"$f":"Race0104!D$5","v":"Senior Masters"},{"$f":"Race0104!D$4","v":"Marathon"},{"$f":"Race0104!A$29","v":22},{"$f":"Race0104!D$29","v":0},{"$f":"Race0104!C$29","v":0},{"$f":"Race0104!F$29","v":1}]
[null,{"$f":"Race0104!B$5","v":"Senior"},{"$f":"Race0104!B$4","v":"OC6"},{"$f":"Race0104!E$5","v":"Men"},{"$f":"Race0104!D$5","v":"Senior Masters"},{"$f":"Race0104!D$4","v":"Marathon"},{"$f":"Race0104!A$30","v":23},{"$f":"Race0104!D$30","v":0},{"$f":"Race0104!C$30","v":0},{"$f":"Race0104!F$30","v":1}]
[null,{"$f":"Race0104!B$5","v":"Senior"},{"$f":"Race0104!B$4","v":"OC6"},{"$f":"Race0104!E$5","v":"Men"},{"$f":"Race0104!D$5","v":"Senior Masters"},{"$f":"Race0104!D$4","v":"Marathon"},{"$f":"Race0104!A$31","v":24},{"$f":"Race0104!D$31","v":0},{"$f":"Race0104!C$31","v":0},{"$f":"Race0104!F$31","v":1}]
[null,{"$f":"Race0104!B$5","v":"Senior"},{"$f":"Race0104!B$4","v":"OC6"},{"$f":"Race0104!E$5","v":"Men"},{"$f":"Race0104!D$5","v":"Senior Masters"},{"$f":"Race0104!D$4","v":"Marathon"},{"$f":"Race0104!A$32","v":25},{"$f":"Race0104!D$32","v":0},{"$f":"Race0104!C$32","v":0},{"$f":"Race0104!F$32","v":1}]
[null,{"$f":"Race0104!B$5","v":"Senior"},{"$f":"Race0104!B$4","v":"OC6"},{"$f":"Race0104!E$5","v":"Men"},{"$f":"Race0104!D$5","v":"Senior Masters"},{"$f":"Race0104!D$4","v":"Marathon"},{"$f":"Race0104!A$33","v":26},{"$f":"Race0104!D$33","v":0},{"$f":"Race0104!C$33","v":0},{"$f":"Race0104!F$33","v":1}]
[null,{"$f":"Race0104!B$5","v":"Senior"},{"$f":"Race0104!B$4","v":"OC6"},{"$f":"Race0104!E$5","v":"Men"},{"$f":"Race0104!D$5","v":"Senior Masters"},{"$f":"Race0104!D$4","v":"Marathon"},{"$f":"Race0104!A$34","v":27},{"$f":"Race0104!D$34","v":0},{"$f":"Race0104!C$34","v":0},{"$f":"Race0104!F$34","v":1}]
[null,{"$f":"Race0104!B$5","v":"Senior"},{"$f":"Race0104!B$4","v":"OC6"},{"$f":"Race0104!E$5","v":"Men"},{"$f":"Race0104!D$5","v":"Senior Masters"},{"$f":"Race0104!D$4","v":"Marathon"},{"$f":"Race0104!A$35","v":28},{"$f":"Race0104!D$35","v":0},{"$f":"Race0104!C$35","v":0},{"$f":"Race0104!F$35","v":1}]
[null,{"$f":"Race0104!B$5","v":"Senior"},{"$f":"Race0104!B$4","v":"OC6"},{"$f":"Race0104!E$5","v":"Men"},{"$f":"Race0104!D$5","v":"Senior Masters"},{"$f":"Race0104!D$4","v":"Marathon"},{"$f":"Race0104!A$36","v":29},{"$f":"Race0104!D$36","v":0},{"$f":"Race0104!C$36","v":0},{"$f":"Race0104!F$36","v":1}]
[null,{"$f":"Race0104!B$5","v":"Senior"},{"$f":"Race0104!B$4","v":"OC6"},{"$f":"Race0104!E$5","v":"Men"},{"$f":"Race0104!D$5","v":"Senior Masters"},{"$f":"Race0104!D$4","v":"Marathon"},{"$f":"Race0104!A$37","v":30},{"$f":"Race0104!D$37","v":0},{"$f":"Race0104!C$37","v":0},{"$f":"Race0104!F$37","v":1}]
[null,{"$f":"Race0104!B$5","v":"Senior"},{"$f":"Race0104!B$4","v":"OC6"},{"$f":"Race0104!E$5","v":"Men"},{"$f":"Race0104!D$5","v":"Senior Masters"},{"$f":"Race0104!D$4","v":"Marathon"},{"$f":"Race0104!A$38","v":31},{"$f":"Race0104!D$38","v":0},{"$f":"Race0104!C$38","v":0},{"$f":"Race0104!F$38","v":1}]
[null,{"$f":"Race0104!B$5","v":"Senior"},{"$f":"Race0104!B$4","v":"OC6"},{"$f":"Race0104!E$5","v":"Men"},{"$f":"Race0104!D$5","v":"Senior Masters"},{"$f":"Race0104!D$4","v":"Marathon"},{"$f":"Race0104!A$39","v":32},{"$f":"Race0104!D$39","v":0},{"$f":"Race0104!C$39","v":0},{"$f":"Race0104!F$39","v":1}]
[null,{"$f":"Race0104!B$5","v":"Senior"},{"$f":"Race0104!B$4","v":"OC6"},{"$f":"Race0104!E$5","v":"Men"},{"$f":"Race0104!D$5","v":"Senior Masters"},{"$f":"Race0104!D$4","v":"Marathon"},{"$f":"Race0104!A$40","v":33},{"$f":"Race0104!D$40","v":0},{"$f":"Race0104!C$40","v":0},{"$f":"Race0104!F$40","v":1}]
[null,{"$f":"Race0104!B$5","v":"Senior"},{"$f":"Race0104!B$4","v":"OC6"},{"$f":"Race0104!E$5","v":"Men"},{"$f":"Race0104!D$5","v":"Senior Masters"},{"$f":"Race0104!D$4","v":"Marathon"},{"$f":"Race0104!A$41","v":34},{"$f":"Race0104!D$41","v":0},{"$f":"Race0104!C$41","v":0},{"$f":"Race0104!F$41","v":1}]
[null,{"$f":"Race0104!B$5","v":"Senior"},{"$f":"Race0104!B$4","v":"OC6"},{"$f":"Race0104!E$5","v":"Men"},{"$f":"Race0104!D$5","v":"Senior Masters"},{"$f":"Race0104!D$4","v":"Marathon"},{"$f":"Race0104!A$42","v":35},{"$f":"Race0104!D$42","v":0},{"$f":"Race0104!C$42","v":0},{"$f":"Race0104!F$42","v":1}]
[null,{"$f":"Race0104!B$5","v":"Senior"},{"$f":"Race0104!B$4","v":"OC6"},{"$f":"Race0104!E$5","v":"Men"},{"$f":"Race0104!D$5","v":"Senior Masters"},{"$f":"Race0104!D$4","v":"Marathon"},{"$f":"Race0104!A$43","v":36},{"$f":"Race0104!D$43","v":0},{"$f":"Race0104!C$43","v":0},{"$f":"Race0104!F$43","v":1}]
[null,{"$f":"Race0104!B$5","v":"Senior"},{"$f":"Race0104!B$4","v":"OC6"},{"$f":"Race0104!E$5","v":"Men"},{"$f":"Race0104!D$5","v":"Senior Masters"},{"$f":"Race0104!D$4","v":"Marathon"},{"$f":"Race0104!A$44","v":37},{"$f":"Race0104!D$44","v":0},{"$f":"Race0104!C$44","v":0},{"$f":"Race0104!F$44","v":1}]
[null,{"$f":"Race0104!B$5","v":"Senior"},{"$f":"Race0104!B$4","v":"OC6"},{"$f":"Race0104!E$5","v":"Men"},{"$f":"Race0104!D$5","v":"Senior Masters"},{"$f":"Race0104!D$4","v":"Marathon"},{"$f":"Race0104!A$45","v":38},{"$f":"Race0104!D$45","v":0},{"$f":"Race0104!C$45","v":0},{"$f":"Race0104!F$45","v":1}]
[null,{"$f":"Race0104!B$5","v":"Senior"},{"$f":"Race0104!B$4","v":"OC6"},{"$f":"Race0104!E$5","v":"Men"},{"$f":"Race0104!D$5","v":"Senior Masters"},{"$f":"Race0104!D$4","v":"Marathon"},{"$f":"Race0104!A$46","v":39},{"$f":"Race0104!D$46","v":0},{"$f":"Race0104!C$46","v":0},{"$f":"Race0104!F$46","v":1}]
[null,{"$f":"Race0104!B$5","v":"Senior"},{"$f":"Race0104!B$4","v":"OC6"},{"$f":"Race0104!E$5","v":"Men"},{"$f":"Race0104!D$5","v":"Senior Masters"},{"$f":"Race0104!D$4","v":"Marathon"},{"$f":"Race0104!A$47","v":40},{"$f":"Race0104!D$47","v":0},{"$f":"Race0104!C$47","v":0},{"$f":"Race0104!F$47","v":1}]
[null,{"$f":"Race0104!B$5","v":"Senior"},{"$f":"Race0104!B$4","v":"OC6"},{"$f":"Race0104!E$5","v":"Men"},{"$f":"Race0104!D$5","v":"Senior Masters"},{"$f":"Race0104!D$4","v":"Marathon"},{"$f":"Race0104!A$48","v":41},{"$f":"Race0104!D$48","v":0},{"$f":"Race0104!C$48","v":0},{"$f":"Race0104!F$48","v":1}]
[null,{"$f":"Race0104!B$5","v":"Senior"},{"$f":"Race0104!B$4","v":"OC6"},{"$f":"Race0104!E$5","v":"Men"},{"$f":"Race0104!D$5","v":"Senior Masters"},{"$f":"Race0104!D$4","v":"Marathon"},{"$f":"Race0104!A$49","v":42},{"$f":"Race0104!D$49","v":0},{"$f":"Race0104!C$49","v":0},{"$f":"Race0104!F$49","v":1}]
[null,{"$f":"Race0104!B$5","v":"Senior"},{"$f":"Race0104!B$4","v":"OC6"},{"$f":"Race0104!E$5","v":"Men"},{"$f":"Race0104!D$5","v":"Senior Masters"},{"$f":"Race0104!D$4","v":"Marathon"},{"$f":"Race0104!A$50","v":43},{"$f":"Race0104!D$50","v":0},{"$f":"Race0104!C$50","v":0},{"$f":"Race0104!F$50","v":1}]
[null,{"$f":"Race0104!B$5","v":"Senior"},{"$f":"Race0104!B$4","v":"OC6"},{"$f":"Race0104!E$5","v":"Men"},{"$f":"Race0104!D$5","v":"Senior Masters"},{"$f":"Race0104!D$4","v":"Marathon"},{"$f":"Race0104!A$51","v":44},{"$f":"Race0104!D$51","v":0},{"$f":"Race0104!C$51","v":0},{"$f":"Race0104!F$51","v":1}]
[null,{"$f":"Race0104!B$5","v":"Senior"},{"$f":"Race0104!B$4","v":"OC6"},{"$f":"Race0104!E$5","v":"Men"},{"$f":"Race0104!D$5","v":"Senior Masters"},{"$f":"Race0104!D$4","v":"Marathon"},{"$f":"Race0104!A$52","v":45},{"$f":"Race0104!D$52","v":0},{"$f":"Race0104!C$52","v":0},{"$f":"Race0104!F$52","v":1}]
[null,{"$f":"Race0104!B$5","v":"Senior"},{"$f":"Race0104!B$4","v":"OC6"},{"$f":"Race0104!E$5","v":"Men"},{"$f":"Race0104!D$5","v":"Senior Masters"},{"$f":"Race0104!D$4","v":"Marathon"},{"$f":"Race0104!A$53","v":46},{"$f":"Race0104!D$53","v":0},{"$f":"Race0104!C$53","v":0},{"$f":"Race0104!F$53","v":1}]
[null,{"$f":"Race0104!B$5","v":"Senior"},{"$f":"Race0104!B$4","v":"OC6"},{"$f":"Race0104!E$5","v":"Men"},{"$f":"Race0104!D$5","v":"Senior Masters"},{"$f":"Race0104!D$4","v":"Marathon"},{"$f":"Race0104!A$54","v":47},{"$f":"Race0104!D$54","v":0},{"$f":"Race0104!C$54","v":0},{"$f":"Race0104!F$54","v":1}]
[null,{"$f":"Race0104!B$5","v":"Senior"},{"$f":"Race0104!B$4","v":"OC6"},{"$f":"Race0104!E$5","v":"Men"},{"$f":"Race0104!D$5","v":"Senior Masters"},{"$f":"Race0104!D$4","v":"Marathon"},{"$f":"Race0104!A$55","v":48},{"$f":"Race0104!D$55","v":0},{"$f":"Race0104!C$55","v":0},{"$f":"Race0104!F$55","v":1}]
[null,{"$f":"Race0104!B$5","v":"Senior"},{"$f":"Race0104!B$4","v":"OC6"},{"$f":"Race0104!E$5","v":"Men"},{"$f":"Race0104!D$5","v":"Senior Masters"},{"$f":"Race0104!D$4","v":"Marathon"},{"$f":"Race0104!A$56","v":49},{"$f":"Race0104!D$56","v":0},{"$f":"Race0104!C$56","v":0},{"$f":"Race0104!F$56","v":1}]
[null,{"$f":"Race0104!B$5","v":"Senior"},{"$f":"Race0104!B$4","v":"OC6"},{"$f":"Race0104!E$5","v":"Men"},{"$f":"Race0104!D$5","v":"Senior Masters"},{"$f":"Race0104!D$4","v":"Marathon"},{"$f":"Race0104!A$57","v":50},{"$f":"Race0104!D$57","v":0},{"$f":"Race0104!C$57","v":0},{"$f":"Race0104!F$57","v":1}]
["Race0105",{"$f":"Race0105!B$5","v":"Senior"},{"$f":"Race0105!B$4","v":"OC6"},{"$f":"Race0105!E$5","v":"Men"},{"$f":"Race0105!D$5","v":"Golden Masters"},{"$f":"Race0105!D$4","v":"Marathon"},{"$f":"Race0105!A$8","v":1},{"$f":"Race0105!D$8","v":0},{"$f":"Race0105!C$8","v":0},{"$f":"Race0105!F$8","v":14}]
[null,{"$f":"Race0105!B$5","v":"Senior"},{"$f":"Race0105!B$4","v":"OC6"},{"$f":"Race0105!E$5","v":"Men"},{"$f":"Race0105!D$5","v":"Golden Masters"},{"$f":"Race0105!D$4","v":"Marathon"},{"$f":"Race0105!A$9","v":2},{"$f":"Race0105!D$9","v":0},{"$f":"Race0105!C$9","v":0},{"$f":"Race0105!F$9","v":12}]
[null,{"$f":"Race0105!B$5","v":"Senior"},{"$f":"Race0105!B$4","v":"OC6"},{"$f":"Race0105!E$5","v":"Men"},{"$f":"Race0105!D$5","v":"Golden Masters"},{"$f":"Race0105!D$4","v":"Marathon"},{"$f":"Race0105!A$10","v":3},{"$f":"Race0105!D$10","v":0},{"$f":"Race0105!C$10","v":0},{"$f":"Race0105!F$10","v":10}]
[null,{"$f":"Race0105!B$5","v":"Senior"},{"$f":"Race0105!B$4","v":"OC6"},{"$f":"Race0105!E$5","v":"Men"},{"$f":"Race0105!D$5","v":"Golden Masters"},{"$f":"Race0105!D$4","v":"Marathon"},{"$f":"Race0105!A$11","v":4},{"$f":"Race0105!D$11","v":0},{"$f":"Race0105!C$11","v":0},{"$f":"Race0105!F$11","v":8}]
[null,{"$f":"Race0105!B$5","v":"Senior"},{"$f":"Race0105!B$4","v":"OC6"},{"$f":"Race0105!E$5","v":"Men"},{"$f":"Race0105!D$5","v":"Golden Masters"},{"$f":"Race0105!D$4","v":"Marathon"},{"$f":"Race0105!A$12","v":5},{"$f":"Race0105!D$12","v":0},{"$f":"Race0105!C$12","v":0},{"$f":"Race0105!F$12","v":7}]
[null,{"$f":"Race0105!B$5","v":"Senior"},{"$f":"Race0105!B$4","v":"OC6"},{"$f":"Race0105!E$5","v":"Men"},{"$f":"Race0105!D$5","v":"Golden Masters"},{"$f":"Race0105!D$4","v":"Marathon"},{"$f":"Race0105!A$13","v":6},{"$f":"Race0105!D$13","v":0},{"$f":"Race0105!C$13","v":0},{"$f":"Race0105!F$13","v":6}]
[null,{"$f":"Race0105!B$5","v":"Senior"},{"$f":"Race0105!B$4","v":"OC6"},{"$f":"Race0105!E$5","v":"Men"},{"$f":"Race0105!D$5","v":"Golden Masters"},{"$f":"Race0105!D$4","v":"Marathon"},{"$f":"Race0105!A$14","v":7},{"$f":"Race0105!D$14","v":0},{"$f":"Race0105!C$14","v":0},{"$f":"Race0105!F$14","v":5}]
[null,{"$f":"Race0105!B$5","v":"Senior"},{"$f":"Race0105!B$4","v":"OC6"},{"$f":"Race0105!E$5","v":"Men"},{"$f":"Race0105!D$5","v":"Golden Masters"},{"$f":"Race0105!D$4","v":"Marathon"},{"$f":"Race0105!A$15","v":8},{"$f":"Race0105!D$15","v":0},{"$f":"Race0105!C$15","v":0},{"$f":"Race0105!F$15","v":4}]
[null,{"$f":"Race0105!B$5","v":"Senior"},{"$f":"Race0105!B$4","v":"OC6"},{"$f":"Race0105!E$5","v":"Men"},{"$f":"Race0105!D$5","v":"Golden Masters"},{"$f":"Race0105!D$4","v":"Marathon"},{"$f":"Race0105!A$16","v":9},{"$f":"Race0105!D$16","v":0},{"$f":"Race0105!C$16","v":0},{"$f":"Race0105!F$16","v":3}]
[null,{"$f":"Race0105!B$5","v":"Senior"},{"$f":"Race0105!B$4","v":"OC6"},{"$f":"Race0105!E$5","v":"Men"},{"$f":"Race0105!D$5","v":"Golden Masters"},{"$f":"Race0105!D$4","v":"Marathon"},{"$f":"Race0105!A$17","v":10},{"$f":"Race0105!D$17","v":0},{"$f":"Race0105!C$17","v":0},{"$f":"Race0105!F$17","v":2}]
[null,{"$f":"Race0105!B$5","v":"Senior"},{"$f":"Race0105!B$4","v":"OC6"},{"$f":"Race0105!E$5","v":"Men"},{"$f":"Race0105!D$5","v":"Golden Masters"},{"$f":"Race0105!D$4","v":"Marathon"},{"$f":"Race0105!A$18","v":11},{"$f":"Race0105!D$18","v":0},{"$f":"Race0105!C$18","v":0},{"$f":"Race0105!F$18","v":1}]
[null,{"$f":"Race0105!B$5","v":"Senior"},{"$f":"Race0105!B$4","v":"OC6"},{"$f":"Race0105!E$5","v":"Men"},{"$f":"Race0105!D$5","v":"Golden Masters"},{"$f":"Race0105!D$4","v":"Marathon"},{"$f":"Race0105!A$19","v":12},{"$f":"Race0105!D$19","v":0},{"$f":"Race0105!C$19","v":0},{"$f":"Race0105!F$19","v":1}]
[null,{"$f":"Race0105!B$5","v":"Senior"},{"$f":"Race0105!B$4","v":"OC6"},{"$f":"Race0105!E$5","v":"Men"},{"$f":"Race0105!D$5","v":"Golden Masters"},{"$f":"Race0105!D$4","v":"Marathon"},{"$f":"Race0105!A$20","v":13},{"$f":"Race0105!D$20","v":0},{"$f":"Race0105!C$20","v":0},{"$f":"Race0105!F$20","v":1}]
[null,{"$f":"Race0105!B$5","v":"Senior"},{"$f":"Race0105!B$4","v":"OC6"},{"$f":"Race0105!E$5","v":"Men"},{"$f":"Race0105!D$5","v":"Golden Masters"},{"$f":"Race0105!D$4","v":"Marathon"},{"$f":"Race0105!A$21","v":14},{"$f":"Race0105!D$21","v":0},{"$f":"Race0105!C$21","v":0},{"$f":"Race0105!F$21","v":1}]
[null,{"$f":"Race0105!B$5","v":"Senior"},{"$f":"Race0105!B$4","v":"OC6"},{"$f":"Race0105!E$5","v":"Men"},{"$f":"Race0105!D$5","v":"Golden Masters"},{"$f":"Race0105!D$4","v":"Marathon"},{"$f":"Race0105!A$22","v":15},{"$f":"Race0105!D$22","v":0},{"$f":"Race0105!C$22","v":0},{"$f":"Race0105!F$22","v":1}]
[null,{"$f":"Race0105!B$5","v":"Senior"},{"$f":"Race0105!B$4","v":"OC6"},{"$f":"Race0105!E$5","v":"Men"},{"$f":"Race0105!D$5","v":"Golden Masters"},{"$f":"Race0105!D$4","v":"Marathon"},{"$f":"Race0105!A$23","v":16},{"$f":"Race0105!D$23","v":0},{"$f":"Race0105!C$23","v":0},{"$f":"Race0105!F$23","v":1}]
[null,{"$f":"Race0105!B$5","v":"Senior"},{"$f":"Race0105!B$4","v":"OC6"},{"$f":"Race0105!E$5","v":"Men"},{"$f":"Race0105!D$5","v":"Golden Masters"},{"$f":"Race0105!D$4","v":"Marathon"},{"$f":"Race0105!A$24","v":17},{"$f":"Race0105!D$24","v":0},{"$f":"Race0105!C$24","v":0},{"$f":"Race0105!F$24","v":1}]
[null,{"$f":"Race0105!B$5","v":"Senior"},{"$f":"Race0105!B$4","v":"OC6"},{"$f":"Race0105!E$5","v":"Men"},{"$f":"Race0105!D$5","v":"Golden Masters"},{"$f":"Race0105!D$4","v":"Marathon"},{"$f":"Race0105!A$25","v":18},{"$f":"Race0105!D$25","v":0},{"$f":"Race0105!C$25","v":0},{"$f":"Race0105!F$25","v":1}]
[null,{"$f":"Race0105!B$5","v":"Senior"},{"$f":"Race0105!B$4","v":"OC6"},{"$f":"Race0105!E$5","v":"Men"},{"$f":"Race0105!D$5","v":"Golden Masters"},{"$f":"Race0105!D$4","v":"Marathon"},{"$f":"Race0105!A$26","v":19},{"$f":"Race0105!D$26","v":0},{"$f":"Race0105!C$26","v":0},{"$f":"Race0105!F$26","v":1}]
[null,{"$f":"Race0105!B$5","v":"Senior"},{"$f":"Race0105!B$4","v":"OC6"},{"$f":"Race0105!E$5","v":"Men"},{"$f":"Race0105!D$5","v":"Golden Masters"},{"$f":"Race0105!D$4","v":"Marathon"},{"$f":"Race0105!A$27","v":20},{"$f":"Race0105!D$27","v":0},{"$f":"Race0105!C$27","v":0},{"$f":"Race0105!F$27","v":1}]
[null,{"$f":"Race0105!B$5","v":"Senior"},{"$f":"Race0105!B$4","v":"OC6"},{"$f":"Race0105!E$5","v":"Men"},{"$f":"Race0105!D$5","v":"Golden Masters"},{"$f":"Race0105!D$4","v":"Marathon"},{"$f":"Race0105!A$28","v":21},{"$f":"Race0105!D$28","v":0},{"$f":"Race0105!C$28","v":0},{"$f":"Race0105!F$28","v":1}]
[null,{"$f":"Race0105!B$5","v":"Senior"},{"$f":"Race0105!B$4","v":"OC6"},{"$f":"Race0105!E$5","v":"Men"},{"$f":"Race0105!D$5","v":"Golden Masters"},{"$f":"Race0105!D$4","v":"Marathon"},{"$f":"Race0105!A$29","v":22},{"$f":"Race0105!D$29","v":0},{"$f":"Race0105!C$29","v":0},{"$f":"Race0105!F$29","v":1}]
[null,{"$f":"Race0105!B$5","v":"Senior"},{"$f":"Race0105!B$4","v":"OC6"},{"$f":"Race0105!E$5","v":"Men"},{"$f":"Race0105!D$5","v":"Golden Masters"},{"$f":"Race0105!D$4","v":"Marathon"},{"$f":"Race0105!A$30","v":23},{"$f":"Race0105!D$30","v":0},{"$f":"Race0105!C$30","v":0},{"$f":"Race0105!F$30","v":1}]
[null,{"$f":"Race0105!B$5","v":"Senior"},{"$f":"Race0105!B$4","v":"OC6"},{"$f":"Race0105!E$5","v":"Men"},{"$f":"Race0105!D$5","v":"Golden Masters"},{"$f":"Race0105!D$4","v":"Marathon"},{"$f":"Race0105!A$31","v":24},{"$f":"Race0105!D$31","v":0},{"$f":"Race0105!C$31","v":0},{"$f":"Race0105!F$31","v":1}]
[null,{"$f":"Race0105!B$5","v":"Senior"},{"$f":"Race0105!B$4","v":"OC6"},{"$f":"Race0105!E$5","v":"Men"},{"$f":"Race0105!D$5","v":"Golden Masters"},{"$f":"Race0105!D$4","v":"Marathon"},{"$f":"Race0105!A$32","v":25},{"$f":"Race0105!D$32","v":0},{"$f":"Race0105!C$32","v":0},{"$f":"Race0105!F$32","v":1}]
[null,{"$f":"Race0105!B$5","v":"Senior"},{"$f":"Race0105!B$4","v":"OC6"},{"$f":"Race0105!E$5","v":"Men"},{"$f":"Race0105!D$5","v":"Golden Masters"},{"$f":"Race0105!D$4","v":"Marathon"},{"$f":"Race0105!A$33","v":26},{"$f":"Race0105!D$33","v":0},{"$f":"Race0105!C$33","v":0},{"$f":"Race0105!F$33","v":1}]
[null,{"$f":"Race0105!B$5","v":"Senior"},{"$f":"Race0105!B$4","v":"OC6"},{"$f":"Race0105!E$5","v":"Men"},{"$f":"Race0105!D$5","v":"Golden Masters"},{"$f":"Race0105!D$4","v":"Marathon"},{"$f":"Race0105!A$34","v":27},{"$f":"Race0105!D$34","v":0},{"$f":"Race0105!C$34","v":0},{"$f":"Race0105!F$34","v":1}]
[null,{"$f":"Race0105!B$5","v":"Senior"},{"$f":"Race0105!B$4","v":"OC6"},{"$f":"Race0105!E$5","v":"Men"},{"$f":"Race0105!D$5","v":"Golden Masters"},{"$f":"Race0105!D$4","v":"Marathon"},{"$f":"Race0105!A$35","v":28},{"$f":"Race0105!D$35","v":0},{"$f":"Race0105!C$35","v":0},{"$f":"Race0105!F$35","v":1}]
[null,{"$f":"Race0105!B$5","v":"Senior"},{"$f":"Race0105!B$4","v":"OC6"},{"$f":"Race0105!E$5","v":"Men"},{"$f":"Race0105!D$5","v":"Golden Masters"},{"$f":"Race0105!D$4","v":"Marathon"},{"$f":"Race0105!A$36","v":29},{"$f":"Race0105!D$36","v":0},{"$f":"Race0105!C$36","v":0},{"$f":"Race0105!F$36","v":1}]
[null,{"$f":"Race0105!B$5","v":"Senior"},{"$f":"Race0105!B$4","v":"OC6"},{"$f":"Race0105!E$5","v":"Men"},{"$f":"Race0105!D$5","v":"Golden Masters"},{"$f":"Race0105!D$4","v":"Marathon"},{"$f":"Race0105!A$37","v":30},{"$f":"Race0105!D$37","v":0},{"$f":"Race0105!C$37","v":0},{"$f":"Race0105!F$37","v":1}]
[null,{"$f":"Race0105!B$5","v":"Senior"},{"$f":"Race0105!B$4","v":"OC6"},{"$f":"Race0105!E$5","v":"Men"},{"$f":"Race0105!D$5","v":"Golden Masters"},{"$f":"Race0105!D$4","v":"Marathon"},{"$f":"Race0105!A$38","v":31},{"$f":"Race0105!D$38","v":0},{"$f":"Race0105!C$38","v":0},{"$f":"Race0105!F$38","v":1}]
[null,{"$f":"Race0105!B$5","v":"Senior"},{"$f":"Race0105!B$4","v":"OC6"},{"$f":"Race0105!E$5","v":"Men"},{"$f":"Race0105!D$5","v":"Golden Masters"},{"$f":"Race0105!D$4","v":"Marathon"},{"$f":"Race0105!A$39","v":32},{"$f":"Race0105!D$39","v":0},{"$f":"Race0105!C$39","v":0},{"$f":"Race0105!F$39","v":1}]
[null,{"$f":"Race0105!B$5","v":"Senior"},{"$f":"Race0105!B$4","v":"OC6"},{"$f":"Race0105!E$5","v":"Men"},{"$f":"Race0105!D$5","v":"Golden Masters"},{"$f":"Race0105!D$4","v":"Marathon"},{"$f":"Race0105!A$40","v":33},{"$f":"Race0105!D$40","v":0},{"$f":"Race0105!C$40","v":0},{"$f":"Race0105!F$40","v":1}]
[null,{"$f":"Race0105!B$5","v":"Senior"},{"$f":"Race0105!B$4","v":"OC6"},{"$f":"Race0105!E$5","v":"Men"},{"$f":"Race0105!D$5","v":"Golden Masters"},{"$f":"Race0105!D$4","v":"Marathon"},{"$f":"Race0105!A$41","v":34},{"$f":"Race0105!D$41","v":0},{"$f":"Race0105!C$41","v":0},{"$f":"Race0105!F$41","v":1}]
[null,{"$f":"Race0105!B$5","v":"Senior"},{"$f":"Race0105!B$4","v":"OC6"},{"$f":"Race0105!E$5","v":"Men"},{"$f":"Race0105!D$5","v":"Golden Masters"},{"$f":"Race0105!D$4","v":"Marathon"},{"$f":"Race0105!A$42","v":35},{"$f":"Race0105!D$42","v":0},{"$f":"Race0105!C$42","v":0},{"$f":"Race0105!F$42","v":1}]
[null,{"$f":"Race0105!B$5","v":"Senior"},{"$f":"Race0105!B$4","v":"OC6"},{"$f":"Race0105!E$5","v":"Men"},{"$f":"Race0105!D$5","v":"Golden Masters"},{"$f":"Race0105!D$4","v":"Marathon"},{"$f":"Race0105!A$43","v":36},{"$f":"Race0105!D$43","v":0},{"$f":"Race0105!C$43","v":0},{"$f":"Race0105!F$43","v":1}]
[null,{"$f":"Race0105!B$5","v":"Senior"},{"$f":"Race0105!B$4","v":"OC6"},{"$f":"Race0105!E$5","v":"Men"},{"$f":"Race0105!D$5","v":"Golden Masters"},{"$f":"Race0105!D$4","v":"Marathon"},{"$f":"Race0105!A$44","v":37},{"$f":"Race0105!D$44","v":0},{"$f":"Race0105!C$44","v":0},{"$f":"Race0105!F$44","v":1}]
[null,{"$f":"Race0105!B$5","v":"Senior"},{"$f":"Race0105!B$4","v":"OC6"},{"$f":"Race0105!E$5","v":"Men"},{"$f":"Race0105!D$5","v":"Golden Masters"},{"$f":"Race0105!D$4","v":"Marathon"},{"$f":"Race0105!A$45","v":38},{"$f":"Race0105!D$45","v":0},{"$f":"Race0105!C$45","v":0},{"$f":"Race0105!F$45","v":1}]
[null,{"$f":"Race0105!B$5","v":"Senior"},{"$f":"Race0105!B$4","v":"OC6"},{"$f":"Race0105!E$5","v":"Men"},{"$f":"Race0105!D$5","v":"Golden Masters"},{"$f":"Race0105!D$4","v":"Marathon"},{"$f":"Race0105!A$46","v":39},{"$f":"Race0105!D$46","v":0},{"$f":"Race0105!C$46","v":0},{"$f":"Race0105!F$46","v":1}]
[null,{"$f":"Race0105!B$5","v":"Senior"},{"$f":"Race0105!B$4","v":"OC6"},{"$f":"Race0105!E$5","v":"Men"},{"$f":"Race0105!D$5","v":"Golden Masters"},{"$f":"Race0105!D$4","v":"Marathon"},{"$f":"Race0105!A$47","v":40},{"$f":"Race0105!D$47","v":0},{"$f":"Race0105!C$47","v":0},{"$f":"Race0105!F$47","v":1}]
[null,{"$f":"Race0105!B$5","v":"Senior"},{"$f":"Race0105!B$4","v":"OC6"},{"$f":"Race0105!E$5","v":"Men"},{"$f":"Race0105!D$5","v":"Golden Masters"},{"$f":"Race0105!D$4","v":"Marathon"},{"$f":"Race0105!A$48","v":41},{"$f":"Race0105!D$48","v":0},{"$f":"Race0105!C$48","v":0},{"$f":"Race0105!F$48","v":1}]
[null,{"$f":"Race0105!B$5","v":"Senior"},{"$f":"Race0105!B$4","v":"OC6"},{"$f":"Race0105!E$5","v":"Men"},{"$f":"Race0105!D$5","v":"Golden Masters"},{"$f":"Race0105!D$4","v":"Marathon"},{"$f":"Race0105!A$49","v":42},{"$f":"Race0105!D$49","v":0},{"$f":"Race0105!C$49","v":0},{"$f":"Race0105!F$49","v":1}]
[null,{"$f":"Race0105!B$5","v":"Senior"},{"$f":"Race0105!B$4","v":"OC6"},{"$f":"Race0105!E$5","v":"Men"},{"$f":"Race0105!D$5","v":"Golden Masters"},{"$f":"Race0105!D$4","v":"Marathon"},{"$f":"Race0105!A$50","v":43},{"$f":"Race0105!D$50","v":0},{"$f":"Race0105!C$50","v":0},{"$f":"Race0105!F$50","v":1}]
[null,{"$f":"Race0105!B$5","v":"Senior"},{"$f":"Race0105!B$4","v":"OC6"},{"$f":"Race0105!E$5","v":"Men"},{"$f":"Race0105!D$5","v":"Golden Masters"},{"$f":"Race0105!D$4","v":"Marathon"},{"$f":"Race0105!A$51","v":44},{"$f":"Race0105!D$51","v":0},{"$f":"Race0105!C$51","v":0},{"$f":"Race0105!F$51","v":1}]
[null,{"$f":"Race0105!B$5","v":"Senior"},{"$f":"Race0105!B$4","v":"OC6"},{"$f":"Race0105!E$5","v":"Men"},{"$f":"Race0105!D$5","v":"Golden Masters"},{"$f":"Race0105!D$4","v":"Marathon"},{"$f":"Race0105!A$52","v":45},{"$f":"Race0105!D$52","v":0},{"$f":"Race0105!C$52","v":0},{"$f":"Race0105!F$52","v":1}]
[null,{"$f":"Race0105!B$5","v":"Senior"},{"$f":"Race0105!B$4","v":"OC6"},{"$f":"Race0105!E$5","v":"Men"},{"$f":"Race0105!D$5","v":"Golden Masters"},{"$f":"Race0105!D$4","v":"Marathon"},{"$f":"Race0105!A$53","v":46},{"$f":"Race0105!D$53","v":0},{"$f":"Race0105!C$53","v":0},{"$f":"Race0105!F$53","v":1}]
[null,{"$f":"Race0105!B$5","v":"Senior"},{"$f":"Race0105!B$4","v":"OC6"},{"$f":"Race0105!E$5","v":"Men"},{"$f":"Race0105!D$5","v":"Golden Masters"},{"$f":"Race0105!D$4","v":"Marathon"},{"$f":"Race0105!A$54","v":47},{"$f":"Race0105!D$54","v":0},{"$f":"Race0105!C$54","v":0},{"$f":"Race0105!F$54","v":1}]
[null,{"$f":"Race0105!B$5","v":"Senior"},{"$f":"Race0105!B$4","v":"OC6"},{"$f":"Race0105!E$5","v":"Men"},{"$f":"Race0105!D$5","v":"Golden Masters"},{"$f":"Race0105!D$4","v":"Marathon"},{"$f":"Race0105!A$55","v":48},{"$f":"Race0105!D$55","v":0},{"$f":"Race0105!C$55","v":0},{"$f":"Race0105!F$55","v":1}]
[null,{"$f":"Race0105!B$5","v":"Senior"},{"$f":"Race0105!B$4","v":"OC6"},{"$f":"Race0105!E$5","v":"Men"},{"$f":"Race0105!D$5","v":"Golden Masters"},{"$f":"Race0105!D$4","v":"Marathon"},{"$f":"Race0105!A$56","v":49},{"$f":"Race0105!D$56","v":0},{"$f":"Race0105!C$56","v":0},{"$f":"Race0105!F$56","v":1}]
[null,{"$f":"Race0105!B$5","v":"Senior"},{"$f":"Race0105!B$4","v":"OC6"},{"$f":"Race0105!E$5","v":"Men"},{"$f":"Race0105!D$5","v":"Golden Masters"},{"$f":"Race0105!D$4","v":"Marathon"},{"$f":"Race0105!A$57","v":50},{"$f":"Race0105!D$57","v":0},{"$f":"Race0105!C$57","v":0},{"$f":"Race0105!F$57","v":1}]
["Race0106",{"$f":"Race0106!B$5","v":"Senior"},{"$f":"Race0106!B$4","v":"OC6"},{"$f":"Race0106!E$5","v":"Women"},{"$f":"Race0106!D$5","v":"21 & Under"},{"$f":"Race0106!D$4","v":"Marathon"},{"$f":"Race0106!A$8","v":1},{"$f":"Race0106!D$8","v":0},{"$f":"Race0106!C$8","v":0},{"$f":"Race0106!F$8","v":14}]
[null,{"$f":"Race0106!B$5","v":"Senior"},{"$f":"Race0106!B$4","v":"OC6"},{"$f":"Race0106!E$5","v":"Women"},{"$f":"Race0106!D$5","v":"21 & Under"},{"$f":"Race0106!D$4","v":"Marathon"},{"$f":"Race0106!A$9","v":2},{"$f":"Race0106!D$9","v":0},{"$f":"Race0106!C$9","v":0},{"$f":"Race0106!F$9","v":12}]
[null,{"$f":"Race0106!B$5","v":"Senior"},{"$f":"Race0106!B$4","v":"OC6"},{"$f":"Race0106!E$5","v":"Women"},{"$f":"Race0106!D$5","v":"21 & Under"},{"$f":"Race0106!D$4","v":"Marathon"},{"$f":"Race0106!A$10","v":3},{"$f":"Race0106!D$10","v":0},{"$f":"Race0106!C$10","v":0},{"$f":"Race0106!F$10","v":10}]
[null,{"$f":"Race0106!B$5","v":"Senior"},{"$f":"Race0106!B$4","v":"OC6"},{"$f":"Race0106!E$5","v":"Women"},{"$f":"Race0106!D$5","v":"21 & Under"},{"$f":"Race0106!D$4","v":"Marathon"},{"$f":"Race0106!A$11","v":4},{"$f":"Race0106!D$11","v":0},{"$f":"Race0106!C$11","v":0},{"$f":"Race0106!F$11","v":8}]
[null,{"$f":"Race0106!B$5","v":"Senior"},{"$f":"Race0106!B$4","v":"OC6"},{"$f":"Race0106!E$5","v":"Women"},{"$f":"Race0106!D$5","v":"21 & Under"},{"$f":"Race0106!D$4","v":"Marathon"},{"$f":"Race0106!A$12","v":5},{"$f":"Race0106!D$12","v":0},{"$f":"Race0106!C$12","v":0},{"$f":"Race0106!F$12","v":7}]
[null,{"$f":"Race0106!B$5","v":"Senior"},{"$f":"Race0106!B$4","v":"OC6"},{"$f":"Race0106!E$5","v":"Women"},{"$f":"Race0106!D$5","v":"21 & Under"},{"$f":"Race0106!D$4","v":"Marathon"},{"$f":"Race0106!A$13","v":6},{"$f":"Race0106!D$13","v":0},{"$f":"Race0106!C$13","v":0},{"$f":"Race0106!F$13","v":6}]
[null,{"$f":"Race0106!B$5","v":"Senior"},{"$f":"Race0106!B$4","v":"OC6"},{"$f":"Race0106!E$5","v":"Women"},{"$f":"Race0106!D$5","v":"21 & Under"},{"$f":"Race0106!D$4","v":"Marathon"},{"$f":"Race0106!A$14","v":7},{"$f":"Race0106!D$14","v":0},{"$f":"Race0106!C$14","v":0},{"$f":"Race0106!F$14","v":5}]
[null,{"$f":"Race0106!B$5","v":"Senior"},{"$f":"Race0106!B$4","v":"OC6"},{"$f":"Race0106!E$5","v":"Women"},{"$f":"Race0106!D$5","v":"21 & Under"},{"$f":"Race0106!D$4","v":"Marathon"},{"$f":"Race0106!A$15","v":8},{"$f":"Race0106!D$15","v":0},{"$f":"Race0106!C$15","v":0},{"$f":"Race0106!F$15","v":4}]
[null,{"$f":"Race0106!B$5","v":"Senior"},{"$f":"Race0106!B$4","v":"OC6"},{"$f":"Race0106!E$5","v":"Women"},{"$f":"Race0106!D$5","v":"21 & Under"},{"$f":"Race0106!D$4","v":"Marathon"},{"$f":"Race0106!A$16","v":9},{"$f":"Race0106!D$16","v":0},{"$f":"Race0106!C$16","v":0},{"$f":"Race0106!F$16","v":3}]
[null,{"$f":"Race0106!B$5","v":"Senior"},{"$f":"Race0106!B$4","v":"OC6"},{"$f":"Race0106!E$5","v":"Women"},{"$f":"Race0106!D$5","v":"21 & Under"},{"$f":"Race0106!D$4","v":"Marathon"},{"$f":"Race0106!A$17","v":10},{"$f":"Race0106!D$17","v":0},{"$f":"Race0106!C$17","v":0},{"$f":"Race0106!F$17","v":2}]
[null,{"$f":"Race0106!B$5","v":"Senior"},{"$f":"Race0106!B$4","v":"OC6"},{"$f":"Race0106!E$5","v":"Women"},{"$f":"Race0106!D$5","v":"21 & Under"},{"$f":"Race0106!D$4","v":"Marathon"},{"$f":"Race0106!A$18","v":11},{"$f":"Race0106!D$18","v":0},{"$f":"Race0106!C$18","v":0},{"$f":"Race0106!F$18","v":1}]
[null,{"$f":"Race0106!B$5","v":"Senior"},{"$f":"Race0106!B$4","v":"OC6"},{"$f":"Race0106!E$5","v":"Women"},{"$f":"Race0106!D$5","v":"21 & Under"},{"$f":"Race0106!D$4","v":"Marathon"},{"$f":"Race0106!A$19","v":12},{"$f":"Race0106!D$19","v":0},{"$f":"Race0106!C$19","v":0},{"$f":"Race0106!F$19","v":1}]
[null,{"$f":"Race0106!B$5","v":"Senior"},{"$f":"Race0106!B$4","v":"OC6"},{"$f":"Race0106!E$5","v":"Women"},{"$f":"Race0106!D$5","v":"21 & Under"},{"$f":"Race0106!D$4","v":"Marathon"},{"$f":"Race0106!A$20","v":13},{"$f":"Race0106!D$20","v":0},{"$f":"Race0106!C$20","v":0},{"$f":"Race0106!F$20","v":1}]
[null,{"$f":"Race0106!B$5","v":"Senior"},{"$f":"Race0106!B$4","v":"OC6"},{"$f":"Race0106!E$5","v":"Women"},{"$f":"Race0106!D$5","v":"21 & Under"},{"$f":"Race0106!D$4","v":"Marathon"},{"$f":"Race0106!A$21","v":14},{"$f":"Race0106!D$21","v":0},{"$f":"Race0106!C$21","v":0},{"$f":"Race0106!F$21","v":1}]
[null,{"$f":"Race0106!B$5","v":"Senior"},{"$f":"Race0106!B$4","v":"OC6"},{"$f":"Race0106!E$5","v":"Women"},{"$f":"Race0106!D$5","v":"21 & Under"},{"$f":"Race0106!D$4","v":"Marathon"},{"$f":"Race0106!A$22","v":15},{"$f":"Race0106!D$22","v":0},{"$f":"Race0106!C$22","v":0},{"$f":"Race0106!F$22","v":1}]
[null,{"$f":"Race0106!B$5","v":"Senior"},{"$f":"Race0106!B$4","v":"OC6"},{"$f":"Race0106!E$5","v":"Women"},{"$f":"Race0106!D$5","v":"21 & Under"},{"$f":"Race0106!D$4","v":"Marathon"},{"$f":"Race0106!A$23","v":16},{"$f":"Race0106!D$23","v":0},{"$f":"Race0106!C$23","v":0},{"$f":"Race0106!F$23","v":1}]
[null,{"$f":"Race0106!B$5","v":"Senior"},{"$f":"Race0106!B$4","v":"OC6"},{"$f":"Race0106!E$5","v":"Women"},{"$f":"Race0106!D$5","v":"21 & Under"},{"$f":"Race0106!D$4","v":"Marathon"},{"$f":"Race0106!A$24","v":17},{"$f":"Race0106!D$24","v":0},{"$f":"Race0106!C$24","v":0},{"$f":"Race0106!F$24","v":1}]
[null,{"$f":"Race0106!B$5","v":"Senior"},{"$f":"Race0106!B$4","v":"OC6"},{"$f":"Race0106!E$5","v":"Women"},{"$f":"Race0106!D$5","v":"21 & Under"},{"$f":"Race0106!D$4","v":"Marathon"},{"$f":"Race0106!A$25","v":18},{"$f":"Race0106!D$25","v":0},{"$f":"Race0106!C$25","v":0},{"$f":"Race0106!F$25","v":1}]
[null,{"$f":"Race0106!B$5","v":"Senior"},{"$f":"Race0106!B$4","v":"OC6"},{"$f":"Race0106!E$5","v":"Women"},{"$f":"Race0106!D$5","v":"21 & Under"},{"$f":"Race0106!D$4","v":"Marathon"},{"$f":"Race0106!A$26","v":19},{"$f":"Race0106!D$26","v":0},{"$f":"Race0106!C$26","v":0},{"$f":"Race0106!F$26","v":1}]
[null,{"$f":"Race0106!B$5","v":"Senior"},{"$f":"Race0106!B$4","v":"OC6"},{"$f":"Race0106!E$5","v":"Women"},{"$f":"Race0106!D$5","v":"21 & Under"},{"$f":"Race0106!D$4","v":"Marathon"},{"$f":"Race0106!A$27","v":20},{"$f":"Race0106!D$27","v":0},{"$f":"Race0106!C$27","v":0},{"$f":"Race0106!F$27","v":1}]
[null,{"$f":"Race0106!B$5","v":"Senior"},{"$f":"Race0106!B$4","v":"OC6"},{"$f":"Race0106!E$5","v":"Women"},{"$f":"Race0106!D$5","v":"21 & Under"},{"$f":"Race0106!D$4","v":"Marathon"},{"$f":"Race0106!A$28","v":21},{"$f":"Race0106!D$28","v":0},{"$f":"Race0106!C$28","v":0},{"$f":"Race0106!F$28","v":1}]
[null,{"$f":"Race0106!B$5","v":"Senior"},{"$f":"Race0106!B$4","v":"OC6"},{"$f":"Race0106!E$5","v":"Women"},{"$f":"Race0106!D$5","v":"21 & Under"},{"$f":"Race0106!D$4","v":"Marathon"},{"$f":"Race0106!A$29","v":22},{"$f":"Race0106!D$29","v":0},{"$f":"Race0106!C$29","v":0},{"$f":"Race0106!F$29","v":1}]
[null,{"$f":"Race0106!B$5","v":"Senior"},{"$f":"Race0106!B$4","v":"OC6"},{"$f":"Race0106!E$5","v":"Women"},{"$f":"Race0106!D$5","v":"21 & Under"},{"$f":"Race0106!D$4","v":"Marathon"},{"$f":"Race0106!A$30","v":23},{"$f":"Race0106!D$30","v":0},{"$f":"Race0106!C$30","v":0},{"$f":"Race0106!F$30","v":1}]
[null,{"$f":"Race0106!B$5","v":"Senior"},{"$f":"Race0106!B$4","v":"OC6"},{"$f":"Race0106!E$5","v":"Women"},{"$f":"Race0106!D$5","v":"21 & Under"},{"$f":"Race0106!D$4","v":"Marathon"},{"$f":"Race0106!A$31","v":24},{"$f":"Race0106!D$31","v":0},{"$f":"Race0106!C$31","v":0},{"$f":"Race0106!F$31","v":1}]
[null,{"$f":"Race0106!B$5","v":"Senior"},{"$f":"Race0106!B$4","v":"OC6"},{"$f":"Race0106!E$5","v":"Women"},{"$f":"Race0106!D$5","v":"21 & Under"},{"$f":"Race0106!D$4","v":"Marathon"},{"$f":"Race0106!A$32","v":25},{"$f":"Race0106!D$32","v":0},{"$f":"Race0106!C$32","v":0},{"$f":"Race0106!F$32","v":1}]
[null,{"$f":"Race0106!B$5","v":"Senior"},{"$f":"Race0106!B$4","v":"OC6"},{"$f":"Race0106!E$5","v":"Women"},{"$f":"Race0106!D$5","v":"21 & Under"},{"$f":"Race0106!D$4","v":"Marathon"},{"$f":"Race0106!A$33","v":26},{"$f":"Race0106!D$33","v":0},{"$f":"Race0106!C$33","v":0},{"$f":"Race0106!F$33","v":1}]
[null,{"$f":"Race0106!B$5","v":"Senior"},{"$f":"Race0106!B$4","v":"OC6"},{"$f":"Race0106!E$5","v":"Women"},{"$f":"Race0106!D$5","v":"21 & Under"},{"$f":"Race0106!D$4","v":"Marathon"},{"$f":"Race0106!A$34","v":27},{"$f":"Race0106!D$34","v":0},{"$f":"Race0106!C$34","v":0},{"$f":"Race0106!F$34","v":1}]
[null,{"$f":"Race0106!B$5","v":"Senior"},{"$f":"Race0106!B$4","v":"OC6"},{"$f":"Race0106!E$5","v":"Women"},{"$f":"Race0106!D$5","v":"21 & Under"},{"$f":"Race0106!D$4","v":"Marathon"},{"$f":"Race0106!A$35","v":28},{"$f":"Race0106!D$35","v":0},{"$f":"Race0106!C$35","v":0},{"$f":"Race0106!F$35","v":1}]
[null,{"$f":"Race0106!B$5","v":"Senior"},{"$f":"Race0106!B$4","v":"OC6"},{"$f":"Race0106!E$5","v":"Women"},{"$f":"Race0106!D$5","v":"21 & Under"},{"$f":"Race0106!D$4","v":"Marathon"},{"$f":"Race0106!A$36","v":29},{"$f":"Race0106!D$36","v":0},{"$f":"Race0106!C$36","v":0},{"$f":"Race0106!F$36","v":1}]
[null,{"$f":"Race0106!B$5","v":"Senior"},{"$f":"Race0106!B$4","v":"OC6"},{"$f":"Race0106!E$5","v":"Women"},{"$f":"Race0106!D$5","v":"21 & Under"},{"$f":"Race0106!D$4","v":"Marathon"},{"$f":"Race0106!A$37","v":30},{"$f":"Race0106!D$37","v":0},{"$f":"Race0106!C$37","v":0},{"$f":"Race0106!F$37","v":1}]
[null,{"$f":"Race0106!B$5","v":"Senior"},{"$f":"Race0106!B$4","v":"OC6"},{"$f":"Race0106!E$5","v":"Women"},{"$f":"Race0106!D$5","v":"21 & Under"},{"$f":"Race0106!D$4","v":"Marathon"},{"$f":"Race0106!A$38","v":31},{"$f":"Race0106!D$38","v":0},{"$f":"Race0106!C$38","v":0},{"$f":"Race0106!F$38","v":1}]
[null,{"$f":"Race0106!B$5","v":"Senior"},{"$f":"Race0106!B$4","v":"OC6"},{"$f":"Race0106!E$5","v":"Women"},{"$f":"Race0106!D$5","v":"21 & Under"},{"$f":"Race0106!D$4","v":"Marathon"},{"$f":"Race0106!A$39","v":32},{"$f":"Race0106!D$39","v":0},{"$f":"Race0106!C$39","v":0},{"$f":"Race0106!F$39","v":1}]
[null,{"$f":"Race0106!B$5","v":"Senior"},{"$f":"Race0106!B$4","v":"OC6"},{"$f":"Race0106!E$5","v":"Women"},{"$f":"Race0106!D$5","v":"21 & Under"},{"$f":"Race0106!D$4","v":"Marathon"},{"$f":"Race0106!A$40","v":33},{"$f":"Race0106!D$40","v":0},{"$f":"Race0106!C$40","v":0},{"$f":"Race0106!F$40","v":1}]
[null,{"$f":"Race0106!B$5","v":"Senior"},{"$f":"Race0106!B$4","v":"OC6"},{"$f":"Race0106!E$5","v":"Women"},{"$f":"Race0106!D$5","v":"21 & Under"},{"$f":"Race0106!D$4","v":"Marathon"},{"$f":"Race0106!A$41","v":34},{"$f":"Race0106!D$41","v":0},{"$f":"Race0106!C$41","v":0},{"$f":"Race0106!F$41","v":1}]
[null,{"$f":"Race0106!B$5","v":"Senior"},{"$f":"Race0106!B$4","v":"OC6"},{"$f":"Race0106!E$5","v":"Women"},{"$f":"Race0106!D$5","v":"21 & Under"},{"$f":"Race0106!D$4","v":"Marathon"},{"$f":"Race0106!A$42","v":35},{"$f":"Race0106!D$42","v":0},{"$f":"Race0106!C$42","v":0},{"$f":"Race0106!F$42","v":1}]
[null,{"$f":"Race0106!B$5","v":"Senior"},{"$f":"Race0106!B$4","v":"OC6"},{"$f":"Race0106!E$5","v":"Women"},{"$f":"Race0106!D$5","v":"21 & Under"},{"$f":"Race0106!D$4","v":"Marathon"},{"$f":"Race0106!A$43","v":36},{"$f":"Race0106!D$43","v":0},{"$f":"Race0106!C$43","v":0},{"$f":"Race0106!F$43","v":1}]
[null,{"$f":"Race0106!B$5","v":"Senior"},{"$f":"Race0106!B$4","v":"OC6"},{"$f":"Race0106!E$5","v":"Women"},{"$f":"Race0106!D$5","v":"21 & Under"},{"$f":"Race0106!D$4","v":"Marathon"},{"$f":"Race0106!A$44","v":37},{"$f":"Race0106!D$44","v":0},{"$f":"Race0106!C$44","v":0},{"$f":"Race0106!F$44","v":1}]
[null,{"$f":"Race0106!B$5","v":"Senior"},{"$f":"Race0106!B$4","v":"OC6"},{"$f":"Race0106!E$5","v":"Women"},{"$f":"Race0106!D$5","v":"21 & Under"},{"$f":"Race0106!D$4","v":"Marathon"},{"$f":"Race0106!A$45","v":38},{"$f":"Race0106!D$45","v":0},{"$f":"Race0106!C$45","v":0},{"$f":"Race0106!F$45","v":1}]
[null,{"$f":"Race0106!B$5","v":"Senior"},{"$f":"Race0106!B$4","v":"OC6"},{"$f":"Race0106!E$5","v":"Women"},{"$f":"Race0106!D$5","v":"21 & Under"},{"$f":"Race0106!D$4","v":"Marathon"},{"$f":"Race0106!A$46","v":39},{"$f":"Race0106!D$46","v":0},{"$f":"Race0106!C$46","v":0},{"$f":"Race0106!F$46","v":1}]
[null,{"$f":"Race0106!B$5","v":"Senior"},{"$f":"Race0106!B$4","v":"OC6"},{"$f":"Race0106!E$5","v":"Women"},{"$f":"Race0106!D$5","v":"21 & Under"},{"$f":"Race0106!D$4","v":"Marathon"},{"$f":"Race0106!A$47","v":40},{"$f":"Race0106!D$47","v":0},{"$f":"Race0106!C$47","v":0},{"$f":"Race0106!F$47","v":1}]
[null,{"$f":"Race0106!B$5","v":"Senior"},{"$f":"Race0106!B$4","v":"OC6"},{"$f":"Race0106!E$5","v":"Women"},{"$f":"Race0106!D$5","v":"21 & Under"},{"$f":"Race0106!D$4","v":"Marathon"},{"$f":"Race0106!A$48","v":41},{"$f":"Race0106!D$48","v":0},{"$f":"Race0106!C$48","v":0},{"$f":"Race0106!F$48","v":1}]
[null,{"$f":"Race0106!B$5","v":"Senior"},{"$f":"Race0106!B$4","v":"OC6"},{"$f":"Race0106!E$5","v":"Women"},{"$f":"Race0106!D$5","v":"21 & Under"},{"$f":"Race0106!D$4","v":"Marathon"},{"$f":"Race0106!A$49","v":42},{"$f":"Race0106!D$49","v":0},{"$f":"Race0106!C$49","v":0},{"$f":"Race0106!F$49","v":1}]
[null,{"$f":"Race0106!B$5","v":"Senior"},{"$f":"Race0106!B$4","v":"OC6"},{"$f":"Race0106!E$5","v":"Women"},{"$f":"Race0106!D$5","v":"21 & Under"},{"$f":"Race0106!D$4","v":"Marathon"},{"$f":"Race0106!A$50","v":43},{"$f":"Race0106!D$50","v":0},{"$f":"Race0106!C$50","v":0},{"$f":"Race0106!F$50","v":1}]
[null,{"$f":"Race0106!B$5","v":"Senior"},{"$f":"Race0106!B$4","v":"OC6"},{"$f":"Race0106!E$5","v":"Women"},{"$f":"Race0106!D$5","v":"21 & Under"},{"$f":"Race0106!D$4","v":"Marathon"},{"$f":"Race0106!A$51","v":44},{"$f":"Race0106!D$51","v":0},{"$f":"Race0106!C$51","v":0},{"$f":"Race0106!F$51","v":1}]
[null,{"$f":"Race0106!B$5","v":"Senior"},{"$f":"Race0106!B$4","v":"OC6"},{"$f":"Race0106!E$5","v":"Women"},{"$f":"Race0106!D$5","v":"21 & Under"},{"$f":"Race0106!D$4","v":"Marathon"},{"$f":"Race0106!A$52","v":45},{"$f":"Race0106!D$52","v":0},{"$f":"Race0106!C$52","v":0},{"$f":"Race0106!F$52","v":1}]
[null,{"$f":"Race0106!B$5","v":"Senior"},{"$f":"Race0106!B$4","v":"OC6"},{"$f":"Race0106!E$5","v":"Women"},{"$f":"Race0106!D$5","v":"21 & Under"},{"$f":"Race0106!D$4","v":"Marathon"},{"$f":"Race0106!A$53","v":46},{"$f":"Race0106!D$53","v":0},{"$f":"Race0106!C$53","v":0},{"$f":"Race0106!F$53","v":1}]
[null,{"$f":"Race0106!B$5","v":"Senior"},{"$f":"Race0106!B$4","v":"OC6"},{"$f":"Race0106!E$5","v":"Women"},{"$f":"Race0106!D$5","v":"21 & Under"},{"$f":"Race0106!D$4","v":"Marathon"},{"$f":"Race0106!A$54","v":47},{"$f":"Race0106!D$54","v":0},{"$f":"Race0106!C$54","v":0},{"$f":"Race0106!F$54","v":1}]
[null,{"$f":"Race0106!B$5","v":"Senior"},{"$f":"Race0106!B$4","v":"OC6"},{"$f":"Race0106!E$5","v":"Women"},{"$f":"Race0106!D$5","v":"21 & Under"},{"$f":"Race0106!D$4","v":"Marathon"},{"$f":"Race0106!A$55","v":48},{"$f":"Race0106!D$55","v":0},{"$f":"Race0106!C$55","v":0},{"$f":"Race0106!F$55","v":1}]
[null,{"$f":"Race0106!B$5","v":"Senior"},{"$f":"Race0106!B$4","v":"OC6"},{"$f":"Race0106!E$5","v":"Women"},{"$f":"Race0106!D$5","v":"21 & Under"},{"$f":"Race0106!D$4","v":"Marathon"},{"$f":"Race0106!A$56","v":49},{"$f":"Race0106!D$56","v":0},{"$f":"Race0106!C$56","v":0},{"$f":"Race0106!F$56","v":1}]
[null,{"$f":"Race0106!B$5","v":"Senior"},{"$f":"Race0106!B$4","v":"OC6"},{"$f":"Race0106!E$5","v":"Women"},{"$f":"Race0106!D$5","v":"21 & Under"},{"$f":"Race0106!D$4","v":"Marathon"},{"$f":"Race0106!A$57","v":50},{"$f":"Race0106!D$57","v":0},{"$f":"Race0106!C$57","v":0},{"$f":"Race0106!F$57","v":1}]
["Race0107",{"$f":"Race0107!B$5","v":"Senior"},{"$f":"Race0107!B$4","v":"OC6"},{"$f":"Race0107!E$5","v":"Women"},{"$f":"Race0107!D$5","v":"Open"},{"$f":"Race0107!D$4","v":"Marathon"},{"$f":"Race0107!A$8","v":1},{"$f":"Race0107!D$8","v":0},{"$f":"Race0107!C$8","v":0},{"$f":"Race0107!F$8","v":14}]
[null,{"$f":"Race0107!B$5","v":"Senior"},{"$f":"Race0107!B$4","v":"OC6"},{"$f":"Race0107!E$5","v":"Women"},{"$f":"Race0107!D$5","v":"Open"},{"$f":"Race0107!D$4","v":"Marathon"},{"$f":"Race0107!A$9","v":2},{"$f":"Race0107!D$9","v":0},{"$f":"Race0107!C$9","v":0},{"$f":"Race0107!F$9","v":12}]
[null,{"$f":"Race0107!B$5","v":"Senior"},{"$f":"Race0107!B$4","v":"OC6"},{"$f":"Race0107!E$5","v":"Women"},{"$f":"Race0107!D$5","v":"Open"},{"$f":"Race0107!D$4","v":"Marathon"},{"$f":"Race0107!A$10","v":3},{"$f":"Race0107!D$10","v":0},{"$f":"Race0107!C$10","v":0},{"$f":"Race0107!F$10","v":10}]
[null,{"$f":"Race0107!B$5","v":"Senior"},{"$f":"Race0107!B$4","v":"OC6"},{"$f":"Race0107!E$5","v":"Women"},{"$f":"Race0107!D$5","v":"Open"},{"$f":"Race0107!D$4","v":"Marathon"},{"$f":"Race0107!A$11","v":4},{"$f":"Race0107!D$11","v":0},{"$f":"Race0107!C$11","v":0},{"$f":"Race0107!F$11","v":8}]
[null,{"$f":"Race0107!B$5","v":"Senior"},{"$f":"Race0107!B$4","v":"OC6"},{"$f":"Race0107!E$5","v":"Women"},{"$f":"Race0107!D$5","v":"Open"},{"$f":"Race0107!D$4","v":"Marathon"},{"$f":"Race0107!A$12","v":5},{"$f":"Race0107!D$12","v":0},{"$f":"Race0107!C$12","v":0},{"$f":"Race0107!F$12","v":7}]
[null,{"$f":"Race0107!B$5","v":"Senior"},{"$f":"Race0107!B$4","v":"OC6"},{"$f":"Race0107!E$5","v":"Women"},{"$f":"Race0107!D$5","v":"Open"},{"$f":"Race0107!D$4","v":"Marathon"},{"$f":"Race0107!A$13","v":6},{"$f":"Race0107!D$13","v":0},{"$f":"Race0107!C$13","v":0},{"$f":"Race0107!F$13","v":6}]
[null,{"$f":"Race0107!B$5","v":"Senior"},{"$f":"Race0107!B$4","v":"OC6"},{"$f":"Race0107!E$5","v":"Women"},{"$f":"Race0107!D$5","v":"Open"},{"$f":"Race0107!D$4","v":"Marathon"},{"$f":"Race0107!A$14","v":7},{"$f":"Race0107!D$14","v":0},{"$f":"Race0107!C$14","v":0},{"$f":"Race0107!F$14","v":5}]
[null,{"$f":"Race0107!B$5","v":"Senior"},{"$f":"Race0107!B$4","v":"OC6"},{"$f":"Race0107!E$5","v":"Women"},{"$f":"Race0107!D$5","v":"Open"},{"$f":"Race0107!D$4","v":"Marathon"},{"$f":"Race0107!A$15","v":8},{"$f":"Race0107!D$15","v":0},{"$f":"Race0107!C$15","v":0},{"$f":"Race0107!F$15","v":4}]
[null,{"$f":"Race0107!B$5","v":"Senior"},{"$f":"Race0107!B$4","v":"OC6"},{"$f":"Race0107!E$5","v":"Women"},{"$f":"Race0107!D$5","v":"Open"},{"$f":"Race0107!D$4","v":"Marathon"},{"$f":"Race0107!A$16","v":9},{"$f":"Race0107!D$16","v":0},{"$f":"Race0107!C$16","v":0},{"$f":"Race0107!F$16","v":3}]
[null,{"$f":"Race0107!B$5","v":"Senior"},{"$f":"Race0107!B$4","v":"OC6"},{"$f":"Race0107!E$5","v":"Women"},{"$f":"Race0107!D$5","v":"Open"},{"$f":"Race0107!D$4","v":"Marathon"},{"$f":"Race0107!A$17","v":10},{"$f":"Race0107!D$17","v":0},{"$f":"Race0107!C$17","v":0},{"$f":"Race0107!F$17","v":2}]
[null,{"$f":"Race0107!B$5","v":"Senior"},{"$f":"Race0107!B$4","v":"OC6"},{"$f":"Race0107!E$5","v":"Women"},{"$f":"Race0107!D$5","v":"Open"},{"$f":"Race0107!D$4","v":"Marathon"},{"$f":"Race0107!A$18","v":11},{"$f":"Race0107!D$18","v":0},{"$f":"Race0107!C$18","v":0},{"$f":"Race0107!F$18","v":1}]
[null,{"$f":"Race0107!B$5","v":"Senior"},{"$f":"Race0107!B$4","v":"OC6"},{"$f":"Race0107!E$5","v":"Women"},{"$f":"Race0107!D$5","v":"Open"},{"$f":"Race0107!D$4","v":"Marathon"},{"$f":"Race0107!A$19","v":12},{"$f":"Race0107!D$19","v":0},{"$f":"Race0107!C$19","v":0},{"$f":"Race0107!F$19","v":1}]
[null,{"$f":"Race0107!B$5","v":"Senior"},{"$f":"Race0107!B$4","v":"OC6"},{"$f":"Race0107!E$5","v":"Women"},{"$f":"Race0107!D$5","v":"Open"},{"$f":"Race0107!D$4","v":"Marathon"},{"$f":"Race0107!A$20","v":13},{"$f":"Race0107!D$20","v":0},{"$f":"Race0107!C$20","v":0},{"$f":"Race0107!F$20","v":1}]
[null,{"$f":"Race0107!B$5","v":"Senior"},{"$f":"Race0107!B$4","v":"OC6"},{"$f":"Race0107!E$5","v":"Women"},{"$f":"Race0107!D$5","v":"Open"},{"$f":"Race0107!D$4","v":"Marathon"},{"$f":"Race0107!A$21","v":14},{"$f":"Race0107!D$21","v":0},{"$f":"Race0107!C$21","v":0},{"$f":"Race0107!F$21","v":1}]
[null,{"$f":"Race0107!B$5","v":"Senior"},{"$f":"Race0107!B$4","v":"OC6"},{"$f":"Race0107!E$5","v":"Women"},{"$f":"Race0107!D$5","v":"Open"},{"$f":"Race0107!D$4","v":"Marathon"},{"$f":"Race0107!A$22","v":15},{"$f":"Race0107!D$22","v":0},{"$f":"Race0107!C$22","v":0},{"$f":"Race0107!F$22","v":1}]
[null,{"$f":"Race0107!B$5","v":"Senior"},{"$f":"Race0107!B$4","v":"OC6"},{"$f":"Race0107!E$5","v":"Women"},{"$f":"Race0107!D$5","v":"Open"},{"$f":"Race0107!D$4","v":"Marathon"},{"$f":"Race0107!A$23","v":16},{"$f":"Race0107!D$23","v":0},{"$f":"Race0107!C$23","v":0},{"$f":"Race0107!F$23","v":1}]
[null,{"$f":"Race0107!B$5","v":"Senior"},{"$f":"Race0107!B$4","v":"OC6"},{"$f":"Race0107!E$5","v":"Women"},{"$f":"Race0107!D$5","v":"Open"},{"$f":"Race0107!D$4","v":"Marathon"},{"$f":"Race0107!A$24","v":17},{"$f":"Race0107!D$24","v":0},{"$f":"Race0107!C$24","v":0},{"$f":"Race0107!F$24","v":1}]
[null,{"$f":"Race0107!B$5","v":"Senior"},{"$f":"Race0107!B$4","v":"OC6"},{"$f":"Race0107!E$5","v":"Women"},{"$f":"Race0107!D$5","v":"Open"},{"$f":"Race0107!D$4","v":"Marathon"},{"$f":"Race0107!A$25","v":18},{"$f":"Race0107!D$25","v":0},{"$f":"Race0107!C$25","v":0},{"$f":"Race0107!F$25","v":1}]
[null,{"$f":"Race0107!B$5","v":"Senior"},{"$f":"Race0107!B$4","v":"OC6"},{"$f":"Race0107!E$5","v":"Women"},{"$f":"Race0107!D$5","v":"Open"},{"$f":"Race0107!D$4","v":"Marathon"},{"$f":"Race0107!A$26","v":19},{"$f":"Race0107!D$26","v":0},{"$f":"Race0107!C$26","v":0},{"$f":"Race0107!F$26","v":1}]
[null,{"$f":"Race0107!B$5","v":"Senior"},{"$f":"Race0107!B$4","v":"OC6"},{"$f":"Race0107!E$5","v":"Women"},{"$f":"Race0107!D$5","v":"Open"},{"$f":"Race0107!D$4","v":"Marathon"},{"$f":"Race0107!A$27","v":20},{"$f":"Race0107!D$27","v":0},{"$f":"Race0107!C$27","v":0},{"$f":"Race0107!F$27","v":1}]
[null,{"$f":"Race0107!B$5","v":"Senior"},{"$f":"Race0107!B$4","v":"OC6"},{"$f":"Race0107!E$5","v":"Women"},{"$f":"Race0107!D$5","v":"Open"},{"$f":"Race0107!D$4","v":"Marathon"},{"$f":"Race0107!A$28","v":21},{"$f":"Race0107!D$28","v":0},{"$f":"Race0107!C$28","v":0},{"$f":"Race0107!F$28","v":1}]
[null,{"$f":"Race0107!B$5","v":"Senior"},{"$f":"Race0107!B$4","v":"OC6"},{"$f":"Race0107!E$5","v":"Women"},{"$f":"Race0107!D$5","v":"Open"},{"$f":"Race0107!D$4","v":"Marathon"},{"$f":"Race0107!A$29","v":22},{"$f":"Race0107!D$29","v":0},{"$f":"Race0107!C$29","v":0},{"$f":"Race0107!F$29","v":1}]
[null,{"$f":"Race0107!B$5","v":"Senior"},{"$f":"Race0107!B$4","v":"OC6"},{"$f":"Race0107!E$5","v":"Women"},{"$f":"Race0107!D$5","v":"Open"},{"$f":"Race0107!D$4","v":"Marathon"},{"$f":"Race0107!A$30","v":23},{"$f":"Race0107!D$30","v":0},{"$f":"Race0107!C$30","v":0},{"$f":"Race0107!F$30","v":1}]
[null,{"$f":"Race0107!B$5","v":"Senior"},{"$f":"Race0107!B$4","v":"OC6"},{"$f":"Race0107!E$5","v":"Women"},{"$f":"Race0107!D$5","v":"Open"},{"$f":"Race0107!D$4","v":"Marathon"},{"$f":"Race0107!A$31","v":24},{"$f":"Race0107!D$31","v":0},{"$f":"Race0107!C$31","v":0},{"$f":"Race0107!F$31","v":1}]
[null,{"$f":"Race0107!B$5","v":"Senior"},{"$f":"Race0107!B$4","v":"OC6"},{"$f":"Race0107!E$5","v":"Women"},{"$f":"Race0107!D$5","v":"Open"},{"$f":"Race0107!D$4","v":"Marathon"},{"$f":"Race0107!A$32","v":25},{"$f":"Race0107!D$32","v":0},{"$f":"Race0107!C$32","v":0},{"$f":"Race0107!F$32","v":1}]
[null,{"$f":"Race0107!B$5","v":"Senior"},{"$f":"Race0107!B$4","v":"OC6"},{"$f":"Race0107!E$5","v":"Women"},{"$f":"Race0107!D$5","v":"Open"},{"$f":"Race0107!D$4","v":"Marathon"},{"$f":"Race0107!A$33","v":26},{"$f":"Race0107!D$33","v":0},{"$f":"Race0107!C$33","v":0},{"$f":"Race0107!F$33","v":1}]
[null,{"$f":"Race0107!B$5","v":"Senior"},{"$f":"Race0107!B$4","v":"OC6"},{"$f":"Race0107!E$5","v":"Women"},{"$f":"Race0107!D$5","v":"Open"},{"$f":"Race0107!D$4","v":"Marathon"},{"$f":"Race0107!A$34","v":27},{"$f":"Race0107!D$34","v":0},{"$f":"Race0107!C$34","v":0},{"$f":"Race0107!F$34","v":1}]
[null,{"$f":"Race0107!B$5","v":"Senior"},{"$f":"Race0107!B$4","v":"OC6"},{"$f":"Race0107!E$5","v":"Women"},{"$f":"Race0107!D$5","v":"Open"},{"$f":"Race0107!D$4","v":"Marathon"},{"$f":"Race0107!A$35","v":28},{"$f":"Race0107!D$35","v":0},{"$f":"Race0107!C$35","v":0},{"$f":"Race0107!F$35","v":1}]
[null,{"$f":"Race0107!B$5","v":"Senior"},{"$f":"Race0107!B$4","v":"OC6"},{"$f":"Race0107!E$5","v":"Women"},{"$f":"Race0107!D$5","v":"Open"},{"$f":"Race0107!D$4","v":"Marathon"},{"$f":"Race0107!A$36","v":29},{"$f":"Race0107!D$36","v":0},{"$f":"Race0107!C$36","v":0},{"$f":"Race0107!F$36","v":1}]
[null,{"$f":"Race0107!B$5","v":"Senior"},{"$f":"Race0107!B$4","v":"OC6"},{"$f":"Race0107!E$5","v":"Women"},{"$f":"Race0107!D$5","v":"Open"},{"$f":"Race0107!D$4","v":"Marathon"},{"$f":"Race0107!A$37","v":30},{"$f":"Race0107!D$37","v":0},{"$f":"Race0107!C$37","v":0},{"$f":"Race0107!F$37","v":1}]
[null,{"$f":"Race0107!B$5","v":"Senior"},{"$f":"Race0107!B$4","v":"OC6"},{"$f":"Race0107!E$5","v":"Women"},{"$f":"Race0107!D$5","v":"Open"},{"$f":"Race0107!D$4","v":"Marathon"},{"$f":"Race0107!A$38","v":31},{"$f":"Race0107!D$38","v":0},{"$f":"Race0107!C$38","v":0},{"$f":"Race0107!F$38","v":1}]
[null,{"$f":"Race0107!B$5","v":"Senior"},{"$f":"Race0107!B$4","v":"OC6"},{"$f":"Race0107!E$5","v":"Women"},{"$f":"Race0107!D$5","v":"Open"},{"$f":"Race0107!D$4","v":"Marathon"},{"$f":"Race0107!A$39","v":32},{"$f":"Race0107!D$39","v":0},{"$f":"Race0107!C$39","v":0},{"$f":"Race0107!F$39","v":1}]
[null,{"$f":"Race0107!B$5","v":"Senior"},{"$f":"Race0107!B$4","v":"OC6"},{"$f":"Race0107!E$5","v":"Women"},{"$f":"Race0107!D$5","v":"Open"},{"$f":"Race0107!D$4","v":"Marathon"},{"$f":"Race0107!A$40","v":33},{"$f":"Race0107!D$40","v":0},{"$f":"Race0107!C$40","v":0},{"$f":"Race0107!F$40","v":1}]
[null,{"$f":"Race0107!B$5","v":"Senior"},{"$f":"Race0107!B$4","v":"OC6"},{"$f":"Race0107!E$5","v":"Women"},{"$f":"Race0107!D$5","v":"Open"},{"$f":"Race0107!D$4","v":"Marathon"},{"$f":"Race0107!A$41","v":34},{"$f":"Race0107!D$41","v":0},{"$f":"Race0107!C$41","v":0},{"$f":"Race0107!F$41","v":1}]
[null,{"$f":"Race0107!B$5","v":"Senior"},{"$f":"Race0107!B$4","v":"OC6"},{"$f":"Race0107!E$5","v":"Women"},{"$f":"Race0107!D$5","v":"Open"},{"$f":"Race0107!D$4","v":"Marathon"},{"$f":"Race0107!A$42","v":35},{"$f":"Race0107!D$42","v":0},{"$f":"Race0107!C$42","v":0},{"$f":"Race0107!F$42","v":1}]
[null,{"$f":"Race0107!B$5","v":"Senior"},{"$f":"Race0107!B$4","v":"OC6"},{"$f":"Race0107!E$5","v":"Women"},{"$f":"Race0107!D$5","v":"Open"},{"$f":"Race0107!D$4","v":"Marathon"},{"$f":"Race0107!A$43","v":36},{"$f":"Race0107!D$43","v":0},{"$f":"Race0107!C$43","v":0},{"$f":"Race0107!F$43","v":1}]
[null,{"$f":"Race0107!B$5","v":"Senior"},{"$f":"Race0107!B$4","v":"OC6"},{"$f":"Race0107!E$5","v":"Women"},{"$f":"Race0107!D$5","v":"Open"},{"$f":"Race0107!D$4","v":"Marathon"},{"$f":"Race0107!A$44","v":37},{"$f":"Race0107!D$44","v":0},{"$f":"Race0107!C$44","v":0},{"$f":"Race0107!F$44","v":1}]
[null,{"$f":"Race0107!B$5","v":"Senior"},{"$f":"Race0107!B$4","v":"OC6"},{"$f":"Race0107!E$5","v":"Women"},{"$f":"Race0107!D$5","v":"Open"},{"$f":"Race0107!D$4","v":"Marathon"},{"$f":"Race0107!A$45","v":38},{"$f":"Race0107!D$45","v":0},{"$f":"Race0107!C$45","v":0},{"$f":"Race0107!F$45","v":1}]
[null,{"$f":"Race0107!B$5","v":"Senior"},{"$f":"Race0107!B$4","v":"OC6"},{"$f":"Race0107!E$5","v":"Women"},{"$f":"Race0107!D$5","v":"Open"},{"$f":"Race0107!D$4","v":"Marathon"},{"$f":"Race0107!A$46","v":39},{"$f":"Race0107!D$46","v":0},{"$f":"Race0107!C$46","v":0},{"$f":"Race0107!F$46","v":1}]
[null,{"$f":"Race0107!B$5","v":"Senior"},{"$f":"Race0107!B$4","v":"OC6"},{"$f":"Race0107!E$5","v":"Women"},{"$f":"Race0107!D$5","v":"Open"},{"$f":"Race0107!D$4","v":"Marathon"},{"$f":"Race0107!A$47","v":40},{"$f":"Race0107!D$47","v":0},{"$f":"Race0107!C$47","v":0},{"$f":"Race0107!F$47","v":1}]
[null,{"$f":"Race0107!B$5","v":"Senior"},{"$f":"Race0107!B$4","v":"OC6"},{"$f":"Race0107!E$5","v":"Women"},{"$f":"Race0107!D$5","v":"Open"},{"$f":"Race0107!D$4","v":"Marathon"},{"$f":"Race0107!A$48","v":41},{"$f":"Race0107!D$48","v":0},{"$f":"Race0107!C$48","v":0},{"$f":"Race0107!F$48","v":1}]
[null,{"$f":"Race0107!B$5","v":"Senior"},{"$f":"Race0107!B$4","v":"OC6"},{"$f":"Race0107!E$5","v":"Women"},{"$f":"Race0107!D$5","v":"Open"},{"$f":"Race0107!D$4","v":"Marathon"},{"$f":"Race0107!A$49","v":42},{"$f":"Race0107!D$49","v":0},{"$f":"Race0107!C$49","v":0},{"$f":"Race0107!F$49","v":1}]
[null,{"$f":"Race0107!B$5","v":"Senior"},{"$f":"Race0107!B$4","v":"OC6"},{"$f":"Race0107!E$5","v":"Women"},{"$f":"Race0107!D$5","v":"Open"},{"$f":"Race0107!D$4","v":"Marathon"},{"$f":"Race0107!A$50","v":43},{"$f":"Race0107!D$50","v":0},{"$f":"Race0107!C$50","v":0},{"$f":"Race0107!F$50","v":1}]
[null,{"$f":"Race0107!B$5","v":"Senior"},{"$f":"Race0107!B$4","v":"OC6"},{"$f":"Race0107!E$5","v":"Women"},{"$f":"Race0107!D$5","v":"Open"},{"$f":"Race0107!D$4","v":"Marathon"},{"$f":"Race0107!A$51","v":44},{"$f":"Race0107!D$51","v":0},{"$f":"Race0107!C$51","v":0},{"$f":"Race0107!F$51","v":1}]
[null,{"$f":"Race0107!B$5","v":"Senior"},{"$f":"Race0107!B$4","v":"OC6"},{"$f":"Race0107!E$5","v":"Women"},{"$f":"Race0107!D$5","v":"Open"},{"$f":"Race0107!D$4","v":"Marathon"},{"$f":"Race0107!A$52","v":45},{"$f":"Race0107!D$52","v":0},{"$f":"Race0107!C$52","v":0},{"$f":"Race0107!F$52","v":1}]
[null,{"$f":"Race0107!B$5","v":"Senior"},{"$f":"Race0107!B$4","v":"OC6"},{"$f":"Race0107!E$5","v":"Women"},{"$f":"Race0107!D$5","v":"Open"},{"$f":"Race0107!D$4","v":"Marathon"},{"$f":"Race0107!A$53","v":46},{"$f":"Race0107!D$53","v":0},{"$f":"Race0107!C$53","v":0},{"$f":"Race0107!F$53","v":1}]
[null,{"$f":"Race0107!B$5","v":"Senior"},{"$f":"Race0107!B$4","v":"OC6"},{"$f":"Race0107!E$5","v":"Women"},{"$f":"Race0107!D$5","v":"Open"},{"$f":"Race0107!D$4","v":"Marathon"},{"$f":"Race0107!A$54","v":47},{"$f":"Race0107!D$54","v":0},{"$f":"Race0107!C$54","v":0},{"$f":"Race0107!F$54","v":1}]
[null,{"$f":"Race0107!B$5","v":"Senior"},{"$f":"Race0107!B$4","v":"OC6"},{"$f":"Race0107!E$5","v":"Women"},{"$f":"Race0107!D$5","v":"Open"},{"$f":"Race0107!D$4","v":"Marathon"},{"$f":"Race0107!A$55","v":48},{"$f":"Race0107!D$55","v":0},{"$f":"Race0107!C$55","v":0},{"$f":"Race0107!F$55","v":1}]
[null,{"$f":"Race0107!B$5","v":"Senior"},{"$f":"Race0107!B$4","v":"OC6"},{"$f":"Race0107!E$5","v":"Women"},{"$f":"Race0107!D$5","v":"Open"},{"$f":"Race0107!D$4","v":"Marathon"},{"$f":"Race0107!A$56","v":49},{"$f":"Race0107!D$56","v":0},{"$f":"Race0107!C$56","v":0},{"$f":"Race0107!F$56","v":1}]
[null,{"$f":"Race0107!B$5","v":"Senior"},{"$f":"Race0107!B$4","v":"OC6"},{"$f":"Race0107!E$5","v":"Women"},{"$f":"Race0107!D$5","v":"Open"},{"$f":"Race0107!D$4","v":"Marathon"},{"$f":"Race0107!A$57","v":50},{"$f":"Race0107!D$57","v":0},{"$f":"Race0107!C$57","v":0},{"$f":"Race0107!F$57","v":1}]
["Race0108",{"$f":"Race0108!B$5","v":"Senior"},{"$f":"Race0108!B$4","v":"OC6"},{"$f":"Race0108!E$5","v":"Women"},{"$f":"Race0108!D$5","v":"Masters"},{"$f":"Race0108!D$4","v":"Marathon"},{"$f":"Race0108!A$8","v":1},{"$f":"Race0108!D$8","v":0},{"$f":"Race0108!C$8","v":0},{"$f":"Race0108!F$8","v":14}]
[null,{"$f":"Race0108!B$5","v":"Senior"},{"$f":"Race0108!B$4","v":"OC6"},{"$f":"Race0108!E$5","v":"Women"},{"$f":"Race0108!D$5","v":"Masters"},{"$f":"Race0108!D$4","v":"Marathon"},{"$f":"Race0108!A$9","v":2},{"$f":"Race0108!D$9","v":0},{"$f":"Race0108!C$9","v":0},{"$f":"Race0108!F$9","v":12}]
[null,{"$f":"Race0108!B$5","v":"Senior"},{"$f":"Race0108!B$4","v":"OC6"},{"$f":"Race0108!E$5","v":"Women"},{"$f":"Race0108!D$5","v":"Masters"},{"$f":"Race0108!D$4","v":"Marathon"},{"$f":"Race0108!A$10","v":3},{"$f":"Race0108!D$10","v":0},{"$f":"Race0108!C$10","v":0},{"$f":"Race0108!F$10","v":10}]
[null,{"$f":"Race0108!B$5","v":"Senior"},{"$f":"Race0108!B$4","v":"OC6"},{"$f":"Race0108!E$5","v":"Women"},{"$f":"Race0108!D$5","v":"Masters"},{"$f":"Race0108!D$4","v":"Marathon"},{"$f":"Race0108!A$11","v":4},{"$f":"Race0108!D$11","v":0},{"$f":"Race0108!C$11","v":0},{"$f":"Race0108!F$11","v":8}]
[null,{"$f":"Race0108!B$5","v":"Senior"},{"$f":"Race0108!B$4","v":"OC6"},{"$f":"Race0108!E$5","v":"Women"},{"$f":"Race0108!D$5","v":"Masters"},{"$f":"Race0108!D$4","v":"Marathon"},{"$f":"Race0108!A$12","v":5},{"$f":"Race0108!D$12","v":0},{"$f":"Race0108!C$12","v":0},{"$f":"Race0108!F$12","v":7}]
[null,{"$f":"Race0108!B$5","v":"Senior"},{"$f":"Race0108!B$4","v":"OC6"},{"$f":"Race0108!E$5","v":"Women"},{"$f":"Race0108!D$5","v":"Masters"},{"$f":"Race0108!D$4","v":"Marathon"},{"$f":"Race0108!A$13","v":6},{"$f":"Race0108!D$13","v":0},{"$f":"Race0108!C$13","v":0},{"$f":"Race0108!F$13","v":6}]
[null,{"$f":"Race0108!B$5","v":"Senior"},{"$f":"Race0108!B$4","v":"OC6"},{"$f":"Race0108!E$5","v":"Women"},{"$f":"Race0108!D$5","v":"Masters"},{"$f":"Race0108!D$4","v":"Marathon"},{"$f":"Race0108!A$14","v":7},{"$f":"Race0108!D$14","v":0},{"$f":"Race0108!C$14","v":0},{"$f":"Race0108!F$14","v":5}]
[null,{"$f":"Race0108!B$5","v":"Senior"},{"$f":"Race0108!B$4","v":"OC6"},{"$f":"Race0108!E$5","v":"Women"},{"$f":"Race0108!D$5","v":"Masters"},{"$f":"Race0108!D$4","v":"Marathon"},{"$f":"Race0108!A$15","v":8},{"$f":"Race0108!D$15","v":0},{"$f":"Race0108!C$15","v":0},{"$f":"Race0108!F$15","v":4}]
[null,{"$f":"Race0108!B$5","v":"Senior"},{"$f":"Race0108!B$4","v":"OC6"},{"$f":"Race0108!E$5","v":"Women"},{"$f":"Race0108!D$5","v":"Masters"},{"$f":"Race0108!D$4","v":"Marathon"},{"$f":"Race0108!A$16","v":9},{"$f":"Race0108!D$16","v":0},{"$f":"Race0108!C$16","v":0},{"$f":"Race0108!F$16","v":3}]
[null,{"$f":"Race0108!B$5","v":"Senior"},{"$f":"Race0108!B$4","v":"OC6"},{"$f":"Race0108!E$5","v":"Women"},{"$f":"Race0108!D$5","v":"Masters"},{"$f":"Race0108!D$4","v":"Marathon"},{"$f":"Race0108!A$17","v":10},{"$f":"Race0108!D$17","v":0},{"$f":"Race0108!C$17","v":0},{"$f":"Race0108!F$17","v":2}]
[null,{"$f":"Race0108!B$5","v":"Senior"},{"$f":"Race0108!B$4","v":"OC6"},{"$f":"Race0108!E$5","v":"Women"},{"$f":"Race0108!D$5","v":"Masters"},{"$f":"Race0108!D$4","v":"Marathon"},{"$f":"Race0108!A$18","v":11},{"$f":"Race0108!D$18","v":0},{"$f":"Race0108!C$18","v":0},{"$f":"Race0108!F$18","v":1}]
[null,{"$f":"Race0108!B$5","v":"Senior"},{"$f":"Race0108!B$4","v":"OC6"},{"$f":"Race0108!E$5","v":"Women"},{"$f":"Race0108!D$5","v":"Masters"},{"$f":"Race0108!D$4","v":"Marathon"},{"$f":"Race0108!A$19","v":12},{"$f":"Race0108!D$19","v":0},{"$f":"Race0108!C$19","v":0},{"$f":"Race0108!F$19","v":1}]
[null,{"$f":"Race0108!B$5","v":"Senior"},{"$f":"Race0108!B$4","v":"OC6"},{"$f":"Race0108!E$5","v":"Women"},{"$f":"Race0108!D$5","v":"Masters"},{"$f":"Race0108!D$4","v":"Marathon"},{"$f":"Race0108!A$20","v":13},{"$f":"Race0108!D$20","v":0},{"$f":"Race0108!C$20","v":0},{"$f":"Race0108!F$20","v":1}]
[null,{"$f":"Race0108!B$5","v":"Senior"},{"$f":"Race0108!B$4","v":"OC6"},{"$f":"Race0108!E$5","v":"Women"},{"$f":"Race0108!D$5","v":"Masters"},{"$f":"Race0108!D$4","v":"Marathon"},{"$f":"Race0108!A$21","v":14},{"$f":"Race0108!D$21","v":0},{"$f":"Race0108!C$21","v":0},{"$f":"Race0108!F$21","v":1}]
[null,{"$f":"Race0108!B$5","v":"Senior"},{"$f":"Race0108!B$4","v":"OC6"},{"$f":"Race0108!E$5","v":"Women"},{"$f":"Race0108!D$5","v":"Masters"},{"$f":"Race0108!D$4","v":"Marathon"},{"$f":"Race0108!A$22","v":15},{"$f":"Race0108!D$22","v":0},{"$f":"Race0108!C$22","v":0},{"$f":"Race0108!F$22","v":1}]
[null,{"$f":"Race0108!B$5","v":"Senior"},{"$f":"Race0108!B$4","v":"OC6"},{"$f":"Race0108!E$5","v":"Women"},{"$f":"Race0108!D$5","v":"Masters"},{"$f":"Race0108!D$4","v":"Marathon"},{"$f":"Race0108!A$23","v":16},{"$f":"Race0108!D$23","v":0},{"$f":"Race0108!C$23","v":0},{"$f":"Race0108!F$23","v":1}]
[null,{"$f":"Race0108!B$5","v":"Senior"},{"$f":"Race0108!B$4","v":"OC6"},{"$f":"Race0108!E$5","v":"Women"},{"$f":"Race0108!D$5","v":"Masters"},{"$f":"Race0108!D$4","v":"Marathon"},{"$f":"Race0108!A$24","v":17},{"$f":"Race0108!D$24","v":0},{"$f":"Race0108!C$24","v":0},{"$f":"Race0108!F$24","v":1}]
[null,{"$f":"Race0108!B$5","v":"Senior"},{"$f":"Race0108!B$4","v":"OC6"},{"$f":"Race0108!E$5","v":"Women"},{"$f":"Race0108!D$5","v":"Masters"},{"$f":"Race0108!D$4","v":"Marathon"},{"$f":"Race0108!A$25","v":18},{"$f":"Race0108!D$25","v":0},{"$f":"Race0108!C$25","v":0},{"$f":"Race0108!F$25","v":1}]
[null,{"$f":"Race0108!B$5","v":"Senior"},{"$f":"Race0108!B$4","v":"OC6"},{"$f":"Race0108!E$5","v":"Women"},{"$f":"Race0108!D$5","v":"Masters"},{"$f":"Race0108!D$4","v":"Marathon"},{"$f":"Race0108!A$26","v":19},{"$f":"Race0108!D$26","v":0},{"$f":"Race0108!C$26","v":0},{"$f":"Race0108!F$26","v":1}]
[null,{"$f":"Race0108!B$5","v":"Senior"},{"$f":"Race0108!B$4","v":"OC6"},{"$f":"Race0108!E$5","v":"Women"},{"$f":"Race0108!D$5","v":"Masters"},{"$f":"Race0108!D$4","v":"Marathon"},{"$f":"Race0108!A$27","v":20},{"$f":"Race0108!D$27","v":0},{"$f":"Race0108!C$27","v":0},{"$f":"Race0108!F$27","v":1}]
[null,{"$f":"Race0108!B$5","v":"Senior"},{"$f":"Race0108!B$4","v":"OC6"},{"$f":"Race0108!E$5","v":"Women"},{"$f":"Race0108!D$5","v":"Masters"},{"$f":"Race0108!D$4","v":"Marathon"},{"$f":"Race0108!A$28","v":21},{"$f":"Race0108!D$28","v":0},{"$f":"Race0108!C$28","v":0},{"$f":"Race0108!F$28","v":1}]
[null,{"$f":"Race0108!B$5","v":"Senior"},{"$f":"Race0108!B$4","v":"OC6"},{"$f":"Race0108!E$5","v":"Women"},{"$f":"Race0108!D$5","v":"Masters"},{"$f":"Race0108!D$4","v":"Marathon"},{"$f":"Race0108!A$29","v":22},{"$f":"Race0108!D$29","v":0},{"$f":"Race0108!C$29","v":0},{"$f":"Race0108!F$29","v":1}]
[null,{"$f":"Race0108!B$5","v":"Senior"},{"$f":"Race0108!B$4","v":"OC6"},{"$f":"Race0108!E$5","v":"Women"},{"$f":"Race0108!D$5","v":"Masters"},{"$f":"Race0108!D$4","v":"Marathon"},{"$f":"Race0108!A$30","v":23},{"$f":"Race0108!D$30","v":0},{"$f":"Race0108!C$30","v":0},{"$f":"Race0108!F$30","v":1}]
[null,{"$f":"Race0108!B$5","v":"Senior"},{"$f":"Race0108!B$4","v":"OC6"},{"$f":"Race0108!E$5","v":"Women"},{"$f":"Race0108!D$5","v":"Masters"},{"$f":"Race0108!D$4","v":"Marathon"},{"$f":"Race0108!A$31","v":24},{"$f":"Race0108!D$31","v":0},{"$f":"Race0108!C$31","v":0},{"$f":"Race0108!F$31","v":1}]
[null,{"$f":"Race0108!B$5","v":"Senior"},{"$f":"Race0108!B$4","v":"OC6"},{"$f":"Race0108!E$5","v":"Women"},{"$f":"Race0108!D$5","v":"Masters"},{"$f":"Race0108!D$4","v":"Marathon"},{"$f":"Race0108!A$32","v":25},{"$f":"Race0108!D$32","v":0},{"$f":"Race0108!C$32","v":0},{"$f":"Race0108!F$32","v":1}]
[null,{"$f":"Race0108!B$5","v":"Senior"},{"$f":"Race0108!B$4","v":"OC6"},{"$f":"Race0108!E$5","v":"Women"},{"$f":"Race0108!D$5","v":"Masters"},{"$f":"Race0108!D$4","v":"Marathon"},{"$f":"Race0108!A$33","v":26},{"$f":"Race0108!D$33","v":0},{"$f":"Race0108!C$33","v":0},{"$f":"Race0108!F$33","v":1}]
[null,{"$f":"Race0108!B$5","v":"Senior"},{"$f":"Race0108!B$4","v":"OC6"},{"$f":"Race0108!E$5","v":"Women"},{"$f":"Race0108!D$5","v":"Masters"},{"$f":"Race0108!D$4","v":"Marathon"},{"$f":"Race0108!A$34","v":27},{"$f":"Race0108!D$34","v":0},{"$f":"Race0108!C$34","v":0},{"$f":"Race0108!F$34","v":1}]
[null,{"$f":"Race0108!B$5","v":"Senior"},{"$f":"Race0108!B$4","v":"OC6"},{"$f":"Race0108!E$5","v":"Women"},{"$f":"Race0108!D$5","v":"Masters"},{"$f":"Race0108!D$4","v":"Marathon"},{"$f":"Race0108!A$35","v":28},{"$f":"Race0108!D$35","v":0},{"$f":"Race0108!C$35","v":0},{"$f":"Race0108!F$35","v":1}]
[null,{"$f":"Race0108!B$5","v":"Senior"},{"$f":"Race0108!B$4","v":"OC6"},{"$f":"Race0108!E$5","v":"Women"},{"$f":"Race0108!D$5","v":"Masters"},{"$f":"Race0108!D$4","v":"Marathon"},{"$f":"Race0108!A$36","v":29},{"$f":"Race0108!D$36","v":0},{"$f":"Race0108!C$36","v":0},{"$f":"Race0108!F$36","v":1}]
[null,{"$f":"Race0108!B$5","v":"Senior"},{"$f":"Race0108!B$4","v":"OC6"},{"$f":"Race0108!E$5","v":"Women"},{"$f":"Race0108!D$5","v":"Masters"},{"$f":"Race0108!D$4","v":"Marathon"},{"$f":"Race0108!A$37","v":30},{"$f":"Race0108!D$37","v":0},{"$f":"Race0108!C$37","v":0},{"$f":"Race0108!F$37","v":1}]
[null,{"$f":"Race0108!B$5","v":"Senior"},{"$f":"Race0108!B$4","v":"OC6"},{"$f":"Race0108!E$5","v":"Women"},{"$f":"Race0108!D$5","v":"Masters"},{"$f":"Race0108!D$4","v":"Marathon"},{"$f":"Race0108!A$38","v":31},{"$f":"Race0108!D$38","v":0},{"$f":"Race0108!C$38","v":0},{"$f":"Race0108!F$38","v":1}]
[null,{"$f":"Race0108!B$5","v":"Senior"},{"$f":"Race0108!B$4","v":"OC6"},{"$f":"Race0108!E$5","v":"Women"},{"$f":"Race0108!D$5","v":"Masters"},{"$f":"Race0108!D$4","v":"Marathon"},{"$f":"Race0108!A$39","v":32},{"$f":"Race0108!D$39","v":0},{"$f":"Race0108!C$39","v":0},{"$f":"Race0108!F$39","v":1}]
[null,{"$f":"Race0108!B$5","v":"Senior"},{"$f":"Race0108!B$4","v":"OC6"},{"$f":"Race0108!E$5","v":"Women"},{"$f":"Race0108!D$5","v":"Masters"},{"$f":"Race0108!D$4","v":"Marathon"},{"$f":"Race0108!A$40","v":33},{"$f":"Race0108!D$40","v":0},{"$f":"Race0108!C$40","v":0},{"$f":"Race0108!F$40","v":1}]
[null,{"$f":"Race0108!B$5","v":"Senior"},{"$f":"Race0108!B$4","v":"OC6"},{"$f":"Race0108!E$5","v":"Women"},{"$f":"Race0108!D$5","v":"Masters"},{"$f":"Race0108!D$4","v":"Marathon"},{"$f":"Race0108!A$41","v":34},{"$f":"Race0108!D$41","v":0},{"$f":"Race0108!C$41","v":0},{"$f":"Race0108!F$41","v":1}]
[null,{"$f":"Race0108!B$5","v":"Senior"},{"$f":"Race0108!B$4","v":"OC6"},{"$f":"Race0108!E$5","v":"Women"},{"$f":"Race0108!D$5","v":"Masters"},{"$f":"Race0108!D$4","v":"Marathon"},{"$f":"Race0108!A$42","v":35},{"$f":"Race0108!D$42","v":0},{"$f":"Race0108!C$42","v":0},{"$f":"Race0108!F$42","v":1}]
[null,{"$f":"Race0108!B$5","v":"Senior"},{"$f":"Race0108!B$4","v":"OC6"},{"$f":"Race0108!E$5","v":"Women"},{"$f":"Race0108!D$5","v":"Masters"},{"$f":"Race0108!D$4","v":"Marathon"},{"$f":"Race0108!A$43","v":36},{"$f":"Race0108!D$43","v":0},{"$f":"Race0108!C$43","v":0},{"$f":"Race0108!F$43","v":1}]
[null,{"$f":"Race0108!B$5","v":"Senior"},{"$f":"Race0108!B$4","v":"OC6"},{"$f":"Race0108!E$5","v":"Women"},{"$f":"Race0108!D$5","v":"Masters"},{"$f":"Race0108!D$4","v":"Marathon"},{"$f":"Race0108!A$44","v":37},{"$f":"Race0108!D$44","v":0},{"$f":"Race0108!C$44","v":0},{"$f":"Race0108!F$44","v":1}]
[null,{"$f":"Race0108!B$5","v":"Senior"},{"$f":"Race0108!B$4","v":"OC6"},{"$f":"Race0108!E$5","v":"Women"},{"$f":"Race0108!D$5","v":"Masters"},{"$f":"Race0108!D$4","v":"Marathon"},{"$f":"Race0108!A$45","v":38},{"$f":"Race0108!D$45","v":0},{"$f":"Race0108!C$45","v":0},{"$f":"Race0108!F$45","v":1}]
[null,{"$f":"Race0108!B$5","v":"Senior"},{"$f":"Race0108!B$4","v":"OC6"},{"$f":"Race0108!E$5","v":"Women"},{"$f":"Race0108!D$5","v":"Masters"},{"$f":"Race0108!D$4","v":"Marathon"},{"$f":"Race0108!A$46","v":39},{"$f":"Race0108!D$46","v":0},{"$f":"Race0108!C$46","v":0},{"$f":"Race0108!F$46","v":1}]
[null,{"$f":"Race0108!B$5","v":"Senior"},{"$f":"Race0108!B$4","v":"OC6"},{"$f":"Race0108!E$5","v":"Women"},{"$f":"Race0108!D$5","v":"Masters"},{"$f":"Race0108!D$4","v":"Marathon"},{"$f":"Race0108!A$47","v":40},{"$f":"Race0108!D$47","v":0},{"$f":"Race0108!C$47","v":0},{"$f":"Race0108!F$47","v":1}]
[null,{"$f":"Race0108!B$5","v":"Senior"},{"$f":"Race0108!B$4","v":"OC6"},{"$f":"Race0108!E$5","v":"Women"},{"$f":"Race0108!D$5","v":"Masters"},{"$f":"Race0108!D$4","v":"Marathon"},{"$f":"Race0108!A$48","v":41},{"$f":"Race0108!D$48","v":0},{"$f":"Race0108!C$48","v":0},{"$f":"Race0108!F$48","v":1}]
[null,{"$f":"Race0108!B$5","v":"Senior"},{"$f":"Race0108!B$4","v":"OC6"},{"$f":"Race0108!E$5","v":"Women"},{"$f":"Race0108!D$5","v":"Masters"},{"$f":"Race0108!D$4","v":"Marathon"},{"$f":"Race0108!A$49","v":42},{"$f":"Race0108!D$49","v":0},{"$f":"Race0108!C$49","v":0},{"$f":"Race0108!F$49","v":1}]
[null,{"$f":"Race0108!B$5","v":"Senior"},{"$f":"Race0108!B$4","v":"OC6"},{"$f":"Race0108!E$5","v":"Women"},{"$f":"Race0108!D$5","v":"Masters"},{"$f":"Race0108!D$4","v":"Marathon"},{"$f":"Race0108!A$50","v":43},{"$f":"Race0108!D$50","v":0},{"$f":"Race0108!C$50","v":0},{"$f":"Race0108!F$50","v":1}]
[null,{"$f":"Race0108!B$5","v":"Senior"},{"$f":"Race0108!B$4","v":"OC6"},{"$f":"Race0108!E$5","v":"Women"},{"$f":"Race0108!D$5","v":"Masters"},{"$f":"Race0108!D$4","v":"Marathon"},{"$f":"Race0108!A$51","v":44},{"$f":"Race0108!D$51","v":0},{"$f":"Race0108!C$51","v":0},{"$f":"Race0108!F$51","v":1}]
[null,{"$f":"Race0108!B$5","v":"Senior"},{"$f":"Race0108!B$4","v":"OC6"},{"$f":"Race0108!E$5","v":"Women"},{"$f":"Race0108!D$5","v":"Masters"},{"$f":"Race0108!D$4","v":"Marathon"},{"$f":"Race0108!A$52","v":45},{"$f":"Race0108!D$52","v":0},{"$f":"Race0108!C$52","v":0},{"$f":"Race0108!F$52","v":1}]
[null,{"$f":"Race0108!B$5","v":"Senior"},{"$f":"Race0108!B$4","v":"OC6"},{"$f":"Race0108!E$5","v":"Women"},{"$f":"Race0108!D$5","v":"Masters"},{"$f":"Race0108!D$4","v":"Marathon"},{"$f":"Race0108!A$53","v":46},{"$f":"Race0108!D$53","v":0},{"$f":"Race0108!C$53","v":0},{"$f":"Race0108!F$53","v":1}]
[null,{"$f":"Race0108!B$5","v":"Senior"},{"$f":"Race0108!B$4","v":"OC6"},{"$f":"Race0108!E$5","v":"Women"},{"$f":"Race0108!D$5","v":"Masters"},{"$f":"Race0108!D$4","v":"Marathon"},{"$f":"Race0108!A$54","v":47},{"$f":"Race0108!D$54","v":0},{"$f":"Race0108!C$54","v":0},{"$f":"Race0108!F$54","v":1}]
[null,{"$f":"Race0108!B$5","v":"Senior"},{"$f":"Race0108!B$4","v":"OC6"},{"$f":"Race0108!E$5","v":"Women"},{"$f":"Race0108!D$5","v":"Masters"},{"$f":"Race0108!D$4","v":"Marathon"},{"$f":"Race0108!A$55","v":48},{"$f":"Race0108!D$55","v":0},{"$f":"Race0108!C$55","v":0},{"$f":"Race0108!F$55","v":1}]
[null,{"$f":"Race0108!B$5","v":"Senior"},{"$f":"Race0108!B$4","v":"OC6"},{"$f":"Race0108!E$5","v":"Women"},{"$f":"Race0108!D$5","v":"Masters"},{"$f":"Race0108!D$4","v":"Marathon"},{"$f":"Race0108!A$56","v":49},{"$f":"Race0108!D$56","v":0},{"$f":"Race0108!C$56","v":0},{"$f":"Race0108!F$56","v":1}]
[null,{"$f":"Race0108!B$5","v":"Senior"},{"$f":"Race0108!B$4","v":"OC6"},{"$f":"Race0108!E$5","v":"Women"},{"$f":"Race0108!D$5","v":"Masters"},{"$f":"Race0108!D$4","v":"Marathon"},{"$f":"Race0108!A$57","v":50},{"$f":"Race0108!D$57","v":0},{"$f":"Race0108!C$57","v":0},{"$f":"Race0108!F$57","v":1}]
["Race0109",{"$f":"Race0109!B$5","v":"Senior"},{"$f":"Race0109!B$4","v":"OC6"},{"$f":"Race0109!E$5","v":"Women"},{"$f":"Race0109!D$5","v":"Senior Masters"},{"$f":"Race0109!D$4","v":"Marathon"},{"$f":"Race0109!A$8","v":1},{"$f":"Race0109!D$8","v":0},{"$f":"Race0109!C$8","v":0},{"$f":"Race0109!F$8","v":14}]
[null,{"$f":"Race0109!B$5","v":"Senior"},{"$f":"Race0109!B$4","v":"OC6"},{"$f":"Race0109!E$5","v":"Women"},{"$f":"Race0109!D$5","v":"Senior Masters"},{"$f":"Race0109!D$4","v":"Marathon"},{"$f":"Race0109!A$9","v":2},{"$f":"Race0109!D$9","v":0},{"$f":"Race0109!C$9","v":0},{"$f":"Race0109!F$9","v":12}]
[null,{"$f":"Race0109!B$5","v":"Senior"},{"$f":"Race0109!B$4","v":"OC6"},{"$f":"Race0109!E$5","v":"Women"},{"$f":"Race0109!D$5","v":"Senior Masters"},{"$f":"Race0109!D$4","v":"Marathon"},{"$f":"Race0109!A$10","v":3},{"$f":"Race0109!D$10","v":0},{"$f":"Race0109!C$10","v":0},{"$f":"Race0109!F$10","v":10}]
[null,{"$f":"Race0109!B$5","v":"Senior"},{"$f":"Race0109!B$4","v":"OC6"},{"$f":"Race0109!E$5","v":"Women"},{"$f":"Race0109!D$5","v":"Senior Masters"},{"$f":"Race0109!D$4","v":"Marathon"},{"$f":"Race0109!A$11","v":4},{"$f":"Race0109!D$11","v":0},{"$f":"Race0109!C$11","v":0},{"$f":"Race0109!F$11","v":8}]
[null,{"$f":"Race0109!B$5","v":"Senior"},{"$f":"Race0109!B$4","v":"OC6"},{"$f":"Race0109!E$5","v":"Women"},{"$f":"Race0109!D$5","v":"Senior Masters"},{"$f":"Race0109!D$4","v":"Marathon"},{"$f":"Race0109!A$12","v":5},{"$f":"Race0109!D$12","v":0},{"$f":"Race0109!C$12","v":0},{"$f":"Race0109!F$12","v":7}]
[null,{"$f":"Race0109!B$5","v":"Senior"},{"$f":"Race0109!B$4","v":"OC6"},{"$f":"Race0109!E$5","v":"Women"},{"$f":"Race0109!D$5","v":"Senior Masters"},{"$f":"Race0109!D$4","v":"Marathon"},{"$f":"Race0109!A$13","v":6},{"$f":"Race0109!D$13","v":0},{"$f":"Race0109!C$13","v":0},{"$f":"Race0109!F$13","v":6}]
[null,{"$f":"Race0109!B$5","v":"Senior"},{"$f":"Race0109!B$4","v":"OC6"},{"$f":"Race0109!E$5","v":"Women"},{"$f":"Race0109!D$5","v":"Senior Masters"},{"$f":"Race0109!D$4","v":"Marathon"},{"$f":"Race0109!A$14","v":7},{"$f":"Race0109!D$14","v":0},{"$f":"Race0109!C$14","v":0},{"$f":"Race0109!F$14","v":5}]
[null,{"$f":"Race0109!B$5","v":"Senior"},{"$f":"Race0109!B$4","v":"OC6"},{"$f":"Race0109!E$5","v":"Women"},{"$f":"Race0109!D$5","v":"Senior Masters"},{"$f":"Race0109!D$4","v":"Marathon"},{"$f":"Race0109!A$15","v":8},{"$f":"Race0109!D$15","v":0},{"$f":"Race0109!C$15","v":0},{"$f":"Race0109!F$15","v":4}]
[null,{"$f":"Race0109!B$5","v":"Senior"},{"$f":"Race0109!B$4","v":"OC6"},{"$f":"Race0109!E$5","v":"Women"},{"$f":"Race0109!D$5","v":"Senior Masters"},{"$f":"Race0109!D$4","v":"Marathon"},{"$f":"Race0109!A$16","v":9},{"$f":"Race0109!D$16","v":0},{"$f":"Race0109!C$16","v":0},{"$f":"Race0109!F$16","v":3}]
[null,{"$f":"Race0109!B$5","v":"Senior"},{"$f":"Race0109!B$4","v":"OC6"},{"$f":"Race0109!E$5","v":"Women"},{"$f":"Race0109!D$5","v":"Senior Masters"},{"$f":"Race0109!D$4","v":"Marathon"},{"$f":"Race0109!A$17","v":10},{"$f":"Race0109!D$17","v":0},{"$f":"Race0109!C$17","v":0},{"$f":"Race0109!F$17","v":2}]
[null,{"$f":"Race0109!B$5","v":"Senior"},{"$f":"Race0109!B$4","v":"OC6"},{"$f":"Race0109!E$5","v":"Women"},{"$f":"Race0109!D$5","v":"Senior Masters"},{"$f":"Race0109!D$4","v":"Marathon"},{"$f":"Race0109!A$18","v":11},{"$f":"Race0109!D$18","v":0},{"$f":"Race0109!C$18","v":0},{"$f":"Race0109!F$18","v":1}]
[null,{"$f":"Race0109!B$5","v":"Senior"},{"$f":"Race0109!B$4","v":"OC6"},{"$f":"Race0109!E$5","v":"Women"},{"$f":"Race0109!D$5","v":"Senior Masters"},{"$f":"Race0109!D$4","v":"Marathon"},{"$f":"Race0109!A$19","v":12},{"$f":"Race0109!D$19","v":0},{"$f":"Race0109!C$19","v":0},{"$f":"Race0109!F$19","v":1}]
[null,{"$f":"Race0109!B$5","v":"Senior"},{"$f":"Race0109!B$4","v":"OC6"},{"$f":"Race0109!E$5","v":"Women"},{"$f":"Race0109!D$5","v":"Senior Masters"},{"$f":"Race0109!D$4","v":"Marathon"},{"$f":"Race0109!A$20","v":13},{"$f":"Race0109!D$20","v":0},{"$f":"Race0109!C$20","v":0},{"$f":"Race0109!F$20","v":1}]
[null,{"$f":"Race0109!B$5","v":"Senior"},{"$f":"Race0109!B$4","v":"OC6"},{"$f":"Race0109!E$5","v":"Women"},{"$f":"Race0109!D$5","v":"Senior Masters"},{"$f":"Race0109!D$4","v":"Marathon"},{"$f":"Race0109!A$21","v":14},{"$f":"Race0109!D$21","v":0},{"$f":"Race0109!C$21","v":0},{"$f":"Race0109!F$21","v":1}]
[null,{"$f":"Race0109!B$5","v":"Senior"},{"$f":"Race0109!B$4","v":"OC6"},{"$f":"Race0109!E$5","v":"Women"},{"$f":"Race0109!D$5","v":"Senior Masters"},{"$f":"Race0109!D$4","v":"Marathon"},{"$f":"Race0109!A$22","v":15},{"$f":"Race0109!D$22","v":0},{"$f":"Race0109!C$22","v":0},{"$f":"Race0109!F$22","v":1}]
[null,{"$f":"Race0109!B$5","v":"Senior"},{"$f":"Race0109!B$4","v":"OC6"},{"$f":"Race0109!E$5","v":"Women"},{"$f":"Race0109!D$5","v":"Senior Masters"},{"$f":"Race0109!D$4","v":"Marathon"},{"$f":"Race0109!A$23","v":16},{"$f":"Race0109!D$23","v":0},{"$f":"Race0109!C$23","v":0},{"$f":"Race0109!F$23","v":1}]
[null,{"$f":"Race0109!B$5","v":"Senior"},{"$f":"Race0109!B$4","v":"OC6"},{"$f":"Race0109!E$5","v":"Women"},{"$f":"Race0109!D$5","v":"Senior Masters"},{"$f":"Race0109!D$4","v":"Marathon"},{"$f":"Race0109!A$24","v":17},{"$f":"Race0109!D$24","v":0},{"$f":"Race0109!C$24","v":0},{"$f":"Race0109!F$24","v":1}]
[null,{"$f":"Race0109!B$5","v":"Senior"},{"$f":"Race0109!B$4","v":"OC6"},{"$f":"Race0109!E$5","v":"Women"},{"$f":"Race0109!D$5","v":"Senior Masters"},{"$f":"Race0109!D$4","v":"Marathon"},{"$f":"Race0109!A$25","v":18},{"$f":"Race0109!D$25","v":0},{"$f":"Race0109!C$25","v":0},{"$f":"Race0109!F$25","v":1}]
[null,{"$f":"Race0109!B$5","v":"Senior"},{"$f":"Race0109!B$4","v":"OC6"},{"$f":"Race0109!E$5","v":"Women"},{"$f":"Race0109!D$5","v":"Senior Masters"},{"$f":"Race0109!D$4","v":"Marathon"},{"$f":"Race0109!A$26","v":19},{"$f":"Race0109!D$26","v":0},{"$f":"Race0109!C$26","v":0},{"$f":"Race0109!F$26","v":1}]
[null,{"$f":"Race0109!B$5","v":"Senior"},{"$f":"Race0109!B$4","v":"OC6"},{"$f":"Race0109!E$5","v":"Women"},{"$f":"Race0109!D$5","v":"Senior Masters"},{"$f":"Race0109!D$4","v":"Marathon"},{"$f":"Race0109!A$27","v":20},{"$f":"Race0109!D$27","v":0},{"$f":"Race0109!C$27","v":0},{"$f":"Race0109!F$27","v":1}]
[null,{"$f":"Race0109!B$5","v":"Senior"},{"$f":"Race0109!B$4","v":"OC6"},{"$f":"Race0109!E$5","v":"Women"},{"$f":"Race0109!D$5","v":"Senior Masters"},{"$f":"Race0109!D$4","v":"Marathon"},{"$f":"Race0109!A$28","v":21},{"$f":"Race0109!D$28","v":0},{"$f":"Race0109!C$28","v":0},{"$f":"Race0109!F$28","v":1}]
[null,{"$f":"Race0109!B$5","v":"Senior"},{"$f":"Race0109!B$4","v":"OC6"},{"$f":"Race0109!E$5","v":"Women"},{"$f":"Race0109!D$5","v":"Senior Masters"},{"$f":"Race0109!D$4","v":"Marathon"},{"$f":"Race0109!A$29","v":22},{"$f":"Race0109!D$29","v":0},{"$f":"Race0109!C$29","v":0},{"$f":"Race0109!F$29","v":1}]
[null,{"$f":"Race0109!B$5","v":"Senior"},{"$f":"Race0109!B$4","v":"OC6"},{"$f":"Race0109!E$5","v":"Women"},{"$f":"Race0109!D$5","v":"Senior Masters"},{"$f":"Race0109!D$4","v":"Marathon"},{"$f":"Race0109!A$30","v":23},{"$f":"Race0109!D$30","v":0},{"$f":"Race0109!C$30","v":0},{"$f":"Race0109!F$30","v":1}]
[null,{"$f":"Race0109!B$5","v":"Senior"},{"$f":"Race0109!B$4","v":"OC6"},{"$f":"Race0109!E$5","v":"Women"},{"$f":"Race0109!D$5","v":"Senior Masters"},{"$f":"Race0109!D$4","v":"Marathon"},{"$f":"Race0109!A$31","v":24},{"$f":"Race0109!D$31","v":0},{"$f":"Race0109!C$31","v":0},{"$f":"Race0109!F$31","v":1}]
[null,{"$f":"Race0109!B$5","v":"Senior"},{"$f":"Race0109!B$4","v":"OC6"},{"$f":"Race0109!E$5","v":"Women"},{"$f":"Race0109!D$5","v":"Senior Masters"},{"$f":"Race0109!D$4","v":"Marathon"},{"$f":"Race0109!A$32","v":25},{"$f":"Race0109!D$32","v":0},{"$f":"Race0109!C$32","v":0},{"$f":"Race0109!F$32","v":1}]
[null,{"$f":"Race0109!B$5","v":"Senior"},{"$f":"Race0109!B$4","v":"OC6"},{"$f":"Race0109!E$5","v":"Women"},{"$f":"Race0109!D$5","v":"Senior Masters"},{"$f":"Race0109!D$4","v":"Marathon"},{"$f":"Race0109!A$33","v":26},{"$f":"Race0109!D$33","v":0},{"$f":"Race0109!C$33","v":0},{"$f":"Race0109!F$33","v":1}]
[null,{"$f":"Race0109!B$5","v":"Senior"},{"$f":"Race0109!B$4","v":"OC6"},{"$f":"Race0109!E$5","v":"Women"},{"$f":"Race0109!D$5","v":"Senior Masters"},{"$f":"Race0109!D$4","v":"Marathon"},{"$f":"Race0109!A$34","v":27},{"$f":"Race0109!D$34","v":0},{"$f":"Race0109!C$34","v":0},{"$f":"Race0109!F$34","v":1}]
[null,{"$f":"Race0109!B$5","v":"Senior"},{"$f":"Race0109!B$4","v":"OC6"},{"$f":"Race0109!E$5","v":"Women"},{"$f":"Race0109!D$5","v":"Senior Masters"},{"$f":"Race0109!D$4","v":"Marathon"},{"$f":"Race0109!A$35","v":28},{"$f":"Race0109!D$35","v":0},{"$f":"Race0109!C$35","v":0},{"$f":"Race0109!F$35","v":1}]
[null,{"$f":"Race0109!B$5","v":"Senior"},{"$f":"Race0109!B$4","v":"OC6"},{"$f":"Race0109!E$5","v":"Women"},{"$f":"Race0109!D$5","v":"Senior Masters"},{"$f":"Race0109!D$4","v":"Marathon"},{"$f":"Race0109!A$36","v":29},{"$f":"Race0109!D$36","v":0},{"$f":"Race0109!C$36","v":0},{"$f":"Race0109!F$36","v":1}]
[null,{"$f":"Race0109!B$5","v":"Senior"},{"$f":"Race0109!B$4","v":"OC6"},{"$f":"Race0109!E$5","v":"Women"},{"$f":"Race0109!D$5","v":"Senior Masters"},{"$f":"Race0109!D$4","v":"Marathon"},{"$f":"Race0109!A$37","v":30},{"$f":"Race0109!D$37","v":0},{"$f":"Race0109!C$37","v":0},{"$f":"Race0109!F$37","v":1}]
[null,{"$f":"Race0109!B$5","v":"Senior"},{"$f":"Race0109!B$4","v":"OC6"},{"$f":"Race0109!E$5","v":"Women"},{"$f":"Race0109!D$5","v":"Senior Masters"},{"$f":"Race0109!D$4","v":"Marathon"},{"$f":"Race0109!A$38","v":31},{"$f":"Race0109!D$38","v":0},{"$f":"Race0109!C$38","v":0},{"$f":"Race0109!F$38","v":1}]
[null,{"$f":"Race0109!B$5","v":"Senior"},{"$f":"Race0109!B$4","v":"OC6"},{"$f":"Race0109!E$5","v":"Women"},{"$f":"Race0109!D$5","v":"Senior Masters"},{"$f":"Race0109!D$4","v":"Marathon"},{"$f":"Race0109!A$39","v":32},{"$f":"Race0109!D$39","v":0},{"$f":"Race0109!C$39","v":0},{"$f":"Race0109!F$39","v":1}]
[null,{"$f":"Race0109!B$5","v":"Senior"},{"$f":"Race0109!B$4","v":"OC6"},{"$f":"Race0109!E$5","v":"Women"},{"$f":"Race0109!D$5","v":"Senior Masters"},{"$f":"Race0109!D$4","v":"Marathon"},{"$f":"Race0109!A$40","v":33},{"$f":"Race0109!D$40","v":0},{"$f":"Race0109!C$40","v":0},{"$f":"Race0109!F$40","v":1}]
[null,{"$f":"Race0109!B$5","v":"Senior"},{"$f":"Race0109!B$4","v":"OC6"},{"$f":"Race0109!E$5","v":"Women"},{"$f":"Race0109!D$5","v":"Senior Masters"},{"$f":"Race0109!D$4","v":"Marathon"},{"$f":"Race0109!A$41","v":34},{"$f":"Race0109!D$41","v":0},{"$f":"Race0109!C$41","v":0},{"$f":"Race0109!F$41","v":1}]
[null,{"$f":"Race0109!B$5","v":"Senior"},{"$f":"Race0109!B$4","v":"OC6"},{"$f":"Race0109!E$5","v":"Women"},{"$f":"Race0109!D$5","v":"Senior Masters"},{"$f":"Race0109!D$4","v":"Marathon"},{"$f":"Race0109!A$42","v":35},{"$f":"Race0109!D$42","v":0},{"$f":"Race0109!C$42","v":0},{"$f":"Race0109!F$42","v":1}]
[null,{"$f":"Race0109!B$5","v":"Senior"},{"$f":"Race0109!B$4","v":"OC6"},{"$f":"Race0109!E$5","v":"Women"},{"$f":"Race0109!D$5","v":"Senior Masters"},{"$f":"Race0109!D$4","v":"Marathon"},{"$f":"Race0109!A$43","v":36},{"$f":"Race0109!D$43","v":0},{"$f":"Race0109!C$43","v":0},{"$f":"Race0109!F$43","v":1}]
[null,{"$f":"Race0109!B$5","v":"Senior"},{"$f":"Race0109!B$4","v":"OC6"},{"$f":"Race0109!E$5","v":"Women"},{"$f":"Race0109!D$5","v":"Senior Masters"},{"$f":"Race0109!D$4","v":"Marathon"},{"$f":"Race0109!A$44","v":37},{"$f":"Race0109!D$44","v":0},{"$f":"Race0109!C$44","v":0},{"$f":"Race0109!F$44","v":1}]
[null,{"$f":"Race0109!B$5","v":"Senior"},{"$f":"Race0109!B$4","v":"OC6"},{"$f":"Race0109!E$5","v":"Women"},{"$f":"Race0109!D$5","v":"Senior Masters"},{"$f":"Race0109!D$4","v":"Marathon"},{"$f":"Race0109!A$45","v":38},{"$f":"Race0109!D$45","v":0},{"$f":"Race0109!C$45","v":0},{"$f":"Race0109!F$45","v":1}]
[null,{"$f":"Race0109!B$5","v":"Senior"},{"$f":"Race0109!B$4","v":"OC6"},{"$f":"Race0109!E$5","v":"Women"},{"$f":"Race0109!D$5","v":"Senior Masters"},{"$f":"Race0109!D$4","v":"Marathon"},{"$f":"Race0109!A$46","v":39},{"$f":"Race0109!D$46","v":0},{"$f":"Race0109!C$46","v":0},{"$f":"Race0109!F$46","v":1}]
[null,{"$f":"Race0109!B$5","v":"Senior"},{"$f":"Race0109!B$4","v":"OC6"},{"$f":"Race0109!E$5","v":"Women"},{"$f":"Race0109!D$5","v":"Senior Masters"},{"$f":"Race0109!D$4","v":"Marathon"},{"$f":"Race0109!A$47","v":40},{"$f":"Race0109!D$47","v":0},{"$f":"Race0109!C$47","v":0},{"$f":"Race0109!F$47","v":1}]
[null,{"$f":"Race0109!B$5","v":"Senior"},{"$f":"Race0109!B$4","v":"OC6"},{"$f":"Race0109!E$5","v":"Women"},{"$f":"Race0109!D$5","v":"Senior Masters"},{"$f":"Race0109!D$4","v":"Marathon"},{"$f":"Race0109!A$48","v":41},{"$f":"Race0109!D$48","v":0},{"$f":"Race0109!C$48","v":0},{"$f":"Race0109!F$48","v":1}]
[null,{"$f":"Race0109!B$5","v":"Senior"},{"$f":"Race0109!B$4","v":"OC6"},{"$f":"Race0109!E$5","v":"Women"},{"$f":"Race0109!D$5","v":"Senior Masters"},{"$f":"Race0109!D$4","v":"Marathon"},{"$f":"Race0109!A$49","v":42},{"$f":"Race0109!D$49","v":0},{"$f":"Race0109!C$49","v":0},{"$f":"Race0109!F$49","v":1}]
[null,{"$f":"Race0109!B$5","v":"Senior"},{"$f":"Race0109!B$4","v":"OC6"},{"$f":"Race0109!E$5","v":"Women"},{"$f":"Race0109!D$5","v":"Senior Masters"},{"$f":"Race0109!D$4","v":"Marathon"},{"$f":"Race0109!A$50","v":43},{"$f":"Race0109!D$50","v":0},{"$f":"Race0109!C$50","v":0},{"$f":"Race0109!F$50","v":1}]
[null,{"$f":"Race0109!B$5","v":"Senior"},{"$f":"Race0109!B$4","v":"OC6"},{"$f":"Race0109!E$5","v":"Women"},{"$f":"Race0109!D$5","v":"Senior Masters"},{"$f":"Race0109!D$4","v":"Marathon"},{"$f":"Race0109!A$51","v":44},{"$f":"Race0109!D$51","v":0},{"$f":"Race0109!C$51","v":0},{"$f":"Race0109!F$51","v":1}]
[null,{"$f":"Race0109!B$5","v":"Senior"},{"$f":"Race0109!B$4","v":"OC6"},{"$f":"Race0109!E$5","v":"Women"},{"$f":"Race0109!D$5","v":"Senior Masters"},{"$f":"Race0109!D$4","v":"Marathon"},{"$f":"Race0109!A$52","v":45},{"$f":"Race0109!D$52","v":0},{"$f":"Race0109!C$52","v":0},{"$f":"Race0109!F$52","v":1}]
[null,{"$f":"Race0109!B$5","v":"Senior"},{"$f":"Race0109!B$4","v":"OC6"},{"$f":"Race0109!E$5","v":"Women"},{"$f":"Race0109!D$5","v":"Senior Masters"},{"$f":"Race0109!D$4","v":"Marathon"},{"$f":"Race0109!A$53","v":46},{"$f":"Race0109!D$53","v":0},{"$f":"Race0109!C$53","v":0},{"$f":"Race0109!F$53","v":1}]
[null,{"$f":"Race0109!B$5","v":"Senior"},{"$f":"Race0109!B$4","v":"OC6"},{"$f":"Race0109!E$5","v":"Women"},{"$f":"Race0109!D$5","v":"Senior Masters"},{"$f":"Race0109!D$4","v":"Marathon"},{"$f":"Race0109!A$54","v":47},{"$f":"Race0109!D$54","v":0},{"$f":"Race0109!C$54","v":0},{"$f":"Race0109!F$54","v":1}]
[null,{"$f":"Race0109!B$5","v":"Senior"},{"$f":"Race0109!B$4","v":"OC6"},{"$f":"Race0109!E$5","v":"Women"},{"$f":"Race0109!D$5","v":"Senior Masters"},{"$f":"Race0109!D$4","v":"Marathon"},{"$f":"Race0109!A$55","v":48},{"$f":"Race0109!D$55","v":0},{"$f":"Race0109!C$55","v":0},{"$f":"Race0109!F$55","v":1}]
[null,{"$f":"Race0109!B$5","v":"Senior"},{"$f":"Race0109!B$4","v":"OC6"},{"$f":"Race0109!E$5","v":"Women"},{"$f":"Race0109!D$5","v":"Senior Masters"},{"$f":"Race0109!D$4","v":"Marathon"},{"$f":"Race0109!A$56","v":49},{"$f":"Race0109!D$56","v":0},{"$f":"Race0109!C$56","v":0},{"$f":"Race0109!F$56","v":1}]
[null,{"$f":"Race0109!B$5","v":"Senior"},{"$f":"Race0109!B$4","v":"OC6"},{"$f":"Race0109!E$5","v":"Women"},{"$f":"Race0109!D$5","v":"Senior Masters"},{"$f":"Race0109!D$4","v":"Marathon"},{"$f":"Race0109!A$57","v":50},{"$f":"Race0109!D$57","v":0},{"$f":"Race0109!C$57","v":0},{"$f":"Race0109!F$57","v":1}]
["Race0110",{"$f":"Race0110!B$5","v":"Senior"},{"$f":"Race0110!B$4","v":"OC6"},{"$f":"Race0110!E$5","v":"Women"},{"$f":"Race0110!D$5","v":"Golden Masters"},{"$f":"Race0110!D$4","v":"Marathon"},{"$f":"Race0110!A$8","v":1},{"$f":"Race0110!D$8","v":0},{"$f":"Race0110!C$8","v":0},{"$f":"Race0110!F$8","v":14}]
[null,{"$f":"Race0110!B$5","v":"Senior"},{"$f":"Race0110!B$4","v":"OC6"},{"$f":"Race0110!E$5","v":"Women"},{"$f":"Race0110!D$5","v":"Golden Masters"},{"$f":"Race0110!D$4","v":"Marathon"},{"$f":"Race0110!A$9","v":2},{"$f":"Race0110!D$9","v":0},{"$f":"Race0110!C$9","v":0},{"$f":"Race0110!F$9","v":12}]
[null,{"$f":"Race0110!B$5","v":"Senior"},{"$f":"Race0110!B$4","v":"OC6"},{"$f":"Race0110!E$5","v":"Women"},{"$f":"Race0110!D$5","v":"Golden Masters"},{"$f":"Race0110!D$4","v":"Marathon"},{"$f":"Race0110!A$10","v":3},{"$f":"Race0110!D$10","v":0},{"$f":"Race0110!C$10","v":0},{"$f":"Race0110!F$10","v":10}]
[null,{"$f":"Race0110!B$5","v":"Senior"},{"$f":"Race0110!B$4","v":"OC6"},{"$f":"Race0110!E$5","v":"Women"},{"$f":"Race0110!D$5","v":"Golden Masters"},{"$f":"Race0110!D$4","v":"Marathon"},{"$f":"Race0110!A$11","v":4},{"$f":"Race0110!D$11","v":0},{"$f":"Race0110!C$11","v":0},{"$f":"Race0110!F$11","v":8}]
[null,{"$f":"Race0110!B$5","v":"Senior"},{"$f":"Race0110!B$4","v":"OC6"},{"$f":"Race0110!E$5","v":"Women"},{"$f":"Race0110!D$5","v":"Golden Masters"},{"$f":"Race0110!D$4","v":"Marathon"},{"$f":"Race0110!A$12","v":5},{"$f":"Race0110!D$12","v":0},{"$f":"Race0110!C$12","v":0},{"$f":"Race0110!F$12","v":7}]
[null,{"$f":"Race0110!B$5","v":"Senior"},{"$f":"Race0110!B$4","v":"OC6"},{"$f":"Race0110!E$5","v":"Women"},{"$f":"Race0110!D$5","v":"Golden Masters"},{"$f":"Race0110!D$4","v":"Marathon"},{"$f":"Race0110!A$13","v":6},{"$f":"Race0110!D$13","v":0},{"$f":"Race0110!C$13","v":0},{"$f":"Race0110!F$13","v":6}]
[null,{"$f":"Race0110!B$5","v":"Senior"},{"$f":"Race0110!B$4","v":"OC6"},{"$f":"Race0110!E$5","v":"Women"},{"$f":"Race0110!D$5","v":"Golden Masters"},{"$f":"Race0110!D$4","v":"Marathon"},{"$f":"Race0110!A$14","v":7},{"$f":"Race0110!D$14","v":0},{"$f":"Race0110!C$14","v":0},{"$f":"Race0110!F$14","v":5}]
[null,{"$f":"Race0110!B$5","v":"Senior"},{"$f":"Race0110!B$4","v":"OC6"},{"$f":"Race0110!E$5","v":"Women"},{"$f":"Race0110!D$5","v":"Golden Masters"},{"$f":"Race0110!D$4","v":"Marathon"},{"$f":"Race0110!A$15","v":8},{"$f":"Race0110!D$15","v":0},{"$f":"Race0110!C$15","v":0},{"$f":"Race0110!F$15","v":4}]
[null,{"$f":"Race0110!B$5","v":"Senior"},{"$f":"Race0110!B$4","v":"OC6"},{"$f":"Race0110!E$5","v":"Women"},{"$f":"Race0110!D$5","v":"Golden Masters"},{"$f":"Race0110!D$4","v":"Marathon"},{"$f":"Race0110!A$16","v":9},{"$f":"Race0110!D$16","v":0},{"$f":"Race0110!C$16","v":0},{"$f":"Race0110!F$16","v":3}]
[null,{"$f":"Race0110!B$5","v":"Senior"},{"$f":"Race0110!B$4","v":"OC6"},{"$f":"Race0110!E$5","v":"Women"},{"$f":"Race0110!D$5","v":"Golden Masters"},{"$f":"Race0110!D$4","v":"Marathon"},{"$f":"Race0110!A$17","v":10},{"$f":"Race0110!D$17","v":0},{"$f":"Race0110!C$17","v":0},{"$f":"Race0110!F$17","v":2}]
[null,{"$f":"Race0110!B$5","v":"Senior"},{"$f":"Race0110!B$4","v":"OC6"},{"$f":"Race0110!E$5","v":"Women"},{"$f":"Race0110!D$5","v":"Golden Masters"},{"$f":"Race0110!D$4","v":"Marathon"},{"$f":"Race0110!A$18","v":11},{"$f":"Race0110!D$18","v":0},{"$f":"Race0110!C$18","v":0},{"$f":"Race0110!F$18","v":1}]
[null,{"$f":"Race0110!B$5","v":"Senior"},{"$f":"Race0110!B$4","v":"OC6"},{"$f":"Race0110!E$5","v":"Women"},{"$f":"Race0110!D$5","v":"Golden Masters"},{"$f":"Race0110!D$4","v":"Marathon"},{"$f":"Race0110!A$19","v":12},{"$f":"Race0110!D$19","v":0},{"$f":"Race0110!C$19","v":0},{"$f":"Race0110!F$19","v":1}]
[null,{"$f":"Race0110!B$5","v":"Senior"},{"$f":"Race0110!B$4","v":"OC6"},{"$f":"Race0110!E$5","v":"Women"},{"$f":"Race0110!D$5","v":"Golden Masters"},{"$f":"Race0110!D$4","v":"Marathon"},{"$f":"Race0110!A$20","v":13},{"$f":"Race0110!D$20","v":0},{"$f":"Race0110!C$20","v":0},{"$f":"Race0110!F$20","v":1}]
[null,{"$f":"Race0110!B$5","v":"Senior"},{"$f":"Race0110!B$4","v":"OC6"},{"$f":"Race0110!E$5","v":"Women"},{"$f":"Race0110!D$5","v":"Golden Masters"},{"$f":"Race0110!D$4","v":"Marathon"},{"$f":"Race0110!A$21","v":14},{"$f":"Race0110!D$21","v":0},{"$f":"Race0110!C$21","v":0},{"$f":"Race0110!F$21","v":1}]
[null,{"$f":"Race0110!B$5","v":"Senior"},{"$f":"Race0110!B$4","v":"OC6"},{"$f":"Race0110!E$5","v":"Women"},{"$f":"Race0110!D$5","v":"Golden Masters"},{"$f":"Race0110!D$4","v":"Marathon"},{"$f":"Race0110!A$22","v":15},{"$f":"Race0110!D$22","v":0},{"$f":"Race0110!C$22","v":0},{"$f":"Race0110!F$22","v":1}]
[null,{"$f":"Race0110!B$5","v":"Senior"},{"$f":"Race0110!B$4","v":"OC6"},{"$f":"Race0110!E$5","v":"Women"},{"$f":"Race0110!D$5","v":"Golden Masters"},{"$f":"Race0110!D$4","v":"Marathon"},{"$f":"Race0110!A$23","v":16},{"$f":"Race0110!D$23","v":0},{"$f":"Race0110!C$23","v":0},{"$f":"Race0110!F$23","v":1}]
[null,{"$f":"Race0110!B$5","v":"Senior"},{"$f":"Race0110!B$4","v":"OC6"},{"$f":"Race0110!E$5","v":"Women"},{"$f":"Race0110!D$5","v":"Golden Masters"},{"$f":"Race0110!D$4","v":"Marathon"},{"$f":"Race0110!A$24","v":17},{"$f":"Race0110!D$24","v":0},{"$f":"Race0110!C$24","v":0},{"$f":"Race0110!F$24","v":1}]
[null,{"$f":"Race0110!B$5","v":"Senior"},{"$f":"Race0110!B$4","v":"OC6"},{"$f":"Race0110!E$5","v":"Women"},{"$f":"Race0110!D$5","v":"Golden Masters"},{"$f":"Race0110!D$4","v":"Marathon"},{"$f":"Race0110!A$25","v":18},{"$f":"Race0110!D$25","v":0},{"$f":"Race0110!C$25","v":0},{"$f":"Race0110!F$25","v":1}]
[null,{"$f":"Race0110!B$5","v":"Senior"},{"$f":"Race0110!B$4","v":"OC6"},{"$f":"Race0110!E$5","v":"Women"},{"$f":"Race0110!D$5","v":"Golden Masters"},{"$f":"Race0110!D$4","v":"Marathon"},{"$f":"Race0110!A$26","v":19},{"$f":"Race0110!D$26","v":0},{"$f":"Race0110!C$26","v":0},{"$f":"Race0110!F$26","v":1}]
[null,{"$f":"Race0110!B$5","v":"Senior"},{"$f":"Race0110!B$4","v":"OC6"},{"$f":"Race0110!E$5","v":"Women"},{"$f":"Race0110!D$5","v":"Golden Masters"},{"$f":"Race0110!D$4","v":"Marathon"},{"$f":"Race0110!A$27","v":20},{"$f":"Race0110!D$27","v":0},{"$f":"Race0110!C$27","v":0},{"$f":"Race0110!F$27","v":1}]
[null,{"$f":"Race0110!B$5","v":"Senior"},{"$f":"Race0110!B$4","v":"OC6"},{"$f":"Race0110!E$5","v":"Women"},{"$f":"Race0110!D$5","v":"Golden Masters"},{"$f":"Race0110!D$4","v":"Marathon"},{"$f":"Race0110!A$28","v":21},{"$f":"Race0110!D$28","v":0},{"$f":"Race0110!C$28","v":0},{"$f":"Race0110!F$28","v":1}]
[null,{"$f":"Race0110!B$5","v":"Senior"},{"$f":"Race0110!B$4","v":"OC6"},{"$f":"Race0110!E$5","v":"Women"},{"$f":"Race0110!D$5","v":"Golden Masters"},{"$f":"Race0110!D$4","v":"Marathon"},{"$f":"Race0110!A$29","v":22},{"$f":"Race0110!D$29","v":0},{"$f":"Race0110!C$29","v":0},{"$f":"Race0110!F$29","v":1}]
[null,{"$f":"Race0110!B$5","v":"Senior"},{"$f":"Race0110!B$4","v":"OC6"},{"$f":"Race0110!E$5","v":"Women"},{"$f":"Race0110!D$5","v":"Golden Masters"},{"$f":"Race0110!D$4","v":"Marathon"},{"$f":"Race0110!A$30","v":23},{"$f":"Race0110!D$30","v":0},{"$f":"Race0110!C$30","v":0},{"$f":"Race0110!F$30","v":1}]
[null,{"$f":"Race0110!B$5","v":"Senior"},{"$f":"Race0110!B$4","v":"OC6"},{"$f":"Race0110!E$5","v":"Women"},{"$f":"Race0110!D$5","v":"Golden Masters"},{"$f":"Race0110!D$4","v":"Marathon"},{"$f":"Race0110!A$31","v":24},{"$f":"Race0110!D$31","v":0},{"$f":"Race0110!C$31","v":0},{"$f":"Race0110!F$31","v":1}]
[null,{"$f":"Race0110!B$5","v":"Senior"},{"$f":"Race0110!B$4","v":"OC6"},{"$f":"Race0110!E$5","v":"Women"},{"$f":"Race0110!D$5","v":"Golden Masters"},{"$f":"Race0110!D$4","v":"Marathon"},{"$f":"Race0110!A$32","v":25},{"$f":"Race0110!D$32","v":0},{"$f":"Race0110!C$32","v":0},{"$f":"Race0110!F$32","v":1}]
[null,{"$f":"Race0110!B$5","v":"Senior"},{"$f":"Race0110!B$4","v":"OC6"},{"$f":"Race0110!E$5","v":"Women"},{"$f":"Race0110!D$5","v":"Golden Masters"},{"$f":"Race0110!D$4","v":"Marathon"},{"$f":"Race0110!A$33","v":26},{"$f":"Race0110!D$33","v":0},{"$f":"Race0110!C$33","v":0},{"$f":"Race0110!F$33","v":1}]
[null,{"$f":"Race0110!B$5","v":"Senior"},{"$f":"Race0110!B$4","v":"OC6"},{"$f":"Race0110!E$5","v":"Women"},{"$f":"Race0110!D$5","v":"Golden Masters"},{"$f":"Race0110!D$4","v":"Marathon"},{"$f":"Race0110!A$34","v":27},{"$f":"Race0110!D$34","v":0},{"$f":"Race0110!C$34","v":0},{"$f":"Race0110!F$34","v":1}]
[null,{"$f":"Race0110!B$5","v":"Senior"},{"$f":"Race0110!B$4","v":"OC6"},{"$f":"Race0110!E$5","v":"Women"},{"$f":"Race0110!D$5","v":"Golden Masters"},{"$f":"Race0110!D$4","v":"Marathon"},{"$f":"Race0110!A$35","v":28},{"$f":"Race0110!D$35","v":0},{"$f":"Race0110!C$35","v":0},{"$f":"Race0110!F$35","v":1}]
[null,{"$f":"Race0110!B$5","v":"Senior"},{"$f":"Race0110!B$4","v":"OC6"},{"$f":"Race0110!E$5","v":"Women"},{"$f":"Race0110!D$5","v":"Golden Masters"},{"$f":"Race0110!D$4","v":"Marathon"},{"$f":"Race0110!A$36","v":29},{"$f":"Race0110!D$36","v":0},{"$f":"Race0110!C$36","v":0},{"$f":"Race0110!F$36","v":1}]
[null,{"$f":"Race0110!B$5","v":"Senior"},{"$f":"Race0110!B$4","v":"OC6"},{"$f":"Race0110!E$5","v":"Women"},{"$f":"Race0110!D$5","v":"Golden Masters"},{"$f":"Race0110!D$4","v":"Marathon"},{"$f":"Race0110!A$37","v":30},{"$f":"Race0110!D$37","v":0},{"$f":"Race0110!C$37","v":0},{"$f":"Race0110!F$37","v":1}]
[null,{"$f":"Race0110!B$5","v":"Senior"},{"$f":"Race0110!B$4","v":"OC6"},{"$f":"Race0110!E$5","v":"Women"},{"$f":"Race0110!D$5","v":"Golden Masters"},{"$f":"Race0110!D$4","v":"Marathon"},{"$f":"Race0110!A$38","v":31},{"$f":"Race0110!D$38","v":0},{"$f":"Race0110!C$38","v":0},{"$f":"Race0110!F$38","v":1}]
[null,{"$f":"Race0110!B$5","v":"Senior"},{"$f":"Race0110!B$4","v":"OC6"},{"$f":"Race0110!E$5","v":"Women"},{"$f":"Race0110!D$5","v":"Golden Masters"},{"$f":"Race0110!D$4","v":"Marathon"},{"$f":"Race0110!A$39","v":32},{"$f":"Race0110!D$39","v":0},{"$f":"Race0110!C$39","v":0},{"$f":"Race0110!F$39","v":1}]
[null,{"$f":"Race0110!B$5","v":"Senior"},{"$f":"Race0110!B$4","v":"OC6"},{"$f":"Race0110!E$5","v":"Women"},{"$f":"Race0110!D$5","v":"Golden Masters"},{"$f":"Race0110!D$4","v":"Marathon"},{"$f":"Race0110!A$40","v":33},{"$f":"Race0110!D$40","v":0},{"$f":"Race0110!C$40","v":0},{"$f":"Race0110!F$40","v":1}]
[null,{"$f":"Race0110!B$5","v":"Senior"},{"$f":"Race0110!B$4","v":"OC6"},{"$f":"Race0110!E$5","v":"Women"},{"$f":"Race0110!D$5","v":"Golden Masters"},{"$f":"Race0110!D$4","v":"Marathon"},{"$f":"Race0110!A$41","v":34},{"$f":"Race0110!D$41","v":0},{"$f":"Race0110!C$41","v":0},{"$f":"Race0110!F$41","v":1}]
[null,{"$f":"Race0110!B$5","v":"Senior"},{"$f":"Race0110!B$4","v":"OC6"},{"$f":"Race0110!E$5","v":"Women"},{"$f":"Race0110!D$5","v":"Golden Masters"},{"$f":"Race0110!D$4","v":"Marathon"},{"$f":"Race0110!A$42","v":35},{"$f":"Race0110!D$42","v":0},{"$f":"Race0110!C$42","v":0},{"$f":"Race0110!F$42","v":1}]
[null,{"$f":"Race0110!B$5","v":"Senior"},{"$f":"Race0110!B$4","v":"OC6"},{"$f":"Race0110!E$5","v":"Women"},{"$f":"Race0110!D$5","v":"Golden Masters"},{"$f":"Race0110!D$4","v":"Marathon"},{"$f":"Race0110!A$43","v":36},{"$f":"Race0110!D$43","v":0},{"$f":"Race0110!C$43","v":0},{"$f":"Race0110!F$43","v":1}]
[null,{"$f":"Race0110!B$5","v":"Senior"},{"$f":"Race0110!B$4","v":"OC6"},{"$f":"Race0110!E$5","v":"Women"},{"$f":"Race0110!D$5","v":"Golden Masters"},{"$f":"Race0110!D$4","v":"Marathon"},{"$f":"Race0110!A$44","v":37},{"$f":"Race0110!D$44","v":0},{"$f":"Race0110!C$44","v":0},{"$f":"Race0110!F$44","v":1}]
[null,{"$f":"Race0110!B$5","v":"Senior"},{"$f":"Race0110!B$4","v":"OC6"},{"$f":"Race0110!E$5","v":"Women"},{"$f":"Race0110!D$5","v":"Golden Masters"},{"$f":"Race0110!D$4","v":"Marathon"},{"$f":"Race0110!A$45","v":38},{"$f":"Race0110!D$45","v":0},{"$f":"Race0110!C$45","v":0},{"$f":"Race0110!F$45","v":1}]
[null,{"$f":"Race0110!B$5","v":"Senior"},{"$f":"Race0110!B$4","v":"OC6"},{"$f":"Race0110!E$5","v":"Women"},{"$f":"Race0110!D$5","v":"Golden Masters"},{"$f":"Race0110!D$4","v":"Marathon"},{"$f":"Race0110!A$46","v":39},{"$f":"Race0110!D$46","v":0},{"$f":"Race0110!C$46","v":0},{"$f":"Race0110!F$46","v":1}]
[null,{"$f":"Race0110!B$5","v":"Senior"},{"$f":"Race0110!B$4","v":"OC6"},{"$f":"Race0110!E$5","v":"Women"},{"$f":"Race0110!D$5","v":"Golden Masters"},{"$f":"Race0110!D$4","v":"Marathon"},{"$f":"Race0110!A$47","v":40},{"$f":"Race0110!D$47","v":0},{"$f":"Race0110!C$47","v":0},{"$f":"Race0110!F$47","v":1}]
[null,{"$f":"Race0110!B$5","v":"Senior"},{"$f":"Race0110!B$4","v":"OC6"},{"$f":"Race0110!E$5","v":"Women"},{"$f":"Race0110!D$5","v":"Golden Masters"},{"$f":"Race0110!D$4","v":"Marathon"},{"$f":"Race0110!A$48","v":41},{"$f":"Race0110!D$48","v":0},{"$f":"Race0110!C$48","v":0},{"$f":"Race0110!F$48","v":1}]
[null,{"$f":"Race0110!B$5","v":"Senior"},{"$f":"Race0110!B$4","v":"OC6"},{"$f":"Race0110!E$5","v":"Women"},{"$f":"Race0110!D$5","v":"Golden Masters"},{"$f":"Race0110!D$4","v":"Marathon"},{"$f":"Race0110!A$49","v":42},{"$f":"Race0110!D$49","v":0},{"$f":"Race0110!C$49","v":0},{"$f":"Race0110!F$49","v":1}]
[null,{"$f":"Race0110!B$5","v":"Senior"},{"$f":"Race0110!B$4","v":"OC6"},{"$f":"Race0110!E$5","v":"Women"},{"$f":"Race0110!D$5","v":"Golden Masters"},{"$f":"Race0110!D$4","v":"Marathon"},{"$f":"Race0110!A$50","v":43},{"$f":"Race0110!D$50","v":0},{"$f":"Race0110!C$50","v":0},{"$f":"Race0110!F$50","v":1}]
[null,{"$f":"Race0110!B$5","v":"Senior"},{"$f":"Race0110!B$4","v":"OC6"},{"$f":"Race0110!E$5","v":"Women"},{"$f":"Race0110!D$5","v":"Golden Masters"},{"$f":"Race0110!D$4","v":"Marathon"},{"$f":"Race0110!A$51","v":44},{"$f":"Race0110!D$51","v":0},{"$f":"Race0110!C$51","v":0},{"$f":"Race0110!F$51","v":1}]
[null,{"$f":"Race0110!B$5","v":"Senior"},{"$f":"Race0110!B$4","v":"OC6"},{"$f":"Race0110!E$5","v":"Women"},{"$f":"Race0110!D$5","v":"Golden Masters"},{"$f":"Race0110!D$4","v":"Marathon"},{"$f":"Race0110!A$52","v":45},{"$f":"Race0110!D$52","v":0},{"$f":"Race0110!C$52","v":0},{"$f":"Race0110!F$52","v":1}]
[null,{"$f":"Race0110!B$5","v":"Senior"},{"$f":"Race0110!B$4","v":"OC6"},{"$f":"Race0110!E$5","v":"Women"},{"$f":"Race0110!D$5","v":"Golden Masters"},{"$f":"Race0110!D$4","v":"Marathon"},{"$f":"Race0110!A$53","v":46},{"$f":"Race0110!D$53","v":0},{"$f":"Race0110!C$53","v":0},{"$f":"Race0110!F$53","v":1}]
[null,{"$f":"Race0110!B$5","v":"Senior"},{"$f":"Race0110!B$4","v":"OC6"},{"$f":"Race0110!E$5","v":"Women"},{"$f":"Race0110!D$5","v":"Golden Masters"},{"$f":"Race0110!D$4","v":"Marathon"},{"$f":"Race0110!A$54","v":47},{"$f":"Race0110!D$54","v":0},{"$f":"Race0110!C$54","v":0},{"$f":"Race0110!F$54","v":1}]
[null,{"$f":"Race0110!B$5","v":"Senior"},{"$f":"Race0110!B$4","v":"OC6"},{"$f":"Race0110!E$5","v":"Women"},{"$f":"Race0110!D$5","v":"Golden Masters"},{"$f":"Race0110!D$4","v":"Marathon"},{"$f":"Race0110!A$55","v":48},{"$f":"Race0110!D$55","v":0},{"$f":"Race0110!C$55","v":0},{"$f":"Race0110!F$55","v":1}]
[null,{"$f":"Race0110!B$5","v":"Senior"},{"$f":"Race0110!B$4","v":"OC6"},{"$f":"Race0110!E$5","v":"Women"},{"$f":"Race0110!D$5","v":"Golden Masters"},{"$f":"Race0110!D$4","v":"Marathon"},{"$f":"Race0110!A$56","v":49},{"$f":"Race0110!D$56","v":0},{"$f":"Race0110!C$56","v":0},{"$f":"Race0110!F$56","v":1}]
[null,{"$f":"Race0110!B$5","v":"Senior"},{"$f":"Race0110!B$4","v":"OC6"},{"$f":"Race0110!E$5","v":"Women"},{"$f":"Race0110!D$5","v":"Golden Masters"},{"$f":"Race0110!D$4","v":"Marathon"},{"$f":"Race0110!A$57","v":50},{"$f":"Race0110!D$57","v":0},{"$f":"Race0110!C$57","v":0},{"$f":"Race0110!F$57","v":1}]
["Race0112",{"$f":"Race0112!B$5","v":"Senior"},{"$f":"Race0112!B$4","v":"OC6"},{"$f":"Race0112!E$5","v":"Mixed"},{"$f":"Race0112!D$5","v":"Open"},{"$f":"Race0112!D$4","v":"Marathon"},{"$f":"Race0112!A$8","v":1},{"$f":"Race0112!D$8","v":0},{"$f":"Race0112!C$8","v":0},{"$f":"Race0112!F$8","v":14}]
[null,{"$f":"Race0112!B$5","v":"Senior"},{"$f":"Race0112!B$4","v":"OC6"},{"$f":"Race0112!E$5","v":"Mixed"},{"$f":"Race0112!D$5","v":"Open"},{"$f":"Race0112!D$4","v":"Marathon"},{"$f":"Race0112!A$9","v":2},{"$f":"Race0112!D$9","v":0},{"$f":"Race0112!C$9","v":0},{"$f":"Race0112!F$9","v":12}]
[null,{"$f":"Race0112!B$5","v":"Senior"},{"$f":"Race0112!B$4","v":"OC6"},{"$f":"Race0112!E$5","v":"Mixed"},{"$f":"Race0112!D$5","v":"Open"},{"$f":"Race0112!D$4","v":"Marathon"},{"$f":"Race0112!A$10","v":3},{"$f":"Race0112!D$10","v":0},{"$f":"Race0112!C$10","v":0},{"$f":"Race0112!F$10","v":10}]
[null,{"$f":"Race0112!B$5","v":"Senior"},{"$f":"Race0112!B$4","v":"OC6"},{"$f":"Race0112!E$5","v":"Mixed"},{"$f":"Race0112!D$5","v":"Open"},{"$f":"Race0112!D$4","v":"Marathon"},{"$f":"Race0112!A$11","v":4},{"$f":"Race0112!D$11","v":0},{"$f":"Race0112!C$11","v":0},{"$f":"Race0112!F$11","v":8}]
[null,{"$f":"Race0112!B$5","v":"Senior"},{"$f":"Race0112!B$4","v":"OC6"},{"$f":"Race0112!E$5","v":"Mixed"},{"$f":"Race0112!D$5","v":"Open"},{"$f":"Race0112!D$4","v":"Marathon"},{"$f":"Race0112!A$12","v":5},{"$f":"Race0112!D$12","v":0},{"$f":"Race0112!C$12","v":0},{"$f":"Race0112!F$12","v":7}]
[null,{"$f":"Race0112!B$5","v":"Senior"},{"$f":"Race0112!B$4","v":"OC6"},{"$f":"Race0112!E$5","v":"Mixed"},{"$f":"Race0112!D$5","v":"Open"},{"$f":"Race0112!D$4","v":"Marathon"},{"$f":"Race0112!A$13","v":6},{"$f":"Race0112!D$13","v":0},{"$f":"Race0112!C$13","v":0},{"$f":"Race0112!F$13","v":6}]
[null,{"$f":"Race0112!B$5","v":"Senior"},{"$f":"Race0112!B$4","v":"OC6"},{"$f":"Race0112!E$5","v":"Mixed"},{"$f":"Race0112!D$5","v":"Open"},{"$f":"Race0112!D$4","v":"Marathon"},{"$f":"Race0112!A$14","v":7},{"$f":"Race0112!D$14","v":0},{"$f":"Race0112!C$14","v":0},{"$f":"Race0112!F$14","v":5}]
[null,{"$f":"Race0112!B$5","v":"Senior"},{"$f":"Race0112!B$4","v":"OC6"},{"$f":"Race0112!E$5","v":"Mixed"},{"$f":"Race0112!D$5","v":"Open"},{"$f":"Race0112!D$4","v":"Marathon"},{"$f":"Race0112!A$15","v":8},{"$f":"Race0112!D$15","v":0},{"$f":"Race0112!C$15","v":0},{"$f":"Race0112!F$15","v":4}]
[null,{"$f":"Race0112!B$5","v":"Senior"},{"$f":"Race0112!B$4","v":"OC6"},{"$f":"Race0112!E$5","v":"Mixed"},{"$f":"Race0112!D$5","v":"Open"},{"$f":"Race0112!D$4","v":"Marathon"},{"$f":"Race0112!A$16","v":9},{"$f":"Race0112!D$16","v":0},{"$f":"Race0112!C$16","v":0},{"$f":"Race0112!F$16","v":3}]
[null,{"$f":"Race0112!B$5","v":"Senior"},{"$f":"Race0112!B$4","v":"OC6"},{"$f":"Race0112!E$5","v":"Mixed"},{"$f":"Race0112!D$5","v":"Open"},{"$f":"Race0112!D$4","v":"Marathon"},{"$f":"Race0112!A$17","v":10},{"$f":"Race0112!D$17","v":0},{"$f":"Race0112!C$17","v":0},{"$f":"Race0112!F$17","v":2}]
[null,{"$f":"Race0112!B$5","v":"Senior"},{"$f":"Race0112!B$4","v":"OC6"},{"$f":"Race0112!E$5","v":"Mixed"},{"$f":"Race0112!D$5","v":"Open"},{"$f":"Race0112!D$4","v":"Marathon"},{"$f":"Race0112!A$18","v":11},{"$f":"Race0112!D$18","v":0},{"$f":"Race0112!C$18","v":0},{"$f":"Race0112!F$18","v":1}]
[null,{"$f":"Race0112!B$5","v":"Senior"},{"$f":"Race0112!B$4","v":"OC6"},{"$f":"Race0112!E$5","v":"Mixed"},{"$f":"Race0112!D$5","v":"Open"},{"$f":"Race0112!D$4","v":"Marathon"},{"$f":"Race0112!A$19","v":12},{"$f":"Race0112!D$19","v":0},{"$f":"Race0112!C$19","v":0},{"$f":"Race0112!F$19","v":1}]
[null,{"$f":"Race0112!B$5","v":"Senior"},{"$f":"Race0112!B$4","v":"OC6"},{"$f":"Race0112!E$5","v":"Mixed"},{"$f":"Race0112!D$5","v":"Open"},{"$f":"Race0112!D$4","v":"Marathon"},{"$f":"Race0112!A$20","v":13},{"$f":"Race0112!D$20","v":0},{"$f":"Race0112!C$20","v":0},{"$f":"Race0112!F$20","v":1}]
[null,{"$f":"Race0112!B$5","v":"Senior"},{"$f":"Race0112!B$4","v":"OC6"},{"$f":"Race0112!E$5","v":"Mixed"},{"$f":"Race0112!D$5","v":"Open"},{"$f":"Race0112!D$4","v":"Marathon"},{"$f":"Race0112!A$21","v":14},{"$f":"Race0112!D$21","v":0},{"$f":"Race0112!C$21","v":0},{"$f":"Race0112!F$21","v":1}]
[null,{"$f":"Race0112!B$5","v":"Senior"},{"$f":"Race0112!B$4","v":"OC6"},{"$f":"Race0112!E$5","v":"Mixed"},{"$f":"Race0112!D$5","v":"Open"},{"$f":"Race0112!D$4","v":"Marathon"},{"$f":"Race0112!A$22","v":15},{"$f":"Race0112!D$22","v":0},{"$f":"Race0112!C$22","v":0},{"$f":"Race0112!F$22","v":1}]
[null,{"$f":"Race0112!B$5","v":"Senior"},{"$f":"Race0112!B$4","v":"OC6"},{"$f":"Race0112!E$5","v":"Mixed"},{"$f":"Race0112!D$5","v":"Open"},{"$f":"Race0112!D$4","v":"Marathon"},{"$f":"Race0112!A$23","v":16},{"$f":"Race0112!D$23","v":0},{"$f":"Race0112!C$23","v":0},{"$f":"Race0112!F$23","v":1}]
[null,{"$f":"Race0112!B$5","v":"Senior"},{"$f":"Race0112!B$4","v":"OC6"},{"$f":"Race0112!E$5","v":"Mixed"},{"$f":"Race0112!D$5","v":"Open"},{"$f":"Race0112!D$4","v":"Marathon"},{"$f":"Race0112!A$24","v":17},{"$f":"Race0112!D$24","v":0},{"$f":"Race0112!C$24","v":0},{"$f":"Race0112!F$24","v":1}]
[null,{"$f":"Race0112!B$5","v":"Senior"},{"$f":"Race0112!B$4","v":"OC6"},{"$f":"Race0112!E$5","v":"Mixed"},{"$f":"Race0112!D$5","v":"Open"},{"$f":"Race0112!D$4","v":"Marathon"},{"$f":"Race0112!A$25","v":18},{"$f":"Race0112!D$25","v":0},{"$f":"Race0112!C$25","v":0},{"$f":"Race0112!F$25","v":1}]
[null,{"$f":"Race0112!B$5","v":"Senior"},{"$f":"Race0112!B$4","v":"OC6"},{"$f":"Race0112!E$5","v":"Mixed"},{"$f":"Race0112!D$5","v":"Open"},{"$f":"Race0112!D$4","v":"Marathon"},{"$f":"Race0112!A$26","v":19},{"$f":"Race0112!D$26","v":0},{"$f":"Race0112!C$26","v":0},{"$f":"Race0112!F$26","v":1}]
[null,{"$f":"Race0112!B$5","v":"Senior"},{"$f":"Race0112!B$4","v":"OC6"},{"$f":"Race0112!E$5","v":"Mixed"},{"$f":"Race0112!D$5","v":"Open"},{"$f":"Race0112!D$4","v":"Marathon"},{"$f":"Race0112!A$27","v":20},{"$f":"Race0112!D$27","v":0},{"$f":"Race0112!C$27","v":0},{"$f":"Race0112!F$27","v":1}]
[null,{"$f":"Race0112!B$5","v":"Senior"},{"$f":"Race0112!B$4","v":"OC6"},{"$f":"Race0112!E$5","v":"Mixed"},{"$f":"Race0112!D$5","v":"Open"},{"$f":"Race0112!D$4","v":"Marathon"},{"$f":"Race0112!A$28","v":21},{"$f":"Race0112!D$28","v":0},{"$f":"Race0112!C$28","v":0},{"$f":"Race0112!F$28","v":1}]
[null,{"$f":"Race0112!B$5","v":"Senior"},{"$f":"Race0112!B$4","v":"OC6"},{"$f":"Race0112!E$5","v":"Mixed"},{"$f":"Race0112!D$5","v":"Open"},{"$f":"Race0112!D$4","v":"Marathon"},{"$f":"Race0112!A$29","v":22},{"$f":"Race0112!D$29","v":0},{"$f":"Race0112!C$29","v":0},{"$f":"Race0112!F$29","v":1}]
[null,{"$f":"Race0112!B$5","v":"Senior"},{"$f":"Race0112!B$4","v":"OC6"},{"$f":"Race0112!E$5","v":"Mixed"},{"$f":"Race0112!D$5","v":"Open"},{"$f":"Race0112!D$4","v":"Marathon"},{"$f":"Race0112!A$30","v":23},{"$f":"Race0112!D$30","v":0},{"$f":"Race0112!C$30","v":0},{"$f":"Race0112!F$30","v":1}]
[null,{"$f":"Race0112!B$5","v":"Senior"},{"$f":"Race0112!B$4","v":"OC6"},{"$f":"Race0112!E$5","v":"Mixed"},{"$f":"Race0112!D$5","v":"Open"},{"$f":"Race0112!D$4","v":"Marathon"},{"$f":"Race0112!A$31","v":24},{"$f":"Race0112!D$31","v":0},{"$f":"Race0112!C$31","v":0},{"$f":"Race0112!F$31","v":1}]
[null,{"$f":"Race0112!B$5","v":"Senior"},{"$f":"Race0112!B$4","v":"OC6"},{"$f":"Race0112!E$5","v":"Mixed"},{"$f":"Race0112!D$5","v":"Open"},{"$f":"Race0112!D$4","v":"Marathon"},{"$f":"Race0112!A$32","v":25},{"$f":"Race0112!D$32","v":0},{"$f":"Race0112!C$32","v":0},{"$f":"Race0112!F$32","v":1}]
[null,{"$f":"Race0112!B$5","v":"Senior"},{"$f":"Race0112!B$4","v":"OC6"},{"$f":"Race0112!E$5","v":"Mixed"},{"$f":"Race0112!D$5","v":"Open"},{"$f":"Race0112!D$4","v":"Marathon"},{"$f":"Race0112!A$33","v":26},{"$f":"Race0112!D$33","v":0},{"$f":"Race0112!C$33","v":0},{"$f":"Race0112!F$33","v":1}]
[null,{"$f":"Race0112!B$5","v":"Senior"},{"$f":"Race0112!B$4","v":"OC6"},{"$f":"Race0112!E$5","v":"Mixed"},{"$f":"Race0112!D$5","v":"Open"},{"$f":"Race0112!D$4","v":"Marathon"},{"$f":"Race0112!A$34","v":27},{"$f":"Race0112!D$34","v":0},{"$f":"Race0112!C$34","v":0},{"$f":"Race0112!F$34","v":1}]
[null,{"$f":"Race0112!B$5","v":"Senior"},{"$f":"Race0112!B$4","v":"OC6"},{"$f":"Race0112!E$5","v":"Mixed"},{"$f":"Race0112!D$5","v":"Open"},{"$f":"Race0112!D$4","v":"Marathon"},{"$f":"Race0112!A$35","v":28},{"$f":"Race0112!D$35","v":0},{"$f":"Race0112!C$35","v":0},{"$f":"Race0112!F$35","v":1}]
[null,{"$f":"Race0112!B$5","v":"Senior"},{"$f":"Race0112!B$4","v":"OC6"},{"$f":"Race0112!E$5","v":"Mixed"},{"$f":"Race0112!D$5","v":"Open"},{"$f":"Race0112!D$4","v":"Marathon"},{"$f":"Race0112!A$36","v":29},{"$f":"Race0112!D$36","v":0},{"$f":"Race0112!C$36","v":0},{"$f":"Race0112!F$36","v":1}]
[null,{"$f":"Race0112!B$5","v":"Senior"},{"$f":"Race0112!B$4","v":"OC6"},{"$f":"Race0112!E$5","v":"Mixed"},{"$f":"Race0112!D$5","v":"Open"},{"$f":"Race0112!D$4","v":"Marathon"},{"$f":"Race0112!A$37","v":30},{"$f":"Race0112!D$37","v":0},{"$f":"Race0112!C$37","v":0},{"$f":"Race0112!F$37","v":1}]
[null,{"$f":"Race0112!B$5","v":"Senior"},{"$f":"Race0112!B$4","v":"OC6"},{"$f":"Race0112!E$5","v":"Mixed"},{"$f":"Race0112!D$5","v":"Open"},{"$f":"Race0112!D$4","v":"Marathon"},{"$f":"Race0112!A$38","v":31},{"$f":"Race0112!D$38","v":0},{"$f":"Race0112!C$38","v":0},{"$f":"Race0112!F$38","v":1}]
[null,{"$f":"Race0112!B$5","v":"Senior"},{"$f":"Race0112!B$4","v":"OC6"},{"$f":"Race0112!E$5","v":"Mixed"},{"$f":"Race0112!D$5","v":"Open"},{"$f":"Race0112!D$4","v":"Marathon"},{"$f":"Race0112!A$39","v":32},{"$f":"Race0112!D$39","v":0},{"$f":"Race0112!C$39","v":0},{"$f":"Race0112!F$39","v":1}]
[null,{"$f":"Race0112!B$5","v":"Senior"},{"$f":"Race0112!B$4","v":"OC6"},{"$f":"Race0112!E$5","v":"Mixed"},{"$f":"Race0112!D$5","v":"Open"},{"$f":"Race0112!D$4","v":"Marathon"},{"$f":"Race0112!A$40","v":33},{"$f":"Race0112!D$40","v":0},{"$f":"Race0112!C$40","v":0},{"$f":"Race0112!F$40","v":1}]
[null,{"$f":"Race0112!B$5","v":"Senior"},{"$f":"Race0112!B$4","v":"OC6"},{"$f":"Race0112!E$5","v":"Mixed"},{"$f":"Race0112!D$5","v":"Open"},{"$f":"Race0112!D$4","v":"Marathon"},{"$f":"Race0112!A$41","v":34},{"$f":"Race0112!D$41","v":0},{"$f":"Race0112!C$41","v":0},{"$f":"Race0112!F$41","v":1}]
[null,{"$f":"Race0112!B$5","v":"Senior"},{"$f":"Race0112!B$4","v":"OC6"},{"$f":"Race0112!E$5","v":"Mixed"},{"$f":"Race0112!D$5","v":"Open"},{"$f":"Race0112!D$4","v":"Marathon"},{"$f":"Race0112!A$42","v":35},{"$f":"Race0112!D$42","v":0},{"$f":"Race0112!C$42","v":0},{"$f":"Race0112!F$42","v":1}]
[null,{"$f":"Race0112!B$5","v":"Senior"},{"$f":"Race0112!B$4","v":"OC6"},{"$f":"Race0112!E$5","v":"Mixed"},{"$f":"Race0112!D$5","v":"Open"},{"$f":"Race0112!D$4","v":"Marathon"},{"$f":"Race0112!A$43","v":36},{"$f":"Race0112!D$43","v":0},{"$f":"Race0112!C$43","v":0},{"$f":"Race0112!F$43","v":1}]
[null,{"$f":"Race0112!B$5","v":"Senior"},{"$f":"Race0112!B$4","v":"OC6"},{"$f":"Race0112!E$5","v":"Mixed"},{"$f":"Race0112!D$5","v":"Open"},{"$f":"Race0112!D$4","v":"Marathon"},{"$f":"Race0112!A$44","v":37},{"$f":"Race0112!D$44","v":0},{"$f":"Race0112!C$44","v":0},{"$f":"Race0112!F$44","v":1}]
[null,{"$f":"Race0112!B$5","v":"Senior"},{"$f":"Race0112!B$4","v":"OC6"},{"$f":"Race0112!E$5","v":"Mixed"},{"$f":"Race0112!D$5","v":"Open"},{"$f":"Race0112!D$4","v":"Marathon"},{"$f":"Race0112!A$45","v":38},{"$f":"Race0112!D$45","v":0},{"$f":"Race0112!C$45","v":0},{"$f":"Race0112!F$45","v":1}]
[null,{"$f":"Race0112!B$5","v":"Senior"},{"$f":"Race0112!B$4","v":"OC6"},{"$f":"Race0112!E$5","v":"Mixed"},{"$f":"Race0112!D$5","v":"Open"},{"$f":"Race0112!D$4","v":"Marathon"},{"$f":"Race0112!A$46","v":39},{"$f":"Race0112!D$46","v":0},{"$f":"Race0112!C$46","v":0},{"$f":"Race0112!F$46","v":1}]
[null,{"$f":"Race0112!B$5","v":"Senior"},{"$f":"Race0112!B$4","v":"OC6"},{"$f":"Race0112!E$5","v":"Mixed"},{"$f":"Race0112!D$5","v":"Open"},{"$f":"Race0112!D$4","v":"Marathon"},{"$f":"Race0112!A$47","v":40},{"$f":"Race0112!D$47","v":0},{"$f":"Race0112!C$47","v":0},{"$f":"Race0112!F$47","v":1}]
[null,{"$f":"Race0112!B$5","v":"Senior"},{"$f":"Race0112!B$4","v":"OC6"},{"$f":"Race0112!E$5","v":"Mixed"},{"$f":"Race0112!D$5","v":"Open"},{"$f":"Race0112!D$4","v":"Marathon"},{"$f":"Race0112!A$48","v":41},{"$f":"Race0112!D$48","v":0},{"$f":"Race0112!C$48","v":0},{"$f":"Race0112!F$48","v":1}]
[null,{"$f":"Race0112!B$5","v":"Senior"},{"$f":"Race0112!B$4","v":"OC6"},{"$f":"Race0112!E$5","v":"Mixed"},{"$f":"Race0112!D$5","v":"Open"},{"$f":"Race0112!D$4","v":"Marathon"},{"$f":"Race0112!A$49","v":42},{"$f":"Race0112!D$49","v":0},{"$f":"Race0112!C$49","v":0},{"$f":"Race0112!F$49","v":1}]
[null,{"$f":"Race0112!B$5","v":"Senior"},{"$f":"Race0112!B$4","v":"OC6"},{"$f":"Race0112!E$5","v":"Mixed"},{"$f":"Race0112!D$5","v":"Open"},{"$f":"Race0112!D$4","v":"Marathon"},{"$f":"Race0112!A$50","v":43},{"$f":"Race0112!D$50","v":0},{"$f":"Race0112!C$50","v":0},{"$f":"Race0112!F$50","v":1}]
[null,{"$f":"Race0112!B$5","v":"Senior"},{"$f":"Race0112!B$4","v":"OC6"},{"$f":"Race0112!E$5","v":"Mixed"},{"$f":"Race0112!D$5","v":"Open"},{"$f":"Race0112!D$4","v":"Marathon"},{"$f":"Race0112!A$51","v":44},{"$f":"Race0112!D$51","v":0},{"$f":"Race0112!C$51","v":0},{"$f":"Race0112!F$51","v":1}]
[null,{"$f":"Race0112!B$5","v":"Senior"},{"$f":"Race0112!B$4","v":"OC6"},{"$f":"Race0112!E$5","v":"Mixed"},{"$f":"Race0112!D$5","v":"Open"},{"$f":"Race0112!D$4","v":"Marathon"},{"$f":"Race0112!A$52","v":45},{"$f":"Race0112!D$52","v":0},{"$f":"Race0112!C$52","v":0},{"$f":"Race0112!F$52","v":1}]
[null,{"$f":"Race0112!B$5","v":"Senior"},{"$f":"Race0112!B$4","v":"OC6"},{"$f":"Race0112!E$5","v":"Mixed"},{"$f":"Race0112!D$5","v":"Open"},{"$f":"Race0112!D$4","v":"Marathon"},{"$f":"Race0112!A$53","v":46},{"$f":"Race0112!D$53","v":0},{"$f":"Race0112!C$53","v":0},{"$f":"Race0112!F$53","v":1}]
[null,{"$f":"Race0112!B$5","v":"Senior"},{"$f":"Race0112!B$4","v":"OC6"},{"$f":"Race0112!E$5","v":"Mixed"},{"$f":"Race0112!D$5","v":"Open"},{"$f":"Race0112!D$4","v":"Marathon"},{"$f":"Race0112!A$54","v":47},{"$f":"Race0112!D$54","v":0},{"$f":"Race0112!C$54","v":0},{"$f":"Race0112!F$54","v":1}]
[null,{"$f":"Race0112!B$5","v":"Senior"},{"$f":"Race0112!B$4","v":"OC6"},{"$f":"Race0112!E$5","v":"Mixed"},{"$f":"Race0112!D$5","v":"Open"},{"$f":"Race0112!D$4","v":"Marathon"},{"$f":"Race0112!A$55","v":48},{"$f":"Race0112!D$55","v":0},{"$f":"Race0112!C$55","v":0},{"$f":"Race0112!F$55","v":1}]
[null,{"$f":"Race0112!B$5","v":"Senior"},{"$f":"Race0112!B$4","v":"OC6"},{"$f":"Race0112!E$5","v":"Mixed"},{"$f":"Race0112!D$5","v":"Open"},{"$f":"Race0112!D$4","v":"Marathon"},{"$f":"Race0112!A$56","v":49},{"$f":"Race0112!D$56","v":0},{"$f":"Race0112!C$56","v":0},{"$f":"Race0112!F$56","v":1}]
[null,{"$f":"Race0112!B$5","v":"Senior"},{"$f":"Race0112!B$4","v":"OC6"},{"$f":"Race0112!E$5","v":"Mixed"},{"$f":"Race0112!D$5","v":"Open"},{"$f":"Race0112!D$4","v":"Marathon"},{"$f":"Race0112!A$57","v":50},{"$f":"Race0112!D$57","v":0},{"$f":"Race0112!C$57","v":0},{"$f":"Race0112!F$57","v":1}]
["Race0129",{"$f":"Race0129!B$5","v":"Junior"},{"$f":"Race0129!B$4","v":"OC6"},{"$f":"Race0129!E$5","v":"Mixed"},{"$f":"Race0129!D$5","v":"12 & Under"},{"$f":"Race0129!D$4","v":"Marathon"},{"$f":"Race0129!A$8","v":1},{"$f":"Race0129!D$8","v":0},{"$f":"Race0129!C$8","v":0},{"$f":"Race0129!F$8","v":14}]
[null,{"$f":"Race0129!B$5","v":"Junior"},{"$f":"Race0129!B$4","v":"OC6"},{"$f":"Race0129!E$5","v":"Mixed"},{"$f":"Race0129!D$5","v":"12 & Under"},{"$f":"Race0129!D$4","v":"Marathon"},{"$f":"Race0129!A$9","v":2},{"$f":"Race0129!D$9","v":0},{"$f":"Race0129!C$9","v":0},{"$f":"Race0129!F$9","v":12}]
[null,{"$f":"Race0129!B$5","v":"Junior"},{"$f":"Race0129!B$4","v":"OC6"},{"$f":"Race0129!E$5","v":"Mixed"},{"$f":"Race0129!D$5","v":"12 & Under"},{"$f":"Race0129!D$4","v":"Marathon"},{"$f":"Race0129!A$10","v":3},{"$f":"Race0129!D$10","v":0},{"$f":"Race0129!C$10","v":0},{"$f":"Race0129!F$10","v":10}]
[null,{"$f":"Race0129!B$5","v":"Junior"},{"$f":"Race0129!B$4","v":"OC6"},{"$f":"Race0129!E$5","v":"Mixed"},{"$f":"Race0129!D$5","v":"12 & Under"},{"$f":"Race0129!D$4","v":"Marathon"},{"$f":"Race0129!A$11","v":4},{"$f":"Race0129!D$11","v":0},{"$f":"Race0129!C$11","v":0},{"$f":"Race0129!F$11","v":8}]
[null,{"$f":"Race0129!B$5","v":"Junior"},{"$f":"Race0129!B$4","v":"OC6"},{"$f":"Race0129!E$5","v":"Mixed"},{"$f":"Race0129!D$5","v":"12 & Under"},{"$f":"Race0129!D$4","v":"Marathon"},{"$f":"Race0129!A$12","v":5},{"$f":"Race0129!D$12","v":0},{"$f":"Race0129!C$12","v":0},{"$f":"Race0129!F$12","v":7}]
[null,{"$f":"Race0129!B$5","v":"Junior"},{"$f":"Race0129!B$4","v":"OC6"},{"$f":"Race0129!E$5","v":"Mixed"},{"$f":"Race0129!D$5","v":"12 & Under"},{"$f":"Race0129!D$4","v":"Marathon"},{"$f":"Race0129!A$13","v":6},{"$f":"Race0129!D$13","v":0},{"$f":"Race0129!C$13","v":0},{"$f":"Race0129!F$13","v":6}]
[null,{"$f":"Race0129!B$5","v":"Junior"},{"$f":"Race0129!B$4","v":"OC6"},{"$f":"Race0129!E$5","v":"Mixed"},{"$f":"Race0129!D$5","v":"12 & Under"},{"$f":"Race0129!D$4","v":"Marathon"},{"$f":"Race0129!A$14","v":7},{"$f":"Race0129!D$14","v":0},{"$f":"Race0129!C$14","v":0},{"$f":"Race0129!F$14","v":5}]
[null,{"$f":"Race0129!B$5","v":"Junior"},{"$f":"Race0129!B$4","v":"OC6"},{"$f":"Race0129!E$5","v":"Mixed"},{"$f":"Race0129!D$5","v":"12 & Under"},{"$f":"Race0129!D$4","v":"Marathon"},{"$f":"Race0129!A$15","v":8},{"$f":"Race0129!D$15","v":0},{"$f":"Race0129!C$15","v":0},{"$f":"Race0129!F$15","v":4}]
[null,{"$f":"Race0129!B$5","v":"Junior"},{"$f":"Race0129!B$4","v":"OC6"},{"$f":"Race0129!E$5","v":"Mixed"},{"$f":"Race0129!D$5","v":"12 & Under"},{"$f":"Race0129!D$4","v":"Marathon"},{"$f":"Race0129!A$16","v":9},{"$f":"Race0129!D$16","v":0},{"$f":"Race0129!C$16","v":0},{"$f":"Race0129!F$16","v":3}]
[null,{"$f":"Race0129!B$5","v":"Junior"},{"$f":"Race0129!B$4","v":"OC6"},{"$f":"Race0129!E$5","v":"Mixed"},{"$f":"Race0129!D$5","v":"12 & Under"},{"$f":"Race0129!D$4","v":"Marathon"},{"$f":"Race0129!A$17","v":10},{"$f":"Race0129!D$17","v":0},{"$f":"Race0129!C$17","v":0},{"$f":"Race0129!F$17","v":2}]
[null,{"$f":"Race0129!B$5","v":"Junior"},{"$f":"Race0129!B$4","v":"OC6"},{"$f":"Race0129!E$5","v":"Mixed"},{"$f":"Race0129!D$5","v":"12 & Under"},{"$f":"Race0129!D$4","v":"Marathon"},{"$f":"Race0129!A$18","v":11},{"$f":"Race0129!D$18","v":0},{"$f":"Race0129!C$18","v":0},{"$f":"Race0129!F$18","v":1}]
[null,{"$f":"Race0129!B$5","v":"Junior"},{"$f":"Race0129!B$4","v":"OC6"},{"$f":"Race0129!E$5","v":"Mixed"},{"$f":"Race0129!D$5","v":"12 & Under"},{"$f":"Race0129!D$4","v":"Marathon"},{"$f":"Race0129!A$19","v":12},{"$f":"Race0129!D$19","v":0},{"$f":"Race0129!C$19","v":0},{"$f":"Race0129!F$19","v":1}]
[null,{"$f":"Race0129!B$5","v":"Junior"},{"$f":"Race0129!B$4","v":"OC6"},{"$f":"Race0129!E$5","v":"Mixed"},{"$f":"Race0129!D$5","v":"12 & Under"},{"$f":"Race0129!D$4","v":"Marathon"},{"$f":"Race0129!A$20","v":13},{"$f":"Race0129!D$20","v":0},{"$f":"Race0129!C$20","v":0},{"$f":"Race0129!F$20","v":1}]
[null,{"$f":"Race0129!B$5","v":"Junior"},{"$f":"Race0129!B$4","v":"OC6"},{"$f":"Race0129!E$5","v":"Mixed"},{"$f":"Race0129!D$5","v":"12 & Under"},{"$f":"Race0129!D$4","v":"Marathon"},{"$f":"Race0129!A$21","v":14},{"$f":"Race0129!D$21","v":0},{"$f":"Race0129!C$21","v":0},{"$f":"Race0129!F$21","v":1}]
[null,{"$f":"Race0129!B$5","v":"Junior"},{"$f":"Race0129!B$4","v":"OC6"},{"$f":"Race0129!E$5","v":"Mixed"},{"$f":"Race0129!D$5","v":"12 & Under"},{"$f":"Race0129!D$4","v":"Marathon"},{"$f":"Race0129!A$22","v":15},{"$f":"Race0129!D$22","v":0},{"$f":"Race0129!C$22","v":0},{"$f":"Race0129!F$22","v":1}]
[null,{"$f":"Race0129!B$5","v":"Junior"},{"$f":"Race0129!B$4","v":"OC6"},{"$f":"Race0129!E$5","v":"Mixed"},{"$f":"Race0129!D$5","v":"12 & Under"},{"$f":"Race0129!D$4","v":"Marathon"},{"$f":"Race0129!A$23","v":16},{"$f":"Race0129!D$23","v":0},{"$f":"Race0129!C$23","v":0},{"$f":"Race0129!F$23","v":1}]
[null,{"$f":"Race0129!B$5","v":"Junior"},{"$f":"Race0129!B$4","v":"OC6"},{"$f":"Race0129!E$5","v":"Mixed"},{"$f":"Race0129!D$5","v":"12 & Under"},{"$f":"Race0129!D$4","v":"Marathon"},{"$f":"Race0129!A$24","v":17},{"$f":"Race0129!D$24","v":0},{"$f":"Race0129!C$24","v":0},{"$f":"Race0129!F$24","v":1}]
[null,{"$f":"Race0129!B$5","v":"Junior"},{"$f":"Race0129!B$4","v":"OC6"},{"$f":"Race0129!E$5","v":"Mixed"},{"$f":"Race0129!D$5","v":"12 & Under"},{"$f":"Race0129!D$4","v":"Marathon"},{"$f":"Race0129!A$25","v":18},{"$f":"Race0129!D$25","v":0},{"$f":"Race0129!C$25","v":0},{"$f":"Race0129!F$25","v":1}]
[null,{"$f":"Race0129!B$5","v":"Junior"},{"$f":"Race0129!B$4","v":"OC6"},{"$f":"Race0129!E$5","v":"Mixed"},{"$f":"Race0129!D$5","v":"12 & Under"},{"$f":"Race0129!D$4","v":"Marathon"},{"$f":"Race0129!A$26","v":19},{"$f":"Race0129!D$26","v":0},{"$f":"Race0129!C$26","v":0},{"$f":"Race0129!F$26","v":1}]
[null,{"$f":"Race0129!B$5","v":"Junior"},{"$f":"Race0129!B$4","v":"OC6"},{"$f":"Race0129!E$5","v":"Mixed"},{"$f":"Race0129!D$5","v":"12 & Under"},{"$f":"Race0129!D$4","v":"Marathon"},{"$f":"Race0129!A$27","v":20},{"$f":"Race0129!D$27","v":0},{"$f":"Race0129!C$27","v":0},{"$f":"Race0129!F$27","v":1}]
[null,{"$f":"Race0129!B$5","v":"Junior"},{"$f":"Race0129!B$4","v":"OC6"},{"$f":"Race0129!E$5","v":"Mixed"},{"$f":"Race0129!D$5","v":"12 & Under"},{"$f":"Race0129!D$4","v":"Marathon"},{"$f":"Race0129!A$28","v":21},{"$f":"Race0129!D$28","v":0},{"$f":"Race0129!C$28","v":0},{"$f":"Race0129!F$28","v":1}]
[null,{"$f":"Race0129!B$5","v":"Junior"},{"$f":"Race0129!B$4","v":"OC6"},{"$f":"Race0129!E$5","v":"Mixed"},{"$f":"Race0129!D$5","v":"12 & Under"},{"$f":"Race0129!D$4","v":"Marathon"},{"$f":"Race0129!A$29","v":22},{"$f":"Race0129!D$29","v":0},{"$f":"Race0129!C$29","v":0},{"$f":"Race0129!F$29","v":1}]
[null,{"$f":"Race0129!B$5","v":"Junior"},{"$f":"Race0129!B$4","v":"OC6"},{"$f":"Race0129!E$5","v":"Mixed"},{"$f":"Race0129!D$5","v":"12 & Under"},{"$f":"Race0129!D$4","v":"Marathon"},{"$f":"Race0129!A$30","v":23},{"$f":"Race0129!D$30","v":0},{"$f":"Race0129!C$30","v":0},{"$f":"Race0129!F$30","v":1}]
[null,{"$f":"Race0129!B$5","v":"Junior"},{"$f":"Race0129!B$4","v":"OC6"},{"$f":"Race0129!E$5","v":"Mixed"},{"$f":"Race0129!D$5","v":"12 & Under"},{"$f":"Race0129!D$4","v":"Marathon"},{"$f":"Race0129!A$31","v":24},{"$f":"Race0129!D$31","v":0},{"$f":"Race0129!C$31","v":0},{"$f":"Race0129!F$31","v":1}]
[null,{"$f":"Race0129!B$5","v":"Junior"},{"$f":"Race0129!B$4","v":"OC6"},{"$f":"Race0129!E$5","v":"Mixed"},{"$f":"Race0129!D$5","v":"12 & Under"},{"$f":"Race0129!D$4","v":"Marathon"},{"$f":"Race0129!A$32","v":25},{"$f":"Race0129!D$32","v":0},{"$f":"Race0129!C$32","v":0},{"$f":"Race0129!F$32","v":1}]
[null,{"$f":"Race0129!B$5","v":"Junior"},{"$f":"Race0129!B$4","v":"OC6"},{"$f":"Race0129!E$5","v":"Mixed"},{"$f":"Race0129!D$5","v":"12 & Under"},{"$f":"Race0129!D$4","v":"Marathon"},{"$f":"Race0129!A$33","v":26},{"$f":"Race0129!D$33","v":0},{"$f":"Race0129!C$33","v":0},{"$f":"Race0129!F$33","v":1}]
[null,{"$f":"Race0129!B$5","v":"Junior"},{"$f":"Race0129!B$4","v":"OC6"},{"$f":"Race0129!E$5","v":"Mixed"},{"$f":"Race0129!D$5","v":"12 & Under"},{"$f":"Race0129!D$4","v":"Marathon"},{"$f":"Race0129!A$34","v":27},{"$f":"Race0129!D$34","v":0},{"$f":"Race0129!C$34","v":0},{"$f":"Race0129!F$34","v":1}]
[null,{"$f":"Race0129!B$5","v":"Junior"},{"$f":"Race0129!B$4","v":"OC6"},{"$f":"Race0129!E$5","v":"Mixed"},{"$f":"Race0129!D$5","v":"12 & Under"},{"$f":"Race0129!D$4","v":"Marathon"},{"$f":"Race0129!A$35","v":28},{"$f":"Race0129!D$35","v":0},{"$f":"Race0129!C$35","v":0},{"$f":"Race0129!F$35","v":1}]
[null,{"$f":"Race0129!B$5","v":"Junior"},{"$f":"Race0129!B$4","v":"OC6"},{"$f":"Race0129!E$5","v":"Mixed"},{"$f":"Race0129!D$5","v":"12 & Under"},{"$f":"Race0129!D$4","v":"Marathon"},{"$f":"Race0129!A$36","v":29},{"$f":"Race0129!D$36","v":0},{"$f":"Race0129!C$36","v":0},{"$f":"Race0129!F$36","v":1}]
[null,{"$f":"Race0129!B$5","v":"Junior"},{"$f":"Race0129!B$4","v":"OC6"},{"$f":"Race0129!E$5","v":"Mixed"},{"$f":"Race0129!D$5","v":"12 & Under"},{"$f":"Race0129!D$4","v":"Marathon"},{"$f":"Race0129!A$37","v":30},{"$f":"Race0129!D$37","v":0},{"$f":"Race0129!C$37","v":0},{"$f":"Race0129!F$37","v":1}]
[null,{"$f":"Race0129!B$5","v":"Junior"},{"$f":"Race0129!B$4","v":"OC6"},{"$f":"Race0129!E$5","v":"Mixed"},{"$f":"Race0129!D$5","v":"12 & Under"},{"$f":"Race0129!D$4","v":"Marathon"},{"$f":"Race0129!A$38","v":31},{"$f":"Race0129!D$38","v":0},{"$f":"Race0129!C$38","v":0},{"$f":"Race0129!F$38","v":1}]
[null,{"$f":"Race0129!B$5","v":"Junior"},{"$f":"Race0129!B$4","v":"OC6"},{"$f":"Race0129!E$5","v":"Mixed"},{"$f":"Race0129!D$5","v":"12 & Under"},{"$f":"Race0129!D$4","v":"Marathon"},{"$f":"Race0129!A$39","v":32},{"$f":"Race0129!D$39","v":0},{"$f":"Race0129!C$39","v":0},{"$f":"Race0129!F$39","v":1}]
[null,{"$f":"Race0129!B$5","v":"Junior"},{"$f":"Race0129!B$4","v":"OC6"},{"$f":"Race0129!E$5","v":"Mixed"},{"$f":"Race0129!D$5","v":"12 & Under"},{"$f":"Race0129!D$4","v":"Marathon"},{"$f":"Race0129!A$40","v":33},{"$f":"Race0129!D$40","v":0},{"$f":"Race0129!C$40","v":0},{"$f":"Race0129!F$40","v":1}]
[null,{"$f":"Race0129!B$5","v":"Junior"},{"$f":"Race0129!B$4","v":"OC6"},{"$f":"Race0129!E$5","v":"Mixed"},{"$f":"Race0129!D$5","v":"12 & Under"},{"$f":"Race0129!D$4","v":"Marathon"},{"$f":"Race0129!A$41","v":34},{"$f":"Race0129!D$41","v":0},{"$f":"Race0129!C$41","v":0},{"$f":"Race0129!F$41","v":1}]
[null,{"$f":"Race0129!B$5","v":"Junior"},{"$f":"Race0129!B$4","v":"OC6"},{"$f":"Race0129!E$5","v":"Mixed"},{"$f":"Race0129!D$5","v":"12 & Under"},{"$f":"Race0129!D$4","v":"Marathon"},{"$f":"Race0129!A$42","v":35},{"$f":"Race0129!D$42","v":0},{"$f":"Race0129!C$42","v":0},{"$f":"Race0129!F$42","v":1}]
[null,{"$f":"Race0129!B$5","v":"Junior"},{"$f":"Race0129!B$4","v":"OC6"},{"$f":"Race0129!E$5","v":"Mixed"},{"$f":"Race0129!D$5","v":"12 & Under"},{"$f":"Race0129!D$4","v":"Marathon"},{"$f":"Race0129!A$43","v":36},{"$f":"Race0129!D$43","v":0},{"$f":"Race0129!C$43","v":0},{"$f":"Race0129!F$43","v":1}]
[null,{"$f":"Race0129!B$5","v":"Junior"},{"$f":"Race0129!B$4","v":"OC6"},{"$f":"Race0129!E$5","v":"Mixed"},{"$f":"Race0129!D$5","v":"12 & Under"},{"$f":"Race0129!D$4","v":"Marathon"},{"$f":"Race0129!A$44","v":37},{"$f":"Race0129!D$44","v":0},{"$f":"Race0129!C$44","v":0},{"$f":"Race0129!F$44","v":1}]
[null,{"$f":"Race0129!B$5","v":"Junior"},{"$f":"Race0129!B$4","v":"OC6"},{"$f":"Race0129!E$5","v":"Mixed"},{"$f":"Race0129!D$5","v":"12 & Under"},{"$f":"Race0129!D$4","v":"Marathon"},{"$f":"Race0129!A$45","v":38},{"$f":"Race0129!D$45","v":0},{"$f":"Race0129!C$45","v":0},{"$f":"Race0129!F$45","v":1}]
[null,{"$f":"Race0129!B$5","v":"Junior"},{"$f":"Race0129!B$4","v":"OC6"},{"$f":"Race0129!E$5","v":"Mixed"},{"$f":"Race0129!D$5","v":"12 & Under"},{"$f":"Race0129!D$4","v":"Marathon"},{"$f":"Race0129!A$46","v":39},{"$f":"Race0129!D$46","v":0},{"$f":"Race0129!C$46","v":0},{"$f":"Race0129!F$46","v":1}]
[null,{"$f":"Race0129!B$5","v":"Junior"},{"$f":"Race0129!B$4","v":"OC6"},{"$f":"Race0129!E$5","v":"Mixed"},{"$f":"Race0129!D$5","v":"12 & Under"},{"$f":"Race0129!D$4","v":"Marathon"},{"$f":"Race0129!A$47","v":40},{"$f":"Race0129!D$47","v":0},{"$f":"Race0129!C$47","v":0},{"$f":"Race0129!F$47","v":1}]
[null,{"$f":"Race0129!B$5","v":"Junior"},{"$f":"Race0129!B$4","v":"OC6"},{"$f":"Race0129!E$5","v":"Mixed"},{"$f":"Race0129!D$5","v":"12 & Under"},{"$f":"Race0129!D$4","v":"Marathon"},{"$f":"Race0129!A$48","v":41},{"$f":"Race0129!D$48","v":0},{"$f":"Race0129!C$48","v":0},{"$f":"Race0129!F$48","v":1}]
[null,{"$f":"Race0129!B$5","v":"Junior"},{"$f":"Race0129!B$4","v":"OC6"},{"$f":"Race0129!E$5","v":"Mixed"},{"$f":"Race0129!D$5","v":"12 & Under"},{"$f":"Race0129!D$4","v":"Marathon"},{"$f":"Race0129!A$49","v":42},{"$f":"Race0129!D$49","v":0},{"$f":"Race0129!C$49","v":0},{"$f":"Race0129!F$49","v":1}]
[null,{"$f":"Race0129!B$5","v":"Junior"},{"$f":"Race0129!B$4","v":"OC6"},{"$f":"Race0129!E$5","v":"Mixed"},{"$f":"Race0129!D$5","v":"12 & Under"},{"$f":"Race0129!D$4","v":"Marathon"},{"$f":"Race0129!A$50","v":43},{"$f":"Race0129!D$50","v":0},{"$f":"Race0129!C$50","v":0},{"$f":"Race0129!F$50","v":1}]
[null,{"$f":"Race0129!B$5","v":"Junior"},{"$f":"Race0129!B$4","v":"OC6"},{"$f":"Race0129!E$5","v":"Mixed"},{"$f":"Race0129!D$5","v":"12 & Under"},{"$f":"Race0129!D$4","v":"Marathon"},{"$f":"Race0129!A$51","v":44},{"$f":"Race0129!D$51","v":0},{"$f":"Race0129!C$51","v":0},{"$f":"Race0129!F$51","v":1}]
[null,{"$f":"Race0129!B$5","v":"Junior"},{"$f":"Race0129!B$4","v":"OC6"},{"$f":"Race0129!E$5","v":"Mixed"},{"$f":"Race0129!D$5","v":"12 & Under"},{"$f":"Race0129!D$4","v":"Marathon"},{"$f":"Race0129!A$52","v":45},{"$f":"Race0129!D$52","v":0},{"$f":"Race0129!C$52","v":0},{"$f":"Race0129!F$52","v":1}]
[null,{"$f":"Race0129!B$5","v":"Junior"},{"$f":"Race0129!B$4","v":"OC6"},{"$f":"Race0129!E$5","v":"Mixed"},{"$f":"Race0129!D$5","v":"12 & Under"},{"$f":"Race0129!D$4","v":"Marathon"},{"$f":"Race0129!A$53","v":46},{"$f":"Race0129!D$53","v":0},{"$f":"Race0129!C$53","v":0},{"$f":"Race0129!F$53","v":1}]
[null,{"$f":"Race0129!B$5","v":"Junior"},{"$f":"Race0129!B$4","v":"OC6"},{"$f":"Race0129!E$5","v":"Mixed"},{"$f":"Race0129!D$5","v":"12 & Under"},{"$f":"Race0129!D$4","v":"Marathon"},{"$f":"Race0129!A$54","v":47},{"$f":"Race0129!D$54","v":0},{"$f":"Race0129!C$54","v":0},{"$f":"Race0129!F$54","v":1}]
[null,{"$f":"Race0129!B$5","v":"Junior"},{"$f":"Race0129!B$4","v":"OC6"},{"$f":"Race0129!E$5","v":"Mixed"},{"$f":"Race0129!D$5","v":"12 & Under"},{"$f":"Race0129!D$4","v":"Marathon"},{"$f":"Race0129!A$55","v":48},{"$f":"Race0129!D$55","v":0},{"$f":"Race0129!C$55","v":0},{"$f":"Race0129!F$55","v":1}]
[null,{"$f":"Race0129!B$5","v":"Junior"},{"$f":"Race0129!B$4","v":"OC6"},{"$f":"Race0129!E$5","v":"Mixed"},{"$f":"Race0129!D$5","v":"12 & Under"},{"$f":"Race0129!D$4","v":"Marathon"},{"$f":"Race0129!A$56","v":49},{"$f":"Race0129!D$56","v":0},{"$f":"Race0129!C$56","v":0},{"$f":"Race0129!F$56","v":1}]
[null,{"$f":"Race0129!B$5","v":"Junior"},{"$f":"Race0129!B$4","v":"OC6"},{"$f":"Race0129!E$5","v":"Mixed"},{"$f":"Race0129!D$5","v":"12 & Under"},{"$f":"Race0129!D$4","v":"Marathon"},{"$f":"Race0129!A$57","v":50},{"$f":"Race0129!D$57","v":0},{"$f":"Race0129!C$57","v":0},{"$f":"Race0129!F$57","v":1}]
["Race0130",{"$f":"Race0130!B$5","v":"Junior"},{"$f":"Race0130!B$4","v":"OC6"},{"$f":"Race0130!E$5","v":"Mixed"},{"$f":"Race0130!D$5","v":"14 & Under"},{"$f":"Race0130!D$4","v":"Marathon"},{"$f":"Race0130!A$8","v":1},{"$f":"Race0130!D$8","v":0},{"$f":"Race0130!C$8","v":0},{"$f":"Race0130!F$8","v":14}]
[null,{"$f":"Race0130!B$5","v":"Junior"},{"$f":"Race0130!B$4","v":"OC6"},{"$f":"Race0130!E$5","v":"Mixed"},{"$f":"Race0130!D$5","v":"14 & Under"},{"$f":"Race0130!D$4","v":"Marathon"},{"$f":"Race0130!A$9","v":2},{"$f":"Race0130!D$9","v":0},{"$f":"Race0130!C$9","v":0},{"$f":"Race0130!F$9","v":12}]
[null,{"$f":"Race0130!B$5","v":"Junior"},{"$f":"Race0130!B$4","v":"OC6"},{"$f":"Race0130!E$5","v":"Mixed"},{"$f":"Race0130!D$5","v":"14 & Under"},{"$f":"Race0130!D$4","v":"Marathon"},{"$f":"Race0130!A$10","v":3},{"$f":"Race0130!D$10","v":0},{"$f":"Race0130!C$10","v":0},{"$f":"Race0130!F$10","v":10}]
[null,{"$f":"Race0130!B$5","v":"Junior"},{"$f":"Race0130!B$4","v":"OC6"},{"$f":"Race0130!E$5","v":"Mixed"},{"$f":"Race0130!D$5","v":"14 & Under"},{"$f":"Race0130!D$4","v":"Marathon"},{"$f":"Race0130!A$11","v":4},{"$f":"Race0130!D$11","v":0},{"$f":"Race0130!C$11","v":0},{"$f":"Race0130!F$11","v":8}]
[null,{"$f":"Race0130!B$5","v":"Junior"},{"$f":"Race0130!B$4","v":"OC6"},{"$f":"Race0130!E$5","v":"Mixed"},{"$f":"Race0130!D$5","v":"14 & Under"},{"$f":"Race0130!D$4","v":"Marathon"},{"$f":"Race0130!A$12","v":5},{"$f":"Race0130!D$12","v":0},{"$f":"Race0130!C$12","v":0},{"$f":"Race0130!F$12","v":7}]
[null,{"$f":"Race0130!B$5","v":"Junior"},{"$f":"Race0130!B$4","v":"OC6"},{"$f":"Race0130!E$5","v":"Mixed"},{"$f":"Race0130!D$5","v":"14 & Under"},{"$f":"Race0130!D$4","v":"Marathon"},{"$f":"Race0130!A$13","v":6},{"$f":"Race0130!D$13","v":0},{"$f":"Race0130!C$13","v":0},{"$f":"Race0130!F$13","v":6}]
[null,{"$f":"Race0130!B$5","v":"Junior"},{"$f":"Race0130!B$4","v":"OC6"},{"$f":"Race0130!E$5","v":"Mixed"},{"$f":"Race0130!D$5","v":"14 & Under"},{"$f":"Race0130!D$4","v":"Marathon"},{"$f":"Race0130!A$14","v":7},{"$f":"Race0130!D$14","v":0},{"$f":"Race0130!C$14","v":0},{"$f":"Race0130!F$14","v":5}]
[null,{"$f":"Race0130!B$5","v":"Junior"},{"$f":"Race0130!B$4","v":"OC6"},{"$f":"Race0130!E$5","v":"Mixed"},{"$f":"Race0130!D$5","v":"14 & Under"},{"$f":"Race0130!D$4","v":"Marathon"},{"$f":"Race0130!A$15","v":8},{"$f":"Race0130!D$15","v":0},{"$f":"Race0130!C$15","v":0},{"$f":"Race0130!F$15","v":4}]
[null,{"$f":"Race0130!B$5","v":"Junior"},{"$f":"Race0130!B$4","v":"OC6"},{"$f":"Race0130!E$5","v":"Mixed"},{"$f":"Race0130!D$5","v":"14 & Under"},{"$f":"Race0130!D$4","v":"Marathon"},{"$f":"Race0130!A$16","v":9},{"$f":"Race0130!D$16","v":0},{"$f":"Race0130!C$16","v":0},{"$f":"Race0130!F$16","v":3}]
[null,{"$f":"Race0130!B$5","v":"Junior"},{"$f":"Race0130!B$4","v":"OC6"},{"$f":"Race0130!E$5","v":"Mixed"},{"$f":"Race0130!D$5","v":"14 & Under"},{"$f":"Race0130!D$4","v":"Marathon"},{"$f":"Race0130!A$17","v":10},{"$f":"Race0130!D$17","v":0},{"$f":"Race0130!C$17","v":0},{"$f":"Race0130!F$17","v":2}]
[null,{"$f":"Race0130!B$5","v":"Junior"},{"$f":"Race0130!B$4","v":"OC6"},{"$f":"Race0130!E$5","v":"Mixed"},{"$f":"Race0130!D$5","v":"14 & Under"},{"$f":"Race0130!D$4","v":"Marathon"},{"$f":"Race0130!A$18","v":11},{"$f":"Race0130!D$18","v":0},{"$f":"Race0130!C$18","v":0},{"$f":"Race0130!F$18","v":1}]
[null,{"$f":"Race0130!B$5","v":"Junior"},{"$f":"Race0130!B$4","v":"OC6"},{"$f":"Race0130!E$5","v":"Mixed"},{"$f":"Race0130!D$5","v":"14 & Under"},{"$f":"Race0130!D$4","v":"Marathon"},{"$f":"Race0130!A$19","v":12},{"$f":"Race0130!D$19","v":0},{"$f":"Race0130!C$19","v":0},{"$f":"Race0130!F$19","v":1}]
[null,{"$f":"Race0130!B$5","v":"Junior"},{"$f":"Race0130!B$4","v":"OC6"},{"$f":"Race0130!E$5","v":"Mixed"},{"$f":"Race0130!D$5","v":"14 & Under"},{"$f":"Race0130!D$4","v":"Marathon"},{"$f":"Race0130!A$20","v":13},{"$f":"Race0130!D$20","v":0},{"$f":"Race0130!C$20","v":0},{"$f":"Race0130!F$20","v":1}]
[null,{"$f":"Race0130!B$5","v":"Junior"},{"$f":"Race0130!B$4","v":"OC6"},{"$f":"Race0130!E$5","v":"Mixed"},{"$f":"Race0130!D$5","v":"14 & Under"},{"$f":"Race0130!D$4","v":"Marathon"},{"$f":"Race0130!A$21","v":14},{"$f":"Race0130!D$21","v":0},{"$f":"Race0130!C$21","v":0},{"$f":"Race0130!F$21","v":1}]
[null,{"$f":"Race0130!B$5","v":"Junior"},{"$f":"Race0130!B$4","v":"OC6"},{"$f":"Race0130!E$5","v":"Mixed"},{"$f":"Race0130!D$5","v":"14 & Under"},{"$f":"Race0130!D$4","v":"Marathon"},{"$f":"Race0130!A$22","v":15},{"$f":"Race0130!D$22","v":0},{"$f":"Race0130!C$22","v":0},{"$f":"Race0130!F$22","v":1}]
[null,{"$f":"Race0130!B$5","v":"Junior"},{"$f":"Race0130!B$4","v":"OC6"},{"$f":"Race0130!E$5","v":"Mixed"},{"$f":"Race0130!D$5","v":"14 & Under"},{"$f":"Race0130!D$4","v":"Marathon"},{"$f":"Race0130!A$23","v":16},{"$f":"Race0130!D$23","v":0},{"$f":"Race0130!C$23","v":0},{"$f":"Race0130!F$23","v":1}]
[null,{"$f":"Race0130!B$5","v":"Junior"},{"$f":"Race0130!B$4","v":"OC6"},{"$f":"Race0130!E$5","v":"Mixed"},{"$f":"Race0130!D$5","v":"14 & Under"},{"$f":"Race0130!D$4","v":"Marathon"},{"$f":"Race0130!A$24","v":17},{"$f":"Race0130!D$24","v":0},{"$f":"Race0130!C$24","v":0},{"$f":"Race0130!F$24","v":1}]
[null,{"$f":"Race0130!B$5","v":"Junior"},{"$f":"Race0130!B$4","v":"OC6"},{"$f":"Race0130!E$5","v":"Mixed"},{"$f":"Race0130!D$5","v":"14 & Under"},{"$f":"Race0130!D$4","v":"Marathon"},{"$f":"Race0130!A$25","v":18},{"$f":"Race0130!D$25","v":0},{"$f":"Race0130!C$25","v":0},{"$f":"Race0130!F$25","v":1}]
[null,{"$f":"Race0130!B$5","v":"Junior"},{"$f":"Race0130!B$4","v":"OC6"},{"$f":"Race0130!E$5","v":"Mixed"},{"$f":"Race0130!D$5","v":"14 & Under"},{"$f":"Race0130!D$4","v":"Marathon"},{"$f":"Race0130!A$26","v":19},{"$f":"Race0130!D$26","v":0},{"$f":"Race0130!C$26","v":0},{"$f":"Race0130!F$26","v":1}]
[null,{"$f":"Race0130!B$5","v":"Junior"},{"$f":"Race0130!B$4","v":"OC6"},{"$f":"Race0130!E$5","v":"Mixed"},{"$f":"Race0130!D$5","v":"14 & Under"},{"$f":"Race0130!D$4","v":"Marathon"},{"$f":"Race0130!A$27","v":20},{"$f":"Race0130!D$27","v":0},{"$f":"Race0130!C$27","v":0},{"$f":"Race0130!F$27","v":1}]
[null,{"$f":"Race0130!B$5","v":"Junior"},{"$f":"Race0130!B$4","v":"OC6"},{"$f":"Race0130!E$5","v":"Mixed"},{"$f":"Race0130!D$5","v":"14 & Under"},{"$f":"Race0130!D$4","v":"Marathon"},{"$f":"Race0130!A$28","v":21},{"$f":"Race0130!D$28","v":0},{"$f":"Race0130!C$28","v":0},{"$f":"Race0130!F$28","v":1}]
[null,{"$f":"Race0130!B$5","v":"Junior"},{"$f":"Race0130!B$4","v":"OC6"},{"$f":"Race0130!E$5","v":"Mixed"},{"$f":"Race0130!D$5","v":"14 & Under"},{"$f":"Race0130!D$4","v":"Marathon"},{"$f":"Race0130!A$29","v":22},{"$f":"Race0130!D$29","v":0},{"$f":"Race0130!C$29","v":0},{"$f":"Race0130!F$29","v":1}]
[null,{"$f":"Race0130!B$5","v":"Junior"},{"$f":"Race0130!B$4","v":"OC6"},{"$f":"Race0130!E$5","v":"Mixed"},{"$f":"Race0130!D$5","v":"14 & Under"},{"$f":"Race0130!D$4","v":"Marathon"},{"$f":"Race0130!A$30","v":23},{"$f":"Race0130!D$30","v":0},{"$f":"Race0130!C$30","v":0},{"$f":"Race0130!F$30","v":1}]
[null,{"$f":"Race0130!B$5","v":"Junior"},{"$f":"Race0130!B$4","v":"OC6"},{"$f":"Race0130!E$5","v":"Mixed"},{"$f":"Race0130!D$5","v":"14 & Under"},{"$f":"Race0130!D$4","v":"Marathon"},{"$f":"Race0130!A$31","v":24},{"$f":"Race0130!D$31","v":0},{"$f":"Race0130!C$31","v":0},{"$f":"Race0130!F$31","v":1}]
[null,{"$f":"Race0130!B$5","v":"Junior"},{"$f":"Race0130!B$4","v":"OC6"},{"$f":"Race0130!E$5","v":"Mixed"},{"$f":"Race0130!D$5","v":"14 & Under"},{"$f":"Race0130!D$4","v":"Marathon"},{"$f":"Race0130!A$32","v":25},{"$f":"Race0130!D$32","v":0},{"$f":"Race0130!C$32","v":0},{"$f":"Race0130!F$32","v":1}]
[null,{"$f":"Race0130!B$5","v":"Junior"},{"$f":"Race0130!B$4","v":"OC6"},{"$f":"Race0130!E$5","v":"Mixed"},{"$f":"Race0130!D$5","v":"14 & Under"},{"$f":"Race0130!D$4","v":"Marathon"},{"$f":"Race0130!A$33","v":26},{"$f":"Race0130!D$33","v":0},{"$f":"Race0130!C$33","v":0},{"$f":"Race0130!F$33","v":1}]
[null,{"$f":"Race0130!B$5","v":"Junior"},{"$f":"Race0130!B$4","v":"OC6"},{"$f":"Race0130!E$5","v":"Mixed"},{"$f":"Race0130!D$5","v":"14 & Under"},{"$f":"Race0130!D$4","v":"Marathon"},{"$f":"Race0130!A$34","v":27},{"$f":"Race0130!D$34","v":0},{"$f":"Race0130!C$34","v":0},{"$f":"Race0130!F$34","v":1}]
[null,{"$f":"Race0130!B$5","v":"Junior"},{"$f":"Race0130!B$4","v":"OC6"},{"$f":"Race0130!E$5","v":"Mixed"},{"$f":"Race0130!D$5","v":"14 & Under"},{"$f":"Race0130!D$4","v":"Marathon"},{"$f":"Race0130!A$35","v":28},{"$f":"Race0130!D$35","v":0},{"$f":"Race0130!C$35","v":0},{"$f":"Race0130!F$35","v":1}]
[null,{"$f":"Race0130!B$5","v":"Junior"},{"$f":"Race0130!B$4","v":"OC6"},{"$f":"Race0130!E$5","v":"Mixed"},{"$f":"Race0130!D$5","v":"14 & Under"},{"$f":"Race0130!D$4","v":"Marathon"},{"$f":"Race0130!A$36","v":29},{"$f":"Race0130!D$36","v":0},{"$f":"Race0130!C$36","v":0},{"$f":"Race0130!F$36","v":1}]
[null,{"$f":"Race0130!B$5","v":"Junior"},{"$f":"Race0130!B$4","v":"OC6"},{"$f":"Race0130!E$5","v":"Mixed"},{"$f":"Race0130!D$5","v":"14 & Under"},{"$f":"Race0130!D$4","v":"Marathon"},{"$f":"Race0130!A$37","v":30},{"$f":"Race0130!D$37","v":0},{"$f":"Race0130!C$37","v":0},{"$f":"Race0130!F$37","v":1}]
[null,{"$f":"Race0130!B$5","v":"Junior"},{"$f":"Race0130!B$4","v":"OC6"},{"$f":"Race0130!E$5","v":"Mixed"},{"$f":"Race0130!D$5","v":"14 & Under"},{"$f":"Race0130!D$4","v":"Marathon"},{"$f":"Race0130!A$38","v":31},{"$f":"Race0130!D$38","v":0},{"$f":"Race0130!C$38","v":0},{"$f":"Race0130!F$38","v":1}]
[null,{"$f":"Race0130!B$5","v":"Junior"},{"$f":"Race0130!B$4","v":"OC6"},{"$f":"Race0130!E$5","v":"Mixed"},{"$f":"Race0130!D$5","v":"14 & Under"},{"$f":"Race0130!D$4","v":"Marathon"},{"$f":"Race0130!A$39","v":32},{"$f":"Race0130!D$39","v":0},{"$f":"Race0130!C$39","v":0},{"$f":"Race0130!F$39","v":1}]
[null,{"$f":"Race0130!B$5","v":"Junior"},{"$f":"Race0130!B$4","v":"OC6"},{"$f":"Race0130!E$5","v":"Mixed"},{"$f":"Race0130!D$5","v":"14 & Under"},{"$f":"Race0130!D$4","v":"Marathon"},{"$f":"Race0130!A$40","v":33},{"$f":"Race0130!D$40","v":0},{"$f":"Race0130!C$40","v":0},{"$f":"Race0130!F$40","v":1}]
[null,{"$f":"Race0130!B$5","v":"Junior"},{"$f":"Race0130!B$4","v":"OC6"},{"$f":"Race0130!E$5","v":"Mixed"},{"$f":"Race0130!D$5","v":"14 & Under"},{"$f":"Race0130!D$4","v":"Marathon"},{"$f":"Race0130!A$41","v":34},{"$f":"Race0130!D$41","v":0},{"$f":"Race0130!C$41","v":0},{"$f":"Race0130!F$41","v":1}]
[null,{"$f":"Race0130!B$5","v":"Junior"},{"$f":"Race0130!B$4","v":"OC6"},{"$f":"Race0130!E$5","v":"Mixed"},{"$f":"Race0130!D$5","v":"14 & Under"},{"$f":"Race0130!D$4","v":"Marathon"},{"$f":"Race0130!A$42","v":35},{"$f":"Race0130!D$42","v":0},{"$f":"Race0130!C$42","v":0},{"$f":"Race0130!F$42","v":1}]
[null,{"$f":"Race0130!B$5","v":"Junior"},{"$f":"Race0130!B$4","v":"OC6"},{"$f":"Race0130!E$5","v":"Mixed"},{"$f":"Race0130!D$5","v":"14 & Under"},{"$f":"Race0130!D$4","v":"Marathon"},{"$f":"Race0130!A$43","v":36},{"$f":"Race0130!D$43","v":0},{"$f":"Race0130!C$43","v":0},{"$f":"Race0130!F$43","v":1}]
[null,{"$f":"Race0130!B$5","v":"Junior"},{"$f":"Race0130!B$4","v":"OC6"},{"$f":"Race0130!E$5","v":"Mixed"},{"$f":"Race0130!D$5","v":"14 & Under"},{"$f":"Race0130!D$4","v":"Marathon"},{"$f":"Race0130!A$44","v":37},{"$f":"Race0130!D$44","v":0},{"$f":"Race0130!C$44","v":0},{"$f":"Race0130!F$44","v":1}]
[null,{"$f":"Race0130!B$5","v":"Junior"},{"$f":"Race0130!B$4","v":"OC6"},{"$f":"Race0130!E$5","v":"Mixed"},{"$f":"Race0130!D$5","v":"14 & Under"},{"$f":"Race0130!D$4","v":"Marathon"},{"$f":"Race0130!A$45","v":38},{"$f":"Race0130!D$45","v":0},{"$f":"Race0130!C$45","v":0},{"$f":"Race0130!F$45","v":1}]
[null,{"$f":"Race0130!B$5","v":"Junior"},{"$f":"Race0130!B$4","v":"OC6"},{"$f":"Race0130!E$5","v":"Mixed"},{"$f":"Race0130!D$5","v":"14 & Under"},{"$f":"Race0130!D$4","v":"Marathon"},{"$f":"Race0130!A$46","v":39},{"$f":"Race0130!D$46","v":0},{"$f":"Race0130!C$46","v":0},{"$f":"Race0130!F$46","v":1}]
[null,{"$f":"Race0130!B$5","v":"Junior"},{"$f":"Race0130!B$4","v":"OC6"},{"$f":"Race0130!E$5","v":"Mixed"},{"$f":"Race0130!D$5","v":"14 & Under"},{"$f":"Race0130!D$4","v":"Marathon"},{"$f":"Race0130!A$47","v":40},{"$f":"Race0130!D$47","v":0},{"$f":"Race0130!C$47","v":0},{"$f":"Race0130!F$47","v":1}]
[null,{"$f":"Race0130!B$5","v":"Junior"},{"$f":"Race0130!B$4","v":"OC6"},{"$f":"Race0130!E$5","v":"Mixed"},{"$f":"Race0130!D$5","v":"14 & Under"},{"$f":"Race0130!D$4","v":"Marathon"},{"$f":"Race0130!A$48","v":41},{"$f":"Race0130!D$48","v":0},{"$f":"Race0130!C$48","v":0},{"$f":"Race0130!F$48","v":1}]
[null,{"$f":"Race0130!B$5","v":"Junior"},{"$f":"Race0130!B$4","v":"OC6"},{"$f":"Race0130!E$5","v":"Mixed"},{"$f":"Race0130!D$5","v":"14 & Under"},{"$f":"Race0130!D$4","v":"Marathon"},{"$f":"Race0130!A$49","v":42},{"$f":"Race0130!D$49","v":0},{"$f":"Race0130!C$49","v":0},{"$f":"Race0130!F$49","v":1}]
[null,{"$f":"Race0130!B$5","v":"Junior"},{"$f":"Race0130!B$4","v":"OC6"},{"$f":"Race0130!E$5","v":"Mixed"},{"$f":"Race0130!D$5","v":"14 & Under"},{"$f":"Race0130!D$4","v":"Marathon"},{"$f":"Race0130!A$50","v":43},{"$f":"Race0130!D$50","v":0},{"$f":"Race0130!C$50","v":0},{"$f":"Race0130!F$50","v":1}]
[null,{"$f":"Race0130!B$5","v":"Junior"},{"$f":"Race0130!B$4","v":"OC6"},{"$f":"Race0130!E$5","v":"Mixed"},{"$f":"Race0130!D$5","v":"14 & Under"},{"$f":"Race0130!D$4","v":"Marathon"},{"$f":"Race0130!A$51","v":44},{"$f":"Race0130!D$51","v":0},{"$f":"Race0130!C$51","v":0},{"$f":"Race0130!F$51","v":1}]
[null,{"$f":"Race0130!B$5","v":"Junior"},{"$f":"Race0130!B$4","v":"OC6"},{"$f":"Race0130!E$5","v":"Mixed"},{"$f":"Race0130!D$5","v":"14 & Under"},{"$f":"Race0130!D$4","v":"Marathon"},{"$f":"Race0130!A$52","v":45},{"$f":"Race0130!D$52","v":0},{"$f":"Race0130!C$52","v":0},{"$f":"Race0130!F$52","v":1}]
[null,{"$f":"Race0130!B$5","v":"Junior"},{"$f":"Race0130!B$4","v":"OC6"},{"$f":"Race0130!E$5","v":"Mixed"},{"$f":"Race0130!D$5","v":"14 & Under"},{"$f":"Race0130!D$4","v":"Marathon"},{"$f":"Race0130!A$53","v":46},{"$f":"Race0130!D$53","v":0},{"$f":"Race0130!C$53","v":0},{"$f":"Race0130!F$53","v":1}]
[null,{"$f":"Race0130!B$5","v":"Junior"},{"$f":"Race0130!B$4","v":"OC6"},{"$f":"Race0130!E$5","v":"Mixed"},{"$f":"Race0130!D$5","v":"14 & Under"},{"$f":"Race0130!D$4","v":"Marathon"},{"$f":"Race0130!A$54","v":47},{"$f":"Race0130!D$54","v":0},{"$f":"Race0130!C$54","v":0},{"$f":"Race0130!F$54","v":1}]
[null,{"$f":"Race0130!B$5","v":"Junior"},{"$f":"Race0130!B$4","v":"OC6"},{"$f":"Race0130!E$5","v":"Mixed"},{"$f":"Race0130!D$5","v":"14 & Under"},{"$f":"Race0130!D$4","v":"Marathon"},{"$f":"Race0130!A$55","v":48},{"$f":"Race0130!D$55","v":0},{"$f":"Race0130!C$55","v":0},{"$f":"Race0130!F$55","v":1}]
[null,{"$f":"Race0130!B$5","v":"Junior"},{"$f":"Race0130!B$4","v":"OC6"},{"$f":"Race0130!E$5","v":"Mixed"},{"$f":"Race0130!D$5","v":"14 & Under"},{"$f":"Race0130!D$4","v":"Marathon"},{"$f":"Race0130!A$56","v":49},{"$f":"Race0130!D$56","v":0},{"$f":"Race0130!C$56","v":0},{"$f":"Race0130!F$56","v":1}]
[null,{"$f":"Race0130!B$5","v":"Junior"},{"$f":"Race0130!B$4","v":"OC6"},{"$f":"Race0130!E$5","v":"Mixed"},{"$f":"Race0130!D$5","v":"14 & Under"},{"$f":"Race0130!D$4","v":"Marathon"},{"$f":"Race0130!A$57","v":50},{"$f":"Race0130!D$57","v":0},{"$f":"Race0130!C$57","v":0},{"$f":"Race0130!F$57","v":1}]
["Race0131",{"$f":"Race0131!B$5","v":"Junior"},{"$f":"Race0131!B$4","v":"OC6"},{"$f":"Race0131!E$5","v":"Mixed"},{"$f":"Race0131!D$5","v":"16 & Under"},{"$f":"Race0131!D$4","v":"Marathon"},{"$f":"Race0131!A$8","v":1},{"$f":"Race0131!D$8","v":0},{"$f":"Race0131!C$8","v":0},{"$f":"Race0131!F$8","v":14}]
[null,{"$f":"Race0131!B$5","v":"Junior"},{"$f":"Race0131!B$4","v":"OC6"},{"$f":"Race0131!E$5","v":"Mixed"},{"$f":"Race0131!D$5","v":"16 & Under"},{"$f":"Race0131!D$4","v":"Marathon"},{"$f":"Race0131!A$9","v":2},{"$f":"Race0131!D$9","v":0},{"$f":"Race0131!C$9","v":0},{"$f":"Race0131!F$9","v":12}]
[null,{"$f":"Race0131!B$5","v":"Junior"},{"$f":"Race0131!B$4","v":"OC6"},{"$f":"Race0131!E$5","v":"Mixed"},{"$f":"Race0131!D$5","v":"16 & Under"},{"$f":"Race0131!D$4","v":"Marathon"},{"$f":"Race0131!A$10","v":3},{"$f":"Race0131!D$10","v":0},{"$f":"Race0131!C$10","v":0},{"$f":"Race0131!F$10","v":10}]
[null,{"$f":"Race0131!B$5","v":"Junior"},{"$f":"Race0131!B$4","v":"OC6"},{"$f":"Race0131!E$5","v":"Mixed"},{"$f":"Race0131!D$5","v":"16 & Under"},{"$f":"Race0131!D$4","v":"Marathon"},{"$f":"Race0131!A$11","v":4},{"$f":"Race0131!D$11","v":0},{"$f":"Race0131!C$11","v":0},{"$f":"Race0131!F$11","v":8}]
[null,{"$f":"Race0131!B$5","v":"Junior"},{"$f":"Race0131!B$4","v":"OC6"},{"$f":"Race0131!E$5","v":"Mixed"},{"$f":"Race0131!D$5","v":"16 & Under"},{"$f":"Race0131!D$4","v":"Marathon"},{"$f":"Race0131!A$12","v":5},{"$f":"Race0131!D$12","v":0},{"$f":"Race0131!C$12","v":0},{"$f":"Race0131!F$12","v":7}]
[null,{"$f":"Race0131!B$5","v":"Junior"},{"$f":"Race0131!B$4","v":"OC6"},{"$f":"Race0131!E$5","v":"Mixed"},{"$f":"Race0131!D$5","v":"16 & Under"},{"$f":"Race0131!D$4","v":"Marathon"},{"$f":"Race0131!A$13","v":6},{"$f":"Race0131!D$13","v":0},{"$f":"Race0131!C$13","v":0},{"$f":"Race0131!F$13","v":6}]
[null,{"$f":"Race0131!B$5","v":"Junior"},{"$f":"Race0131!B$4","v":"OC6"},{"$f":"Race0131!E$5","v":"Mixed"},{"$f":"Race0131!D$5","v":"16 & Under"},{"$f":"Race0131!D$4","v":"Marathon"},{"$f":"Race0131!A$14","v":7},{"$f":"Race0131!D$14","v":0},{"$f":"Race0131!C$14","v":0},{"$f":"Race0131!F$14","v":5}]
[null,{"$f":"Race0131!B$5","v":"Junior"},{"$f":"Race0131!B$4","v":"OC6"},{"$f":"Race0131!E$5","v":"Mixed"},{"$f":"Race0131!D$5","v":"16 & Under"},{"$f":"Race0131!D$4","v":"Marathon"},{"$f":"Race0131!A$15","v":8},{"$f":"Race0131!D$15","v":0},{"$f":"Race0131!C$15","v":0},{"$f":"Race0131!F$15","v":4}]
[null,{"$f":"Race0131!B$5","v":"Junior"},{"$f":"Race0131!B$4","v":"OC6"},{"$f":"Race0131!E$5","v":"Mixed"},{"$f":"Race0131!D$5","v":"16 & Under"},{"$f":"Race0131!D$4","v":"Marathon"},{"$f":"Race0131!A$16","v":9},{"$f":"Race0131!D$16","v":0},{"$f":"Race0131!C$16","v":0},{"$f":"Race0131!F$16","v":3}]
[null,{"$f":"Race0131!B$5","v":"Junior"},{"$f":"Race0131!B$4","v":"OC6"},{"$f":"Race0131!E$5","v":"Mixed"},{"$f":"Race0131!D$5","v":"16 & Under"},{"$f":"Race0131!D$4","v":"Marathon"},{"$f":"Race0131!A$17","v":10},{"$f":"Race0131!D$17","v":0},{"$f":"Race0131!C$17","v":0},{"$f":"Race0131!F$17","v":2}]
[null,{"$f":"Race0131!B$5","v":"Junior"},{"$f":"Race0131!B$4","v":"OC6"},{"$f":"Race0131!E$5","v":"Mixed"},{"$f":"Race0131!D$5","v":"16 & Under"},{"$f":"Race0131!D$4","v":"Marathon"},{"$f":"Race0131!A$18","v":11},{"$f":"Race0131!D$18","v":0},{"$f":"Race0131!C$18","v":0},{"$f":"Race0131!F$18","v":1}]
[null,{"$f":"Race0131!B$5","v":"Junior"},{"$f":"Race0131!B$4","v":"OC6"},{"$f":"Race0131!E$5","v":"Mixed"},{"$f":"Race0131!D$5","v":"16 & Under"},{"$f":"Race0131!D$4","v":"Marathon"},{"$f":"Race0131!A$19","v":12},{"$f":"Race0131!D$19","v":0},{"$f":"Race0131!C$19","v":0},{"$f":"Race0131!F$19","v":1}]
[null,{"$f":"Race0131!B$5","v":"Junior"},{"$f":"Race0131!B$4","v":"OC6"},{"$f":"Race0131!E$5","v":"Mixed"},{"$f":"Race0131!D$5","v":"16 & Under"},{"$f":"Race0131!D$4","v":"Marathon"},{"$f":"Race0131!A$20","v":13},{"$f":"Race0131!D$20","v":0},{"$f":"Race0131!C$20","v":0},{"$f":"Race0131!F$20","v":1}]
[null,{"$f":"Race0131!B$5","v":"Junior"},{"$f":"Race0131!B$4","v":"OC6"},{"$f":"Race0131!E$5","v":"Mixed"},{"$f":"Race0131!D$5","v":"16 & Under"},{"$f":"Race0131!D$4","v":"Marathon"},{"$f":"Race0131!A$21","v":14},{"$f":"Race0131!D$21","v":0},{"$f":"Race0131!C$21","v":0},{"$f":"Race0131!F$21","v":1}]
[null,{"$f":"Race0131!B$5","v":"Junior"},{"$f":"Race0131!B$4","v":"OC6"},{"$f":"Race0131!E$5","v":"Mixed"},{"$f":"Race0131!D$5","v":"16 & Under"},{"$f":"Race0131!D$4","v":"Marathon"},{"$f":"Race0131!A$22","v":15},{"$f":"Race0131!D$22","v":0},{"$f":"Race0131!C$22","v":0},{"$f":"Race0131!F$22","v":1}]
[null,{"$f":"Race0131!B$5","v":"Junior"},{"$f":"Race0131!B$4","v":"OC6"},{"$f":"Race0131!E$5","v":"Mixed"},{"$f":"Race0131!D$5","v":"16 & Under"},{"$f":"Race0131!D$4","v":"Marathon"},{"$f":"Race0131!A$23","v":16},{"$f":"Race0131!D$23","v":0},{"$f":"Race0131!C$23","v":0},{"$f":"Race0131!F$23","v":1}]
[null,{"$f":"Race0131!B$5","v":"Junior"},{"$f":"Race0131!B$4","v":"OC6"},{"$f":"Race0131!E$5","v":"Mixed"},{"$f":"Race0131!D$5","v":"16 & Under"},{"$f":"Race0131!D$4","v":"Marathon"},{"$f":"Race0131!A$24","v":17},{"$f":"Race0131!D$24","v":0},{"$f":"Race0131!C$24","v":0},{"$f":"Race0131!F$24","v":1}]
[null,{"$f":"Race0131!B$5","v":"Junior"},{"$f":"Race0131!B$4","v":"OC6"},{"$f":"Race0131!E$5","v":"Mixed"},{"$f":"Race0131!D$5","v":"16 & Under"},{"$f":"Race0131!D$4","v":"Marathon"},{"$f":"Race0131!A$25","v":18},{"$f":"Race0131!D$25","v":0},{"$f":"Race0131!C$25","v":0},{"$f":"Race0131!F$25","v":1}]
[null,{"$f":"Race0131!B$5","v":"Junior"},{"$f":"Race0131!B$4","v":"OC6"},{"$f":"Race0131!E$5","v":"Mixed"},{"$f":"Race0131!D$5","v":"16 & Under"},{"$f":"Race0131!D$4","v":"Marathon"},{"$f":"Race0131!A$26","v":19},{"$f":"Race0131!D$26","v":0},{"$f":"Race0131!C$26","v":0},{"$f":"Race0131!F$26","v":1}]
[null,{"$f":"Race0131!B$5","v":"Junior"},{"$f":"Race0131!B$4","v":"OC6"},{"$f":"Race0131!E$5","v":"Mixed"},{"$f":"Race0131!D$5","v":"16 & Under"},{"$f":"Race0131!D$4","v":"Marathon"},{"$f":"Race0131!A$27","v":20},{"$f":"Race0131!D$27","v":0},{"$f":"Race0131!C$27","v":0},{"$f":"Race0131!F$27","v":1}]
[null,{"$f":"Race0131!B$5","v":"Junior"},{"$f":"Race0131!B$4","v":"OC6"},{"$f":"Race0131!E$5","v":"Mixed"},{"$f":"Race0131!D$5","v":"16 & Under"},{"$f":"Race0131!D$4","v":"Marathon"},{"$f":"Race0131!A$28","v":21},{"$f":"Race0131!D$28","v":0},{"$f":"Race0131!C$28","v":0},{"$f":"Race0131!F$28","v":1}]
[null,{"$f":"Race0131!B$5","v":"Junior"},{"$f":"Race0131!B$4","v":"OC6"},{"$f":"Race0131!E$5","v":"Mixed"},{"$f":"Race0131!D$5","v":"16 & Under"},{"$f":"Race0131!D$4","v":"Marathon"},{"$f":"Race0131!A$29","v":22},{"$f":"Race0131!D$29","v":0},{"$f":"Race0131!C$29","v":0},{"$f":"Race0131!F$29","v":1}]
[null,{"$f":"Race0131!B$5","v":"Junior"},{"$f":"Race0131!B$4","v":"OC6"},{"$f":"Race0131!E$5","v":"Mixed"},{"$f":"Race0131!D$5","v":"16 & Under"},{"$f":"Race0131!D$4","v":"Marathon"},{"$f":"Race0131!A$30","v":23},{"$f":"Race0131!D$30","v":0},{"$f":"Race0131!C$30","v":0},{"$f":"Race0131!F$30","v":1}]
[null,{"$f":"Race0131!B$5","v":"Junior"},{"$f":"Race0131!B$4","v":"OC6"},{"$f":"Race0131!E$5","v":"Mixed"},{"$f":"Race0131!D$5","v":"16 & Under"},{"$f":"Race0131!D$4","v":"Marathon"},{"$f":"Race0131!A$31","v":24},{"$f":"Race0131!D$31","v":0},{"$f":"Race0131!C$31","v":0},{"$f":"Race0131!F$31","v":1}]
[null,{"$f":"Race0131!B$5","v":"Junior"},{"$f":"Race0131!B$4","v":"OC6"},{"$f":"Race0131!E$5","v":"Mixed"},{"$f":"Race0131!D$5","v":"16 & Under"},{"$f":"Race0131!D$4","v":"Marathon"},{"$f":"Race0131!A$32","v":25},{"$f":"Race0131!D$32","v":0},{"$f":"Race0131!C$32","v":0},{"$f":"Race0131!F$32","v":1}]
[null,{"$f":"Race0131!B$5","v":"Junior"},{"$f":"Race0131!B$4","v":"OC6"},{"$f":"Race0131!E$5","v":"Mixed"},{"$f":"Race0131!D$5","v":"16 & Under"},{"$f":"Race0131!D$4","v":"Marathon"},{"$f":"Race0131!A$33","v":26},{"$f":"Race0131!D$33","v":0},{"$f":"Race0131!C$33","v":0},{"$f":"Race0131!F$33","v":1}]
[null,{"$f":"Race0131!B$5","v":"Junior"},{"$f":"Race0131!B$4","v":"OC6"},{"$f":"Race0131!E$5","v":"Mixed"},{"$f":"Race0131!D$5","v":"16 & Under"},{"$f":"Race0131!D$4","v":"Marathon"},{"$f":"Race0131!A$34","v":27},{"$f":"Race0131!D$34","v":0},{"$f":"Race0131!C$34","v":0},{"$f":"Race0131!F$34","v":1}]
[null,{"$f":"Race0131!B$5","v":"Junior"},{"$f":"Race0131!B$4","v":"OC6"},{"$f":"Race0131!E$5","v":"Mixed"},{"$f":"Race0131!D$5","v":"16 & Under"},{"$f":"Race0131!D$4","v":"Marathon"},{"$f":"Race0131!A$35","v":28},{"$f":"Race0131!D$35","v":0},{"$f":"Race0131!C$35","v":0},{"$f":"Race0131!F$35","v":1}]
[null,{"$f":"Race0131!B$5","v":"Junior"},{"$f":"Race0131!B$4","v":"OC6"},{"$f":"Race0131!E$5","v":"Mixed"},{"$f":"Race0131!D$5","v":"16 & Under"},{"$f":"Race0131!D$4","v":"Marathon"},{"$f":"Race0131!A$36","v":29},{"$f":"Race0131!D$36","v":0},{"$f":"Race0131!C$36","v":0},{"$f":"Race0131!F$36","v":1}]
[null,{"$f":"Race0131!B$5","v":"Junior"},{"$f":"Race0131!B$4","v":"OC6"},{"$f":"Race0131!E$5","v":"Mixed"},{"$f":"Race0131!D$5","v":"16 & Under"},{"$f":"Race0131!D$4","v":"Marathon"},{"$f":"Race0131!A$37","v":30},{"$f":"Race0131!D$37","v":0},{"$f":"Race0131!C$37","v":0},{"$f":"Race0131!F$37","v":1}]
[null,{"$f":"Race0131!B$5","v":"Junior"},{"$f":"Race0131!B$4","v":"OC6"},{"$f":"Race0131!E$5","v":"Mixed"},{"$f":"Race0131!D$5","v":"16 & Under"},{"$f":"Race0131!D$4","v":"Marathon"},{"$f":"Race0131!A$38","v":31},{"$f":"Race0131!D$38","v":0},{"$f":"Race0131!C$38","v":0},{"$f":"Race0131!F$38","v":1}]
[null,{"$f":"Race0131!B$5","v":"Junior"},{"$f":"Race0131!B$4","v":"OC6"},{"$f":"Race0131!E$5","v":"Mixed"},{"$f":"Race0131!D$5","v":"16 & Under"},{"$f":"Race0131!D$4","v":"Marathon"},{"$f":"Race0131!A$39","v":32},{"$f":"Race0131!D$39","v":0},{"$f":"Race0131!C$39","v":0},{"$f":"Race0131!F$39","v":1}]
[null,{"$f":"Race0131!B$5","v":"Junior"},{"$f":"Race0131!B$4","v":"OC6"},{"$f":"Race0131!E$5","v":"Mixed"},{"$f":"Race0131!D$5","v":"16 & Under"},{"$f":"Race0131!D$4","v":"Marathon"},{"$f":"Race0131!A$40","v":33},{"$f":"Race0131!D$40","v":0},{"$f":"Race0131!C$40","v":0},{"$f":"Race0131!F$40","v":1}]
[null,{"$f":"Race0131!B$5","v":"Junior"},{"$f":"Race0131!B$4","v":"OC6"},{"$f":"Race0131!E$5","v":"Mixed"},{"$f":"Race0131!D$5","v":"16 & Under"},{"$f":"Race0131!D$4","v":"Marathon"},{"$f":"Race0131!A$41","v":34},{"$f":"Race0131!D$41","v":0},{"$f":"Race0131!C$41","v":0},{"$f":"Race0131!F$41","v":1}]
[null,{"$f":"Race0131!B$5","v":"Junior"},{"$f":"Race0131!B$4","v":"OC6"},{"$f":"Race0131!E$5","v":"Mixed"},{"$f":"Race0131!D$5","v":"16 & Under"},{"$f":"Race0131!D$4","v":"Marathon"},{"$f":"Race0131!A$42","v":35},{"$f":"Race0131!D$42","v":0},{"$f":"Race0131!C$42","v":0},{"$f":"Race0131!F$42","v":1}]
[null,{"$f":"Race0131!B$5","v":"Junior"},{"$f":"Race0131!B$4","v":"OC6"},{"$f":"Race0131!E$5","v":"Mixed"},{"$f":"Race0131!D$5","v":"16 & Under"},{"$f":"Race0131!D$4","v":"Marathon"},{"$f":"Race0131!A$43","v":36},{"$f":"Race0131!D$43","v":0},{"$f":"Race0131!C$43","v":0},{"$f":"Race0131!F$43","v":1}]
[null,{"$f":"Race0131!B$5","v":"Junior"},{"$f":"Race0131!B$4","v":"OC6"},{"$f":"Race0131!E$5","v":"Mixed"},{"$f":"Race0131!D$5","v":"16 & Under"},{"$f":"Race0131!D$4","v":"Marathon"},{"$f":"Race0131!A$44","v":37},{"$f":"Race0131!D$44","v":0},{"$f":"Race0131!C$44","v":0},{"$f":"Race0131!F$44","v":1}]
[null,{"$f":"Race0131!B$5","v":"Junior"},{"$f":"Race0131!B$4","v":"OC6"},{"$f":"Race0131!E$5","v":"Mixed"},{"$f":"Race0131!D$5","v":"16 & Under"},{"$f":"Race0131!D$4","v":"Marathon"},{"$f":"Race0131!A$45","v":38},{"$f":"Race0131!D$45","v":0},{"$f":"Race0131!C$45","v":0},{"$f":"Race0131!F$45","v":1}]
[null,{"$f":"Race0131!B$5","v":"Junior"},{"$f":"Race0131!B$4","v":"OC6"},{"$f":"Race0131!E$5","v":"Mixed"},{"$f":"Race0131!D$5","v":"16 & Under"},{"$f":"Race0131!D$4","v":"Marathon"},{"$f":"Race0131!A$46","v":39},{"$f":"Race0131!D$46","v":0},{"$f":"Race0131!C$46","v":0},{"$f":"Race0131!F$46","v":1}]
[null,{"$f":"Race0131!B$5","v":"Junior"},{"$f":"Race0131!B$4","v":"OC6"},{"$f":"Race0131!E$5","v":"Mixed"},{"$f":"Race0131!D$5","v":"16 & Under"},{"$f":"Race0131!D$4","v":"Marathon"},{"$f":"Race0131!A$47","v":40},{"$f":"Race0131!D$47","v":0},{"$f":"Race0131!C$47","v":0},{"$f":"Race0131!F$47","v":1}]
[null,{"$f":"Race0131!B$5","v":"Junior"},{"$f":"Race0131!B$4","v":"OC6"},{"$f":"Race0131!E$5","v":"Mixed"},{"$f":"Race0131!D$5","v":"16 & Under"},{"$f":"Race0131!D$4","v":"Marathon"},{"$f":"Race0131!A$48","v":41},{"$f":"Race0131!D$48","v":0},{"$f":"Race0131!C$48","v":0},{"$f":"Race0131!F$48","v":1}]
[null,{"$f":"Race0131!B$5","v":"Junior"},{"$f":"Race0131!B$4","v":"OC6"},{"$f":"Race0131!E$5","v":"Mixed"},{"$f":"Race0131!D$5","v":"16 & Under"},{"$f":"Race0131!D$4","v":"Marathon"},{"$f":"Race0131!A$49","v":42},{"$f":"Race0131!D$49","v":0},{"$f":"Race0131!C$49","v":0},{"$f":"Race0131!F$49","v":1}]
[null,{"$f":"Race0131!B$5","v":"Junior"},{"$f":"Race0131!B$4","v":"OC6"},{"$f":"Race0131!E$5","v":"Mixed"},{"$f":"Race0131!D$5","v":"16 & Under"},{"$f":"Race0131!D$4","v":"Marathon"},{"$f":"Race0131!A$50","v":43},{"$f":"Race0131!D$50","v":0},{"$f":"Race0131!C$50","v":0},{"$f":"Race0131!F$50","v":1}]
[null,{"$f":"Race0131!B$5","v":"Junior"},{"$f":"Race0131!B$4","v":"OC6"},{"$f":"Race0131!E$5","v":"Mixed"},{"$f":"Race0131!D$5","v":"16 & Under"},{"$f":"Race0131!D$4","v":"Marathon"},{"$f":"Race0131!A$51","v":44},{"$f":"Race0131!D$51","v":0},{"$f":"Race0131!C$51","v":0},{"$f":"Race0131!F$51","v":1}]
[null,{"$f":"Race0131!B$5","v":"Junior"},{"$f":"Race0131!B$4","v":"OC6"},{"$f":"Race0131!E$5","v":"Mixed"},{"$f":"Race0131!D$5","v":"16 & Under"},{"$f":"Race0131!D$4","v":"Marathon"},{"$f":"Race0131!A$52","v":45},{"$f":"Race0131!D$52","v":0},{"$f":"Race0131!C$52","v":0},{"$f":"Race0131!F$52","v":1}]
[null,{"$f":"Race0131!B$5","v":"Junior"},{"$f":"Race0131!B$4","v":"OC6"},{"$f":"Race0131!E$5","v":"Mixed"},{"$f":"Race0131!D$5","v":"16 & Under"},{"$f":"Race0131!D$4","v":"Marathon"},{"$f":"Race0131!A$53","v":46},{"$f":"Race0131!D$53","v":0},{"$f":"Race0131!C$53","v":0},{"$f":"Race0131!F$53","v":1}]
[null,{"$f":"Race0131!B$5","v":"Junior"},{"$f":"Race0131!B$4","v":"OC6"},{"$f":"Race0131!E$5","v":"Mixed"},{"$f":"Race0131!D$5","v":"16 & Under"},{"$f":"Race0131!D$4","v":"Marathon"},{"$f":"Race0131!A$54","v":47},{"$f":"Race0131!D$54","v":0},{"$f":"Race0131!C$54","v":0},{"$f":"Race0131!F$54","v":1}]
[null,{"$f":"Race0131!B$5","v":"Junior"},{"$f":"Race0131!B$4","v":"OC6"},{"$f":"Race0131!E$5","v":"Mixed"},{"$f":"Race0131!D$5","v":"16 & Under"},{"$f":"Race0131!D$4","v":"Marathon"},{"$f":"Race0131!A$55","v":48},{"$f":"Race0131!D$55","v":0},{"$f":"Race0131!C$55","v":0},{"$f":"Race0131!F$55","v":1}]
[null,{"$f":"Race0131!B$5","v":"Junior"},{"$f":"Race0131!B$4","v":"OC6"},{"$f":"Race0131!E$5","v":"Mixed"},{"$f":"Race0131!D$5","v":"16 & Under"},{"$f":"Race0131!D$4","v":"Marathon"},{"$f":"Race0131!A$56","v":49},{"$f":"Race0131!D$56","v":0},{"$f":"Race0131!C$56","v":0},{"$f":"Race0131!F$56","v":1}]
[null,{"$f":"Race0131!B$5","v":"Junior"},{"$f":"Race0131!B$4","v":"OC6"},{"$f":"Race0131!E$5","v":"Mixed"},{"$f":"Race0131!D$5","v":"16 & Under"},{"$f":"Race0131!D$4","v":"Marathon"},{"$f":"Race0131!A$57","v":50},{"$f":"Race0131!D$57","v":0},{"$f":"Race0131!C$57","v":0},{"$f":"Race0131!F$57","v":1}]
["Race0132",{"$f":"Race0132!B$5","v":"Junior"},{"$f":"Race0132!B$4","v":"OC6"},{"$f":"Race0132!E$5","v":"Mixed"},{"$f":"Race0132!D$5","v":"19 & Under"},{"$f":"Race0132!D$4","v":"Marathon"},{"$f":"Race0132!A$8","v":1},{"$f":"Race0132!D$8","v":0},{"$f":"Race0132!C$8","v":0},{"$f":"Race0132!F$8","v":14}]
[null,{"$f":"Race0132!B$5","v":"Junior"},{"$f":"Race0132!B$4","v":"OC6"},{"$f":"Race0132!E$5","v":"Mixed"},{"$f":"Race0132!D$5","v":"19 & Under"},{"$f":"Race0132!D$4","v":"Marathon"},{"$f":"Race0132!A$9","v":2},{"$f":"Race0132!D$9","v":0},{"$f":"Race0132!C$9","v":0},{"$f":"Race0132!F$9","v":12}]
[null,{"$f":"Race0132!B$5","v":"Junior"},{"$f":"Race0132!B$4","v":"OC6"},{"$f":"Race0132!E$5","v":"Mixed"},{"$f":"Race0132!D$5","v":"19 & Under"},{"$f":"Race0132!D$4","v":"Marathon"},{"$f":"Race0132!A$10","v":3},{"$f":"Race0132!D$10","v":0},{"$f":"Race0132!C$10","v":0},{"$f":"Race0132!F$10","v":10}]
[null,{"$f":"Race0132!B$5","v":"Junior"},{"$f":"Race0132!B$4","v":"OC6"},{"$f":"Race0132!E$5","v":"Mixed"},{"$f":"Race0132!D$5","v":"19 & Under"},{"$f":"Race0132!D$4","v":"Marathon"},{"$f":"Race0132!A$11","v":4},{"$f":"Race0132!D$11","v":0},{"$f":"Race0132!C$11","v":0},{"$f":"Race0132!F$11","v":8}]
[null,{"$f":"Race0132!B$5","v":"Junior"},{"$f":"Race0132!B$4","v":"OC6"},{"$f":"Race0132!E$5","v":"Mixed"},{"$f":"Race0132!D$5","v":"19 & Under"},{"$f":"Race0132!D$4","v":"Marathon"},{"$f":"Race0132!A$12","v":5},{"$f":"Race0132!D$12","v":0},{"$f":"Race0132!C$12","v":0},{"$f":"Race0132!F$12","v":7}]
[null,{"$f":"Race0132!B$5","v":"Junior"},{"$f":"Race0132!B$4","v":"OC6"},{"$f":"Race0132!E$5","v":"Mixed"},{"$f":"Race0132!D$5","v":"19 & Under"},{"$f":"Race0132!D$4","v":"Marathon"},{"$f":"Race0132!A$13","v":6},{"$f":"Race0132!D$13","v":0},{"$f":"Race0132!C$13","v":0},{"$f":"Race0132!F$13","v":6}]
[null,{"$f":"Race0132!B$5","v":"Junior"},{"$f":"Race0132!B$4","v":"OC6"},{"$f":"Race0132!E$5","v":"Mixed"},{"$f":"Race0132!D$5","v":"19 & Under"},{"$f":"Race0132!D$4","v":"Marathon"},{"$f":"Race0132!A$14","v":7},{"$f":"Race0132!D$14","v":0},{"$f":"Race0132!C$14","v":0},{"$f":"Race0132!F$14","v":5}]
[null,{"$f":"Race0132!B$5","v":"Junior"},{"$f":"Race0132!B$4","v":"OC6"},{"$f":"Race0132!E$5","v":"Mixed"},{"$f":"Race0132!D$5","v":"19 & Under"},{"$f":"Race0132!D$4","v":"Marathon"},{"$f":"Race0132!A$15","v":8},{"$f":"Race0132!D$15","v":0},{"$f":"Race0132!C$15","v":0},{"$f":"Race0132!F$15","v":4}]
[null,{"$f":"Race0132!B$5","v":"Junior"},{"$f":"Race0132!B$4","v":"OC6"},{"$f":"Race0132!E$5","v":"Mixed"},{"$f":"Race0132!D$5","v":"19 & Under"},{"$f":"Race0132!D$4","v":"Marathon"},{"$f":"Race0132!A$16","v":9},{"$f":"Race0132!D$16","v":0},{"$f":"Race0132!C$16","v":0},{"$f":"Race0132!F$16","v":3}]
[null,{"$f":"Race0132!B$5","v":"Junior"},{"$f":"Race0132!B$4","v":"OC6"},{"$f":"Race0132!E$5","v":"Mixed"},{"$f":"Race0132!D$5","v":"19 & Under"},{"$f":"Race0132!D$4","v":"Marathon"},{"$f":"Race0132!A$17","v":10},{"$f":"Race0132!D$17","v":0},{"$f":"Race0132!C$17","v":0},{"$f":"Race0132!F$17","v":2}]
[null,{"$f":"Race0132!B$5","v":"Junior"},{"$f":"Race0132!B$4","v":"OC6"},{"$f":"Race0132!E$5","v":"Mixed"},{"$f":"Race0132!D$5","v":"19 & Under"},{"$f":"Race0132!D$4","v":"Marathon"},{"$f":"Race0132!A$18","v":11},{"$f":"Race0132!D$18","v":0},{"$f":"Race0132!C$18","v":0},{"$f":"Race0132!F$18","v":1}]
[null,{"$f":"Race0132!B$5","v":"Junior"},{"$f":"Race0132!B$4","v":"OC6"},{"$f":"Race0132!E$5","v":"Mixed"},{"$f":"Race0132!D$5","v":"19 & Under"},{"$f":"Race0132!D$4","v":"Marathon"},{"$f":"Race0132!A$19","v":12},{"$f":"Race0132!D$19","v":0},{"$f":"Race0132!C$19","v":0},{"$f":"Race0132!F$19","v":1}]
[null,{"$f":"Race0132!B$5","v":"Junior"},{"$f":"Race0132!B$4","v":"OC6"},{"$f":"Race0132!E$5","v":"Mixed"},{"$f":"Race0132!D$5","v":"19 & Under"},{"$f":"Race0132!D$4","v":"Marathon"},{"$f":"Race0132!A$20","v":13},{"$f":"Race0132!D$20","v":0},{"$f":"Race0132!C$20","v":0},{"$f":"Race0132!F$20","v":1}]
[null,{"$f":"Race0132!B$5","v":"Junior"},{"$f":"Race0132!B$4","v":"OC6"},{"$f":"Race0132!E$5","v":"Mixed"},{"$f":"Race0132!D$5","v":"19 & Under"},{"$f":"Race0132!D$4","v":"Marathon"},{"$f":"Race0132!A$21","v":14},{"$f":"Race0132!D$21","v":0},{"$f":"Race0132!C$21","v":0},{"$f":"Race0132!F$21","v":1}]
[null,{"$f":"Race0132!B$5","v":"Junior"},{"$f":"Race0132!B$4","v":"OC6"},{"$f":"Race0132!E$5","v":"Mixed"},{"$f":"Race0132!D$5","v":"19 & Under"},{"$f":"Race0132!D$4","v":"Marathon"},{"$f":"Race0132!A$22","v":15},{"$f":"Race0132!D$22","v":0},{"$f":"Race0132!C$22","v":0},{"$f":"Race0132!F$22","v":1}]
[null,{"$f":"Race0132!B$5","v":"Junior"},{"$f":"Race0132!B$4","v":"OC6"},{"$f":"Race0132!E$5","v":"Mixed"},{"$f":"Race0132!D$5","v":"19 & Under"},{"$f":"Race0132!D$4","v":"Marathon"},{"$f":"Race0132!A$23","v":16},{"$f":"Race0132!D$23","v":0},{"$f":"Race0132!C$23","v":0},{"$f":"Race0132!F$23","v":1}]
[null,{"$f":"Race0132!B$5","v":"Junior"},{"$f":"Race0132!B$4","v":"OC6"},{"$f":"Race0132!E$5","v":"Mixed"},{"$f":"Race0132!D$5","v":"19 & Under"},{"$f":"Race0132!D$4","v":"Marathon"},{"$f":"Race0132!A$24","v":17},{"$f":"Race0132!D$24","v":0},{"$f":"Race0132!C$24","v":0},{"$f":"Race0132!F$24","v":1}]
[null,{"$f":"Race0132!B$5","v":"Junior"},{"$f":"Race0132!B$4","v":"OC6"},{"$f":"Race0132!E$5","v":"Mixed"},{"$f":"Race0132!D$5","v":"19 & Under"},{"$f":"Race0132!D$4","v":"Marathon"},{"$f":"Race0132!A$25","v":18},{"$f":"Race0132!D$25","v":0},{"$f":"Race0132!C$25","v":0},{"$f":"Race0132!F$25","v":1}]
[null,{"$f":"Race0132!B$5","v":"Junior"},{"$f":"Race0132!B$4","v":"OC6"},{"$f":"Race0132!E$5","v":"Mixed"},{"$f":"Race0132!D$5","v":"19 & Under"},{"$f":"Race0132!D$4","v":"Marathon"},{"$f":"Race0132!A$26","v":19},{"$f":"Race0132!D$26","v":0},{"$f":"Race0132!C$26","v":0},{"$f":"Race0132!F$26","v":1}]
[null,{"$f":"Race0132!B$5","v":"Junior"},{"$f":"Race0132!B$4","v":"OC6"},{"$f":"Race0132!E$5","v":"Mixed"},{"$f":"Race0132!D$5","v":"19 & Under"},{"$f":"Race0132!D$4","v":"Marathon"},{"$f":"Race0132!A$27","v":20},{"$f":"Race0132!D$27","v":0},{"$f":"Race0132!C$27","v":0},{"$f":"Race0132!F$27","v":1}]
[null,{"$f":"Race0132!B$5","v":"Junior"},{"$f":"Race0132!B$4","v":"OC6"},{"$f":"Race0132!E$5","v":"Mixed"},{"$f":"Race0132!D$5","v":"19 & Under"},{"$f":"Race0132!D$4","v":"Marathon"},{"$f":"Race0132!A$28","v":21},{"$f":"Race0132!D$28","v":0},{"$f":"Race0132!C$28","v":0},{"$f":"Race0132!F$28","v":1}]
[null,{"$f":"Race0132!B$5","v":"Junior"},{"$f":"Race0132!B$4","v":"OC6"},{"$f":"Race0132!E$5","v":"Mixed"},{"$f":"Race0132!D$5","v":"19 & Under"},{"$f":"Race0132!D$4","v":"Marathon"},{"$f":"Race0132!A$29","v":22},{"$f":"Race0132!D$29","v":0},{"$f":"Race0132!C$29","v":0},{"$f":"Race0132!F$29","v":1}]
[null,{"$f":"Race0132!B$5","v":"Junior"},{"$f":"Race0132!B$4","v":"OC6"},{"$f":"Race0132!E$5","v":"Mixed"},{"$f":"Race0132!D$5","v":"19 & Under"},{"$f":"Race0132!D$4","v":"Marathon"},{"$f":"Race0132!A$30","v":23},{"$f":"Race0132!D$30","v":0},{"$f":"Race0132!C$30","v":0},{"$f":"Race0132!F$30","v":1}]
[null,{"$f":"Race0132!B$5","v":"Junior"},{"$f":"Race0132!B$4","v":"OC6"},{"$f":"Race0132!E$5","v":"Mixed"},{"$f":"Race0132!D$5","v":"19 & Under"},{"$f":"Race0132!D$4","v":"Marathon"},{"$f":"Race0132!A$31","v":24},{"$f":"Race0132!D$31","v":0},{"$f":"Race0132!C$31","v":0},{"$f":"Race0132!F$31","v":1}]
[null,{"$f":"Race0132!B$5","v":"Junior"},{"$f":"Race0132!B$4","v":"OC6"},{"$f":"Race0132!E$5","v":"Mixed"},{"$f":"Race0132!D$5","v":"19 & Under"},{"$f":"Race0132!D$4","v":"Marathon"},{"$f":"Race0132!A$32","v":25},{"$f":"Race0132!D$32","v":0},{"$f":"Race0132!C$32","v":0},{"$f":"Race0132!F$32","v":1}]
[null,{"$f":"Race0132!B$5","v":"Junior"},{"$f":"Race0132!B$4","v":"OC6"},{"$f":"Race0132!E$5","v":"Mixed"},{"$f":"Race0132!D$5","v":"19 & Under"},{"$f":"Race0132!D$4","v":"Marathon"},{"$f":"Race0132!A$33","v":26},{"$f":"Race0132!D$33","v":0},{"$f":"Race0132!C$33","v":0},{"$f":"Race0132!F$33","v":1}]
[null,{"$f":"Race0132!B$5","v":"Junior"},{"$f":"Race0132!B$4","v":"OC6"},{"$f":"Race0132!E$5","v":"Mixed"},{"$f":"Race0132!D$5","v":"19 & Under"},{"$f":"Race0132!D$4","v":"Marathon"},{"$f":"Race0132!A$34","v":27},{"$f":"Race0132!D$34","v":0},{"$f":"Race0132!C$34","v":0},{"$f":"Race0132!F$34","v":1}]
[null,{"$f":"Race0132!B$5","v":"Junior"},{"$f":"Race0132!B$4","v":"OC6"},{"$f":"Race0132!E$5","v":"Mixed"},{"$f":"Race0132!D$5","v":"19 & Under"},{"$f":"Race0132!D$4","v":"Marathon"},{"$f":"Race0132!A$35","v":28},{"$f":"Race0132!D$35","v":0},{"$f":"Race0132!C$35","v":0},{"$f":"Race0132!F$35","v":1}]
[null,{"$f":"Race0132!B$5","v":"Junior"},{"$f":"Race0132!B$4","v":"OC6"},{"$f":"Race0132!E$5","v":"Mixed"},{"$f":"Race0132!D$5","v":"19 & Under"},{"$f":"Race0132!D$4","v":"Marathon"},{"$f":"Race0132!A$36","v":29},{"$f":"Race0132!D$36","v":0},{"$f":"Race0132!C$36","v":0},{"$f":"Race0132!F$36","v":1}]
[null,{"$f":"Race0132!B$5","v":"Junior"},{"$f":"Race0132!B$4","v":"OC6"},{"$f":"Race0132!E$5","v":"Mixed"},{"$f":"Race0132!D$5","v":"19 & Under"},{"$f":"Race0132!D$4","v":"Marathon"},{"$f":"Race0132!A$37","v":30},{"$f":"Race0132!D$37","v":0},{"$f":"Race0132!C$37","v":0},{"$f":"Race0132!F$37","v":1}]
[null,{"$f":"Race0132!B$5","v":"Junior"},{"$f":"Race0132!B$4","v":"OC6"},{"$f":"Race0132!E$5","v":"Mixed"},{"$f":"Race0132!D$5","v":"19 & Under"},{"$f":"Race0132!D$4","v":"Marathon"},{"$f":"Race0132!A$38","v":31},{"$f":"Race0132!D$38","v":0},{"$f":"Race0132!C$38","v":0},{"$f":"Race0132!F$38","v":1}]
[null,{"$f":"Race0132!B$5","v":"Junior"},{"$f":"Race0132!B$4","v":"OC6"},{"$f":"Race0132!E$5","v":"Mixed"},{"$f":"Race0132!D$5","v":"19 & Under"},{"$f":"Race0132!D$4","v":"Marathon"},{"$f":"Race0132!A$39","v":32},{"$f":"Race0132!D$39","v":0},{"$f":"Race0132!C$39","v":0},{"$f":"Race0132!F$39","v":1}]
[null,{"$f":"Race0132!B$5","v":"Junior"},{"$f":"Race0132!B$4","v":"OC6"},{"$f":"Race0132!E$5","v":"Mixed"},{"$f":"Race0132!D$5","v":"19 & Under"},{"$f":"Race0132!D$4","v":"Marathon"},{"$f":"Race0132!A$40","v":33},{"$f":"Race0132!D$40","v":0},{"$f":"Race0132!C$40","v":0},{"$f":"Race0132!F$40","v":1}]
[null,{"$f":"Race0132!B$5","v":"Junior"},{"$f":"Race0132!B$4","v":"OC6"},{"$f":"Race0132!E$5","v":"Mixed"},{"$f":"Race0132!D$5","v":"19 & Under"},{"$f":"Race0132!D$4","v":"Marathon"},{"$f":"Race0132!A$41","v":34},{"$f":"Race0132!D$41","v":0},{"$f":"Race0132!C$41","v":0},{"$f":"Race0132!F$41","v":1}]
[null,{"$f":"Race0132!B$5","v":"Junior"},{"$f":"Race0132!B$4","v":"OC6"},{"$f":"Race0132!E$5","v":"Mixed"},{"$f":"Race0132!D$5","v":"19 & Under"},{"$f":"Race0132!D$4","v":"Marathon"},{"$f":"Race0132!A$42","v":35},{"$f":"Race0132!D$42","v":0},{"$f":"Race0132!C$42","v":0},{"$f":"Race0132!F$42","v":1}]
[null,{"$f":"Race0132!B$5","v":"Junior"},{"$f":"Race0132!B$4","v":"OC6"},{"$f":"Race0132!E$5","v":"Mixed"},{"$f":"Race0132!D$5","v":"19 & Under"},{"$f":"Race0132!D$4","v":"Marathon"},{"$f":"Race0132!A$43","v":36},{"$f":"Race0132!D$43","v":0},{"$f":"Race0132!C$43","v":0},{"$f":"Race0132!F$43","v":1}]
[null,{"$f":"Race0132!B$5","v":"Junior"},{"$f":"Race0132!B$4","v":"OC6"},{"$f":"Race0132!E$5","v":"Mixed"},{"$f":"Race0132!D$5","v":"19 & Under"},{"$f":"Race0132!D$4","v":"Marathon"},{"$f":"Race0132!A$44","v":37},{"$f":"Race0132!D$44","v":0},{"$f":"Race0132!C$44","v":0},{"$f":"Race0132!F$44","v":1}]
[null,{"$f":"Race0132!B$5","v":"Junior"},{"$f":"Race0132!B$4","v":"OC6"},{"$f":"Race0132!E$5","v":"Mixed"},{"$f":"Race0132!D$5","v":"19 & Under"},{"$f":"Race0132!D$4","v":"Marathon"},{"$f":"Race0132!A$45","v":38},{"$f":"Race0132!D$45","v":0},{"$f":"Race0132!C$45","v":0},{"$f":"Race0132!F$45","v":1}]
[null,{"$f":"Race0132!B$5","v":"Junior"},{"$f":"Race0132!B$4","v":"OC6"},{"$f":"Race0132!E$5","v":"Mixed"},{"$f":"Race0132!D$5","v":"19 & Under"},{"$f":"Race0132!D$4","v":"Marathon"},{"$f":"Race0132!A$46","v":39},{"$f":"Race0132!D$46","v":0},{"$f":"Race0132!C$46","v":0},{"$f":"Race0132!F$46","v":1}]
[null,{"$f":"Race0132!B$5","v":"Junior"},{"$f":"Race0132!B$4","v":"OC6"},{"$f":"Race0132!E$5","v":"Mixed"},{"$f":"Race0132!D$5","v":"19 & Under"},{"$f":"Race0132!D$4","v":"Marathon"},{"$f":"Race0132!A$47","v":40},{"$f":"Race0132!D$47","v":0},{"$f":"Race0132!C$47","v":0},{"$f":"Race0132!F$47","v":1}]
[null,{"$f":"Race0132!B$5","v":"Junior"},{"$f":"Race0132!B$4","v":"OC6"},{"$f":"Race0132!E$5","v":"Mixed"},{"$f":"Race0132!D$5","v":"19 & Under"},{"$f":"Race0132!D$4","v":"Marathon"},{"$f":"Race0132!A$48","v":41},{"$f":"Race0132!D$48","v":0},{"$f":"Race0132!C$48","v":0},{"$f":"Race0132!F$48","v":1}]
[null,{"$f":"Race0132!B$5","v":"Junior"},{"$f":"Race0132!B$4","v":"OC6"},{"$f":"Race0132!E$5","v":"Mixed"},{"$f":"Race0132!D$5","v":"19 & Under"},{"$f":"Race0132!D$4","v":"Marathon"},{"$f":"Race0132!A$49","v":42},{"$f":"Race0132!D$49","v":0},{"$f":"Race0132!C$49","v":0},{"$f":"Race0132!F$49","v":1}]
[null,{"$f":"Race0132!B$5","v":"Junior"},{"$f":"Race0132!B$4","v":"OC6"},{"$f":"Race0132!E$5","v":"Mixed"},{"$f":"Race0132!D$5","v":"19 & Under"},{"$f":"Race0132!D$4","v":"Marathon"},{"$f":"Race0132!A$50","v":43},{"$f":"Race0132!D$50","v":0},{"$f":"Race0132!C$50","v":0},{"$f":"Race0132!F$50","v":1}]
[null,{"$f":"Race0132!B$5","v":"Junior"},{"$f":"Race0132!B$4","v":"OC6"},{"$f":"Race0132!E$5","v":"Mixed"},{"$f":"Race0132!D$5","v":"19 & Under"},{"$f":"Race0132!D$4","v":"Marathon"},{"$f":"Race0132!A$51","v":44},{"$f":"Race0132!D$51","v":0},{"$f":"Race0132!C$51","v":0},{"$f":"Race0132!F$51","v":1}]
[null,{"$f":"Race0132!B$5","v":"Junior"},{"$f":"Race0132!B$4","v":"OC6"},{"$f":"Race0132!E$5","v":"Mixed"},{"$f":"Race0132!D$5","v":"19 & Under"},{"$f":"Race0132!D$4","v":"Marathon"},{"$f":"Race0132!A$52","v":45},{"$f":"Race0132!D$52","v":0},{"$f":"Race0132!C$52","v":0},{"$f":"Race0132!F$52","v":1}]
[null,{"$f":"Race0132!B$5","v":"Junior"},{"$f":"Race0132!B$4","v":"OC6"},{"$f":"Race0132!E$5","v":"Mixed"},{"$f":"Race0132!D$5","v":"19 & Under"},{"$f":"Race0132!D$4","v":"Marathon"},{"$f":"Race0132!A$53","v":46},{"$f":"Race0132!D$53","v":0},{"$f":"Race0132!C$53","v":0},{"$f":"Race0132!F$53","v":1}]
[null,{"$f":"Race0132!B$5","v":"Junior"},{"$f":"Race0132!B$4","v":"OC6"},{"$f":"Race0132!E$5","v":"Mixed"},{"$f":"Race0132!D$5","v":"19 & Under"},{"$f":"Race0132!D$4","v":"Marathon"},{"$f":"Race0132!A$54","v":47},{"$f":"Race0132!D$54","v":0},{"$f":"Race0132!C$54","v":0},{"$f":"Race0132!F$54","v":1}]
[null,{"$f":"Race0132!B$5","v":"Junior"},{"$f":"Race0132!B$4","v":"OC6"},{"$f":"Race0132!E$5","v":"Mixed"},{"$f":"Race0132!D$5","v":"19 & Under"},{"$f":"Race0132!D$4","v":"Marathon"},{"$f":"Race0132!A$55","v":48},{"$f":"Race0132!D$55","v":0},{"$f":"Race0132!C$55","v":0},{"$f":"Race0132!F$55","v":1}]
[null,{"$f":"Race0132!B$5","v":"Junior"},{"$f":"Race0132!B$4","v":"OC6"},{"$f":"Race0132!E$5","v":"Mixed"},{"$f":"Race0132!D$5","v":"19 & Under"},{"$f":"Race0132!D$4","v":"Marathon"},{"$f":"Race0132!A$56","v":49},{"$f":"Race0132!D$56","v":0},{"$f":"Race0132!C$56","v":0},{"$f":"Race0132!F$56","v":1}]
[null,{"$f":"Race0132!B$5","v":"Junior"},{"$f":"Race0132!B$4","v":"OC6"},{"$f":"Race0132!E$5","v":"Mixed"},{"$f":"Race0132!D$5","v":"19 & Under"},{"$f":"Race0132!D$4","v":"Marathon"},{"$f":"Race0132!A$57","v":50},{"$f":"Race0132!D$57","v":0},{"$f":"Race0132!C$57","v":0},{"$f":"Race0132!F$57","v":1}]
["Race0201",{"$f":"Race0201!B$5","v":"Senior"},{"$f":"Race0201!B$4","v":"OC6"},{"$f":"Race0201!E$5","v":"Men"},{"$f":"Race0201!D$5","v":"21 & Under"},{"$f":"Race0201!D$4","v":"Short Course"},{"$f":"Race0201!A$8","v":1},{"$f":"Race0201!D$8","v":0},{"$f":"Race0201!C$8","v":0},{"$f":"Race0201!F$8","v":14}]
[null,{"$f":"Race0201!B$5","v":"Senior"},{"$f":"Race0201!B$4","v":"OC6"},{"$f":"Race0201!E$5","v":"Men"},{"$f":"Race0201!D$5","v":"21 & Under"},{"$f":"Race0201!D$4","v":"Short Course"},{"$f":"Race0201!A$9","v":2},{"$f":"Race0201!D$9","v":0},{"$f":"Race0201!C$9","v":0},{"$f":"Race0201!F$9","v":12}]
[null,{"$f":"Race0201!B$5","v":"Senior"},{"$f":"Race0201!B$4","v":"OC6"},{"$f":"Race0201!E$5","v":"Men"},{"$f":"Race0201!D$5","v":"21 & Under"},{"$f":"Race0201!D$4","v":"Short Course"},{"$f":"Race0201!A$10","v":3},{"$f":"Race0201!D$10","v":0},{"$f":"Race0201!C$10","v":0},{"$f":"Race0201!F$10","v":10}]
[null,{"$f":"Race0201!B$5","v":"Senior"},{"$f":"Race0201!B$4","v":"OC6"},{"$f":"Race0201!E$5","v":"Men"},{"$f":"Race0201!D$5","v":"21 & Under"},{"$f":"Race0201!D$4","v":"Short Course"},{"$f":"Race0201!A$11","v":4},{"$f":"Race0201!D$11","v":0},{"$f":"Race0201!C$11","v":0},{"$f":"Race0201!F$11","v":8}]
[null,{"$f":"Race0201!B$5","v":"Senior"},{"$f":"Race0201!B$4","v":"OC6"},{"$f":"Race0201!E$5","v":"Men"},{"$f":"Race0201!D$5","v":"21 & Under"},{"$f":"Race0201!D$4","v":"Short Course"},{"$f":"Race0201!A$12","v":5},{"$f":"Race0201!D$12","v":0},{"$f":"Race0201!C$12","v":0},{"$f":"Race0201!F$12","v":7}]
[null,{"$f":"Race0201!B$5","v":"Senior"},{"$f":"Race0201!B$4","v":"OC6"},{"$f":"Race0201!E$5","v":"Men"},{"$f":"Race0201!D$5","v":"21 & Under"},{"$f":"Race0201!D$4","v":"Short Course"},{"$f":"Race0201!A$13","v":6},{"$f":"Race0201!D$13","v":0},{"$f":"Race0201!C$13","v":0},{"$f":"Race0201!F$13","v":6}]
[null,{"$f":"Race0201!B$5","v":"Senior"},{"$f":"Race0201!B$4","v":"OC6"},{"$f":"Race0201!E$5","v":"Men"},{"$f":"Race0201!D$5","v":"21 & Under"},{"$f":"Race0201!D$4","v":"Short Course"},{"$f":"Race0201!A$14","v":7},{"$f":"Race0201!D$14","v":0},{"$f":"Race0201!C$14","v":0},{"$f":"Race0201!F$14","v":5}]
[null,{"$f":"Race0201!B$5","v":"Senior"},{"$f":"Race0201!B$4","v":"OC6"},{"$f":"Race0201!E$5","v":"Men"},{"$f":"Race0201!D$5","v":"21 & Under"},{"$f":"Race0201!D$4","v":"Short Course"},{"$f":"Race0201!A$15","v":8},{"$f":"Race0201!D$15","v":0},{"$f":"Race0201!C$15","v":0},{"$f":"Race0201!F$15","v":4}]
[null,{"$f":"Race0201!B$5","v":"Senior"},{"$f":"Race0201!B$4","v":"OC6"},{"$f":"Race0201!E$5","v":"Men"},{"$f":"Race0201!D$5","v":"21 & Under"},{"$f":"Race0201!D$4","v":"Short Course"},{"$f":"Race0201!A$16","v":9},{"$f":"Race0201!D$16","v":0},{"$f":"Race0201!C$16","v":0},{"$f":"Race0201!F$16","v":3}]
[null,{"$f":"Race0201!B$5","v":"Senior"},{"$f":"Race0201!B$4","v":"OC6"},{"$f":"Race0201!E$5","v":"Men"},{"$f":"Race0201!D$5","v":"21 & Under"},{"$f":"Race0201!D$4","v":"Short Course"},{"$f":"Race0201!A$17","v":10},{"$f":"Race0201!D$17","v":0},{"$f":"Race0201!C$17","v":0},{"$f":"Race0201!F$17","v":2}]
[null,{"$f":"Race0201!B$5","v":"Senior"},{"$f":"Race0201!B$4","v":"OC6"},{"$f":"Race0201!E$5","v":"Men"},{"$f":"Race0201!D$5","v":"21 & Under"},{"$f":"Race0201!D$4","v":"Short Course"},{"$f":"Race0201!A$18","v":11},{"$f":"Race0201!D$18","v":0},{"$f":"Race0201!C$18","v":0},{"$f":"Race0201!F$18","v":1}]
[null,{"$f":"Race0201!B$5","v":"Senior"},{"$f":"Race0201!B$4","v":"OC6"},{"$f":"Race0201!E$5","v":"Men"},{"$f":"Race0201!D$5","v":"21 & Under"},{"$f":"Race0201!D$4","v":"Short Course"},{"$f":"Race0201!A$19","v":12},{"$f":"Race0201!D$19","v":0},{"$f":"Race0201!C$19","v":0},{"$f":"Race0201!F$19","v":1}]
[null,{"$f":"Race0201!B$5","v":"Senior"},{"$f":"Race0201!B$4","v":"OC6"},{"$f":"Race0201!E$5","v":"Men"},{"$f":"Race0201!D$5","v":"21 & Under"},{"$f":"Race0201!D$4","v":"Short Course"},{"$f":"Race0201!A$20","v":13},{"$f":"Race0201!D$20","v":0},{"$f":"Race0201!C$20","v":0},{"$f":"Race0201!F$20","v":1}]
[null,{"$f":"Race0201!B$5","v":"Senior"},{"$f":"Race0201!B$4","v":"OC6"},{"$f":"Race0201!E$5","v":"Men"},{"$f":"Race0201!D$5","v":"21 & Under"},{"$f":"Race0201!D$4","v":"Short Course"},{"$f":"Race0201!A$21","v":14},{"$f":"Race0201!D$21","v":0},{"$f":"Race0201!C$21","v":0},{"$f":"Race0201!F$21","v":1}]
[null,{"$f":"Race0201!B$5","v":"Senior"},{"$f":"Race0201!B$4","v":"OC6"},{"$f":"Race0201!E$5","v":"Men"},{"$f":"Race0201!D$5","v":"21 & Under"},{"$f":"Race0201!D$4","v":"Short Course"},{"$f":"Race0201!A$22","v":15},{"$f":"Race0201!D$22","v":0},{"$f":"Race0201!C$22","v":0},{"$f":"Race0201!F$22","v":1}]
[null,{"$f":"Race0201!B$5","v":"Senior"},{"$f":"Race0201!B$4","v":"OC6"},{"$f":"Race0201!E$5","v":"Men"},{"$f":"Race0201!D$5","v":"21 & Under"},{"$f":"Race0201!D$4","v":"Short Course"},{"$f":"Race0201!A$23","v":16},{"$f":"Race0201!D$23","v":0},{"$f":"Race0201!C$23","v":0},{"$f":"Race0201!F$23","v":1}]
[null,{"$f":"Race0201!B$5","v":"Senior"},{"$f":"Race0201!B$4","v":"OC6"},{"$f":"Race0201!E$5","v":"Men"},{"$f":"Race0201!D$5","v":"21 & Under"},{"$f":"Race0201!D$4","v":"Short Course"},{"$f":"Race0201!A$24","v":17},{"$f":"Race0201!D$24","v":0},{"$f":"Race0201!C$24","v":0},{"$f":"Race0201!F$24","v":1}]
[null,{"$f":"Race0201!B$5","v":"Senior"},{"$f":"Race0201!B$4","v":"OC6"},{"$f":"Race0201!E$5","v":"Men"},{"$f":"Race0201!D$5","v":"21 & Under"},{"$f":"Race0201!D$4","v":"Short Course"},{"$f":"Race0201!A$25","v":18},{"$f":"Race0201!D$25","v":0},{"$f":"Race0201!C$25","v":0},{"$f":"Race0201!F$25","v":1}]
[null,{"$f":"Race0201!B$5","v":"Senior"},{"$f":"Race0201!B$4","v":"OC6"},{"$f":"Race0201!E$5","v":"Men"},{"$f":"Race0201!D$5","v":"21 & Under"},{"$f":"Race0201!D$4","v":"Short Course"},{"$f":"Race0201!A$26","v":19},{"$f":"Race0201!D$26","v":0},{"$f":"Race0201!C$26","v":0},{"$f":"Race0201!F$26","v":1}]
[null,{"$f":"Race0201!B$5","v":"Senior"},{"$f":"Race0201!B$4","v":"OC6"},{"$f":"Race0201!E$5","v":"Men"},{"$f":"Race0201!D$5","v":"21 & Under"},{"$f":"Race0201!D$4","v":"Short Course"},{"$f":"Race0201!A$27","v":20},{"$f":"Race0201!D$27","v":0},{"$f":"Race0201!C$27","v":0},{"$f":"Race0201!F$27","v":1}]
[null,{"$f":"Race0201!B$5","v":"Senior"},{"$f":"Race0201!B$4","v":"OC6"},{"$f":"Race0201!E$5","v":"Men"},{"$f":"Race0201!D$5","v":"21 & Under"},{"$f":"Race0201!D$4","v":"Short Course"},{"$f":"Race0201!A$28","v":21},{"$f":"Race0201!D$28","v":0},{"$f":"Race0201!C$28","v":0},{"$f":"Race0201!F$28","v":1}]
[null,{"$f":"Race0201!B$5","v":"Senior"},{"$f":"Race0201!B$4","v":"OC6"},{"$f":"Race0201!E$5","v":"Men"},{"$f":"Race0201!D$5","v":"21 & Under"},{"$f":"Race0201!D$4","v":"Short Course"},{"$f":"Race0201!A$29","v":22},{"$f":"Race0201!D$29","v":0},{"$f":"Race0201!C$29","v":0},{"$f":"Race0201!F$29","v":1}]
[null,{"$f":"Race0201!B$5","v":"Senior"},{"$f":"Race0201!B$4","v":"OC6"},{"$f":"Race0201!E$5","v":"Men"},{"$f":"Race0201!D$5","v":"21 & Under"},{"$f":"Race0201!D$4","v":"Short Course"},{"$f":"Race0201!A$30","v":23},{"$f":"Race0201!D$30","v":0},{"$f":"Race0201!C$30","v":0},{"$f":"Race0201!F$30","v":1}]
[null,{"$f":"Race0201!B$5","v":"Senior"},{"$f":"Race0201!B$4","v":"OC6"},{"$f":"Race0201!E$5","v":"Men"},{"$f":"Race0201!D$5","v":"21 & Under"},{"$f":"Race0201!D$4","v":"Short Course"},{"$f":"Race0201!A$31","v":24},{"$f":"Race0201!D$31","v":0},{"$f":"Race0201!C$31","v":0},{"$f":"Race0201!F$31","v":1}]
[null,{"$f":"Race0201!B$5","v":"Senior"},{"$f":"Race0201!B$4","v":"OC6"},{"$f":"Race0201!E$5","v":"Men"},{"$f":"Race0201!D$5","v":"21 & Under"},{"$f":"Race0201!D$4","v":"Short Course"},{"$f":"Race0201!A$32","v":25},{"$f":"Race0201!D$32","v":0},{"$f":"Race0201!C$32","v":0},{"$f":"Race0201!F$32","v":1}]
[null,{"$f":"Race0201!B$5","v":"Senior"},{"$f":"Race0201!B$4","v":"OC6"},{"$f":"Race0201!E$5","v":"Men"},{"$f":"Race0201!D$5","v":"21 & Under"},{"$f":"Race0201!D$4","v":"Short Course"},{"$f":"Race0201!A$33","v":26},{"$f":"Race0201!D$33","v":0},{"$f":"Race0201!C$33","v":0},{"$f":"Race0201!F$33","v":1}]
[null,{"$f":"Race0201!B$5","v":"Senior"},{"$f":"Race0201!B$4","v":"OC6"},{"$f":"Race0201!E$5","v":"Men"},{"$f":"Race0201!D$5","v":"21 & Under"},{"$f":"Race0201!D$4","v":"Short Course"},{"$f":"Race0201!A$34","v":27},{"$f":"Race0201!D$34","v":0},{"$f":"Race0201!C$34","v":0},{"$f":"Race0201!F$34","v":1}]
[null,{"$f":"Race0201!B$5","v":"Senior"},{"$f":"Race0201!B$4","v":"OC6"},{"$f":"Race0201!E$5","v":"Men"},{"$f":"Race0201!D$5","v":"21 & Under"},{"$f":"Race0201!D$4","v":"Short Course"},{"$f":"Race0201!A$35","v":28},{"$f":"Race0201!D$35","v":0},{"$f":"Race0201!C$35","v":0},{"$f":"Race0201!F$35","v":1}]
[null,{"$f":"Race0201!B$5","v":"Senior"},{"$f":"Race0201!B$4","v":"OC6"},{"$f":"Race0201!E$5","v":"Men"},{"$f":"Race0201!D$5","v":"21 & Under"},{"$f":"Race0201!D$4","v":"Short Course"},{"$f":"Race0201!A$36","v":29},{"$f":"Race0201!D$36","v":0},{"$f":"Race0201!C$36","v":0},{"$f":"Race0201!F$36","v":1}]
[null,{"$f":"Race0201!B$5","v":"Senior"},{"$f":"Race0201!B$4","v":"OC6"},{"$f":"Race0201!E$5","v":"Men"},{"$f":"Race0201!D$5","v":"21 & Under"},{"$f":"Race0201!D$4","v":"Short Course"},{"$f":"Race0201!A$37","v":30},{"$f":"Race0201!D$37","v":0},{"$f":"Race0201!C$37","v":0},{"$f":"Race0201!F$37","v":1}]
[null,{"$f":"Race0201!B$5","v":"Senior"},{"$f":"Race0201!B$4","v":"OC6"},{"$f":"Race0201!E$5","v":"Men"},{"$f":"Race0201!D$5","v":"21 & Under"},{"$f":"Race0201!D$4","v":"Short Course"},{"$f":"Race0201!A$38","v":31},{"$f":"Race0201!D$38","v":0},{"$f":"Race0201!C$38","v":0},{"$f":"Race0201!F$38","v":1}]
[null,{"$f":"Race0201!B$5","v":"Senior"},{"$f":"Race0201!B$4","v":"OC6"},{"$f":"Race0201!E$5","v":"Men"},{"$f":"Race0201!D$5","v":"21 & Under"},{"$f":"Race0201!D$4","v":"Short Course"},{"$f":"Race0201!A$39","v":32},{"$f":"Race0201!D$39","v":0},{"$f":"Race0201!C$39","v":0},{"$f":"Race0201!F$39","v":1}]
[null,{"$f":"Race0201!B$5","v":"Senior"},{"$f":"Race0201!B$4","v":"OC6"},{"$f":"Race0201!E$5","v":"Men"},{"$f":"Race0201!D$5","v":"21 & Under"},{"$f":"Race0201!D$4","v":"Short Course"},{"$f":"Race0201!A$40","v":33},{"$f":"Race0201!D$40","v":0},{"$f":"Race0201!C$40","v":0},{"$f":"Race0201!F$40","v":1}]
[null,{"$f":"Race0201!B$5","v":"Senior"},{"$f":"Race0201!B$4","v":"OC6"},{"$f":"Race0201!E$5","v":"Men"},{"$f":"Race0201!D$5","v":"21 & Under"},{"$f":"Race0201!D$4","v":"Short Course"},{"$f":"Race0201!A$41","v":34},{"$f":"Race0201!D$41","v":0},{"$f":"Race0201!C$41","v":0},{"$f":"Race0201!F$41","v":1}]
[null,{"$f":"Race0201!B$5","v":"Senior"},{"$f":"Race0201!B$4","v":"OC6"},{"$f":"Race0201!E$5","v":"Men"},{"$f":"Race0201!D$5","v":"21 & Under"},{"$f":"Race0201!D$4","v":"Short Course"},{"$f":"Race0201!A$42","v":35},{"$f":"Race0201!D$42","v":0},{"$f":"Race0201!C$42","v":0},{"$f":"Race0201!F$42","v":1}]
[null,{"$f":"Race0201!B$5","v":"Senior"},{"$f":"Race0201!B$4","v":"OC6"},{"$f":"Race0201!E$5","v":"Men"},{"$f":"Race0201!D$5","v":"21 & Under"},{"$f":"Race0201!D$4","v":"Short Course"},{"$f":"Race0201!A$43","v":36},{"$f":"Race0201!D$43","v":0},{"$f":"Race0201!C$43","v":0},{"$f":"Race0201!F$43","v":1}]
[null,{"$f":"Race0201!B$5","v":"Senior"},{"$f":"Race0201!B$4","v":"OC6"},{"$f":"Race0201!E$5","v":"Men"},{"$f":"Race0201!D$5","v":"21 & Under"},{"$f":"Race0201!D$4","v":"Short Course"},{"$f":"Race0201!A$44","v":37},{"$f":"Race0201!D$44","v":0},{"$f":"Race0201!C$44","v":0},{"$f":"Race0201!F$44","v":1}]
[null,{"$f":"Race0201!B$5","v":"Senior"},{"$f":"Race0201!B$4","v":"OC6"},{"$f":"Race0201!E$5","v":"Men"},{"$f":"Race0201!D$5","v":"21 & Under"},{"$f":"Race0201!D$4","v":"Short Course"},{"$f":"Race0201!A$45","v":38},{"$f":"Race0201!D$45","v":0},{"$f":"Race0201!C$45","v":0},{"$f":"Race0201!F$45","v":1}]
[null,{"$f":"Race0201!B$5","v":"Senior"},{"$f":"Race0201!B$4","v":"OC6"},{"$f":"Race0201!E$5","v":"Men"},{"$f":"Race0201!D$5","v":"21 & Under"},{"$f":"Race0201!D$4","v":"Short Course"},{"$f":"Race0201!A$46","v":39},{"$f":"Race0201!D$46","v":0},{"$f":"Race0201!C$46","v":0},{"$f":"Race0201!F$46","v":1}]
[null,{"$f":"Race0201!B$5","v":"Senior"},{"$f":"Race0201!B$4","v":"OC6"},{"$f":"Race0201!E$5","v":"Men"},{"$f":"Race0201!D$5","v":"21 & Under"},{"$f":"Race0201!D$4","v":"Short Course"},{"$f":"Race0201!A$47","v":40},{"$f":"Race0201!D$47","v":0},{"$f":"Race0201!C$47","v":0},{"$f":"Race0201!F$47","v":1}]
[null,{"$f":"Race0201!B$5","v":"Senior"},{"$f":"Race0201!B$4","v":"OC6"},{"$f":"Race0201!E$5","v":"Men"},{"$f":"Race0201!D$5","v":"21 & Under"},{"$f":"Race0201!D$4","v":"Short Course"},{"$f":"Race0201!A$48","v":41},{"$f":"Race0201!D$48","v":0},{"$f":"Race0201!C$48","v":0},{"$f":"Race0201!F$48","v":1}]
[null,{"$f":"Race0201!B$5","v":"Senior"},{"$f":"Race0201!B$4","v":"OC6"},{"$f":"Race0201!E$5","v":"Men"},{"$f":"Race0201!D$5","v":"21 & Under"},{"$f":"Race0201!D$4","v":"Short Course"},{"$f":"Race0201!A$49","v":42},{"$f":"Race0201!D$49","v":0},{"$f":"Race0201!C$49","v":0},{"$f":"Race0201!F$49","v":1}]
[null,{"$f":"Race0201!B$5","v":"Senior"},{"$f":"Race0201!B$4","v":"OC6"},{"$f":"Race0201!E$5","v":"Men"},{"$f":"Race0201!D$5","v":"21 & Under"},{"$f":"Race0201!D$4","v":"Short Course"},{"$f":"Race0201!A$50","v":43},{"$f":"Race0201!D$50","v":0},{"$f":"Race0201!C$50","v":0},{"$f":"Race0201!F$50","v":1}]
[null,{"$f":"Race0201!B$5","v":"Senior"},{"$f":"Race0201!B$4","v":"OC6"},{"$f":"Race0201!E$5","v":"Men"},{"$f":"Race0201!D$5","v":"21 & Under"},{"$f":"Race0201!D$4","v":"Short Course"},{"$f":"Race0201!A$51","v":44},{"$f":"Race0201!D$51","v":0},{"$f":"Race0201!C$51","v":0},{"$f":"Race0201!F$51","v":1}]
[null,{"$f":"Race0201!B$5","v":"Senior"},{"$f":"Race0201!B$4","v":"OC6"},{"$f":"Race0201!E$5","v":"Men"},{"$f":"Race0201!D$5","v":"21 & Under"},{"$f":"Race0201!D$4","v":"Short Course"},{"$f":"Race0201!A$52","v":45},{"$f":"Race0201!D$52","v":0},{"$f":"Race0201!C$52","v":0},{"$f":"Race0201!F$52","v":1}]
[null,{"$f":"Race0201!B$5","v":"Senior"},{"$f":"Race0201!B$4","v":"OC6"},{"$f":"Race0201!E$5","v":"Men"},{"$f":"Race0201!D$5","v":"21 & Under"},{"$f":"Race0201!D$4","v":"Short Course"},{"$f":"Race0201!A$53","v":46},{"$f":"Race0201!D$53","v":0},{"$f":"Race0201!C$53","v":0},{"$f":"Race0201!F$53","v":1}]
[null,{"$f":"Race0201!B$5","v":"Senior"},{"$f":"Race0201!B$4","v":"OC6"},{"$f":"Race0201!E$5","v":"Men"},{"$f":"Race0201!D$5","v":"21 & Under"},{"$f":"Race0201!D$4","v":"Short Course"},{"$f":"Race0201!A$54","v":47},{"$f":"Race0201!D$54","v":0},{"$f":"Race0201!C$54","v":0},{"$f":"Race0201!F$54","v":1}]
[null,{"$f":"Race0201!B$5","v":"Senior"},{"$f":"Race0201!B$4","v":"OC6"},{"$f":"Race0201!E$5","v":"Men"},{"$f":"Race0201!D$5","v":"21 & Under"},{"$f":"Race0201!D$4","v":"Short Course"},{"$f":"Race0201!A$55","v":48},{"$f":"Race0201!D$55","v":0},{"$f":"Race0201!C$55","v":0},{"$f":"Race0201!F$55","v":1}]
[null,{"$f":"Race0201!B$5","v":"Senior"},{"$f":"Race0201!B$4","v":"OC6"},{"$f":"Race0201!E$5","v":"Men"},{"$f":"Race0201!D$5","v":"21 & Under"},{"$f":"Race0201!D$4","v":"Short Course"},{"$f":"Race0201!A$56","v":49},{"$f":"Race0201!D$56","v":0},{"$f":"Race0201!C$56","v":0},{"$f":"Race0201!F$56","v":1}]
[null,{"$f":"Race0201!B$5","v":"Senior"},{"$f":"Race0201!B$4","v":"OC6"},{"$f":"Race0201!E$5","v":"Men"},{"$f":"Race0201!D$5","v":"21 & Under"},{"$f":"Race0201!D$4","v":"Short Course"},{"$f":"Race0201!A$57","v":50},{"$f":"Race0201!D$57","v":0},{"$f":"Race0201!C$57","v":0},{"$f":"Race0201!F$57","v":1}]
["Race0202",{"$f":"Race0202!B$5","v":"Senior"},{"$f":"Race0202!B$4","v":"OC6"},{"$f":"Race0202!E$5","v":"Men"},{"$f":"Race0202!D$5","v":"Open"},{"$f":"Race0202!D$4","v":"Short Course"},{"$f":"Race0202!A$8","v":1},{"$f":"Race0202!D$8","v":0},{"$f":"Race0202!C$8","v":0},{"$f":"Race0202!F$8","v":14}]
[null,{"$f":"Race0202!B$5","v":"Senior"},{"$f":"Race0202!B$4","v":"OC6"},{"$f":"Race0202!E$5","v":"Men"},{"$f":"Race0202!D$5","v":"Open"},{"$f":"Race0202!D$4","v":"Short Course"},{"$f":"Race0202!A$9","v":2},{"$f":"Race0202!D$9","v":0},{"$f":"Race0202!C$9","v":0},{"$f":"Race0202!F$9","v":12}]
[null,{"$f":"Race0202!B$5","v":"Senior"},{"$f":"Race0202!B$4","v":"OC6"},{"$f":"Race0202!E$5","v":"Men"},{"$f":"Race0202!D$5","v":"Open"},{"$f":"Race0202!D$4","v":"Short Course"},{"$f":"Race0202!A$10","v":3},{"$f":"Race0202!D$10","v":0},{"$f":"Race0202!C$10","v":0},{"$f":"Race0202!F$10","v":10}]
[null,{"$f":"Race0202!B$5","v":"Senior"},{"$f":"Race0202!B$4","v":"OC6"},{"$f":"Race0202!E$5","v":"Men"},{"$f":"Race0202!D$5","v":"Open"},{"$f":"Race0202!D$4","v":"Short Course"},{"$f":"Race0202!A$11","v":4},{"$f":"Race0202!D$11","v":0},{"$f":"Race0202!C$11","v":0},{"$f":"Race0202!F$11","v":8}]
[null,{"$f":"Race0202!B$5","v":"Senior"},{"$f":"Race0202!B$4","v":"OC6"},{"$f":"Race0202!E$5","v":"Men"},{"$f":"Race0202!D$5","v":"Open"},{"$f":"Race0202!D$4","v":"Short Course"},{"$f":"Race0202!A$12","v":5},{"$f":"Race0202!D$12","v":0},{"$f":"Race0202!C$12","v":0},{"$f":"Race0202!F$12","v":7}]
[null,{"$f":"Race0202!B$5","v":"Senior"},{"$f":"Race0202!B$4","v":"OC6"},{"$f":"Race0202!E$5","v":"Men"},{"$f":"Race0202!D$5","v":"Open"},{"$f":"Race0202!D$4","v":"Short Course"},{"$f":"Race0202!A$13","v":6},{"$f":"Race0202!D$13","v":0},{"$f":"Race0202!C$13","v":0},{"$f":"Race0202!F$13","v":6}]
[null,{"$f":"Race0202!B$5","v":"Senior"},{"$f":"Race0202!B$4","v":"OC6"},{"$f":"Race0202!E$5","v":"Men"},{"$f":"Race0202!D$5","v":"Open"},{"$f":"Race0202!D$4","v":"Short Course"},{"$f":"Race0202!A$14","v":7},{"$f":"Race0202!D$14","v":0},{"$f":"Race0202!C$14","v":0},{"$f":"Race0202!F$14","v":5}]
[null,{"$f":"Race0202!B$5","v":"Senior"},{"$f":"Race0202!B$4","v":"OC6"},{"$f":"Race0202!E$5","v":"Men"},{"$f":"Race0202!D$5","v":"Open"},{"$f":"Race0202!D$4","v":"Short Course"},{"$f":"Race0202!A$15","v":8},{"$f":"Race0202!D$15","v":0},{"$f":"Race0202!C$15","v":0},{"$f":"Race0202!F$15","v":4}]
[null,{"$f":"Race0202!B$5","v":"Senior"},{"$f":"Race0202!B$4","v":"OC6"},{"$f":"Race0202!E$5","v":"Men"},{"$f":"Race0202!D$5","v":"Open"},{"$f":"Race0202!D$4","v":"Short Course"},{"$f":"Race0202!A$16","v":9},{"$f":"Race0202!D$16","v":0},{"$f":"Race0202!C$16","v":0},{"$f":"Race0202!F$16","v":3}]
[null,{"$f":"Race0202!B$5","v":"Senior"},{"$f":"Race0202!B$4","v":"OC6"},{"$f":"Race0202!E$5","v":"Men"},{"$f":"Race0202!D$5","v":"Open"},{"$f":"Race0202!D$4","v":"Short Course"},{"$f":"Race0202!A$17","v":10},{"$f":"Race0202!D$17","v":0},{"$f":"Race0202!C$17","v":0},{"$f":"Race0202!F$17","v":2}]
[null,{"$f":"Race0202!B$5","v":"Senior"},{"$f":"Race0202!B$4","v":"OC6"},{"$f":"Race0202!E$5","v":"Men"},{"$f":"Race0202!D$5","v":"Open"},{"$f":"Race0202!D$4","v":"Short Course"},{"$f":"Race0202!A$18","v":11},{"$f":"Race0202!D$18","v":0},{"$f":"Race0202!C$18","v":0},{"$f":"Race0202!F$18","v":1}]
[null,{"$f":"Race0202!B$5","v":"Senior"},{"$f":"Race0202!B$4","v":"OC6"},{"$f":"Race0202!E$5","v":"Men"},{"$f":"Race0202!D$5","v":"Open"},{"$f":"Race0202!D$4","v":"Short Course"},{"$f":"Race0202!A$19","v":12},{"$f":"Race0202!D$19","v":0},{"$f":"Race0202!C$19","v":0},{"$f":"Race0202!F$19","v":1}]
[null,{"$f":"Race0202!B$5","v":"Senior"},{"$f":"Race0202!B$4","v":"OC6"},{"$f":"Race0202!E$5","v":"Men"},{"$f":"Race0202!D$5","v":"Open"},{"$f":"Race0202!D$4","v":"Short Course"},{"$f":"Race0202!A$20","v":13},{"$f":"Race0202!D$20","v":0},{"$f":"Race0202!C$20","v":0},{"$f":"Race0202!F$20","v":1}]
[null,{"$f":"Race0202!B$5","v":"Senior"},{"$f":"Race0202!B$4","v":"OC6"},{"$f":"Race0202!E$5","v":"Men"},{"$f":"Race0202!D$5","v":"Open"},{"$f":"Race0202!D$4","v":"Short Course"},{"$f":"Race0202!A$21","v":14},{"$f":"Race0202!D$21","v":0},{"$f":"Race0202!C$21","v":0},{"$f":"Race0202!F$21","v":1}]
[null,{"$f":"Race0202!B$5","v":"Senior"},{"$f":"Race0202!B$4","v":"OC6"},{"$f":"Race0202!E$5","v":"Men"},{"$f":"Race0202!D$5","v":"Open"},{"$f":"Race0202!D$4","v":"Short Course"},{"$f":"Race0202!A$22","v":15},{"$f":"Race0202!D$22","v":0},{"$f":"Race0202!C$22","v":0},{"$f":"Race0202!F$22","v":1}]
[null,{"$f":"Race0202!B$5","v":"Senior"},{"$f":"Race0202!B$4","v":"OC6"},{"$f":"Race0202!E$5","v":"Men"},{"$f":"Race0202!D$5","v":"Open"},{"$f":"Race0202!D$4","v":"Short Course"},{"$f":"Race0202!A$23","v":16},{"$f":"Race0202!D$23","v":0},{"$f":"Race0202!C$23","v":0},{"$f":"Race0202!F$23","v":1}]
[null,{"$f":"Race0202!B$5","v":"Senior"},{"$f":"Race0202!B$4","v":"OC6"},{"$f":"Race0202!E$5","v":"Men"},{"$f":"Race0202!D$5","v":"Open"},{"$f":"Race0202!D$4","v":"Short Course"},{"$f":"Race0202!A$24","v":17},{"$f":"Race0202!D$24","v":0},{"$f":"Race0202!C$24","v":0},{"$f":"Race0202!F$24","v":1}]
[null,{"$f":"Race0202!B$5","v":"Senior"},{"$f":"Race0202!B$4","v":"OC6"},{"$f":"Race0202!E$5","v":"Men"},{"$f":"Race0202!D$5","v":"Open"},{"$f":"Race0202!D$4","v":"Short Course"},{"$f":"Race0202!A$25","v":18},{"$f":"Race0202!D$25","v":0},{"$f":"Race0202!C$25","v":0},{"$f":"Race0202!F$25","v":1}]
[null,{"$f":"Race0202!B$5","v":"Senior"},{"$f":"Race0202!B$4","v":"OC6"},{"$f":"Race0202!E$5","v":"Men"},{"$f":"Race0202!D$5","v":"Open"},{"$f":"Race0202!D$4","v":"Short Course"},{"$f":"Race0202!A$26","v":19},{"$f":"Race0202!D$26","v":0},{"$f":"Race0202!C$26","v":0},{"$f":"Race0202!F$26","v":1}]
[null,{"$f":"Race0202!B$5","v":"Senior"},{"$f":"Race0202!B$4","v":"OC6"},{"$f":"Race0202!E$5","v":"Men"},{"$f":"Race0202!D$5","v":"Open"},{"$f":"Race0202!D$4","v":"Short Course"},{"$f":"Race0202!A$27","v":20},{"$f":"Race0202!D$27","v":0},{"$f":"Race0202!C$27","v":0},{"$f":"Race0202!F$27","v":1}]
[null,{"$f":"Race0202!B$5","v":"Senior"},{"$f":"Race0202!B$4","v":"OC6"},{"$f":"Race0202!E$5","v":"Men"},{"$f":"Race0202!D$5","v":"Open"},{"$f":"Race0202!D$4","v":"Short Course"},{"$f":"Race0202!A$28","v":21},{"$f":"Race0202!D$28","v":0},{"$f":"Race0202!C$28","v":0},{"$f":"Race0202!F$28","v":1}]
[null,{"$f":"Race0202!B$5","v":"Senior"},{"$f":"Race0202!B$4","v":"OC6"},{"$f":"Race0202!E$5","v":"Men"},{"$f":"Race0202!D$5","v":"Open"},{"$f":"Race0202!D$4","v":"Short Course"},{"$f":"Race0202!A$29","v":22},{"$f":"Race0202!D$29","v":0},{"$f":"Race0202!C$29","v":0},{"$f":"Race0202!F$29","v":1}]
[null,{"$f":"Race0202!B$5","v":"Senior"},{"$f":"Race0202!B$4","v":"OC6"},{"$f":"Race0202!E$5","v":"Men"},{"$f":"Race0202!D$5","v":"Open"},{"$f":"Race0202!D$4","v":"Short Course"},{"$f":"Race0202!A$30","v":23},{"$f":"Race0202!D$30","v":0},{"$f":"Race0202!C$30","v":0},{"$f":"Race0202!F$30","v":1}]
[null,{"$f":"Race0202!B$5","v":"Senior"},{"$f":"Race0202!B$4","v":"OC6"},{"$f":"Race0202!E$5","v":"Men"},{"$f":"Race0202!D$5","v":"Open"},{"$f":"Race0202!D$4","v":"Short Course"},{"$f":"Race0202!A$31","v":24},{"$f":"Race0202!D$31","v":0},{"$f":"Race0202!C$31","v":0},{"$f":"Race0202!F$31","v":1}]
[null,{"$f":"Race0202!B$5","v":"Senior"},{"$f":"Race0202!B$4","v":"OC6"},{"$f":"Race0202!E$5","v":"Men"},{"$f":"Race0202!D$5","v":"Open"},{"$f":"Race0202!D$4","v":"Short Course"},{"$f":"Race0202!A$32","v":25},{"$f":"Race0202!D$32","v":0},{"$f":"Race0202!C$32","v":0},{"$f":"Race0202!F$32","v":1}]
[null,{"$f":"Race0202!B$5","v":"Senior"},{"$f":"Race0202!B$4","v":"OC6"},{"$f":"Race0202!E$5","v":"Men"},{"$f":"Race0202!D$5","v":"Open"},{"$f":"Race0202!D$4","v":"Short Course"},{"$f":"Race0202!A$33","v":26},{"$f":"Race0202!D$33","v":0},{"$f":"Race0202!C$33","v":0},{"$f":"Race0202!F$33","v":1}]
[null,{"$f":"Race0202!B$5","v":"Senior"},{"$f":"Race0202!B$4","v":"OC6"},{"$f":"Race0202!E$5","v":"Men"},{"$f":"Race0202!D$5","v":"Open"},{"$f":"Race0202!D$4","v":"Short Course"},{"$f":"Race0202!A$34","v":27},{"$f":"Race0202!D$34","v":0},{"$f":"Race0202!C$34","v":0},{"$f":"Race0202!F$34","v":1}]
[null,{"$f":"Race0202!B$5","v":"Senior"},{"$f":"Race0202!B$4","v":"OC6"},{"$f":"Race0202!E$5","v":"Men"},{"$f":"Race0202!D$5","v":"Open"},{"$f":"Race0202!D$4","v":"Short Course"},{"$f":"Race0202!A$35","v":28},{"$f":"Race0202!D$35","v":0},{"$f":"Race0202!C$35","v":0},{"$f":"Race0202!F$35","v":1}]
[null,{"$f":"Race0202!B$5","v":"Senior"},{"$f":"Race0202!B$4","v":"OC6"},{"$f":"Race0202!E$5","v":"Men"},{"$f":"Race0202!D$5","v":"Open"},{"$f":"Race0202!D$4","v":"Short Course"},{"$f":"Race0202!A$36","v":29},{"$f":"Race0202!D$36","v":0},{"$f":"Race0202!C$36","v":0},{"$f":"Race0202!F$36","v":1}]
[null,{"$f":"Race0202!B$5","v":"Senior"},{"$f":"Race0202!B$4","v":"OC6"},{"$f":"Race0202!E$5","v":"Men"},{"$f":"Race0202!D$5","v":"Open"},{"$f":"Race0202!D$4","v":"Short Course"},{"$f":"Race0202!A$37","v":30},{"$f":"Race0202!D$37","v":0},{"$f":"Race0202!C$37","v":0},{"$f":"Race0202!F$37","v":1}]
[null,{"$f":"Race0202!B$5","v":"Senior"},{"$f":"Race0202!B$4","v":"OC6"},{"$f":"Race0202!E$5","v":"Men"},{"$f":"Race0202!D$5","v":"Open"},{"$f":"Race0202!D$4","v":"Short Course"},{"$f":"Race0202!A$38","v":31},{"$f":"Race0202!D$38","v":0},{"$f":"Race0202!C$38","v":0},{"$f":"Race0202!F$38","v":1}]
[null,{"$f":"Race0202!B$5","v":"Senior"},{"$f":"Race0202!B$4","v":"OC6"},{"$f":"Race0202!E$5","v":"Men"},{"$f":"Race0202!D$5","v":"Open"},{"$f":"Race0202!D$4","v":"Short Course"},{"$f":"Race0202!A$39","v":32},{"$f":"Race0202!D$39","v":0},{"$f":"Race0202!C$39","v":0},{"$f":"Race0202!F$39","v":1}]
[null,{"$f":"Race0202!B$5","v":"Senior"},{"$f":"Race0202!B$4","v":"OC6"},{"$f":"Race0202!E$5","v":"Men"},{"$f":"Race0202!D$5","v":"Open"},{"$f":"Race0202!D$4","v":"Short Course"},{"$f":"Race0202!A$40","v":33},{"$f":"Race0202!D$40","v":0},{"$f":"Race0202!C$40","v":0},{"$f":"Race0202!F$40","v":1}]
[null,{"$f":"Race0202!B$5","v":"Senior"},{"$f":"Race0202!B$4","v":"OC6"},{"$f":"Race0202!E$5","v":"Men"},{"$f":"Race0202!D$5","v":"Open"},{"$f":"Race0202!D$4","v":"Short Course"},{"$f":"Race0202!A$41","v":34},{"$f":"Race0202!D$41","v":0},{"$f":"Race0202!C$41","v":0},{"$f":"Race0202!F$41","v":1}]
[null,{"$f":"Race0202!B$5","v":"Senior"},{"$f":"Race0202!B$4","v":"OC6"},{"$f":"Race0202!E$5","v":"Men"},{"$f":"Race0202!D$5","v":"Open"},{"$f":"Race0202!D$4","v":"Short Course"},{"$f":"Race0202!A$42","v":35},{"$f":"Race0202!D$42","v":0},{"$f":"Race0202!C$42","v":0},{"$f":"Race0202!F$42","v":1}]
[null,{"$f":"Race0202!B$5","v":"Senior"},{"$f":"Race0202!B$4","v":"OC6"},{"$f":"Race0202!E$5","v":"Men"},{"$f":"Race0202!D$5","v":"Open"},{"$f":"Race0202!D$4","v":"Short Course"},{"$f":"Race0202!A$43","v":36},{"$f":"Race0202!D$43","v":0},{"$f":"Race0202!C$43","v":0},{"$f":"Race0202!F$43","v":1}]
[null,{"$f":"Race0202!B$5","v":"Senior"},{"$f":"Race0202!B$4","v":"OC6"},{"$f":"Race0202!E$5","v":"Men"},{"$f":"Race0202!D$5","v":"Open"},{"$f":"Race0202!D$4","v":"Short Course"},{"$f":"Race0202!A$44","v":37},{"$f":"Race0202!D$44","v":0},{"$f":"Race0202!C$44","v":0},{"$f":"Race0202!F$44","v":1}]
[null,{"$f":"Race0202!B$5","v":"Senior"},{"$f":"Race0202!B$4","v":"OC6"},{"$f":"Race0202!E$5","v":"Men"},{"$f":"Race0202!D$5","v":"Open"},{"$f":"Race0202!D$4","v":"Short Course"},{"$f":"Race0202!A$45","v":38},{"$f":"Race0202!D$45","v":0},{"$f":"Race0202!C$45","v":0},{"$f":"Race0202!F$45","v":1}]
[null,{"$f":"Race0202!B$5","v":"Senior"},{"$f":"Race0202!B$4","v":"OC6"},{"$f":"Race0202!E$5","v":"Men"},{"$f":"Race0202!D$5","v":"Open"},{"$f":"Race0202!D$4","v":"Short Course"},{"$f":"Race0202!A$46","v":39},{"$f":"Race0202!D$46","v":0},{"$f":"Race0202!C$46","v":0},{"$f":"Race0202!F$46","v":1}]
[null,{"$f":"Race0202!B$5","v":"Senior"},{"$f":"Race0202!B$4","v":"OC6"},{"$f":"Race0202!E$5","v":"Men"},{"$f":"Race0202!D$5","v":"Open"},{"$f":"Race0202!D$4","v":"Short Course"},{"$f":"Race0202!A$47","v":40},{"$f":"Race0202!D$47","v":0},{"$f":"Race0202!C$47","v":0},{"$f":"Race0202!F$47","v":1}]
[null,{"$f":"Race0202!B$5","v":"Senior"},{"$f":"Race0202!B$4","v":"OC6"},{"$f":"Race0202!E$5","v":"Men"},{"$f":"Race0202!D$5","v":"Open"},{"$f":"Race0202!D$4","v":"Short Course"},{"$f":"Race0202!A$48","v":41},{"$f":"Race0202!D$48","v":0},{"$f":"Race0202!C$48","v":0},{"$f":"Race0202!F$48","v":1}]
[null,{"$f":"Race0202!B$5","v":"Senior"},{"$f":"Race0202!B$4","v":"OC6"},{"$f":"Race0202!E$5","v":"Men"},{"$f":"Race0202!D$5","v":"Open"},{"$f":"Race0202!D$4","v":"Short Course"},{"$f":"Race0202!A$49","v":42},{"$f":"Race0202!D$49","v":0},{"$f":"Race0202!C$49","v":0},{"$f":"Race0202!F$49","v":1}]
[null,{"$f":"Race0202!B$5","v":"Senior"},{"$f":"Race0202!B$4","v":"OC6"},{"$f":"Race0202!E$5","v":"Men"},{"$f":"Race0202!D$5","v":"Open"},{"$f":"Race0202!D$4","v":"Short Course"},{"$f":"Race0202!A$50","v":43},{"$f":"Race0202!D$50","v":0},{"$f":"Race0202!C$50","v":0},{"$f":"Race0202!F$50","v":1}]
[null,{"$f":"Race0202!B$5","v":"Senior"},{"$f":"Race0202!B$4","v":"OC6"},{"$f":"Race0202!E$5","v":"Men"},{"$f":"Race0202!D$5","v":"Open"},{"$f":"Race0202!D$4","v":"Short Course"},{"$f":"Race0202!A$51","v":44},{"$f":"Race0202!D$51","v":0},{"$f":"Race0202!C$51","v":0},{"$f":"Race0202!F$51","v":1}]
[null,{"$f":"Race0202!B$5","v":"Senior"},{"$f":"Race0202!B$4","v":"OC6"},{"$f":"Race0202!E$5","v":"Men"},{"$f":"Race0202!D$5","v":"Open"},{"$f":"Race0202!D$4","v":"Short Course"},{"$f":"Race0202!A$52","v":45},{"$f":"Race0202!D$52","v":0},{"$f":"Race0202!C$52","v":0},{"$f":"Race0202!F$52","v":1}]
[null,{"$f":"Race0202!B$5","v":"Senior"},{"$f":"Race0202!B$4","v":"OC6"},{"$f":"Race0202!E$5","v":"Men"},{"$f":"Race0202!D$5","v":"Open"},{"$f":"Race0202!D$4","v":"Short Course"},{"$f":"Race0202!A$53","v":46},{"$f":"Race0202!D$53","v":0},{"$f":"Race0202!C$53","v":0},{"$f":"Race0202!F$53","v":1}]
[null,{"$f":"Race0202!B$5","v":"Senior"},{"$f":"Race0202!B$4","v":"OC6"},{"$f":"Race0202!E$5","v":"Men"},{"$f":"Race0202!D$5","v":"Open"},{"$f":"Race0202!D$4","v":"Short Course"},{"$f":"Race0202!A$54","v":47},{"$f":"Race0202!D$54","v":0},{"$f":"Race0202!C$54","v":0},{"$f":"Race0202!F$54","v":1}]
[null,{"$f":"Race0202!B$5","v":"Senior"},{"$f":"Race0202!B$4","v":"OC6"},{"$f":"Race0202!E$5","v":"Men"},{"$f":"Race0202!D$5","v":"Open"},{"$f":"Race0202!D$4","v":"Short Course"},{"$f":"Race0202!A$55","v":48},{"$f":"Race0202!D$55","v":0},{"$f":"Race0202!C$55","v":0},{"$f":"Race0202!F$55","v":1}]
[null,{"$f":"Race0202!B$5","v":"Senior"},{"$f":"Race0202!B$4","v":"OC6"},{"$f":"Race0202!E$5","v":"Men"},{"$f":"Race0202!D$5","v":"Open"},{"$f":"Race0202!D$4","v":"Short Course"},{"$f":"Race0202!A$56","v":49},{"$f":"Race0202!D$56","v":0},{"$f":"Race0202!C$56","v":0},{"$f":"Race0202!F$56","v":1}]
[null,{"$f":"Race0202!B$5","v":"Senior"},{"$f":"Race0202!B$4","v":"OC6"},{"$f":"Race0202!E$5","v":"Men"},{"$f":"Race0202!D$5","v":"Open"},{"$f":"Race0202!D$4","v":"Short Course"},{"$f":"Race0202!A$57","v":50},{"$f":"Race0202!D$57","v":0},{"$f":"Race0202!C$57","v":0},{"$f":"Race0202!F$57","v":1}]
["Race0203",{"$f":"Race0203!B$5","v":"Senior"},{"$f":"Race0203!B$4","v":"OC6"},{"$f":"Race0203!E$5","v":"Men"},{"$f":"Race0203!D$5","v":"Masters"},{"$f":"Race0203!D$4","v":"Short Course"},{"$f":"Race0203!A$8","v":1},{"$f":"Race0203!D$8","v":0},{"$f":"Race0203!C$8","v":0},{"$f":"Race0203!F$8","v":14}]
[null,{"$f":"Race0203!B$5","v":"Senior"},{"$f":"Race0203!B$4","v":"OC6"},{"$f":"Race0203!E$5","v":"Men"},{"$f":"Race0203!D$5","v":"Masters"},{"$f":"Race0203!D$4","v":"Short Course"},{"$f":"Race0203!A$9","v":2},{"$f":"Race0203!D$9","v":0},{"$f":"Race0203!C$9","v":0},{"$f":"Race0203!F$9","v":12}]
[null,{"$f":"Race0203!B$5","v":"Senior"},{"$f":"Race0203!B$4","v":"OC6"},{"$f":"Race0203!E$5","v":"Men"},{"$f":"Race0203!D$5","v":"Masters"},{"$f":"Race0203!D$4","v":"Short Course"},{"$f":"Race0203!A$10","v":3},{"$f":"Race0203!D$10","v":0},{"$f":"Race0203!C$10","v":0},{"$f":"Race0203!F$10","v":10}]
[null,{"$f":"Race0203!B$5","v":"Senior"},{"$f":"Race0203!B$4","v":"OC6"},{"$f":"Race0203!E$5","v":"Men"},{"$f":"Race0203!D$5","v":"Masters"},{"$f":"Race0203!D$4","v":"Short Course"},{"$f":"Race0203!A$11","v":4},{"$f":"Race0203!D$11","v":0},{"$f":"Race0203!C$11","v":0},{"$f":"Race0203!F$11","v":8}]
[null,{"$f":"Race0203!B$5","v":"Senior"},{"$f":"Race0203!B$4","v":"OC6"},{"$f":"Race0203!E$5","v":"Men"},{"$f":"Race0203!D$5","v":"Masters"},{"$f":"Race0203!D$4","v":"Short Course"},{"$f":"Race0203!A$12","v":5},{"$f":"Race0203!D$12","v":0},{"$f":"Race0203!C$12","v":0},{"$f":"Race0203!F$12","v":7}]
[null,{"$f":"Race0203!B$5","v":"Senior"},{"$f":"Race0203!B$4","v":"OC6"},{"$f":"Race0203!E$5","v":"Men"},{"$f":"Race0203!D$5","v":"Masters"},{"$f":"Race0203!D$4","v":"Short Course"},{"$f":"Race0203!A$13","v":6},{"$f":"Race0203!D$13","v":0},{"$f":"Race0203!C$13","v":0},{"$f":"Race0203!F$13","v":6}]
[null,{"$f":"Race0203!B$5","v":"Senior"},{"$f":"Race0203!B$4","v":"OC6"},{"$f":"Race0203!E$5","v":"Men"},{"$f":"Race0203!D$5","v":"Masters"},{"$f":"Race0203!D$4","v":"Short Course"},{"$f":"Race0203!A$14","v":7},{"$f":"Race0203!D$14","v":0},{"$f":"Race0203!C$14","v":0},{"$f":"Race0203!F$14","v":5}]
[null,{"$f":"Race0203!B$5","v":"Senior"},{"$f":"Race0203!B$4","v":"OC6"},{"$f":"Race0203!E$5","v":"Men"},{"$f":"Race0203!D$5","v":"Masters"},{"$f":"Race0203!D$4","v":"Short Course"},{"$f":"Race0203!A$15","v":8},{"$f":"Race0203!D$15","v":0},{"$f":"Race0203!C$15","v":0},{"$f":"Race0203!F$15","v":4}]
[null,{"$f":"Race0203!B$5","v":"Senior"},{"$f":"Race0203!B$4","v":"OC6"},{"$f":"Race0203!E$5","v":"Men"},{"$f":"Race0203!D$5","v":"Masters"},{"$f":"Race0203!D$4","v":"Short Course"},{"$f":"Race0203!A$16","v":9},{"$f":"Race0203!D$16","v":0},{"$f":"Race0203!C$16","v":0},{"$f":"Race0203!F$16","v":3}]
[null,{"$f":"Race0203!B$5","v":"Senior"},{"$f":"Race0203!B$4","v":"OC6"},{"$f":"Race0203!E$5","v":"Men"},{"$f":"Race0203!D$5","v":"Masters"},{"$f":"Race0203!D$4","v":"Short Course"},{"$f":"Race0203!A$17","v":10},{"$f":"Race0203!D$17","v":0},{"$f":"Race0203!C$17","v":0},{"$f":"Race0203!F$17","v":2}]
[null,{"$f":"Race0203!B$5","v":"Senior"},{"$f":"Race0203!B$4","v":"OC6"},{"$f":"Race0203!E$5","v":"Men"},{"$f":"Race0203!D$5","v":"Masters"},{"$f":"Race0203!D$4","v":"Short Course"},{"$f":"Race0203!A$18","v":11},{"$f":"Race0203!D$18","v":0},{"$f":"Race0203!C$18","v":0},{"$f":"Race0203!F$18","v":1}]
[null,{"$f":"Race0203!B$5","v":"Senior"},{"$f":"Race0203!B$4","v":"OC6"},{"$f":"Race0203!E$5","v":"Men"},{"$f":"Race0203!D$5","v":"Masters"},{"$f":"Race0203!D$4","v":"Short Course"},{"$f":"Race0203!A$19","v":12},{"$f":"Race0203!D$19","v":0},{"$f":"Race0203!C$19","v":0},{"$f":"Race0203!F$19","v":1}]
[null,{"$f":"Race0203!B$5","v":"Senior"},{"$f":"Race0203!B$4","v":"OC6"},{"$f":"Race0203!E$5","v":"Men"},{"$f":"Race0203!D$5","v":"Masters"},{"$f":"Race0203!D$4","v":"Short Course"},{"$f":"Race0203!A$20","v":13},{"$f":"Race0203!D$20","v":0},{"$f":"Race0203!C$20","v":0},{"$f":"Race0203!F$20","v":1}]
[null,{"$f":"Race0203!B$5","v":"Senior"},{"$f":"Race0203!B$4","v":"OC6"},{"$f":"Race0203!E$5","v":"Men"},{"$f":"Race0203!D$5","v":"Masters"},{"$f":"Race0203!D$4","v":"Short Course"},{"$f":"Race0203!A$21","v":14},{"$f":"Race0203!D$21","v":0},{"$f":"Race0203!C$21","v":0},{"$f":"Race0203!F$21","v":1}]
[null,{"$f":"Race0203!B$5","v":"Senior"},{"$f":"Race0203!B$4","v":"OC6"},{"$f":"Race0203!E$5","v":"Men"},{"$f":"Race0203!D$5","v":"Masters"},{"$f":"Race0203!D$4","v":"Short Course"},{"$f":"Race0203!A$22","v":15},{"$f":"Race0203!D$22","v":0},{"$f":"Race0203!C$22","v":0},{"$f":"Race0203!F$22","v":1}]
[null,{"$f":"Race0203!B$5","v":"Senior"},{"$f":"Race0203!B$4","v":"OC6"},{"$f":"Race0203!E$5","v":"Men"},{"$f":"Race0203!D$5","v":"Masters"},{"$f":"Race0203!D$4","v":"Short Course"},{"$f":"Race0203!A$23","v":16},{"$f":"Race0203!D$23","v":0},{"$f":"Race0203!C$23","v":0},{"$f":"Race0203!F$23","v":1}]
[null,{"$f":"Race0203!B$5","v":"Senior"},{"$f":"Race0203!B$4","v":"OC6"},{"$f":"Race0203!E$5","v":"Men"},{"$f":"Race0203!D$5","v":"Masters"},{"$f":"Race0203!D$4","v":"Short Course"},{"$f":"Race0203!A$24","v":17},{"$f":"Race0203!D$24","v":0},{"$f":"Race0203!C$24","v":0},{"$f":"Race0203!F$24","v":1}]
[null,{"$f":"Race0203!B$5","v":"Senior"},{"$f":"Race0203!B$4","v":"OC6"},{"$f":"Race0203!E$5","v":"Men"},{"$f":"Race0203!D$5","v":"Masters"},{"$f":"Race0203!D$4","v":"Short Course"},{"$f":"Race0203!A$25","v":18},{"$f":"Race0203!D$25","v":0},{"$f":"Race0203!C$25","v":0},{"$f":"Race0203!F$25","v":1}]
[null,{"$f":"Race0203!B$5","v":"Senior"},{"$f":"Race0203!B$4","v":"OC6"},{"$f":"Race0203!E$5","v":"Men"},{"$f":"Race0203!D$5","v":"Masters"},{"$f":"Race0203!D$4","v":"Short Course"},{"$f":"Race0203!A$26","v":19},{"$f":"Race0203!D$26","v":0},{"$f":"Race0203!C$26","v":0},{"$f":"Race0203!F$26","v":1}]
[null,{"$f":"Race0203!B$5","v":"Senior"},{"$f":"Race0203!B$4","v":"OC6"},{"$f":"Race0203!E$5","v":"Men"},{"$f":"Race0203!D$5","v":"Masters"},{"$f":"Race0203!D$4","v":"Short Course"},{"$f":"Race0203!A$27","v":20},{"$f":"Race0203!D$27","v":0},{"$f":"Race0203!C$27","v":0},{"$f":"Race0203!F$27","v":1}]
[null,{"$f":"Race0203!B$5","v":"Senior"},{"$f":"Race0203!B$4","v":"OC6"},{"$f":"Race0203!E$5","v":"Men"},{"$f":"Race0203!D$5","v":"Masters"},{"$f":"Race0203!D$4","v":"Short Course"},{"$f":"Race0203!A$28","v":21},{"$f":"Race0203!D$28","v":0},{"$f":"Race0203!C$28","v":0},{"$f":"Race0203!F$28","v":1}]
[null,{"$f":"Race0203!B$5","v":"Senior"},{"$f":"Race0203!B$4","v":"OC6"},{"$f":"Race0203!E$5","v":"Men"},{"$f":"Race0203!D$5","v":"Masters"},{"$f":"Race0203!D$4","v":"Short Course"},{"$f":"Race0203!A$29","v":22},{"$f":"Race0203!D$29","v":0},{"$f":"Race0203!C$29","v":0},{"$f":"Race0203!F$29","v":1}]
[null,{"$f":"Race0203!B$5","v":"Senior"},{"$f":"Race0203!B$4","v":"OC6"},{"$f":"Race0203!E$5","v":"Men"},{"$f":"Race0203!D$5","v":"Masters"},{"$f":"Race0203!D$4","v":"Short Course"},{"$f":"Race0203!A$30","v":23},{"$f":"Race0203!D$30","v":0},{"$f":"Race0203!C$30","v":0},{"$f":"Race0203!F$30","v":1}]
[null,{"$f":"Race0203!B$5","v":"Senior"},{"$f":"Race0203!B$4","v":"OC6"},{"$f":"Race0203!E$5","v":"Men"},{"$f":"Race0203!D$5","v":"Masters"},{"$f":"Race0203!D$4","v":"Short Course"},{"$f":"Race0203!A$31","v":24},{"$f":"Race0203!D$31","v":0},{"$f":"Race0203!C$31","v":0},{"$f":"Race0203!F$31","v":1}]
[null,{"$f":"Race0203!B$5","v":"Senior"},{"$f":"Race0203!B$4","v":"OC6"},{"$f":"Race0203!E$5","v":"Men"},{"$f":"Race0203!D$5","v":"Masters"},{"$f":"Race0203!D$4","v":"Short Course"},{"$f":"Race0203!A$32","v":25},{"$f":"Race0203!D$32","v":0},{"$f":"Race0203!C$32","v":0},{"$f":"Race0203!F$32","v":1}]
[null,{"$f":"Race0203!B$5","v":"Senior"},{"$f":"Race0203!B$4","v":"OC6"},{"$f":"Race0203!E$5","v":"Men"},{"$f":"Race0203!D$5","v":"Masters"},{"$f":"Race0203!D$4","v":"Short Course"},{"$f":"Race0203!A$33","v":26},{"$f":"Race0203!D$33","v":0},{"$f":"Race0203!C$33","v":0},{"$f":"Race0203!F$33","v":1}]
[null,{"$f":"Race0203!B$5","v":"Senior"},{"$f":"Race0203!B$4","v":"OC6"},{"$f":"Race0203!E$5","v":"Men"},{"$f":"Race0203!D$5","v":"Masters"},{"$f":"Race0203!D$4","v":"Short Course"},{"$f":"Race0203!A$34","v":27},{"$f":"Race0203!D$34","v":0},{"$f":"Race0203!C$34","v":0},{"$f":"Race0203!F$34","v":1}]
[null,{"$f":"Race0203!B$5","v":"Senior"},{"$f":"Race0203!B$4","v":"OC6"},{"$f":"Race0203!E$5","v":"Men"},{"$f":"Race0203!D$5","v":"Masters"},{"$f":"Race0203!D$4","v":"Short Course"},{"$f":"Race0203!A$35","v":28},{"$f":"Race0203!D$35","v":0},{"$f":"Race0203!C$35","v":0},{"$f":"Race0203!F$35","v":1}]
[null,{"$f":"Race0203!B$5","v":"Senior"},{"$f":"Race0203!B$4","v":"OC6"},{"$f":"Race0203!E$5","v":"Men"},{"$f":"Race0203!D$5","v":"Masters"},{"$f":"Race0203!D$4","v":"Short Course"},{"$f":"Race0203!A$36","v":29},{"$f":"Race0203!D$36","v":0},{"$f":"Race0203!C$36","v":0},{"$f":"Race0203!F$36","v":1}]
[null,{"$f":"Race0203!B$5","v":"Senior"},{"$f":"Race0203!B$4","v":"OC6"},{"$f":"Race0203!E$5","v":"Men"},{"$f":"Race0203!D$5","v":"Masters"},{"$f":"Race0203!D$4","v":"Short Course"},{"$f":"Race0203!A$37","v":30},{"$f":"Race0203!D$37","v":0},{"$f":"Race0203!C$37","v":0},{"$f":"Race0203!F$37","v":1}]
[null,{"$f":"Race0203!B$5","v":"Senior"},{"$f":"Race0203!B$4","v":"OC6"},{"$f":"Race0203!E$5","v":"Men"},{"$f":"Race0203!D$5","v":"Masters"},{"$f":"Race0203!D$4","v":"Short Course"},{"$f":"Race0203!A$38","v":31},{"$f":"Race0203!D$38","v":0},{"$f":"Race0203!C$38","v":0},{"$f":"Race0203!F$38","v":1}]
[null,{"$f":"Race0203!B$5","v":"Senior"},{"$f":"Race0203!B$4","v":"OC6"},{"$f":"Race0203!E$5","v":"Men"},{"$f":"Race0203!D$5","v":"Masters"},{"$f":"Race0203!D$4","v":"Short Course"},{"$f":"Race0203!A$39","v":32},{"$f":"Race0203!D$39","v":0},{"$f":"Race0203!C$39","v":0},{"$f":"Race0203!F$39","v":1}]
[null,{"$f":"Race0203!B$5","v":"Senior"},{"$f":"Race0203!B$4","v":"OC6"},{"$f":"Race0203!E$5","v":"Men"},{"$f":"Race0203!D$5","v":"Masters"},{"$f":"Race0203!D$4","v":"Short Course"},{"$f":"Race0203!A$40","v":33},{"$f":"Race0203!D$40","v":0},{"$f":"Race0203!C$40","v":0},{"$f":"Race0203!F$40","v":1}]
[null,{"$f":"Race0203!B$5","v":"Senior"},{"$f":"Race0203!B$4","v":"OC6"},{"$f":"Race0203!E$5","v":"Men"},{"$f":"Race0203!D$5","v":"Masters"},{"$f":"Race0203!D$4","v":"Short Course"},{"$f":"Race0203!A$41","v":34},{"$f":"Race0203!D$41","v":0},{"$f":"Race0203!C$41","v":0},{"$f":"Race0203!F$41","v":1}]
[null,{"$f":"Race0203!B$5","v":"Senior"},{"$f":"Race0203!B$4","v":"OC6"},{"$f":"Race0203!E$5","v":"Men"},{"$f":"Race0203!D$5","v":"Masters"},{"$f":"Race0203!D$4","v":"Short Course"},{"$f":"Race0203!A$42","v":35},{"$f":"Race0203!D$42","v":0},{"$f":"Race0203!C$42","v":0},{"$f":"Race0203!F$42","v":1}]
[null,{"$f":"Race0203!B$5","v":"Senior"},{"$f":"Race0203!B$4","v":"OC6"},{"$f":"Race0203!E$5","v":"Men"},{"$f":"Race0203!D$5","v":"Masters"},{"$f":"Race0203!D$4","v":"Short Course"},{"$f":"Race0203!A$43","v":36},{"$f":"Race0203!D$43","v":0},{"$f":"Race0203!C$43","v":0},{"$f":"Race0203!F$43","v":1}]
[null,{"$f":"Race0203!B$5","v":"Senior"},{"$f":"Race0203!B$4","v":"OC6"},{"$f":"Race0203!E$5","v":"Men"},{"$f":"Race0203!D$5","v":"Masters"},{"$f":"Race0203!D$4","v":"Short Course"},{"$f":"Race0203!A$44","v":37},{"$f":"Race0203!D$44","v":0},{"$f":"Race0203!C$44","v":0},{"$f":"Race0203!F$44","v":1}]
[null,{"$f":"Race0203!B$5","v":"Senior"},{"$f":"Race0203!B$4","v":"OC6"},{"$f":"Race0203!E$5","v":"Men"},{"$f":"Race0203!D$5","v":"Masters"},{"$f":"Race0203!D$4","v":"Short Course"},{"$f":"Race0203!A$45","v":38},{"$f":"Race0203!D$45","v":0},{"$f":"Race0203!C$45","v":0},{"$f":"Race0203!F$45","v":1}]
[null,{"$f":"Race0203!B$5","v":"Senior"},{"$f":"Race0203!B$4","v":"OC6"},{"$f":"Race0203!E$5","v":"Men"},{"$f":"Race0203!D$5","v":"Masters"},{"$f":"Race0203!D$4","v":"Short Course"},{"$f":"Race0203!A$46","v":39},{"$f":"Race0203!D$46","v":0},{"$f":"Race0203!C$46","v":0},{"$f":"Race0203!F$46","v":1}]
[null,{"$f":"Race0203!B$5","v":"Senior"},{"$f":"Race0203!B$4","v":"OC6"},{"$f":"Race0203!E$5","v":"Men"},{"$f":"Race0203!D$5","v":"Masters"},{"$f":"Race0203!D$4","v":"Short Course"},{"$f":"Race0203!A$47","v":40},{"$f":"Race0203!D$47","v":0},{"$f":"Race0203!C$47","v":0},{"$f":"Race0203!F$47","v":1}]
[null,{"$f":"Race0203!B$5","v":"Senior"},{"$f":"Race0203!B$4","v":"OC6"},{"$f":"Race0203!E$5","v":"Men"},{"$f":"Race0203!D$5","v":"Masters"},{"$f":"Race0203!D$4","v":"Short Course"},{"$f":"Race0203!A$48","v":41},{"$f":"Race0203!D$48","v":0},{"$f":"Race0203!C$48","v":0},{"$f":"Race0203!F$48","v":1}]
[null,{"$f":"Race0203!B$5","v":"Senior"},{"$f":"Race0203!B$4","v":"OC6"},{"$f":"Race0203!E$5","v":"Men"},{"$f":"Race0203!D$5","v":"Masters"},{"$f":"Race0203!D$4","v":"Short Course"},{"$f":"Race0203!A$49","v":42},{"$f":"Race0203!D$49","v":0},{"$f":"Race0203!C$49","v":0},{"$f":"Race0203!F$49","v":1}]
[null,{"$f":"Race0203!B$5","v":"Senior"},{"$f":"Race0203!B$4","v":"OC6"},{"$f":"Race0203!E$5","v":"Men"},{"$f":"Race0203!D$5","v":"Masters"},{"$f":"Race0203!D$4","v":"Short Course"},{"$f":"Race0203!A$50","v":43},{"$f":"Race0203!D$50","v":0},{"$f":"Race0203!C$50","v":0},{"$f":"Race0203!F$50","v":1}]
[null,{"$f":"Race0203!B$5","v":"Senior"},{"$f":"Race0203!B$4","v":"OC6"},{"$f":"Race0203!E$5","v":"Men"},{"$f":"Race0203!D$5","v":"Masters"},{"$f":"Race0203!D$4","v":"Short Course"},{"$f":"Race0203!A$51","v":44},{"$f":"Race0203!D$51","v":0},{"$f":"Race0203!C$51","v":0},{"$f":"Race0203!F$51","v":1}]
[null,{"$f":"Race0203!B$5","v":"Senior"},{"$f":"Race0203!B$4","v":"OC6"},{"$f":"Race0203!E$5","v":"Men"},{"$f":"Race0203!D$5","v":"Masters"},{"$f":"Race0203!D$4","v":"Short Course"},{"$f":"Race0203!A$52","v":45},{"$f":"Race0203!D$52","v":0},{"$f":"Race0203!C$52","v":0},{"$f":"Race0203!F$52","v":1}]
[null,{"$f":"Race0203!B$5","v":"Senior"},{"$f":"Race0203!B$4","v":"OC6"},{"$f":"Race0203!E$5","v":"Men"},{"$f":"Race0203!D$5","v":"Masters"},{"$f":"Race0203!D$4","v":"Short Course"},{"$f":"Race0203!A$53","v":46},{"$f":"Race0203!D$53","v":0},{"$f":"Race0203!C$53","v":0},{"$f":"Race0203!F$53","v":1}]
[null,{"$f":"Race0203!B$5","v":"Senior"},{"$f":"Race0203!B$4","v":"OC6"},{"$f":"Race0203!E$5","v":"Men"},{"$f":"Race0203!D$5","v":"Masters"},{"$f":"Race0203!D$4","v":"Short Course"},{"$f":"Race0203!A$54","v":47},{"$f":"Race0203!D$54","v":0},{"$f":"Race0203!C$54","v":0},{"$f":"Race0203!F$54","v":1}]
[null,{"$f":"Race0203!B$5","v":"Senior"},{"$f":"Race0203!B$4","v":"OC6"},{"$f":"Race0203!E$5","v":"Men"},{"$f":"Race0203!D$5","v":"Masters"},{"$f":"Race0203!D$4","v":"Short Course"},{"$f":"Race0203!A$55","v":48},{"$f":"Race0203!D$55","v":0},{"$f":"Race0203!C$55","v":0},{"$f":"Race0203!F$55","v":1}]
[null,{"$f":"Race0203!B$5","v":"Senior"},{"$f":"Race0203!B$4","v":"OC6"},{"$f":"Race0203!E$5","v":"Men"},{"$f":"Race0203!D$5","v":"Masters"},{"$f":"Race0203!D$4","v":"Short Course"},{"$f":"Race0203!A$56","v":49},{"$f":"Race0203!D$56","v":0},{"$f":"Race0203!C$56","v":0},{"$f":"Race0203!F$56","v":1}]
[null,{"$f":"Race0203!B$5","v":"Senior"},{"$f":"Race0203!B$4","v":"OC6"},{"$f":"Race0203!E$5","v":"Men"},{"$f":"Race0203!D$5","v":"Masters"},{"$f":"Race0203!D$4","v":"Short Course"},{"$f":"Race0203!A$57","v":50},{"$f":"Race0203!D$57","v":0},{"$f":"Race0203!C$57","v":0},{"$f":"Race0203!F$57","v":1}]
["Race0204",{"$f":"Race0204!B$5","v":"Senior"},{"$f":"Race0204!B$4","v":"OC6"},{"$f":"Race0204!E$5","v":"Men"},{"$f":"Race0204!D$5","v":"Senior Masters"},{"$f":"Race0204!D$4","v":"Short Course"},{"$f":"Race0204!A$8","v":1},{"$f":"Race0204!D$8","v":0},{"$f":"Race0204!C$8","v":0},{"$f":"Race0204!F$8","v":14}]
[null,{"$f":"Race0204!B$5","v":"Senior"},{"$f":"Race0204!B$4","v":"OC6"},{"$f":"Race0204!E$5","v":"Men"},{"$f":"Race0204!D$5","v":"Senior Masters"},{"$f":"Race0204!D$4","v":"Short Course"},{"$f":"Race0204!A$9","v":2},{"$f":"Race0204!D$9","v":0},{"$f":"Race0204!C$9","v":0},{"$f":"Race0204!F$9","v":12}]
[null,{"$f":"Race0204!B$5","v":"Senior"},{"$f":"Race0204!B$4","v":"OC6"},{"$f":"Race0204!E$5","v":"Men"},{"$f":"Race0204!D$5","v":"Senior Masters"},{"$f":"Race0204!D$4","v":"Short Course"},{"$f":"Race0204!A$10","v":3},{"$f":"Race0204!D$10","v":0},{"$f":"Race0204!C$10","v":0},{"$f":"Race0204!F$10","v":10}]
[null,{"$f":"Race0204!B$5","v":"Senior"},{"$f":"Race0204!B$4","v":"OC6"},{"$f":"Race0204!E$5","v":"Men"},{"$f":"Race0204!D$5","v":"Senior Masters"},{"$f":"Race0204!D$4","v":"Short Course"},{"$f":"Race0204!A$11","v":4},{"$f":"Race0204!D$11","v":0},{"$f":"Race0204!C$11","v":0},{"$f":"Race0204!F$11","v":8}]
[null,{"$f":"Race0204!B$5","v":"Senior"},{"$f":"Race0204!B$4","v":"OC6"},{"$f":"Race0204!E$5","v":"Men"},{"$f":"Race0204!D$5","v":"Senior Masters"},{"$f":"Race0204!D$4","v":"Short Course"},{"$f":"Race0204!A$12","v":5},{"$f":"Race0204!D$12","v":0},{"$f":"Race0204!C$12","v":0},{"$f":"Race0204!F$12","v":7}]
[null,{"$f":"Race0204!B$5","v":"Senior"},{"$f":"Race0204!B$4","v":"OC6"},{"$f":"Race0204!E$5","v":"Men"},{"$f":"Race0204!D$5","v":"Senior Masters"},{"$f":"Race0204!D$4","v":"Short Course"},{"$f":"Race0204!A$13","v":6},{"$f":"Race0204!D$13","v":0},{"$f":"Race0204!C$13","v":0},{"$f":"Race0204!F$13","v":6}]
[null,{"$f":"Race0204!B$5","v":"Senior"},{"$f":"Race0204!B$4","v":"OC6"},{"$f":"Race0204!E$5","v":"Men"},{"$f":"Race0204!D$5","v":"Senior Masters"},{"$f":"Race0204!D$4","v":"Short Course"},{"$f":"Race0204!A$14","v":7},{"$f":"Race0204!D$14","v":0},{"$f":"Race0204!C$14","v":0},{"$f":"Race0204!F$14","v":5}]
[null,{"$f":"Race0204!B$5","v":"Senior"},{"$f":"Race0204!B$4","v":"OC6"},{"$f":"Race0204!E$5","v":"Men"},{"$f":"Race0204!D$5","v":"Senior Masters"},{"$f":"Race0204!D$4","v":"Short Course"},{"$f":"Race0204!A$15","v":8},{"$f":"Race0204!D$15","v":0},{"$f":"Race0204!C$15","v":0},{"$f":"Race0204!F$15","v":4}]
[null,{"$f":"Race0204!B$5","v":"Senior"},{"$f":"Race0204!B$4","v":"OC6"},{"$f":"Race0204!E$5","v":"Men"},{"$f":"Race0204!D$5","v":"Senior Masters"},{"$f":"Race0204!D$4","v":"Short Course"},{"$f":"Race0204!A$16","v":9},{"$f":"Race0204!D$16","v":0},{"$f":"Race0204!C$16","v":0},{"$f":"Race0204!F$16","v":3}]
[null,{"$f":"Race0204!B$5","v":"Senior"},{"$f":"Race0204!B$4","v":"OC6"},{"$f":"Race0204!E$5","v":"Men"},{"$f":"Race0204!D$5","v":"Senior Masters"},{"$f":"Race0204!D$4","v":"Short Course"},{"$f":"Race0204!A$17","v":10},{"$f":"Race0204!D$17","v":0},{"$f":"Race0204!C$17","v":0},{"$f":"Race0204!F$17","v":2}]
[null,{"$f":"Race0204!B$5","v":"Senior"},{"$f":"Race0204!B$4","v":"OC6"},{"$f":"Race0204!E$5","v":"Men"},{"$f":"Race0204!D$5","v":"Senior Masters"},{"$f":"Race0204!D$4","v":"Short Course"},{"$f":"Race0204!A$18","v":11},{"$f":"Race0204!D$18","v":0},{"$f":"Race0204!C$18","v":0},{"$f":"Race0204!F$18","v":1}]
[null,{"$f":"Race0204!B$5","v":"Senior"},{"$f":"Race0204!B$4","v":"OC6"},{"$f":"Race0204!E$5","v":"Men"},{"$f":"Race0204!D$5","v":"Senior Masters"},{"$f":"Race0204!D$4","v":"Short Course"},{"$f":"Race0204!A$19","v":12},{"$f":"Race0204!D$19","v":0},{"$f":"Race0204!C$19","v":0},{"$f":"Race0204!F$19","v":1}]
[null,{"$f":"Race0204!B$5","v":"Senior"},{"$f":"Race0204!B$4","v":"OC6"},{"$f":"Race0204!E$5","v":"Men"},{"$f":"Race0204!D$5","v":"Senior Masters"},{"$f":"Race0204!D$4","v":"Short Course"},{"$f":"Race0204!A$20","v":13},{"$f":"Race0204!D$20","v":0},{"$f":"Race0204!C$20","v":0},{"$f":"Race0204!F$20","v":1}]
[null,{"$f":"Race0204!B$5","v":"Senior"},{"$f":"Race0204!B$4","v":"OC6"},{"$f":"Race0204!E$5","v":"Men"},{"$f":"Race0204!D$5","v":"Senior Masters"},{"$f":"Race0204!D$4","v":"Short Course"},{"$f":"Race0204!A$21","v":14},{"$f":"Race0204!D$21","v":0},{"$f":"Race0204!C$21","v":0},{"$f":"Race0204!F$21","v":1}]
[null,{"$f":"Race0204!B$5","v":"Senior"},{"$f":"Race0204!B$4","v":"OC6"},{"$f":"Race0204!E$5","v":"Men"},{"$f":"Race0204!D$5","v":"Senior Masters"},{"$f":"Race0204!D$4","v":"Short Course"},{"$f":"Race0204!A$22","v":15},{"$f":"Race0204!D$22","v":0},{"$f":"Race0204!C$22","v":0},{"$f":"Race0204!F$22","v":1}]
[null,{"$f":"Race0204!B$5","v":"Senior"},{"$f":"Race0204!B$4","v":"OC6"},{"$f":"Race0204!E$5","v":"Men"},{"$f":"Race0204!D$5","v":"Senior Masters"},{"$f":"Race0204!D$4","v":"Short Course"},{"$f":"Race0204!A$23","v":16},{"$f":"Race0204!D$23","v":0},{"$f":"Race0204!C$23","v":0},{"$f":"Race0204!F$23","v":1}]
[null,{"$f":"Race0204!B$5","v":"Senior"},{"$f":"Race0204!B$4","v":"OC6"},{"$f":"Race0204!E$5","v":"Men"},{"$f":"Race0204!D$5","v":"Senior Masters"},{"$f":"Race0204!D$4","v":"Short Course"},{"$f":"Race0204!A$24","v":17},{"$f":"Race0204!D$24","v":0},{"$f":"Race0204!C$24","v":0},{"$f":"Race0204!F$24","v":1}]
[null,{"$f":"Race0204!B$5","v":"Senior"},{"$f":"Race0204!B$4","v":"OC6"},{"$f":"Race0204!E$5","v":"Men"},{"$f":"Race0204!D$5","v":"Senior Masters"},{"$f":"Race0204!D$4","v":"Short Course"},{"$f":"Race0204!A$25","v":18},{"$f":"Race0204!D$25","v":0},{"$f":"Race0204!C$25","v":0},{"$f":"Race0204!F$25","v":1}]
[null,{"$f":"Race0204!B$5","v":"Senior"},{"$f":"Race0204!B$4","v":"OC6"},{"$f":"Race0204!E$5","v":"Men"},{"$f":"Race0204!D$5","v":"Senior Masters"},{"$f":"Race0204!D$4","v":"Short Course"},{"$f":"Race0204!A$26","v":19},{"$f":"Race0204!D$26","v":0},{"$f":"Race0204!C$26","v":0},{"$f":"Race0204!F$26","v":1}]
[null,{"$f":"Race0204!B$5","v":"Senior"},{"$f":"Race0204!B$4","v":"OC6"},{"$f":"Race0204!E$5","v":"Men"},{"$f":"Race0204!D$5","v":"Senior Masters"},{"$f":"Race0204!D$4","v":"Short Course"},{"$f":"Race0204!A$27","v":20},{"$f":"Race0204!D$27","v":0},{"$f":"Race0204!C$27","v":0},{"$f":"Race0204!F$27","v":1}]
[null,{"$f":"Race0204!B$5","v":"Senior"},{"$f":"Race0204!B$4","v":"OC6"},{"$f":"Race0204!E$5","v":"Men"},{"$f":"Race0204!D$5","v":"Senior Masters"},{"$f":"Race0204!D$4","v":"Short Course"},{"$f":"Race0204!A$28","v":21},{"$f":"Race0204!D$28","v":0},{"$f":"Race0204!C$28","v":0},{"$f":"Race0204!F$28","v":1}]
[null,{"$f":"Race0204!B$5","v":"Senior"},{"$f":"Race0204!B$4","v":"OC6"},{"$f":"Race0204!E$5","v":"Men"},{"$f":"Race0204!D$5","v":"Senior Masters"},{"$f":"Race0204!D$4","v":"Short Course"},{"$f":"Race0204!A$29","v":22},{"$f":"Race0204!D$29","v":0},{"$f":"Race0204!C$29","v":0},{"$f":"Race0204!F$29","v":1}]
[null,{"$f":"Race0204!B$5","v":"Senior"},{"$f":"Race0204!B$4","v":"OC6"},{"$f":"Race0204!E$5","v":"Men"},{"$f":"Race0204!D$5","v":"Senior Masters"},{"$f":"Race0204!D$4","v":"Short Course"},{"$f":"Race0204!A$30","v":23},{"$f":"Race0204!D$30","v":0},{"$f":"Race0204!C$30","v":0},{"$f":"Race0204!F$30","v":1}]
[null,{"$f":"Race0204!B$5","v":"Senior"},{"$f":"Race0204!B$4","v":"OC6"},{"$f":"Race0204!E$5","v":"Men"},{"$f":"Race0204!D$5","v":"Senior Masters"},{"$f":"Race0204!D$4","v":"Short Course"},{"$f":"Race0204!A$31","v":24},{"$f":"Race0204!D$31","v":0},{"$f":"Race0204!C$31","v":0},{"$f":"Race0204!F$31","v":1}]
[null,{"$f":"Race0204!B$5","v":"Senior"},{"$f":"Race0204!B$4","v":"OC6"},{"$f":"Race0204!E$5","v":"Men"},{"$f":"Race0204!D$5","v":"Senior Masters"},{"$f":"Race0204!D$4","v":"Short Course"},{"$f":"Race0204!A$32","v":25},{"$f":"Race0204!D$32","v":0},{"$f":"Race0204!C$32","v":0},{"$f":"Race0204!F$32","v":1}]
[null,{"$f":"Race0204!B$5","v":"Senior"},{"$f":"Race0204!B$4","v":"OC6"},{"$f":"Race0204!E$5","v":"Men"},{"$f":"Race0204!D$5","v":"Senior Masters"},{"$f":"Race0204!D$4","v":"Short Course"},{"$f":"Race0204!A$33","v":26},{"$f":"Race0204!D$33","v":0},{"$f":"Race0204!C$33","v":0},{"$f":"Race0204!F$33","v":1}]
[null,{"$f":"Race0204!B$5","v":"Senior"},{"$f":"Race0204!B$4","v":"OC6"},{"$f":"Race0204!E$5","v":"Men"},{"$f":"Race0204!D$5","v":"Senior Masters"},{"$f":"Race0204!D$4","v":"Short Course"},{"$f":"Race0204!A$34","v":27},{"$f":"Race0204!D$34","v":0},{"$f":"Race0204!C$34","v":0},{"$f":"Race0204!F$34","v":1}]
[null,{"$f":"Race0204!B$5","v":"Senior"},{"$f":"Race0204!B$4","v":"OC6"},{"$f":"Race0204!E$5","v":"Men"},{"$f":"Race0204!D$5","v":"Senior Masters"},{"$f":"Race0204!D$4","v":"Short Course"},{"$f":"Race0204!A$35","v":28},{"$f":"Race0204!D$35","v":0},{"$f":"Race0204!C$35","v":0},{"$f":"Race0204!F$35","v":1}]
[null,{"$f":"Race0204!B$5","v":"Senior"},{"$f":"Race0204!B$4","v":"OC6"},{"$f":"Race0204!E$5","v":"Men"},{"$f":"Race0204!D$5","v":"Senior Masters"},{"$f":"Race0204!D$4","v":"Short Course"},{"$f":"Race0204!A$36","v":29},{"$f":"Race0204!D$36","v":0},{"$f":"Race0204!C$36","v":0},{"$f":"Race0204!F$36","v":1}]
[null,{"$f":"Race0204!B$5","v":"Senior"},{"$f":"Race0204!B$4","v":"OC6"},{"$f":"Race0204!E$5","v":"Men"},{"$f":"Race0204!D$5","v":"Senior Masters"},{"$f":"Race0204!D$4","v":"Short Course"},{"$f":"Race0204!A$37","v":30},{"$f":"Race0204!D$37","v":0},{"$f":"Race0204!C$37","v":0},{"$f":"Race0204!F$37","v":1}]
[null,{"$f":"Race0204!B$5","v":"Senior"},{"$f":"Race0204!B$4","v":"OC6"},{"$f":"Race0204!E$5","v":"Men"},{"$f":"Race0204!D$5","v":"Senior Masters"},{"$f":"Race0204!D$4","v":"Short Course"},{"$f":"Race0204!A$38","v":31},{"$f":"Race0204!D$38","v":0},{"$f":"Race0204!C$38","v":0},{"$f":"Race0204!F$38","v":1}]
[null,{"$f":"Race0204!B$5","v":"Senior"},{"$f":"Race0204!B$4","v":"OC6"},{"$f":"Race0204!E$5","v":"Men"},{"$f":"Race0204!D$5","v":"Senior Masters"},{"$f":"Race0204!D$4","v":"Short Course"},{"$f":"Race0204!A$39","v":32},{"$f":"Race0204!D$39","v":0},{"$f":"Race0204!C$39","v":0},{"$f":"Race0204!F$39","v":1}]
[null,{"$f":"Race0204!B$5","v":"Senior"},{"$f":"Race0204!B$4","v":"OC6"},{"$f":"Race0204!E$5","v":"Men"},{"$f":"Race0204!D$5","v":"Senior Masters"},{"$f":"Race0204!D$4","v":"Short Course"},{"$f":"Race0204!A$40","v":33},{"$f":"Race0204!D$40","v":0},{"$f":"Race0204!C$40","v":0},{"$f":"Race0204!F$40","v":1}]
[null,{"$f":"Race0204!B$5","v":"Senior"},{"$f":"Race0204!B$4","v":"OC6"},{"$f":"Race0204!E$5","v":"Men"},{"$f":"Race0204!D$5","v":"Senior Masters"},{"$f":"Race0204!D$4","v":"Short Course"},{"$f":"Race0204!A$41","v":34},{"$f":"Race0204!D$41","v":0},{"$f":"Race0204!C$41","v":0},{"$f":"Race0204!F$41","v":1}]
[null,{"$f":"Race0204!B$5","v":"Senior"},{"$f":"Race0204!B$4","v":"OC6"},{"$f":"Race0204!E$5","v":"Men"},{"$f":"Race0204!D$5","v":"Senior Masters"},{"$f":"Race0204!D$4","v":"Short Course"},{"$f":"Race0204!A$42","v":35},{"$f":"Race0204!D$42","v":0},{"$f":"Race0204!C$42","v":0},{"$f":"Race0204!F$42","v":1}]
[null,{"$f":"Race0204!B$5","v":"Senior"},{"$f":"Race0204!B$4","v":"OC6"},{"$f":"Race0204!E$5","v":"Men"},{"$f":"Race0204!D$5","v":"Senior Masters"},{"$f":"Race0204!D$4","v":"Short Course"},{"$f":"Race0204!A$43","v":36},{"$f":"Race0204!D$43","v":0},{"$f":"Race0204!C$43","v":0},{"$f":"Race0204!F$43","v":1}]
[null,{"$f":"Race0204!B$5","v":"Senior"},{"$f":"Race0204!B$4","v":"OC6"},{"$f":"Race0204!E$5","v":"Men"},{"$f":"Race0204!D$5","v":"Senior Masters"},{"$f":"Race0204!D$4","v":"Short Course"},{"$f":"Race0204!A$44","v":37},{"$f":"Race0204!D$44","v":0},{"$f":"Race0204!C$44","v":0},{"$f":"Race0204!F$44","v":1}]
[null,{"$f":"Race0204!B$5","v":"Senior"},{"$f":"Race0204!B$4","v":"OC6"},{"$f":"Race0204!E$5","v":"Men"},{"$f":"Race0204!D$5","v":"Senior Masters"},{"$f":"Race0204!D$4","v":"Short Course"},{"$f":"Race0204!A$45","v":38},{"$f":"Race0204!D$45","v":0},{"$f":"Race0204!C$45","v":0},{"$f":"Race0204!F$45","v":1}]
[null,{"$f":"Race0204!B$5","v":"Senior"},{"$f":"Race0204!B$4","v":"OC6"},{"$f":"Race0204!E$5","v":"Men"},{"$f":"Race0204!D$5","v":"Senior Masters"},{"$f":"Race0204!D$4","v":"Short Course"},{"$f":"Race0204!A$46","v":39},{"$f":"Race0204!D$46","v":0},{"$f":"Race0204!C$46","v":0},{"$f":"Race0204!F$46","v":1}]
[null,{"$f":"Race0204!B$5","v":"Senior"},{"$f":"Race0204!B$4","v":"OC6"},{"$f":"Race0204!E$5","v":"Men"},{"$f":"Race0204!D$5","v":"Senior Masters"},{"$f":"Race0204!D$4","v":"Short Course"},{"$f":"Race0204!A$47","v":40},{"$f":"Race0204!D$47","v":0},{"$f":"Race0204!C$47","v":0},{"$f":"Race0204!F$47","v":1}]
[null,{"$f":"Race0204!B$5","v":"Senior"},{"$f":"Race0204!B$4","v":"OC6"},{"$f":"Race0204!E$5","v":"Men"},{"$f":"Race0204!D$5","v":"Senior Masters"},{"$f":"Race0204!D$4","v":"Short Course"},{"$f":"Race0204!A$48","v":41},{"$f":"Race0204!D$48","v":0},{"$f":"Race0204!C$48","v":0},{"$f":"Race0204!F$48","v":1}]
[null,{"$f":"Race0204!B$5","v":"Senior"},{"$f":"Race0204!B$4","v":"OC6"},{"$f":"Race0204!E$5","v":"Men"},{"$f":"Race0204!D$5","v":"Senior Masters"},{"$f":"Race0204!D$4","v":"Short Course"},{"$f":"Race0204!A$49","v":42},{"$f":"Race0204!D$49","v":0},{"$f":"Race0204!C$49","v":0},{"$f":"Race0204!F$49","v":1}]
[null,{"$f":"Race0204!B$5","v":"Senior"},{"$f":"Race0204!B$4","v":"OC6"},{"$f":"Race0204!E$5","v":"Men"},{"$f":"Race0204!D$5","v":"Senior Masters"},{"$f":"Race0204!D$4","v":"Short Course"},{"$f":"Race0204!A$50","v":43},{"$f":"Race0204!D$50","v":0},{"$f":"Race0204!C$50","v":0},{"$f":"Race0204!F$50","v":1}]
[null,{"$f":"Race0204!B$5","v":"Senior"},{"$f":"Race0204!B$4","v":"OC6"},{"$f":"Race0204!E$5","v":"Men"},{"$f":"Race0204!D$5","v":"Senior Masters"},{"$f":"Race0204!D$4","v":"Short Course"},{"$f":"Race0204!A$51","v":44},{"$f":"Race0204!D$51","v":0},{"$f":"Race0204!C$51","v":0},{"$f":"Race0204!F$51","v":1}]
[null,{"$f":"Race0204!B$5","v":"Senior"},{"$f":"Race0204!B$4","v":"OC6"},{"$f":"Race0204!E$5","v":"Men"},{"$f":"Race0204!D$5","v":"Senior Masters"},{"$f":"Race0204!D$4","v":"Short Course"},{"$f":"Race0204!A$52","v":45},{"$f":"Race0204!D$52","v":0},{"$f":"Race0204!C$52","v":0},{"$f":"Race0204!F$52","v":1}]
[null,{"$f":"Race0204!B$5","v":"Senior"},{"$f":"Race0204!B$4","v":"OC6"},{"$f":"Race0204!E$5","v":"Men"},{"$f":"Race0204!D$5","v":"Senior Masters"},{"$f":"Race0204!D$4","v":"Short Course"},{"$f":"Race0204!A$53","v":46},{"$f":"Race0204!D$53","v":0},{"$f":"Race0204!C$53","v":0},{"$f":"Race0204!F$53","v":1}]
[null,{"$f":"Race0204!B$5","v":"Senior"},{"$f":"Race0204!B$4","v":"OC6"},{"$f":"Race0204!E$5","v":"Men"},{"$f":"Race0204!D$5","v":"Senior Masters"},{"$f":"Race0204!D$4","v":"Short Course"},{"$f":"Race0204!A$54","v":47},{"$f":"Race0204!D$54","v":0},{"$f":"Race0204!C$54","v":0},{"$f":"Race0204!F$54","v":1}]
[null,{"$f":"Race0204!B$5","v":"Senior"},{"$f":"Race0204!B$4","v":"OC6"},{"$f":"Race0204!E$5","v":"Men"},{"$f":"Race0204!D$5","v":"Senior Masters"},{"$f":"Race0204!D$4","v":"Short Course"},{"$f":"Race0204!A$55","v":48},{"$f":"Race0204!D$55","v":0},{"$f":"Race0204!C$55","v":0},{"$f":"Race0204!F$55","v":1}]
[null,{"$f":"Race0204!B$5","v":"Senior"},{"$f":"Race0204!B$4","v":"OC6"},{"$f":"Race0204!E$5","v":"Men"},{"$f":"Race0204!D$5","v":"Senior Masters"},{"$f":"Race0204!D$4","v":"Short Course"},{"$f":"Race0204!A$56","v":49},{"$f":"Race0204!D$56","v":0},{"$f":"Race0204!C$56","v":0},{"$f":"Race0204!F$56","v":1}]
[null,{"$f":"Race0204!B$5","v":"Senior"},{"$f":"Race0204!B$4","v":"OC6"},{"$f":"Race0204!E$5","v":"Men"},{"$f":"Race0204!D$5","v":"Senior Masters"},{"$f":"Race0204!D$4","v":"Short Course"},{"$f":"Race0204!A$57","v":50},{"$f":"Race0204!D$57","v":0},{"$f":"Race0204!C$57","v":0},{"$f":"Race0204!F$57","v":1}]
["Race0205",{"$f":"Race0205!B$5","v":"Senior"},{"$f":"Race0205!B$4","v":"OC6"},{"$f":"Race0205!E$5","v":"Men"},{"$f":"Race0205!D$5","v":"Golden Masters"},{"$f":"Race0205!D$4","v":"Short Course"},{"$f":"Race0205!A$8","v":1},{"$f":"Race0205!D$8","v":0},{"$f":"Race0205!C$8","v":0},{"$f":"Race0205!F$8","v":14}]
[null,{"$f":"Race0205!B$5","v":"Senior"},{"$f":"Race0205!B$4","v":"OC6"},{"$f":"Race0205!E$5","v":"Men"},{"$f":"Race0205!D$5","v":"Golden Masters"},{"$f":"Race0205!D$4","v":"Short Course"},{"$f":"Race0205!A$9","v":2},{"$f":"Race0205!D$9","v":0},{"$f":"Race0205!C$9","v":0},{"$f":"Race0205!F$9","v":12}]
[null,{"$f":"Race0205!B$5","v":"Senior"},{"$f":"Race0205!B$4","v":"OC6"},{"$f":"Race0205!E$5","v":"Men"},{"$f":"Race0205!D$5","v":"Golden Masters"},{"$f":"Race0205!D$4","v":"Short Course"},{"$f":"Race0205!A$10","v":3},{"$f":"Race0205!D$10","v":0},{"$f":"Race0205!C$10","v":0},{"$f":"Race0205!F$10","v":10}]
[null,{"$f":"Race0205!B$5","v":"Senior"},{"$f":"Race0205!B$4","v":"OC6"},{"$f":"Race0205!E$5","v":"Men"},{"$f":"Race0205!D$5","v":"Golden Masters"},{"$f":"Race0205!D$4","v":"Short Course"},{"$f":"Race0205!A$11","v":4},{"$f":"Race0205!D$11","v":0},{"$f":"Race0205!C$11","v":0},{"$f":"Race0205!F$11","v":8}]
[null,{"$f":"Race0205!B$5","v":"Senior"},{"$f":"Race0205!B$4","v":"OC6"},{"$f":"Race0205!E$5","v":"Men"},{"$f":"Race0205!D$5","v":"Golden Masters"},{"$f":"Race0205!D$4","v":"Short Course"},{"$f":"Race0205!A$12","v":5},{"$f":"Race0205!D$12","v":0},{"$f":"Race0205!C$12","v":0},{"$f":"Race0205!F$12","v":7}]
[null,{"$f":"Race0205!B$5","v":"Senior"},{"$f":"Race0205!B$4","v":"OC6"},{"$f":"Race0205!E$5","v":"Men"},{"$f":"Race0205!D$5","v":"Golden Masters"},{"$f":"Race0205!D$4","v":"Short Course"},{"$f":"Race0205!A$13","v":6},{"$f":"Race0205!D$13","v":0},{"$f":"Race0205!C$13","v":0},{"$f":"Race0205!F$13","v":6}]
[null,{"$f":"Race0205!B$5","v":"Senior"},{"$f":"Race0205!B$4","v":"OC6"},{"$f":"Race0205!E$5","v":"Men"},{"$f":"Race0205!D$5","v":"Golden Masters"},{"$f":"Race0205!D$4","v":"Short Course"},{"$f":"Race0205!A$14","v":7},{"$f":"Race0205!D$14","v":0},{"$f":"Race0205!C$14","v":0},{"$f":"Race0205!F$14","v":5}]
[null,{"$f":"Race0205!B$5","v":"Senior"},{"$f":"Race0205!B$4","v":"OC6"},{"$f":"Race0205!E$5","v":"Men"},{"$f":"Race0205!D$5","v":"Golden Masters"},{"$f":"Race0205!D$4","v":"Short Course"},{"$f":"Race0205!A$15","v":8},{"$f":"Race0205!D$15","v":0},{"$f":"Race0205!C$15","v":0},{"$f":"Race0205!F$15","v":4}]
[null,{"$f":"Race0205!B$5","v":"Senior"},{"$f":"Race0205!B$4","v":"OC6"},{"$f":"Race0205!E$5","v":"Men"},{"$f":"Race0205!D$5","v":"Golden Masters"},{"$f":"Race0205!D$4","v":"Short Course"},{"$f":"Race0205!A$16","v":9},{"$f":"Race0205!D$16","v":0},{"$f":"Race0205!C$16","v":0},{"$f":"Race0205!F$16","v":3}]
[null,{"$f":"Race0205!B$5","v":"Senior"},{"$f":"Race0205!B$4","v":"OC6"},{"$f":"Race0205!E$5","v":"Men"},{"$f":"Race0205!D$5","v":"Golden Masters"},{"$f":"Race0205!D$4","v":"Short Course"},{"$f":"Race0205!A$17","v":10},{"$f":"Race0205!D$17","v":0},{"$f":"Race0205!C$17","v":0},{"$f":"Race0205!F$17","v":2}]
[null,{"$f":"Race0205!B$5","v":"Senior"},{"$f":"Race0205!B$4","v":"OC6"},{"$f":"Race0205!E$5","v":"Men"},{"$f":"Race0205!D$5","v":"Golden Masters"},{"$f":"Race0205!D$4","v":"Short Course"},{"$f":"Race0205!A$18","v":11},{"$f":"Race0205!D$18","v":0},{"$f":"Race0205!C$18","v":0},{"$f":"Race0205!F$18","v":1}]
[null,{"$f":"Race0205!B$5","v":"Senior"},{"$f":"Race0205!B$4","v":"OC6"},{"$f":"Race0205!E$5","v":"Men"},{"$f":"Race0205!D$5","v":"Golden Masters"},{"$f":"Race0205!D$4","v":"Short Course"},{"$f":"Race0205!A$19","v":12},{"$f":"Race0205!D$19","v":0},{"$f":"Race0205!C$19","v":0},{"$f":"Race0205!F$19","v":1}]
[null,{"$f":"Race0205!B$5","v":"Senior"},{"$f":"Race0205!B$4","v":"OC6"},{"$f":"Race0205!E$5","v":"Men"},{"$f":"Race0205!D$5","v":"Golden Masters"},{"$f":"Race0205!D$4","v":"Short Course"},{"$f":"Race0205!A$20","v":13},{"$f":"Race0205!D$20","v":0},{"$f":"Race0205!C$20","v":0},{"$f":"Race0205!F$20","v":1}]
[null,{"$f":"Race0205!B$5","v":"Senior"},{"$f":"Race0205!B$4","v":"OC6"},{"$f":"Race0205!E$5","v":"Men"},{"$f":"Race0205!D$5","v":"Golden Masters"},{"$f":"Race0205!D$4","v":"Short Course"},{"$f":"Race0205!A$21","v":14},{"$f":"Race0205!D$21","v":0},{"$f":"Race0205!C$21","v":0},{"$f":"Race0205!F$21","v":1}]
[null,{"$f":"Race0205!B$5","v":"Senior"},{"$f":"Race0205!B$4","v":"OC6"},{"$f":"Race0205!E$5","v":"Men"},{"$f":"Race0205!D$5","v":"Golden Masters"},{"$f":"Race0205!D$4","v":"Short Course"},{"$f":"Race0205!A$22","v":15},{"$f":"Race0205!D$22","v":0},{"$f":"Race0205!C$22","v":0},{"$f":"Race0205!F$22","v":1}]
[null,{"$f":"Race0205!B$5","v":"Senior"},{"$f":"Race0205!B$4","v":"OC6"},{"$f":"Race0205!E$5","v":"Men"},{"$f":"Race0205!D$5","v":"Golden Masters"},{"$f":"Race0205!D$4","v":"Short Course"},{"$f":"Race0205!A$23","v":16},{"$f":"Race0205!D$23","v":0},{"$f":"Race0205!C$23","v":0},{"$f":"Race0205!F$23","v":1}]
[null,{"$f":"Race0205!B$5","v":"Senior"},{"$f":"Race0205!B$4","v":"OC6"},{"$f":"Race0205!E$5","v":"Men"},{"$f":"Race0205!D$5","v":"Golden Masters"},{"$f":"Race0205!D$4","v":"Short Course"},{"$f":"Race0205!A$24","v":17},{"$f":"Race0205!D$24","v":0},{"$f":"Race0205!C$24","v":0},{"$f":"Race0205!F$24","v":1}]
[null,{"$f":"Race0205!B$5","v":"Senior"},{"$f":"Race0205!B$4","v":"OC6"},{"$f":"Race0205!E$5","v":"Men"},{"$f":"Race0205!D$5","v":"Golden Masters"},{"$f":"Race0205!D$4","v":"Short Course"},{"$f":"Race0205!A$25","v":18},{"$f":"Race0205!D$25","v":0},{"$f":"Race0205!C$25","v":0},{"$f":"Race0205!F$25","v":1}]
[null,{"$f":"Race0205!B$5","v":"Senior"},{"$f":"Race0205!B$4","v":"OC6"},{"$f":"Race0205!E$5","v":"Men"},{"$f":"Race0205!D$5","v":"Golden Masters"},{"$f":"Race0205!D$4","v":"Short Course"},{"$f":"Race0205!A$26","v":19},{"$f":"Race0205!D$26","v":0},{"$f":"Race0205!C$26","v":0},{"$f":"Race0205!F$26","v":1}]
[null,{"$f":"Race0205!B$5","v":"Senior"},{"$f":"Race0205!B$4","v":"OC6"},{"$f":"Race0205!E$5","v":"Men"},{"$f":"Race0205!D$5","v":"Golden Masters"},{"$f":"Race0205!D$4","v":"Short Course"},{"$f":"Race0205!A$27","v":20},{"$f":"Race0205!D$27","v":0},{"$f":"Race0205!C$27","v":0},{"$f":"Race0205!F$27","v":1}]
[null,{"$f":"Race0205!B$5","v":"Senior"},{"$f":"Race0205!B$4","v":"OC6"},{"$f":"Race0205!E$5","v":"Men"},{"$f":"Race0205!D$5","v":"Golden Masters"},{"$f":"Race0205!D$4","v":"Short Course"},{"$f":"Race0205!A$28","v":21},{"$f":"Race0205!D$28","v":0},{"$f":"Race0205!C$28","v":0},{"$f":"Race0205!F$28","v":1}]
[null,{"$f":"Race0205!B$5","v":"Senior"},{"$f":"Race0205!B$4","v":"OC6"},{"$f":"Race0205!E$5","v":"Men"},{"$f":"Race0205!D$5","v":"Golden Masters"},{"$f":"Race0205!D$4","v":"Short Course"},{"$f":"Race0205!A$29","v":22},{"$f":"Race0205!D$29","v":0},{"$f":"Race0205!C$29","v":0},{"$f":"Race0205!F$29","v":1}]
[null,{"$f":"Race0205!B$5","v":"Senior"},{"$f":"Race0205!B$4","v":"OC6"},{"$f":"Race0205!E$5","v":"Men"},{"$f":"Race0205!D$5","v":"Golden Masters"},{"$f":"Race0205!D$4","v":"Short Course"},{"$f":"Race0205!A$30","v":23},{"$f":"Race0205!D$30","v":0},{"$f":"Race0205!C$30","v":0},{"$f":"Race0205!F$30","v":1}]
[null,{"$f":"Race0205!B$5","v":"Senior"},{"$f":"Race0205!B$4","v":"OC6"},{"$f":"Race0205!E$5","v":"Men"},{"$f":"Race0205!D$5","v":"Golden Masters"},{"$f":"Race0205!D$4","v":"Short Course"},{"$f":"Race0205!A$31","v":24},{"$f":"Race0205!D$31","v":0},{"$f":"Race0205!C$31","v":0},{"$f":"Race0205!F$31","v":1}]
[null,{"$f":"Race0205!B$5","v":"Senior"},{"$f":"Race0205!B$4","v":"OC6"},{"$f":"Race0205!E$5","v":"Men"},{"$f":"Race0205!D$5","v":"Golden Masters"},{"$f":"Race0205!D$4","v":"Short Course"},{"$f":"Race0205!A$32","v":25},{"$f":"Race0205!D$32","v":0},{"$f":"Race0205!C$32","v":0},{"$f":"Race0205!F$32","v":1}]
[null,{"$f":"Race0205!B$5","v":"Senior"},{"$f":"Race0205!B$4","v":"OC6"},{"$f":"Race0205!E$5","v":"Men"},{"$f":"Race0205!D$5","v":"Golden Masters"},{"$f":"Race0205!D$4","v":"Short Course"},{"$f":"Race0205!A$33","v":26},{"$f":"Race0205!D$33","v":0},{"$f":"Race0205!C$33","v":0},{"$f":"Race0205!F$33","v":1}]
[null,{"$f":"Race0205!B$5","v":"Senior"},{"$f":"Race0205!B$4","v":"OC6"},{"$f":"Race0205!E$5","v":"Men"},{"$f":"Race0205!D$5","v":"Golden Masters"},{"$f":"Race0205!D$4","v":"Short Course"},{"$f":"Race0205!A$34","v":27},{"$f":"Race0205!D$34","v":0},{"$f":"Race0205!C$34","v":0},{"$f":"Race0205!F$34","v":1}]
[null,{"$f":"Race0205!B$5","v":"Senior"},{"$f":"Race0205!B$4","v":"OC6"},{"$f":"Race0205!E$5","v":"Men"},{"$f":"Race0205!D$5","v":"Golden Masters"},{"$f":"Race0205!D$4","v":"Short Course"},{"$f":"Race0205!A$35","v":28},{"$f":"Race0205!D$35","v":0},{"$f":"Race0205!C$35","v":0},{"$f":"Race0205!F$35","v":1}]
[null,{"$f":"Race0205!B$5","v":"Senior"},{"$f":"Race0205!B$4","v":"OC6"},{"$f":"Race0205!E$5","v":"Men"},{"$f":"Race0205!D$5","v":"Golden Masters"},{"$f":"Race0205!D$4","v":"Short Course"},{"$f":"Race0205!A$36","v":29},{"$f":"Race0205!D$36","v":0},{"$f":"Race0205!C$36","v":0},{"$f":"Race0205!F$36","v":1}]
[null,{"$f":"Race0205!B$5","v":"Senior"},{"$f":"Race0205!B$4","v":"OC6"},{"$f":"Race0205!E$5","v":"Men"},{"$f":"Race0205!D$5","v":"Golden Masters"},{"$f":"Race0205!D$4","v":"Short Course"},{"$f":"Race0205!A$37","v":30},{"$f":"Race0205!D$37","v":0},{"$f":"Race0205!C$37","v":0},{"$f":"Race0205!F$37","v":1}]
[null,{"$f":"Race0205!B$5","v":"Senior"},{"$f":"Race0205!B$4","v":"OC6"},{"$f":"Race0205!E$5","v":"Men"},{"$f":"Race0205!D$5","v":"Golden Masters"},{"$f":"Race0205!D$4","v":"Short Course"},{"$f":"Race0205!A$38","v":31},{"$f":"Race0205!D$38","v":0},{"$f":"Race0205!C$38","v":0},{"$f":"Race0205!F$38","v":1}]
[null,{"$f":"Race0205!B$5","v":"Senior"},{"$f":"Race0205!B$4","v":"OC6"},{"$f":"Race0205!E$5","v":"Men"},{"$f":"Race0205!D$5","v":"Golden Masters"},{"$f":"Race0205!D$4","v":"Short Course"},{"$f":"Race0205!A$39","v":32},{"$f":"Race0205!D$39","v":0},{"$f":"Race0205!C$39","v":0},{"$f":"Race0205!F$39","v":1}]
[null,{"$f":"Race0205!B$5","v":"Senior"},{"$f":"Race0205!B$4","v":"OC6"},{"$f":"Race0205!E$5","v":"Men"},{"$f":"Race0205!D$5","v":"Golden Masters"},{"$f":"Race0205!D$4","v":"Short Course"},{"$f":"Race0205!A$40","v":33},{"$f":"Race0205!D$40","v":0},{"$f":"Race0205!C$40","v":0},{"$f":"Race0205!F$40","v":1}]
[null,{"$f":"Race0205!B$5","v":"Senior"},{"$f":"Race0205!B$4","v":"OC6"},{"$f":"Race0205!E$5","v":"Men"},{"$f":"Race0205!D$5","v":"Golden Masters"},{"$f":"Race0205!D$4","v":"Short Course"},{"$f":"Race0205!A$41","v":34},{"$f":"Race0205!D$41","v":0},{"$f":"Race0205!C$41","v":0},{"$f":"Race0205!F$41","v":1}]
[null,{"$f":"Race0205!B$5","v":"Senior"},{"$f":"Race0205!B$4","v":"OC6"},{"$f":"Race0205!E$5","v":"Men"},{"$f":"Race0205!D$5","v":"Golden Masters"},{"$f":"Race0205!D$4","v":"Short Course"},{"$f":"Race0205!A$42","v":35},{"$f":"Race0205!D$42","v":0},{"$f":"Race0205!C$42","v":0},{"$f":"Race0205!F$42","v":1}]
[null,{"$f":"Race0205!B$5","v":"Senior"},{"$f":"Race0205!B$4","v":"OC6"},{"$f":"Race0205!E$5","v":"Men"},{"$f":"Race0205!D$5","v":"Golden Masters"},{"$f":"Race0205!D$4","v":"Short Course"},{"$f":"Race0205!A$43","v":36},{"$f":"Race0205!D$43","v":0},{"$f":"Race0205!C$43","v":0},{"$f":"Race0205!F$43","v":1}]
[null,{"$f":"Race0205!B$5","v":"Senior"},{"$f":"Race0205!B$4","v":"OC6"},{"$f":"Race0205!E$5","v":"Men"},{"$f":"Race0205!D$5","v":"Golden Masters"},{"$f":"Race0205!D$4","v":"Short Course"},{"$f":"Race0205!A$44","v":37},{"$f":"Race0205!D$44","v":0},{"$f":"Race0205!C$44","v":0},{"$f":"Race0205!F$44","v":1}]
[null,{"$f":"Race0205!B$5","v":"Senior"},{"$f":"Race0205!B$4","v":"OC6"},{"$f":"Race0205!E$5","v":"Men"},{"$f":"Race0205!D$5","v":"Golden Masters"},{"$f":"Race0205!D$4","v":"Short Course"},{"$f":"Race0205!A$45","v":38},{"$f":"Race0205!D$45","v":0},{"$f":"Race0205!C$45","v":0},{"$f":"Race0205!F$45","v":1}]
[null,{"$f":"Race0205!B$5","v":"Senior"},{"$f":"Race0205!B$4","v":"OC6"},{"$f":"Race0205!E$5","v":"Men"},{"$f":"Race0205!D$5","v":"Golden Masters"},{"$f":"Race0205!D$4","v":"Short Course"},{"$f":"Race0205!A$46","v":39},{"$f":"Race0205!D$46","v":0},{"$f":"Race0205!C$46","v":0},{"$f":"Race0205!F$46","v":1}]
[null,{"$f":"Race0205!B$5","v":"Senior"},{"$f":"Race0205!B$4","v":"OC6"},{"$f":"Race0205!E$5","v":"Men"},{"$f":"Race0205!D$5","v":"Golden Masters"},{"$f":"Race0205!D$4","v":"Short Course"},{"$f":"Race0205!A$47","v":40},{"$f":"Race0205!D$47","v":0},{"$f":"Race0205!C$47","v":0},{"$f":"Race0205!F$47","v":1}]
[null,{"$f":"Race0205!B$5","v":"Senior"},{"$f":"Race0205!B$4","v":"OC6"},{"$f":"Race0205!E$5","v":"Men"},{"$f":"Race0205!D$5","v":"Golden Masters"},{"$f":"Race0205!D$4","v":"Short Course"},{"$f":"Race0205!A$48","v":41},{"$f":"Race0205!D$48","v":0},{"$f":"Race0205!C$48","v":0},{"$f":"Race0205!F$48","v":1}]
[null,{"$f":"Race0205!B$5","v":"Senior"},{"$f":"Race0205!B$4","v":"OC6"},{"$f":"Race0205!E$5","v":"Men"},{"$f":"Race0205!D$5","v":"Golden Masters"},{"$f":"Race0205!D$4","v":"Short Course"},{"$f":"Race0205!A$49","v":42},{"$f":"Race0205!D$49","v":0},{"$f":"Race0205!C$49","v":0},{"$f":"Race0205!F$49","v":1}]
[null,{"$f":"Race0205!B$5","v":"Senior"},{"$f":"Race0205!B$4","v":"OC6"},{"$f":"Race0205!E$5","v":"Men"},{"$f":"Race0205!D$5","v":"Golden Masters"},{"$f":"Race0205!D$4","v":"Short Course"},{"$f":"Race0205!A$50","v":43},{"$f":"Race0205!D$50","v":0},{"$f":"Race0205!C$50","v":0},{"$f":"Race0205!F$50","v":1}]
[null,{"$f":"Race0205!B$5","v":"Senior"},{"$f":"Race0205!B$4","v":"OC6"},{"$f":"Race0205!E$5","v":"Men"},{"$f":"Race0205!D$5","v":"Golden Masters"},{"$f":"Race0205!D$4","v":"Short Course"},{"$f":"Race0205!A$51","v":44},{"$f":"Race0205!D$51","v":0},{"$f":"Race0205!C$51","v":0},{"$f":"Race0205!F$51","v":1}]
[null,{"$f":"Race0205!B$5","v":"Senior"},{"$f":"Race0205!B$4","v":"OC6"},{"$f":"Race0205!E$5","v":"Men"},{"$f":"Race0205!D$5","v":"Golden Masters"},{"$f":"Race0205!D$4","v":"Short Course"},{"$f":"Race0205!A$52","v":45},{"$f":"Race0205!D$52","v":0},{"$f":"Race0205!C$52","v":0},{"$f":"Race0205!F$52","v":1}]
[null,{"$f":"Race0205!B$5","v":"Senior"},{"$f":"Race0205!B$4","v":"OC6"},{"$f":"Race0205!E$5","v":"Men"},{"$f":"Race0205!D$5","v":"Golden Masters"},{"$f":"Race0205!D$4","v":"Short Course"},{"$f":"Race0205!A$53","v":46},{"$f":"Race0205!D$53","v":0},{"$f":"Race0205!C$53","v":0},{"$f":"Race0205!F$53","v":1}]
[null,{"$f":"Race0205!B$5","v":"Senior"},{"$f":"Race0205!B$4","v":"OC6"},{"$f":"Race0205!E$5","v":"Men"},{"$f":"Race0205!D$5","v":"Golden Masters"},{"$f":"Race0205!D$4","v":"Short Course"},{"$f":"Race0205!A$54","v":47},{"$f":"Race0205!D$54","v":0},{"$f":"Race0205!C$54","v":0},{"$f":"Race0205!F$54","v":1}]
[null,{"$f":"Race0205!B$5","v":"Senior"},{"$f":"Race0205!B$4","v":"OC6"},{"$f":"Race0205!E$5","v":"Men"},{"$f":"Race0205!D$5","v":"Golden Masters"},{"$f":"Race0205!D$4","v":"Short Course"},{"$f":"Race0205!A$55","v":48},{"$f":"Race0205!D$55","v":0},{"$f":"Race0205!C$55","v":0},{"$f":"Race0205!F$55","v":1}]
[null,{"$f":"Race0205!B$5","v":"Senior"},{"$f":"Race0205!B$4","v":"OC6"},{"$f":"Race0205!E$5","v":"Men"},{"$f":"Race0205!D$5","v":"Golden Masters"},{"$f":"Race0205!D$4","v":"Short Course"},{"$f":"Race0205!A$56","v":49},{"$f":"Race0205!D$56","v":0},{"$f":"Race0205!C$56","v":0},{"$f":"Race0205!F$56","v":1}]
[null,{"$f":"Race0205!B$5","v":"Senior"},{"$f":"Race0205!B$4","v":"OC6"},{"$f":"Race0205!E$5","v":"Men"},{"$f":"Race0205!D$5","v":"Golden Masters"},{"$f":"Race0205!D$4","v":"Short Course"},{"$f":"Race0205!A$57","v":50},{"$f":"Race0205!D$57","v":0},{"$f":"Race0205!C$57","v":0},{"$f":"Race0205!F$57","v":1}]
["Race0206",{"$f":"Race0206!B$5","v":"Senior"},{"$f":"Race0206!B$4","v":"OC6"},{"$f":"Race0206!E$5","v":"Women"},{"$f":"Race0206!D$5","v":"21 & Under"},{"$f":"Race0206!D$4","v":"Short Course"},{"$f":"Race0206!A$8","v":1},{"$f":"Race0206!D$8","v":0},{"$f":"Race0206!C$8","v":0},{"$f":"Race0206!F$8","v":14}]
[null,{"$f":"Race0206!B$5","v":"Senior"},{"$f":"Race0206!B$4","v":"OC6"},{"$f":"Race0206!E$5","v":"Women"},{"$f":"Race0206!D$5","v":"21 & Under"},{"$f":"Race0206!D$4","v":"Short Course"},{"$f":"Race0206!A$9","v":2},{"$f":"Race0206!D$9","v":0},{"$f":"Race0206!C$9","v":0},{"$f":"Race0206!F$9","v":12}]
[null,{"$f":"Race0206!B$5","v":"Senior"},{"$f":"Race0206!B$4","v":"OC6"},{"$f":"Race0206!E$5","v":"Women"},{"$f":"Race0206!D$5","v":"21 & Under"},{"$f":"Race0206!D$4","v":"Short Course"},{"$f":"Race0206!A$10","v":3},{"$f":"Race0206!D$10","v":0},{"$f":"Race0206!C$10","v":0},{"$f":"Race0206!F$10","v":10}]
[null,{"$f":"Race0206!B$5","v":"Senior"},{"$f":"Race0206!B$4","v":"OC6"},{"$f":"Race0206!E$5","v":"Women"},{"$f":"Race0206!D$5","v":"21 & Under"},{"$f":"Race0206!D$4","v":"Short Course"},{"$f":"Race0206!A$11","v":4},{"$f":"Race0206!D$11","v":0},{"$f":"Race0206!C$11","v":0},{"$f":"Race0206!F$11","v":8}]
[null,{"$f":"Race0206!B$5","v":"Senior"},{"$f":"Race0206!B$4","v":"OC6"},{"$f":"Race0206!E$5","v":"Women"},{"$f":"Race0206!D$5","v":"21 & Under"},{"$f":"Race0206!D$4","v":"Short Course"},{"$f":"Race0206!A$12","v":5},{"$f":"Race0206!D$12","v":0},{"$f":"Race0206!C$12","v":0},{"$f":"Race0206!F$12","v":7}]
[null,{"$f":"Race0206!B$5","v":"Senior"},{"$f":"Race0206!B$4","v":"OC6"},{"$f":"Race0206!E$5","v":"Women"},{"$f":"Race0206!D$5","v":"21 & Under"},{"$f":"Race0206!D$4","v":"Short Course"},{"$f":"Race0206!A$13","v":6},{"$f":"Race0206!D$13","v":0},{"$f":"Race0206!C$13","v":0},{"$f":"Race0206!F$13","v":6}]
[null,{"$f":"Race0206!B$5","v":"Senior"},{"$f":"Race0206!B$4","v":"OC6"},{"$f":"Race0206!E$5","v":"Women"},{"$f":"Race0206!D$5","v":"21 & Under"},{"$f":"Race0206!D$4","v":"Short Course"},{"$f":"Race0206!A$14","v":7},{"$f":"Race0206!D$14","v":0},{"$f":"Race0206!C$14","v":0},{"$f":"Race0206!F$14","v":5}]
[null,{"$f":"Race0206!B$5","v":"Senior"},{"$f":"Race0206!B$4","v":"OC6"},{"$f":"Race0206!E$5","v":"Women"},{"$f":"Race0206!D$5","v":"21 & Under"},{"$f":"Race0206!D$4","v":"Short Course"},{"$f":"Race0206!A$15","v":8},{"$f":"Race0206!D$15","v":0},{"$f":"Race0206!C$15","v":0},{"$f":"Race0206!F$15","v":4}]
[null,{"$f":"Race0206!B$5","v":"Senior"},{"$f":"Race0206!B$4","v":"OC6"},{"$f":"Race0206!E$5","v":"Women"},{"$f":"Race0206!D$5","v":"21 & Under"},{"$f":"Race0206!D$4","v":"Short Course"},{"$f":"Race0206!A$16","v":9},{"$f":"Race0206!D$16","v":0},{"$f":"Race0206!C$16","v":0},{"$f":"Race0206!F$16","v":3}]
[null,{"$f":"Race0206!B$5","v":"Senior"},{"$f":"Race0206!B$4","v":"OC6"},{"$f":"Race0206!E$5","v":"Women"},{"$f":"Race0206!D$5","v":"21 & Under"},{"$f":"Race0206!D$4","v":"Short Course"},{"$f":"Race0206!A$17","v":10},{"$f":"Race0206!D$17","v":0},{"$f":"Race0206!C$17","v":0},{"$f":"Race0206!F$17","v":2}]
[null,{"$f":"Race0206!B$5","v":"Senior"},{"$f":"Race0206!B$4","v":"OC6"},{"$f":"Race0206!E$5","v":"Women"},{"$f":"Race0206!D$5","v":"21 & Under"},{"$f":"Race0206!D$4","v":"Short Course"},{"$f":"Race0206!A$18","v":11},{"$f":"Race0206!D$18","v":0},{"$f":"Race0206!C$18","v":0},{"$f":"Race0206!F$18","v":1}]
[null,{"$f":"Race0206!B$5","v":"Senior"},{"$f":"Race0206!B$4","v":"OC6"},{"$f":"Race0206!E$5","v":"Women"},{"$f":"Race0206!D$5","v":"21 & Under"},{"$f":"Race0206!D$4","v":"Short Course"},{"$f":"Race0206!A$19","v":12},{"$f":"Race0206!D$19","v":0},{"$f":"Race0206!C$19","v":0},{"$f":"Race0206!F$19","v":1}]
[null,{"$f":"Race0206!B$5","v":"Senior"},{"$f":"Race0206!B$4","v":"OC6"},{"$f":"Race0206!E$5","v":"Women"},{"$f":"Race0206!D$5","v":"21 & Under"},{"$f":"Race0206!D$4","v":"Short Course"},{"$f":"Race0206!A$20","v":13},{"$f":"Race0206!D$20","v":0},{"$f":"Race0206!C$20","v":0},{"$f":"Race0206!F$20","v":1}]
[null,{"$f":"Race0206!B$5","v":"Senior"},{"$f":"Race0206!B$4","v":"OC6"},{"$f":"Race0206!E$5","v":"Women"},{"$f":"Race0206!D$5","v":"21 & Under"},{"$f":"Race0206!D$4","v":"Short Course"},{"$f":"Race0206!A$21","v":14},{"$f":"Race0206!D$21","v":0},{"$f":"Race0206!C$21","v":0},{"$f":"Race0206!F$21","v":1}]
[null,{"$f":"Race0206!B$5","v":"Senior"},{"$f":"Race0206!B$4","v":"OC6"},{"$f":"Race0206!E$5","v":"Women"},{"$f":"Race0206!D$5","v":"21 & Under"},{"$f":"Race0206!D$4","v":"Short Course"},{"$f":"Race0206!A$22","v":15},{"$f":"Race0206!D$22","v":0},{"$f":"Race0206!C$22","v":0},{"$f":"Race0206!F$22","v":1}]
[null,{"$f":"Race0206!B$5","v":"Senior"},{"$f":"Race0206!B$4","v":"OC6"},{"$f":"Race0206!E$5","v":"Women"},{"$f":"Race0206!D$5","v":"21 & Under"},{"$f":"Race0206!D$4","v":"Short Course"},{"$f":"Race0206!A$23","v":16},{"$f":"Race0206!D$23","v":0},{"$f":"Race0206!C$23","v":0},{"$f":"Race0206!F$23","v":1}]
[null,{"$f":"Race0206!B$5","v":"Senior"},{"$f":"Race0206!B$4","v":"OC6"},{"$f":"Race0206!E$5","v":"Women"},{"$f":"Race0206!D$5","v":"21 & Under"},{"$f":"Race0206!D$4","v":"Short Course"},{"$f":"Race0206!A$24","v":17},{"$f":"Race0206!D$24","v":0},{"$f":"Race0206!C$24","v":0},{"$f":"Race0206!F$24","v":1}]
[null,{"$f":"Race0206!B$5","v":"Senior"},{"$f":"Race0206!B$4","v":"OC6"},{"$f":"Race0206!E$5","v":"Women"},{"$f":"Race0206!D$5","v":"21 & Under"},{"$f":"Race0206!D$4","v":"Short Course"},{"$f":"Race0206!A$25","v":18},{"$f":"Race0206!D$25","v":0},{"$f":"Race0206!C$25","v":0},{"$f":"Race0206!F$25","v":1}]
[null,{"$f":"Race0206!B$5","v":"Senior"},{"$f":"Race0206!B$4","v":"OC6"},{"$f":"Race0206!E$5","v":"Women"},{"$f":"Race0206!D$5","v":"21 & Under"},{"$f":"Race0206!D$4","v":"Short Course"},{"$f":"Race0206!A$26","v":19},{"$f":"Race0206!D$26","v":0},{"$f":"Race0206!C$26","v":0},{"$f":"Race0206!F$26","v":1}]
[null,{"$f":"Race0206!B$5","v":"Senior"},{"$f":"Race0206!B$4","v":"OC6"},{"$f":"Race0206!E$5","v":"Women"},{"$f":"Race0206!D$5","v":"21 & Under"},{"$f":"Race0206!D$4","v":"Short Course"},{"$f":"Race0206!A$27","v":20},{"$f":"Race0206!D$27","v":0},{"$f":"Race0206!C$27","v":0},{"$f":"Race0206!F$27","v":1}]
[null,{"$f":"Race0206!B$5","v":"Senior"},{"$f":"Race0206!B$4","v":"OC6"},{"$f":"Race0206!E$5","v":"Women"},{"$f":"Race0206!D$5","v":"21 & Under"},{"$f":"Race0206!D$4","v":"Short Course"},{"$f":"Race0206!A$28","v":21},{"$f":"Race0206!D$28","v":0},{"$f":"Race0206!C$28","v":0},{"$f":"Race0206!F$28","v":1}]
[null,{"$f":"Race0206!B$5","v":"Senior"},{"$f":"Race0206!B$4","v":"OC6"},{"$f":"Race0206!E$5","v":"Women"},{"$f":"Race0206!D$5","v":"21 & Under"},{"$f":"Race0206!D$4","v":"Short Course"},{"$f":"Race0206!A$29","v":22},{"$f":"Race0206!D$29","v":0},{"$f":"Race0206!C$29","v":0},{"$f":"Race0206!F$29","v":1}]
[null,{"$f":"Race0206!B$5","v":"Senior"},{"$f":"Race0206!B$4","v":"OC6"},{"$f":"Race0206!E$5","v":"Women"},{"$f":"Race0206!D$5","v":"21 & Under"},{"$f":"Race0206!D$4","v":"Short Course"},{"$f":"Race0206!A$30","v":23},{"$f":"Race0206!D$30","v":0},{"$f":"Race0206!C$30","v":0},{"$f":"Race0206!F$30","v":1}]
[null,{"$f":"Race0206!B$5","v":"Senior"},{"$f":"Race0206!B$4","v":"OC6"},{"$f":"Race0206!E$5","v":"Women"},{"$f":"Race0206!D$5","v":"21 & Under"},{"$f":"Race0206!D$4","v":"Short Course"},{"$f":"Race0206!A$31","v":24},{"$f":"Race0206!D$31","v":0},{"$f":"Race0206!C$31","v":0},{"$f":"Race0206!F$31","v":1}]
[null,{"$f":"Race0206!B$5","v":"Senior"},{"$f":"Race0206!B$4","v":"OC6"},{"$f":"Race0206!E$5","v":"Women"},{"$f":"Race0206!D$5","v":"21 & Under"},{"$f":"Race0206!D$4","v":"Short Course"},{"$f":"Race0206!A$32","v":25},{"$f":"Race0206!D$32","v":0},{"$f":"Race0206!C$32","v":0},{"$f":"Race0206!F$32","v":1}]
[null,{"$f":"Race0206!B$5","v":"Senior"},{"$f":"Race0206!B$4","v":"OC6"},{"$f":"Race0206!E$5","v":"Women"},{"$f":"Race0206!D$5","v":"21 & Under"},{"$f":"Race0206!D$4","v":"Short Course"},{"$f":"Race0206!A$33","v":26},{"$f":"Race0206!D$33","v":0},{"$f":"Race0206!C$33","v":0},{"$f":"Race0206!F$33","v":1}]
[null,{"$f":"Race0206!B$5","v":"Senior"},{"$f":"Race0206!B$4","v":"OC6"},{"$f":"Race0206!E$5","v":"Women"},{"$f":"Race0206!D$5","v":"21 & Under"},{"$f":"Race0206!D$4","v":"Short Course"},{"$f":"Race0206!A$34","v":27},{"$f":"Race0206!D$34","v":0},{"$f":"Race0206!C$34","v":0},{"$f":"Race0206!F$34","v":1}]
[null,{"$f":"Race0206!B$5","v":"Senior"},{"$f":"Race0206!B$4","v":"OC6"},{"$f":"Race0206!E$5","v":"Women"},{"$f":"Race0206!D$5","v":"21 & Under"},{"$f":"Race0206!D$4","v":"Short Course"},{"$f":"Race0206!A$35","v":28},{"$f":"Race0206!D$35","v":0},{"$f":"Race0206!C$35","v":0},{"$f":"Race0206!F$35","v":1}]
[null,{"$f":"Race0206!B$5","v":"Senior"},{"$f":"Race0206!B$4","v":"OC6"},{"$f":"Race0206!E$5","v":"Women"},{"$f":"Race0206!D$5","v":"21 & Under"},{"$f":"Race0206!D$4","v":"Short Course"},{"$f":"Race0206!A$36","v":29},{"$f":"Race0206!D$36","v":0},{"$f":"Race0206!C$36","v":0},{"$f":"Race0206!F$36","v":1}]
[null,{"$f":"Race0206!B$5","v":"Senior"},{"$f":"Race0206!B$4","v":"OC6"},{"$f":"Race0206!E$5","v":"Women"},{"$f":"Race0206!D$5","v":"21 & Under"},{"$f":"Race0206!D$4","v":"Short Course"},{"$f":"Race0206!A$37","v":30},{"$f":"Race0206!D$37","v":0},{"$f":"Race0206!C$37","v":0},{"$f":"Race0206!F$37","v":1}]
[null,{"$f":"Race0206!B$5","v":"Senior"},{"$f":"Race0206!B$4","v":"OC6"},{"$f":"Race0206!E$5","v":"Women"},{"$f":"Race0206!D$5","v":"21 & Under"},{"$f":"Race0206!D$4","v":"Short Course"},{"$f":"Race0206!A$38","v":31},{"$f":"Race0206!D$38","v":0},{"$f":"Race0206!C$38","v":0},{"$f":"Race0206!F$38","v":1}]
[null,{"$f":"Race0206!B$5","v":"Senior"},{"$f":"Race0206!B$4","v":"OC6"},{"$f":"Race0206!E$5","v":"Women"},{"$f":"Race0206!D$5","v":"21 & Under"},{"$f":"Race0206!D$4","v":"Short Course"},{"$f":"Race0206!A$39","v":32},{"$f":"Race0206!D$39","v":0},{"$f":"Race0206!C$39","v":0},{"$f":"Race0206!F$39","v":1}]
[null,{"$f":"Race0206!B$5","v":"Senior"},{"$f":"Race0206!B$4","v":"OC6"},{"$f":"Race0206!E$5","v":"Women"},{"$f":"Race0206!D$5","v":"21 & Under"},{"$f":"Race0206!D$4","v":"Short Course"},{"$f":"Race0206!A$40","v":33},{"$f":"Race0206!D$40","v":0},{"$f":"Race0206!C$40","v":0},{"$f":"Race0206!F$40","v":1}]
[null,{"$f":"Race0206!B$5","v":"Senior"},{"$f":"Race0206!B$4","v":"OC6"},{"$f":"Race0206!E$5","v":"Women"},{"$f":"Race0206!D$5","v":"21 & Under"},{"$f":"Race0206!D$4","v":"Short Course"},{"$f":"Race0206!A$41","v":34},{"$f":"Race0206!D$41","v":0},{"$f":"Race0206!C$41","v":0},{"$f":"Race0206!F$41","v":1}]
[null,{"$f":"Race0206!B$5","v":"Senior"},{"$f":"Race0206!B$4","v":"OC6"},{"$f":"Race0206!E$5","v":"Women"},{"$f":"Race0206!D$5","v":"21 & Under"},{"$f":"Race0206!D$4","v":"Short Course"},{"$f":"Race0206!A$42","v":35},{"$f":"Race0206!D$42","v":0},{"$f":"Race0206!C$42","v":0},{"$f":"Race0206!F$42","v":1}]
[null,{"$f":"Race0206!B$5","v":"Senior"},{"$f":"Race0206!B$4","v":"OC6"},{"$f":"Race0206!E$5","v":"Women"},{"$f":"Race0206!D$5","v":"21 & Under"},{"$f":"Race0206!D$4","v":"Short Course"},{"$f":"Race0206!A$43","v":36},{"$f":"Race0206!D$43","v":0},{"$f":"Race0206!C$43","v":0},{"$f":"Race0206!F$43","v":1}]
[null,{"$f":"Race0206!B$5","v":"Senior"},{"$f":"Race0206!B$4","v":"OC6"},{"$f":"Race0206!E$5","v":"Women"},{"$f":"Race0206!D$5","v":"21 & Under"},{"$f":"Race0206!D$4","v":"Short Course"},{"$f":"Race0206!A$44","v":37},{"$f":"Race0206!D$44","v":0},{"$f":"Race0206!C$44","v":0},{"$f":"Race0206!F$44","v":1}]
[null,{"$f":"Race0206!B$5","v":"Senior"},{"$f":"Race0206!B$4","v":"OC6"},{"$f":"Race0206!E$5","v":"Women"},{"$f":"Race0206!D$5","v":"21 & Under"},{"$f":"Race0206!D$4","v":"Short Course"},{"$f":"Race0206!A$45","v":38},{"$f":"Race0206!D$45","v":0},{"$f":"Race0206!C$45","v":0},{"$f":"Race0206!F$45","v":1}]
[null,{"$f":"Race0206!B$5","v":"Senior"},{"$f":"Race0206!B$4","v":"OC6"},{"$f":"Race0206!E$5","v":"Women"},{"$f":"Race0206!D$5","v":"21 & Under"},{"$f":"Race0206!D$4","v":"Short Course"},{"$f":"Race0206!A$46","v":39},{"$f":"Race0206!D$46","v":0},{"$f":"Race0206!C$46","v":0},{"$f":"Race0206!F$46","v":1}]
[null,{"$f":"Race0206!B$5","v":"Senior"},{"$f":"Race0206!B$4","v":"OC6"},{"$f":"Race0206!E$5","v":"Women"},{"$f":"Race0206!D$5","v":"21 & Under"},{"$f":"Race0206!D$4","v":"Short Course"},{"$f":"Race0206!A$47","v":40},{"$f":"Race0206!D$47","v":0},{"$f":"Race0206!C$47","v":0},{"$f":"Race0206!F$47","v":1}]
[null,{"$f":"Race0206!B$5","v":"Senior"},{"$f":"Race0206!B$4","v":"OC6"},{"$f":"Race0206!E$5","v":"Women"},{"$f":"Race0206!D$5","v":"21 & Under"},{"$f":"Race0206!D$4","v":"Short Course"},{"$f":"Race0206!A$48","v":41},{"$f":"Race0206!D$48","v":0},{"$f":"Race0206!C$48","v":0},{"$f":"Race0206!F$48","v":1}]
[null,{"$f":"Race0206!B$5","v":"Senior"},{"$f":"Race0206!B$4","v":"OC6"},{"$f":"Race0206!E$5","v":"Women"},{"$f":"Race0206!D$5","v":"21 & Under"},{"$f":"Race0206!D$4","v":"Short Course"},{"$f":"Race0206!A$49","v":42},{"$f":"Race0206!D$49","v":0},{"$f":"Race0206!C$49","v":0},{"$f":"Race0206!F$49","v":1}]
[null,{"$f":"Race0206!B$5","v":"Senior"},{"$f":"Race0206!B$4","v":"OC6"},{"$f":"Race0206!E$5","v":"Women"},{"$f":"Race0206!D$5","v":"21 & Under"},{"$f":"Race0206!D$4","v":"Short Course"},{"$f":"Race0206!A$50","v":43},{"$f":"Race0206!D$50","v":0},{"$f":"Race0206!C$50","v":0},{"$f":"Race0206!F$50","v":1}]
[null,{"$f":"Race0206!B$5","v":"Senior"},{"$f":"Race0206!B$4","v":"OC6"},{"$f":"Race0206!E$5","v":"Women"},{"$f":"Race0206!D$5","v":"21 & Under"},{"$f":"Race0206!D$4","v":"Short Course"},{"$f":"Race0206!A$51","v":44},{"$f":"Race0206!D$51","v":0},{"$f":"Race0206!C$51","v":0},{"$f":"Race0206!F$51","v":1}]
[null,{"$f":"Race0206!B$5","v":"Senior"},{"$f":"Race0206!B$4","v":"OC6"},{"$f":"Race0206!E$5","v":"Women"},{"$f":"Race0206!D$5","v":"21 & Under"},{"$f":"Race0206!D$4","v":"Short Course"},{"$f":"Race0206!A$52","v":45},{"$f":"Race0206!D$52","v":0},{"$f":"Race0206!C$52","v":0},{"$f":"Race0206!F$52","v":1}]
[null,{"$f":"Race0206!B$5","v":"Senior"},{"$f":"Race0206!B$4","v":"OC6"},{"$f":"Race0206!E$5","v":"Women"},{"$f":"Race0206!D$5","v":"21 & Under"},{"$f":"Race0206!D$4","v":"Short Course"},{"$f":"Race0206!A$53","v":46},{"$f":"Race0206!D$53","v":0},{"$f":"Race0206!C$53","v":0},{"$f":"Race0206!F$53","v":1}]
[null,{"$f":"Race0206!B$5","v":"Senior"},{"$f":"Race0206!B$4","v":"OC6"},{"$f":"Race0206!E$5","v":"Women"},{"$f":"Race0206!D$5","v":"21 & Under"},{"$f":"Race0206!D$4","v":"Short Course"},{"$f":"Race0206!A$54","v":47},{"$f":"Race0206!D$54","v":0},{"$f":"Race0206!C$54","v":0},{"$f":"Race0206!F$54","v":1}]
[null,{"$f":"Race0206!B$5","v":"Senior"},{"$f":"Race0206!B$4","v":"OC6"},{"$f":"Race0206!E$5","v":"Women"},{"$f":"Race0206!D$5","v":"21 & Under"},{"$f":"Race0206!D$4","v":"Short Course"},{"$f":"Race0206!A$55","v":48},{"$f":"Race0206!D$55","v":0},{"$f":"Race0206!C$55","v":0},{"$f":"Race0206!F$55","v":1}]
[null,{"$f":"Race0206!B$5","v":"Senior"},{"$f":"Race0206!B$4","v":"OC6"},{"$f":"Race0206!E$5","v":"Women"},{"$f":"Race0206!D$5","v":"21 & Under"},{"$f":"Race0206!D$4","v":"Short Course"},{"$f":"Race0206!A$56","v":49},{"$f":"Race0206!D$56","v":0},{"$f":"Race0206!C$56","v":0},{"$f":"Race0206!F$56","v":1}]
[null,{"$f":"Race0206!B$5","v":"Senior"},{"$f":"Race0206!B$4","v":"OC6"},{"$f":"Race0206!E$5","v":"Women"},{"$f":"Race0206!D$5","v":"21 & Under"},{"$f":"Race0206!D$4","v":"Short Course"},{"$f":"Race0206!A$57","v":50},{"$f":"Race0206!D$57","v":0},{"$f":"Race0206!C$57","v":0},{"$f":"Race0206!F$57","v":1}]
["Race0207",{"$f":"Race0207!B$5","v":"Senior"},{"$f":"Race0207!B$4","v":"OC6"},{"$f":"Race0207!E$5","v":"Women"},{"$f":"Race0207!D$5","v":"Open"},{"$f":"Race0207!D$4","v":"Short Course"},{"$f":"Race0207!A$8","v":1},{"$f":"Race0207!D$8","v":0},{"$f":"Race0207!C$8","v":0},{"$f":"Race0207!F$8","v":14}]
[null,{"$f":"Race0207!B$5","v":"Senior"},{"$f":"Race0207!B$4","v":"OC6"},{"$f":"Race0207!E$5","v":"Women"},{"$f":"Race0207!D$5","v":"Open"},{"$f":"Race0207!D$4","v":"Short Course"},{"$f":"Race0207!A$9","v":2},{"$f":"Race0207!D$9","v":0},{"$f":"Race0207!C$9","v":0},{"$f":"Race0207!F$9","v":12}]
[null,{"$f":"Race0207!B$5","v":"Senior"},{"$f":"Race0207!B$4","v":"OC6"},{"$f":"Race0207!E$5","v":"Women"},{"$f":"Race0207!D$5","v":"Open"},{"$f":"Race0207!D$4","v":"Short Course"},{"$f":"Race0207!A$10","v":3},{"$f":"Race0207!D$10","v":0},{"$f":"Race0207!C$10","v":0},{"$f":"Race0207!F$10","v":10}]
[null,{"$f":"Race0207!B$5","v":"Senior"},{"$f":"Race0207!B$4","v":"OC6"},{"$f":"Race0207!E$5","v":"Women"},{"$f":"Race0207!D$5","v":"Open"},{"$f":"Race0207!D$4","v":"Short Course"},{"$f":"Race0207!A$11","v":4},{"$f":"Race0207!D$11","v":0},{"$f":"Race0207!C$11","v":0},{"$f":"Race0207!F$11","v":8}]
[null,{"$f":"Race0207!B$5","v":"Senior"},{"$f":"Race0207!B$4","v":"OC6"},{"$f":"Race0207!E$5","v":"Women"},{"$f":"Race0207!D$5","v":"Open"},{"$f":"Race0207!D$4","v":"Short Course"},{"$f":"Race0207!A$12","v":5},{"$f":"Race0207!D$12","v":0},{"$f":"Race0207!C$12","v":0},{"$f":"Race0207!F$12","v":7}]
[null,{"$f":"Race0207!B$5","v":"Senior"},{"$f":"Race0207!B$4","v":"OC6"},{"$f":"Race0207!E$5","v":"Women"},{"$f":"Race0207!D$5","v":"Open"},{"$f":"Race0207!D$4","v":"Short Course"},{"$f":"Race0207!A$13","v":6},{"$f":"Race0207!D$13","v":0},{"$f":"Race0207!C$13","v":0},{"$f":"Race0207!F$13","v":6}]
[null,{"$f":"Race0207!B$5","v":"Senior"},{"$f":"Race0207!B$4","v":"OC6"},{"$f":"Race0207!E$5","v":"Women"},{"$f":"Race0207!D$5","v":"Open"},{"$f":"Race0207!D$4","v":"Short Course"},{"$f":"Race0207!A$14","v":7},{"$f":"Race0207!D$14","v":0},{"$f":"Race0207!C$14","v":0},{"$f":"Race0207!F$14","v":5}]
[null,{"$f":"Race0207!B$5","v":"Senior"},{"$f":"Race0207!B$4","v":"OC6"},{"$f":"Race0207!E$5","v":"Women"},{"$f":"Race0207!D$5","v":"Open"},{"$f":"Race0207!D$4","v":"Short Course"},{"$f":"Race0207!A$15","v":8},{"$f":"Race0207!D$15","v":0},{"$f":"Race0207!C$15","v":0},{"$f":"Race0207!F$15","v":4}]
[null,{"$f":"Race0207!B$5","v":"Senior"},{"$f":"Race0207!B$4","v":"OC6"},{"$f":"Race0207!E$5","v":"Women"},{"$f":"Race0207!D$5","v":"Open"},{"$f":"Race0207!D$4","v":"Short Course"},{"$f":"Race0207!A$16","v":9},{"$f":"Race0207!D$16","v":0},{"$f":"Race0207!C$16","v":0},{"$f":"Race0207!F$16","v":3}]
[null,{"$f":"Race0207!B$5","v":"Senior"},{"$f":"Race0207!B$4","v":"OC6"},{"$f":"Race0207!E$5","v":"Women"},{"$f":"Race0207!D$5","v":"Open"},{"$f":"Race0207!D$4","v":"Short Course"},{"$f":"Race0207!A$17","v":10},{"$f":"Race0207!D$17","v":0},{"$f":"Race0207!C$17","v":0},{"$f":"Race0207!F$17","v":2}]
[null,{"$f":"Race0207!B$5","v":"Senior"},{"$f":"Race0207!B$4","v":"OC6"},{"$f":"Race0207!E$5","v":"Women"},{"$f":"Race0207!D$5","v":"Open"},{"$f":"Race0207!D$4","v":"Short Course"},{"$f":"Race0207!A$18","v":11},{"$f":"Race0207!D$18","v":0},{"$f":"Race0207!C$18","v":0},{"$f":"Race0207!F$18","v":1}]
[null,{"$f":"Race0207!B$5","v":"Senior"},{"$f":"Race0207!B$4","v":"OC6"},{"$f":"Race0207!E$5","v":"Women"},{"$f":"Race0207!D$5","v":"Open"},{"$f":"Race0207!D$4","v":"Short Course"},{"$f":"Race0207!A$19","v":12},{"$f":"Race0207!D$19","v":0},{"$f":"Race0207!C$19","v":0},{"$f":"Race0207!F$19","v":1}]
[null,{"$f":"Race0207!B$5","v":"Senior"},{"$f":"Race0207!B$4","v":"OC6"},{"$f":"Race0207!E$5","v":"Women"},{"$f":"Race0207!D$5","v":"Open"},{"$f":"Race0207!D$4","v":"Short Course"},{"$f":"Race0207!A$20","v":13},{"$f":"Race0207!D$20","v":0},{"$f":"Race0207!C$20","v":0},{"$f":"Race0207!F$20","v":1}]
[null,{"$f":"Race0207!B$5","v":"Senior"},{"$f":"Race0207!B$4","v":"OC6"},{"$f":"Race0207!E$5","v":"Women"},{"$f":"Race0207!D$5","v":"Open"},{"$f":"Race0207!D$4","v":"Short Course"},{"$f":"Race0207!A$21","v":14},{"$f":"Race0207!D$21","v":0},{"$f":"Race0207!C$21","v":0},{"$f":"Race0207!F$21","v":1}]
[null,{"$f":"Race0207!B$5","v":"Senior"},{"$f":"Race0207!B$4","v":"OC6"},{"$f":"Race0207!E$5","v":"Women"},{"$f":"Race0207!D$5","v":"Open"},{"$f":"Race0207!D$4","v":"Short Course"},{"$f":"Race0207!A$22","v":15},{"$f":"Race0207!D$22","v":0},{"$f":"Race0207!C$22","v":0},{"$f":"Race0207!F$22","v":1}]
[null,{"$f":"Race0207!B$5","v":"Senior"},{"$f":"Race0207!B$4","v":"OC6"},{"$f":"Race0207!E$5","v":"Women"},{"$f":"Race0207!D$5","v":"Open"},{"$f":"Race0207!D$4","v":"Short Course"},{"$f":"Race0207!A$23","v":16},{"$f":"Race0207!D$23","v":0},{"$f":"Race0207!C$23","v":0},{"$f":"Race0207!F$23","v":1}]
[null,{"$f":"Race0207!B$5","v":"Senior"},{"$f":"Race0207!B$4","v":"OC6"},{"$f":"Race0207!E$5","v":"Women"},{"$f":"Race0207!D$5","v":"Open"},{"$f":"Race0207!D$4","v":"Short Course"},{"$f":"Race0207!A$24","v":17},{"$f":"Race0207!D$24","v":0},{"$f":"Race0207!C$24","v":0},{"$f":"Race0207!F$24","v":1}]
[null,{"$f":"Race0207!B$5","v":"Senior"},{"$f":"Race0207!B$4","v":"OC6"},{"$f":"Race0207!E$5","v":"Women"},{"$f":"Race0207!D$5","v":"Open"},{"$f":"Race0207!D$4","v":"Short Course"},{"$f":"Race0207!A$25","v":18},{"$f":"Race0207!D$25","v":0},{"$f":"Race0207!C$25","v":0},{"$f":"Race0207!F$25","v":1}]
[null,{"$f":"Race0207!B$5","v":"Senior"},{"$f":"Race0207!B$4","v":"OC6"},{"$f":"Race0207!E$5","v":"Women"},{"$f":"Race0207!D$5","v":"Open"},{"$f":"Race0207!D$4","v":"Short Course"},{"$f":"Race0207!A$26","v":19},{"$f":"Race0207!D$26","v":0},{"$f":"Race0207!C$26","v":0},{"$f":"Race0207!F$26","v":1}]
[null,{"$f":"Race0207!B$5","v":"Senior"},{"$f":"Race0207!B$4","v":"OC6"},{"$f":"Race0207!E$5","v":"Women"},{"$f":"Race0207!D$5","v":"Open"},{"$f":"Race0207!D$4","v":"Short Course"},{"$f":"Race0207!A$27","v":20},{"$f":"Race0207!D$27","v":0},{"$f":"Race0207!C$27","v":0},{"$f":"Race0207!F$27","v":1}]
[null,{"$f":"Race0207!B$5","v":"Senior"},{"$f":"Race0207!B$4","v":"OC6"},{"$f":"Race0207!E$5","v":"Women"},{"$f":"Race0207!D$5","v":"Open"},{"$f":"Race0207!D$4","v":"Short Course"},{"$f":"Race0207!A$28","v":21},{"$f":"Race0207!D$28","v":0},{"$f":"Race0207!C$28","v":0},{"$f":"Race0207!F$28","v":1}]
[null,{"$f":"Race0207!B$5","v":"Senior"},{"$f":"Race0207!B$4","v":"OC6"},{"$f":"Race0207!E$5","v":"Women"},{"$f":"Race0207!D$5","v":"Open"},{"$f":"Race0207!D$4","v":"Short Course"},{"$f":"Race0207!A$29","v":22},{"$f":"Race0207!D$29","v":0},{"$f":"Race0207!C$29","v":0},{"$f":"Race0207!F$29","v":1}]
[null,{"$f":"Race0207!B$5","v":"Senior"},{"$f":"Race0207!B$4","v":"OC6"},{"$f":"Race0207!E$5","v":"Women"},{"$f":"Race0207!D$5","v":"Open"},{"$f":"Race0207!D$4","v":"Short Course"},{"$f":"Race0207!A$30","v":23},{"$f":"Race0207!D$30","v":0},{"$f":"Race0207!C$30","v":0},{"$f":"Race0207!F$30","v":1}]
[null,{"$f":"Race0207!B$5","v":"Senior"},{"$f":"Race0207!B$4","v":"OC6"},{"$f":"Race0207!E$5","v":"Women"},{"$f":"Race0207!D$5","v":"Open"},{"$f":"Race0207!D$4","v":"Short Course"},{"$f":"Race0207!A$31","v":24},{"$f":"Race0207!D$31","v":0},{"$f":"Race0207!C$31","v":0},{"$f":"Race0207!F$31","v":1}]
[null,{"$f":"Race0207!B$5","v":"Senior"},{"$f":"Race0207!B$4","v":"OC6"},{"$f":"Race0207!E$5","v":"Women"},{"$f":"Race0207!D$5","v":"Open"},{"$f":"Race0207!D$4","v":"Short Course"},{"$f":"Race0207!A$32","v":25},{"$f":"Race0207!D$32","v":0},{"$f":"Race0207!C$32","v":0},{"$f":"Race0207!F$32","v":1}]
[null,{"$f":"Race0207!B$5","v":"Senior"},{"$f":"Race0207!B$4","v":"OC6"},{"$f":"Race0207!E$5","v":"Women"},{"$f":"Race0207!D$5","v":"Open"},{"$f":"Race0207!D$4","v":"Short Course"},{"$f":"Race0207!A$33","v":26},{"$f":"Race0207!D$33","v":0},{"$f":"Race0207!C$33","v":0},{"$f":"Race0207!F$33","v":1}]
[null,{"$f":"Race0207!B$5","v":"Senior"},{"$f":"Race0207!B$4","v":"OC6"},{"$f":"Race0207!E$5","v":"Women"},{"$f":"Race0207!D$5","v":"Open"},{"$f":"Race0207!D$4","v":"Short Course"},{"$f":"Race0207!A$34","v":27},{"$f":"Race0207!D$34","v":0},{"$f":"Race0207!C$34","v":0},{"$f":"Race0207!F$34","v":1}]
[null,{"$f":"Race0207!B$5","v":"Senior"},{"$f":"Race0207!B$4","v":"OC6"},{"$f":"Race0207!E$5","v":"Women"},{"$f":"Race0207!D$5","v":"Open"},{"$f":"Race0207!D$4","v":"Short Course"},{"$f":"Race0207!A$35","v":28},{"$f":"Race0207!D$35","v":0},{"$f":"Race0207!C$35","v":0},{"$f":"Race0207!F$35","v":1}]
[null,{"$f":"Race0207!B$5","v":"Senior"},{"$f":"Race0207!B$4","v":"OC6"},{"$f":"Race0207!E$5","v":"Women"},{"$f":"Race0207!D$5","v":"Open"},{"$f":"Race0207!D$4","v":"Short Course"},{"$f":"Race0207!A$36","v":29},{"$f":"Race0207!D$36","v":0},{"$f":"Race0207!C$36","v":0},{"$f":"Race0207!F$36","v":1}]
[null,{"$f":"Race0207!B$5","v":"Senior"},{"$f":"Race0207!B$4","v":"OC6"},{"$f":"Race0207!E$5","v":"Women"},{"$f":"Race0207!D$5","v":"Open"},{"$f":"Race0207!D$4","v":"Short Course"},{"$f":"Race0207!A$37","v":30},{"$f":"Race0207!D$37","v":0},{"$f":"Race0207!C$37","v":0},{"$f":"Race0207!F$37","v":1}]
[null,{"$f":"Race0207!B$5","v":"Senior"},{"$f":"Race0207!B$4","v":"OC6"},{"$f":"Race0207!E$5","v":"Women"},{"$f":"Race0207!D$5","v":"Open"},{"$f":"Race0207!D$4","v":"Short Course"},{"$f":"Race0207!A$38","v":31},{"$f":"Race0207!D$38","v":0},{"$f":"Race0207!C$38","v":0},{"$f":"Race0207!F$38","v":1}]
[null,{"$f":"Race0207!B$5","v":"Senior"},{"$f":"Race0207!B$4","v":"OC6"},{"$f":"Race0207!E$5","v":"Women"},{"$f":"Race0207!D$5","v":"Open"},{"$f":"Race0207!D$4","v":"Short Course"},{"$f":"Race0207!A$39","v":32},{"$f":"Race0207!D$39","v":0},{"$f":"Race0207!C$39","v":0},{"$f":"Race0207!F$39","v":1}]
[null,{"$f":"Race0207!B$5","v":"Senior"},{"$f":"Race0207!B$4","v":"OC6"},{"$f":"Race0207!E$5","v":"Women"},{"$f":"Race0207!D$5","v":"Open"},{"$f":"Race0207!D$4","v":"Short Course"},{"$f":"Race0207!A$40","v":33},{"$f":"Race0207!D$40","v":0},{"$f":"Race0207!C$40","v":0},{"$f":"Race0207!F$40","v":1}]
[null,{"$f":"Race0207!B$5","v":"Senior"},{"$f":"Race0207!B$4","v":"OC6"},{"$f":"Race0207!E$5","v":"Women"},{"$f":"Race0207!D$5","v":"Open"},{"$f":"Race0207!D$4","v":"Short Course"},{"$f":"Race0207!A$41","v":34},{"$f":"Race0207!D$41","v":0},{"$f":"Race0207!C$41","v":0},{"$f":"Race0207!F$41","v":1}]
[null,{"$f":"Race0207!B$5","v":"Senior"},{"$f":"Race0207!B$4","v":"OC6"},{"$f":"Race0207!E$5","v":"Women"},{"$f":"Race0207!D$5","v":"Open"},{"$f":"Race0207!D$4","v":"Short Course"},{"$f":"Race0207!A$42","v":35},{"$f":"Race0207!D$42","v":0},{"$f":"Race0207!C$42","v":0},{"$f":"Race0207!F$42","v":1}]
[null,{"$f":"Race0207!B$5","v":"Senior"},{"$f":"Race0207!B$4","v":"OC6"},{"$f":"Race0207!E$5","v":"Women"},{"$f":"Race0207!D$5","v":"Open"},{"$f":"Race0207!D$4","v":"Short Course"},{"$f":"Race0207!A$43","v":36},{"$f":"Race0207!D$43","v":0},{"$f":"Race0207!C$43","v":0},{"$f":"Race0207!F$43","v":1}]
[null,{"$f":"Race0207!B$5","v":"Senior"},{"$f":"Race0207!B$4","v":"OC6"},{"$f":"Race0207!E$5","v":"Women"},{"$f":"Race0207!D$5","v":"Open"},{"$f":"Race0207!D$4","v":"Short Course"},{"$f":"Race0207!A$44","v":37},{"$f":"Race0207!D$44","v":0},{"$f":"Race0207!C$44","v":0},{"$f":"Race0207!F$44","v":1}]
[null,{"$f":"Race0207!B$5","v":"Senior"},{"$f":"Race0207!B$4","v":"OC6"},{"$f":"Race0207!E$5","v":"Women"},{"$f":"Race0207!D$5","v":"Open"},{"$f":"Race0207!D$4","v":"Short Course"},{"$f":"Race0207!A$45","v":38},{"$f":"Race0207!D$45","v":0},{"$f":"Race0207!C$45","v":0},{"$f":"Race0207!F$45","v":1}]
[null,{"$f":"Race0207!B$5","v":"Senior"},{"$f":"Race0207!B$4","v":"OC6"},{"$f":"Race0207!E$5","v":"Women"},{"$f":"Race0207!D$5","v":"Open"},{"$f":"Race0207!D$4","v":"Short Course"},{"$f":"Race0207!A$46","v":39},{"$f":"Race0207!D$46","v":0},{"$f":"Race0207!C$46","v":0},{"$f":"Race0207!F$46","v":1}]
[null,{"$f":"Race0207!B$5","v":"Senior"},{"$f":"Race0207!B$4","v":"OC6"},{"$f":"Race0207!E$5","v":"Women"},{"$f":"Race0207!D$5","v":"Open"},{"$f":"Race0207!D$4","v":"Short Course"},{"$f":"Race0207!A$47","v":40},{"$f":"Race0207!D$47","v":0},{"$f":"Race0207!C$47","v":0},{"$f":"Race0207!F$47","v":1}]
[null,{"$f":"Race0207!B$5","v":"Senior"},{"$f":"Race0207!B$4","v":"OC6"},{"$f":"Race0207!E$5","v":"Women"},{"$f":"Race0207!D$5","v":"Open"},{"$f":"Race0207!D$4","v":"Short Course"},{"$f":"Race0207!A$48","v":41},{"$f":"Race0207!D$48","v":0},{"$f":"Race0207!C$48","v":0},{"$f":"Race0207!F$48","v":1}]
[null,{"$f":"Race0207!B$5","v":"Senior"},{"$f":"Race0207!B$4","v":"OC6"},{"$f":"Race0207!E$5","v":"Women"},{"$f":"Race0207!D$5","v":"Open"},{"$f":"Race0207!D$4","v":"Short Course"},{"$f":"Race0207!A$49","v":42},{"$f":"Race0207!D$49","v":0},{"$f":"Race0207!C$49","v":0},{"$f":"Race0207!F$49","v":1}]
[null,{"$f":"Race0207!B$5","v":"Senior"},{"$f":"Race0207!B$4","v":"OC6"},{"$f":"Race0207!E$5","v":"Women"},{"$f":"Race0207!D$5","v":"Open"},{"$f":"Race0207!D$4","v":"Short Course"},{"$f":"Race0207!A$50","v":43},{"$f":"Race0207!D$50","v":0},{"$f":"Race0207!C$50","v":0},{"$f":"Race0207!F$50","v":1}]
[null,{"$f":"Race0207!B$5","v":"Senior"},{"$f":"Race0207!B$4","v":"OC6"},{"$f":"Race0207!E$5","v":"Women"},{"$f":"Race0207!D$5","v":"Open"},{"$f":"Race0207!D$4","v":"Short Course"},{"$f":"Race0207!A$51","v":44},{"$f":"Race0207!D$51","v":0},{"$f":"Race0207!C$51","v":0},{"$f":"Race0207!F$51","v":1}]
[null,{"$f":"Race0207!B$5","v":"Senior"},{"$f":"Race0207!B$4","v":"OC6"},{"$f":"Race0207!E$5","v":"Women"},{"$f":"Race0207!D$5","v":"Open"},{"$f":"Race0207!D$4","v":"Short Course"},{"$f":"Race0207!A$52","v":45},{"$f":"Race0207!D$52","v":0},{"$f":"Race0207!C$52","v":0},{"$f":"Race0207!F$52","v":1}]
[null,{"$f":"Race0207!B$5","v":"Senior"},{"$f":"Race0207!B$4","v":"OC6"},{"$f":"Race0207!E$5","v":"Women"},{"$f":"Race0207!D$5","v":"Open"},{"$f":"Race0207!D$4","v":"Short Course"},{"$f":"Race0207!A$53","v":46},{"$f":"Race0207!D$53","v":0},{"$f":"Race0207!C$53","v":0},{"$f":"Race0207!F$53","v":1}]
[null,{"$f":"Race0207!B$5","v":"Senior"},{"$f":"Race0207!B$4","v":"OC6"},{"$f":"Race0207!E$5","v":"Women"},{"$f":"Race0207!D$5","v":"Open"},{"$f":"Race0207!D$4","v":"Short Course"},{"$f":"Race0207!A$54","v":47},{"$f":"Race0207!D$54","v":0},{"$f":"Race0207!C$54","v":0},{"$f":"Race0207!F$54","v":1}]
[null,{"$f":"Race0207!B$5","v":"Senior"},{"$f":"Race0207!B$4","v":"OC6"},{"$f":"Race0207!E$5","v":"Women"},{"$f":"Race0207!D$5","v":"Open"},{"$f":"Race0207!D$4","v":"Short Course"},{"$f":"Race0207!A$55","v":48},{"$f":"Race0207!D$55","v":0},{"$f":"Race0207!C$55","v":0},{"$f":"Race0207!F$55","v":1}]
[null,{"$f":"Race0207!B$5","v":"Senior"},{"$f":"Race0207!B$4","v":"OC6"},{"$f":"Race0207!E$5","v":"Women"},{"$f":"Race0207!D$5","v":"Open"},{"$f":"Race0207!D$4","v":"Short Course"},{"$f":"Race0207!A$56","v":49},{"$f":"Race0207!D$56","v":0},{"$f":"Race0207!C$56","v":0},{"$f":"Race0207!F$56","v":1}]
[null,{"$f":"Race0207!B$5","v":"Senior"},{"$f":"Race0207!B$4","v":"OC6"},{"$f":"Race0207!E$5","v":"Women"},{"$f":"Race0207!D$5","v":"Open"},{"$f":"Race0207!D$4","v":"Short Course"},{"$f":"Race0207!A$57","v":50},{"$f":"Race0207!D$57","v":0},{"$f":"Race0207!C$57","v":0},{"$f":"Race0207!F$57","v":1}]
["Race0208",{"$f":"Race0208!B$5","v":"Senior"},{"$f":"Race0208!B$4","v":"OC6"},{"$f":"Race0208!E$5","v":"Women"},{"$f":"Race0208!D$5","v":"Masters"},{"$f":"Race0208!D$4","v":"Short Course"},{"$f":"Race0208!A$8","v":1},{"$f":"Race0208!D$8","v":0},{"$f":"Race0208!C$8","v":0},{"$f":"Race0208!F$8","v":14}]
[null,{"$f":"Race0208!B$5","v":"Senior"},{"$f":"Race0208!B$4","v":"OC6"},{"$f":"Race0208!E$5","v":"Women"},{"$f":"Race0208!D$5","v":"Masters"},{"$f":"Race0208!D$4","v":"Short Course"},{"$f":"Race0208!A$9","v":2},{"$f":"Race0208!D$9","v":0},{"$f":"Race0208!C$9","v":0},{"$f":"Race0208!F$9","v":12}]
[null,{"$f":"Race0208!B$5","v":"Senior"},{"$f":"Race0208!B$4","v":"OC6"},{"$f":"Race0208!E$5","v":"Women"},{"$f":"Race0208!D$5","v":"Masters"},{"$f":"Race0208!D$4","v":"Short Course"},{"$f":"Race0208!A$10","v":3},{"$f":"Race0208!D$10","v":0},{"$f":"Race0208!C$10","v":0},{"$f":"Race0208!F$10","v":10}]
[null,{"$f":"Race0208!B$5","v":"Senior"},{"$f":"Race0208!B$4","v":"OC6"},{"$f":"Race0208!E$5","v":"Women"},{"$f":"Race0208!D$5","v":"Masters"},{"$f":"Race0208!D$4","v":"Short Course"},{"$f":"Race0208!A$11","v":4},{"$f":"Race0208!D$11","v":0},{"$f":"Race0208!C$11","v":0},{"$f":"Race0208!F$11","v":8}]
[null,{"$f":"Race0208!B$5","v":"Senior"},{"$f":"Race0208!B$4","v":"OC6"},{"$f":"Race0208!E$5","v":"Women"},{"$f":"Race0208!D$5","v":"Masters"},{"$f":"Race0208!D$4","v":"Short Course"},{"$f":"Race0208!A$12","v":5},{"$f":"Race0208!D$12","v":0},{"$f":"Race0208!C$12","v":0},{"$f":"Race0208!F$12","v":7}]
[null,{"$f":"Race0208!B$5","v":"Senior"},{"$f":"Race0208!B$4","v":"OC6"},{"$f":"Race0208!E$5","v":"Women"},{"$f":"Race0208!D$5","v":"Masters"},{"$f":"Race0208!D$4","v":"Short Course"},{"$f":"Race0208!A$13","v":6},{"$f":"Race0208!D$13","v":0},{"$f":"Race0208!C$13","v":0},{"$f":"Race0208!F$13","v":6}]
[null,{"$f":"Race0208!B$5","v":"Senior"},{"$f":"Race0208!B$4","v":"OC6"},{"$f":"Race0208!E$5","v":"Women"},{"$f":"Race0208!D$5","v":"Masters"},{"$f":"Race0208!D$4","v":"Short Course"},{"$f":"Race0208!A$14","v":7},{"$f":"Race0208!D$14","v":0},{"$f":"Race0208!C$14","v":0},{"$f":"Race0208!F$14","v":5}]
[null,{"$f":"Race0208!B$5","v":"Senior"},{"$f":"Race0208!B$4","v":"OC6"},{"$f":"Race0208!E$5","v":"Women"},{"$f":"Race0208!D$5","v":"Masters"},{"$f":"Race0208!D$4","v":"Short Course"},{"$f":"Race0208!A$15","v":8},{"$f":"Race0208!D$15","v":0},{"$f":"Race0208!C$15","v":0},{"$f":"Race0208!F$15","v":4}]
[null,{"$f":"Race0208!B$5","v":"Senior"},{"$f":"Race0208!B$4","v":"OC6"},{"$f":"Race0208!E$5","v":"Women"},{"$f":"Race0208!D$5","v":"Masters"},{"$f":"Race0208!D$4","v":"Short Course"},{"$f":"Race0208!A$16","v":9},{"$f":"Race0208!D$16","v":0},{"$f":"Race0208!C$16","v":0},{"$f":"Race0208!F$16","v":3}]
[null,{"$f":"Race0208!B$5","v":"Senior"},{"$f":"Race0208!B$4","v":"OC6"},{"$f":"Race0208!E$5","v":"Women"},{"$f":"Race0208!D$5","v":"Masters"},{"$f":"Race0208!D$4","v":"Short Course"},{"$f":"Race0208!A$17","v":10},{"$f":"Race0208!D$17","v":0},{"$f":"Race0208!C$17","v":0},{"$f":"Race0208!F$17","v":2}]
[null,{"$f":"Race0208!B$5","v":"Senior"},{"$f":"Race0208!B$4","v":"OC6"},{"$f":"Race0208!E$5","v":"Women"},{"$f":"Race0208!D$5","v":"Masters"},{"$f":"Race0208!D$4","v":"Short Course"},{"$f":"Race0208!A$18","v":11},{"$f":"Race0208!D$18","v":0},{"$f":"Race0208!C$18","v":0},{"$f":"Race0208!F$18","v":1}]
[null,{"$f":"Race0208!B$5","v":"Senior"},{"$f":"Race0208!B$4","v":"OC6"},{"$f":"Race0208!E$5","v":"Women"},{"$f":"Race0208!D$5","v":"Masters"},{"$f":"Race0208!D$4","v":"Short Course"},{"$f":"Race0208!A$19","v":12},{"$f":"Race0208!D$19","v":0},{"$f":"Race0208!C$19","v":0},{"$f":"Race0208!F$19","v":1}]
[null,{"$f":"Race0208!B$5","v":"Senior"},{"$f":"Race0208!B$4","v":"OC6"},{"$f":"Race0208!E$5","v":"Women"},{"$f":"Race0208!D$5","v":"Masters"},{"$f":"Race0208!D$4","v":"Short Course"},{"$f":"Race0208!A$20","v":13},{"$f":"Race0208!D$20","v":0},{"$f":"Race0208!C$20","v":0},{"$f":"Race0208!F$20","v":1}]
[null,{"$f":"Race0208!B$5","v":"Senior"},{"$f":"Race0208!B$4","v":"OC6"},{"$f":"Race0208!E$5","v":"Women"},{"$f":"Race0208!D$5","v":"Masters"},{"$f":"Race0208!D$4","v":"Short Course"},{"$f":"Race0208!A$21","v":14},{"$f":"Race0208!D$21","v":0},{"$f":"Race0208!C$21","v":0},{"$f":"Race0208!F$21","v":1}]
[null,{"$f":"Race0208!B$5","v":"Senior"},{"$f":"Race0208!B$4","v":"OC6"},{"$f":"Race0208!E$5","v":"Women"},{"$f":"Race0208!D$5","v":"Masters"},{"$f":"Race0208!D$4","v":"Short Course"},{"$f":"Race0208!A$22","v":15},{"$f":"Race0208!D$22","v":0},{"$f":"Race0208!C$22","v":0},{"$f":"Race0208!F$22","v":1}]
[null,{"$f":"Race0208!B$5","v":"Senior"},{"$f":"Race0208!B$4","v":"OC6"},{"$f":"Race0208!E$5","v":"Women"},{"$f":"Race0208!D$5","v":"Masters"},{"$f":"Race0208!D$4","v":"Short Course"},{"$f":"Race0208!A$23","v":16},{"$f":"Race0208!D$23","v":0},{"$f":"Race0208!C$23","v":0},{"$f":"Race0208!F$23","v":1}]
[null,{"$f":"Race0208!B$5","v":"Senior"},{"$f":"Race0208!B$4","v":"OC6"},{"$f":"Race0208!E$5","v":"Women"},{"$f":"Race0208!D$5","v":"Masters"},{"$f":"Race0208!D$4","v":"Short Course"},{"$f":"Race0208!A$24","v":17},{"$f":"Race0208!D$24","v":0},{"$f":"Race0208!C$24","v":0},{"$f":"Race0208!F$24","v":1}]
[null,{"$f":"Race0208!B$5","v":"Senior"},{"$f":"Race0208!B$4","v":"OC6"},{"$f":"Race0208!E$5","v":"Women"},{"$f":"Race0208!D$5","v":"Masters"},{"$f":"Race0208!D$4","v":"Short Course"},{"$f":"Race0208!A$25","v":18},{"$f":"Race0208!D$25","v":0},{"$f":"Race0208!C$25","v":0},{"$f":"Race0208!F$25","v":1}]
[null,{"$f":"Race0208!B$5","v":"Senior"},{"$f":"Race0208!B$4","v":"OC6"},{"$f":"Race0208!E$5","v":"Women"},{"$f":"Race0208!D$5","v":"Masters"},{"$f":"Race0208!D$4","v":"Short Course"},{"$f":"Race0208!A$26","v":19},{"$f":"Race0208!D$26","v":0},{"$f":"Race0208!C$26","v":0},{"$f":"Race0208!F$26","v":1}]
[null,{"$f":"Race0208!B$5","v":"Senior"},{"$f":"Race0208!B$4","v":"OC6"},{"$f":"Race0208!E$5","v":"Women"},{"$f":"Race0208!D$5","v":"Masters"},{"$f":"Race0208!D$4","v":"Short Course"},{"$f":"Race0208!A$27","v":20},{"$f":"Race0208!D$27","v":0},{"$f":"Race0208!C$27","v":0},{"$f":"Race0208!F$27","v":1}]
[null,{"$f":"Race0208!B$5","v":"Senior"},{"$f":"Race0208!B$4","v":"OC6"},{"$f":"Race0208!E$5","v":"Women"},{"$f":"Race0208!D$5","v":"Masters"},{"$f":"Race0208!D$4","v":"Short Course"},{"$f":"Race0208!A$28","v":21},{"$f":"Race0208!D$28","v":0},{"$f":"Race0208!C$28","v":0},{"$f":"Race0208!F$28","v":1}]
[null,{"$f":"Race0208!B$5","v":"Senior"},{"$f":"Race0208!B$4","v":"OC6"},{"$f":"Race0208!E$5","v":"Women"},{"$f":"Race0208!D$5","v":"Masters"},{"$f":"Race0208!D$4","v":"Short Course"},{"$f":"Race0208!A$29","v":22},{"$f":"Race0208!D$29","v":0},{"$f":"Race0208!C$29","v":0},{"$f":"Race0208!F$29","v":1}]
[null,{"$f":"Race0208!B$5","v":"Senior"},{"$f":"Race0208!B$4","v":"OC6"},{"$f":"Race0208!E$5","v":"Women"},{"$f":"Race0208!D$5","v":"Masters"},{"$f":"Race0208!D$4","v":"Short Course"},{"$f":"Race0208!A$30","v":23},{"$f":"Race0208!D$30","v":0},{"$f":"Race0208!C$30","v":0},{"$f":"Race0208!F$30","v":1}]
[null,{"$f":"Race0208!B$5","v":"Senior"},{"$f":"Race0208!B$4","v":"OC6"},{"$f":"Race0208!E$5","v":"Women"},{"$f":"Race0208!D$5","v":"Masters"},{"$f":"Race0208!D$4","v":"Short Course"},{"$f":"Race0208!A$31","v":24},{"$f":"Race0208!D$31","v":0},{"$f":"Race0208!C$31","v":0},{"$f":"Race0208!F$31","v":1}]
[null,{"$f":"Race0208!B$5","v":"Senior"},{"$f":"Race0208!B$4","v":"OC6"},{"$f":"Race0208!E$5","v":"Women"},{"$f":"Race0208!D$5","v":"Masters"},{"$f":"Race0208!D$4","v":"Short Course"},{"$f":"Race0208!A$32","v":25},{"$f":"Race0208!D$32","v":0},{"$f":"Race0208!C$32","v":0},{"$f":"Race0208!F$32","v":1}]
[null,{"$f":"Race0208!B$5","v":"Senior"},{"$f":"Race0208!B$4","v":"OC6"},{"$f":"Race0208!E$5","v":"Women"},{"$f":"Race0208!D$5","v":"Masters"},{"$f":"Race0208!D$4","v":"Short Course"},{"$f":"Race0208!A$33","v":26},{"$f":"Race0208!D$33","v":0},{"$f":"Race0208!C$33","v":0},{"$f":"Race0208!F$33","v":1}]
[null,{"$f":"Race0208!B$5","v":"Senior"},{"$f":"Race0208!B$4","v":"OC6"},{"$f":"Race0208!E$5","v":"Women"},{"$f":"Race0208!D$5","v":"Masters"},{"$f":"Race0208!D$4","v":"Short Course"},{"$f":"Race0208!A$34","v":27},{"$f":"Race0208!D$34","v":0},{"$f":"Race0208!C$34","v":0},{"$f":"Race0208!F$34","v":1}]
[null,{"$f":"Race0208!B$5","v":"Senior"},{"$f":"Race0208!B$4","v":"OC6"},{"$f":"Race0208!E$5","v":"Women"},{"$f":"Race0208!D$5","v":"Masters"},{"$f":"Race0208!D$4","v":"Short Course"},{"$f":"Race0208!A$35","v":28},{"$f":"Race0208!D$35","v":0},{"$f":"Race0208!C$35","v":0},{"$f":"Race0208!F$35","v":1}]
[null,{"$f":"Race0208!B$5","v":"Senior"},{"$f":"Race0208!B$4","v":"OC6"},{"$f":"Race0208!E$5","v":"Women"},{"$f":"Race0208!D$5","v":"Masters"},{"$f":"Race0208!D$4","v":"Short Course"},{"$f":"Race0208!A$36","v":29},{"$f":"Race0208!D$36","v":0},{"$f":"Race0208!C$36","v":0},{"$f":"Race0208!F$36","v":1}]
[null,{"$f":"Race0208!B$5","v":"Senior"},{"$f":"Race0208!B$4","v":"OC6"},{"$f":"Race0208!E$5","v":"Women"},{"$f":"Race0208!D$5","v":"Masters"},{"$f":"Race0208!D$4","v":"Short Course"},{"$f":"Race0208!A$37","v":30},{"$f":"Race0208!D$37","v":0},{"$f":"Race0208!C$37","v":0},{"$f":"Race0208!F$37","v":1}]
[null,{"$f":"Race0208!B$5","v":"Senior"},{"$f":"Race0208!B$4","v":"OC6"},{"$f":"Race0208!E$5","v":"Women"},{"$f":"Race0208!D$5","v":"Masters"},{"$f":"Race0208!D$4","v":"Short Course"},{"$f":"Race0208!A$38","v":31},{"$f":"Race0208!D$38","v":0},{"$f":"Race0208!C$38","v":0},{"$f":"Race0208!F$38","v":1}]
[null,{"$f":"Race0208!B$5","v":"Senior"},{"$f":"Race0208!B$4","v":"OC6"},{"$f":"Race0208!E$5","v":"Women"},{"$f":"Race0208!D$5","v":"Masters"},{"$f":"Race0208!D$4","v":"Short Course"},{"$f":"Race0208!A$39","v":32},{"$f":"Race0208!D$39","v":0},{"$f":"Race0208!C$39","v":0},{"$f":"Race0208!F$39","v":1}]
[null,{"$f":"Race0208!B$5","v":"Senior"},{"$f":"Race0208!B$4","v":"OC6"},{"$f":"Race0208!E$5","v":"Women"},{"$f":"Race0208!D$5","v":"Masters"},{"$f":"Race0208!D$4","v":"Short Course"},{"$f":"Race0208!A$40","v":33},{"$f":"Race0208!D$40","v":0},{"$f":"Race0208!C$40","v":0},{"$f":"Race0208!F$40","v":1}]
[null,{"$f":"Race0208!B$5","v":"Senior"},{"$f":"Race0208!B$4","v":"OC6"},{"$f":"Race0208!E$5","v":"Women"},{"$f":"Race0208!D$5","v":"Masters"},{"$f":"Race0208!D$4","v":"Short Course"},{"$f":"Race0208!A$41","v":34},{"$f":"Race0208!D$41","v":0},{"$f":"Race0208!C$41","v":0},{"$f":"Race0208!F$41","v":1}]
[null,{"$f":"Race0208!B$5","v":"Senior"},{"$f":"Race0208!B$4","v":"OC6"},{"$f":"Race0208!E$5","v":"Women"},{"$f":"Race0208!D$5","v":"Masters"},{"$f":"Race0208!D$4","v":"Short Course"},{"$f":"Race0208!A$42","v":35},{"$f":"Race0208!D$42","v":0},{"$f":"Race0208!C$42","v":0},{"$f":"Race0208!F$42","v":1}]
[null,{"$f":"Race0208!B$5","v":"Senior"},{"$f":"Race0208!B$4","v":"OC6"},{"$f":"Race0208!E$5","v":"Women"},{"$f":"Race0208!D$5","v":"Masters"},{"$f":"Race0208!D$4","v":"Short Course"},{"$f":"Race0208!A$43","v":36},{"$f":"Race0208!D$43","v":0},{"$f":"Race0208!C$43","v":0},{"$f":"Race0208!F$43","v":1}]
[null,{"$f":"Race0208!B$5","v":"Senior"},{"$f":"Race0208!B$4","v":"OC6"},{"$f":"Race0208!E$5","v":"Women"},{"$f":"Race0208!D$5","v":"Masters"},{"$f":"Race0208!D$4","v":"Short Course"},{"$f":"Race0208!A$44","v":37},{"$f":"Race0208!D$44","v":0},{"$f":"Race0208!C$44","v":0},{"$f":"Race0208!F$44","v":1}]
[null,{"$f":"Race0208!B$5","v":"Senior"},{"$f":"Race0208!B$4","v":"OC6"},{"$f":"Race0208!E$5","v":"Women"},{"$f":"Race0208!D$5","v":"Masters"},{"$f":"Race0208!D$4","v":"Short Course"},{"$f":"Race0208!A$45","v":38},{"$f":"Race0208!D$45","v":0},{"$f":"Race0208!C$45","v":0},{"$f":"Race0208!F$45","v":1}]
[null,{"$f":"Race0208!B$5","v":"Senior"},{"$f":"Race0208!B$4","v":"OC6"},{"$f":"Race0208!E$5","v":"Women"},{"$f":"Race0208!D$5","v":"Masters"},{"$f":"Race0208!D$4","v":"Short Course"},{"$f":"Race0208!A$46","v":39},{"$f":"Race0208!D$46","v":0},{"$f":"Race0208!C$46","v":0},{"$f":"Race0208!F$46","v":1}]
[null,{"$f":"Race0208!B$5","v":"Senior"},{"$f":"Race0208!B$4","v":"OC6"},{"$f":"Race0208!E$5","v":"Women"},{"$f":"Race0208!D$5","v":"Masters"},{"$f":"Race0208!D$4","v":"Short Course"},{"$f":"Race0208!A$47","v":40},{"$f":"Race0208!D$47","v":0},{"$f":"Race0208!C$47","v":0},{"$f":"Race0208!F$47","v":1}]
[null,{"$f":"Race0208!B$5","v":"Senior"},{"$f":"Race0208!B$4","v":"OC6"},{"$f":"Race0208!E$5","v":"Women"},{"$f":"Race0208!D$5","v":"Masters"},{"$f":"Race0208!D$4","v":"Short Course"},{"$f":"Race0208!A$48","v":41},{"$f":"Race0208!D$48","v":0},{"$f":"Race0208!C$48","v":0},{"$f":"Race0208!F$48","v":1}]
[null,{"$f":"Race0208!B$5","v":"Senior"},{"$f":"Race0208!B$4","v":"OC6"},{"$f":"Race0208!E$5","v":"Women"},{"$f":"Race0208!D$5","v":"Masters"},{"$f":"Race0208!D$4","v":"Short Course"},{"$f":"Race0208!A$49","v":42},{"$f":"Race0208!D$49","v":0},{"$f":"Race0208!C$49","v":0},{"$f":"Race0208!F$49","v":1}]
[null,{"$f":"Race0208!B$5","v":"Senior"},{"$f":"Race0208!B$4","v":"OC6"},{"$f":"Race0208!E$5","v":"Women"},{"$f":"Race0208!D$5","v":"Masters"},{"$f":"Race0208!D$4","v":"Short Course"},{"$f":"Race0208!A$50","v":43},{"$f":"Race0208!D$50","v":0},{"$f":"Race0208!C$50","v":0},{"$f":"Race0208!F$50","v":1}]
[null,{"$f":"Race0208!B$5","v":"Senior"},{"$f":"Race0208!B$4","v":"OC6"},{"$f":"Race0208!E$5","v":"Women"},{"$f":"Race0208!D$5","v":"Masters"},{"$f":"Race0208!D$4","v":"Short Course"},{"$f":"Race0208!A$51","v":44},{"$f":"Race0208!D$51","v":0},{"$f":"Race0208!C$51","v":0},{"$f":"Race0208!F$51","v":1}]
[null,{"$f":"Race0208!B$5","v":"Senior"},{"$f":"Race0208!B$4","v":"OC6"},{"$f":"Race0208!E$5","v":"Women"},{"$f":"Race0208!D$5","v":"Masters"},{"$f":"Race0208!D$4","v":"Short Course"},{"$f":"Race0208!A$52","v":45},{"$f":"Race0208!D$52","v":0},{"$f":"Race0208!C$52","v":0},{"$f":"Race0208!F$52","v":1}]
[null,{"$f":"Race0208!B$5","v":"Senior"},{"$f":"Race0208!B$4","v":"OC6"},{"$f":"Race0208!E$5","v":"Women"},{"$f":"Race0208!D$5","v":"Masters"},{"$f":"Race0208!D$4","v":"Short Course"},{"$f":"Race0208!A$53","v":46},{"$f":"Race0208!D$53","v":0},{"$f":"Race0208!C$53","v":0},{"$f":"Race0208!F$53","v":1}]
[null,{"$f":"Race0208!B$5","v":"Senior"},{"$f":"Race0208!B$4","v":"OC6"},{"$f":"Race0208!E$5","v":"Women"},{"$f":"Race0208!D$5","v":"Masters"},{"$f":"Race0208!D$4","v":"Short Course"},{"$f":"Race0208!A$54","v":47},{"$f":"Race0208!D$54","v":0},{"$f":"Race0208!C$54","v":0},{"$f":"Race0208!F$54","v":1}]
[null,{"$f":"Race0208!B$5","v":"Senior"},{"$f":"Race0208!B$4","v":"OC6"},{"$f":"Race0208!E$5","v":"Women"},{"$f":"Race0208!D$5","v":"Masters"},{"$f":"Race0208!D$4","v":"Short Course"},{"$f":"Race0208!A$55","v":48},{"$f":"Race0208!D$55","v":0},{"$f":"Race0208!C$55","v":0},{"$f":"Race0208!F$55","v":1}]
[null,{"$f":"Race0208!B$5","v":"Senior"},{"$f":"Race0208!B$4","v":"OC6"},{"$f":"Race0208!E$5","v":"Women"},{"$f":"Race0208!D$5","v":"Masters"},{"$f":"Race0208!D$4","v":"Short Course"},{"$f":"Race0208!A$56","v":49},{"$f":"Race0208!D$56","v":0},{"$f":"Race0208!C$56","v":0},{"$f":"Race0208!F$56","v":1}]
[null,{"$f":"Race0208!B$5","v":"Senior"},{"$f":"Race0208!B$4","v":"OC6"},{"$f":"Race0208!E$5","v":"Women"},{"$f":"Race0208!D$5","v":"Masters"},{"$f":"Race0208!D$4","v":"Short Course"},{"$f":"Race0208!A$57","v":50},{"$f":"Race0208!D$57","v":0},{"$f":"Race0208!C$57","v":0},{"$f":"Race0208!F$57","v":1}]
["Race0209",{"$f":"Race0209!B$5","v":"Senior"},{"$f":"Race0209!B$4","v":"OC6"},{"$f":"Race0209!E$5","v":"Women"},{"$f":"Race0209!D$5","v":"Senior Masters"},{"$f":"Race0209!D$4","v":"Short Course"},{"$f":"Race0209!A$8","v":1},{"$f":"Race0209!D$8","v":0},{"$f":"Race0209!C$8","v":0},{"$f":"Race0209!F$8","v":14}]
[null,{"$f":"Race0209!B$5","v":"Senior"},{"$f":"Race0209!B$4","v":"OC6"},{"$f":"Race0209!E$5","v":"Women"},{"$f":"Race0209!D$5","v":"Senior Masters"},{"$f":"Race0209!D$4","v":"Short Course"},{"$f":"Race0209!A$9","v":2},{"$f":"Race0209!D$9","v":0},{"$f":"Race0209!C$9","v":0},{"$f":"Race0209!F$9","v":12}]
[null,{"$f":"Race0209!B$5","v":"Senior"},{"$f":"Race0209!B$4","v":"OC6"},{"$f":"Race0209!E$5","v":"Women"},{"$f":"Race0209!D$5","v":"Senior Masters"},{"$f":"Race0209!D$4","v":"Short Course"},{"$f":"Race0209!A$10","v":3},{"$f":"Race0209!D$10","v":0},{"$f":"Race0209!C$10","v":0},{"$f":"Race0209!F$10","v":10}]
[null,{"$f":"Race0209!B$5","v":"Senior"},{"$f":"Race0209!B$4","v":"OC6"},{"$f":"Race0209!E$5","v":"Women"},{"$f":"Race0209!D$5","v":"Senior Masters"},{"$f":"Race0209!D$4","v":"Short Course"},{"$f":"Race0209!A$11","v":4},{"$f":"Race0209!D$11","v":0},{"$f":"Race0209!C$11","v":0},{"$f":"Race0209!F$11","v":8}]
[null,{"$f":"Race0209!B$5","v":"Senior"},{"$f":"Race0209!B$4","v":"OC6"},{"$f":"Race0209!E$5","v":"Women"},{"$f":"Race0209!D$5","v":"Senior Masters"},{"$f":"Race0209!D$4","v":"Short Course"},{"$f":"Race0209!A$12","v":5},{"$f":"Race0209!D$12","v":0},{"$f":"Race0209!C$12","v":0},{"$f":"Race0209!F$12","v":7}]
[null,{"$f":"Race0209!B$5","v":"Senior"},{"$f":"Race0209!B$4","v":"OC6"},{"$f":"Race0209!E$5","v":"Women"},{"$f":"Race0209!D$5","v":"Senior Masters"},{"$f":"Race0209!D$4","v":"Short Course"},{"$f":"Race0209!A$13","v":6},{"$f":"Race0209!D$13","v":0},{"$f":"Race0209!C$13","v":0},{"$f":"Race0209!F$13","v":6}]
[null,{"$f":"Race0209!B$5","v":"Senior"},{"$f":"Race0209!B$4","v":"OC6"},{"$f":"Race0209!E$5","v":"Women"},{"$f":"Race0209!D$5","v":"Senior Masters"},{"$f":"Race0209!D$4","v":"Short Course"},{"$f":"Race0209!A$14","v":7},{"$f":"Race0209!D$14","v":0},{"$f":"Race0209!C$14","v":0},{"$f":"Race0209!F$14","v":5}]
[null,{"$f":"Race0209!B$5","v":"Senior"},{"$f":"Race0209!B$4","v":"OC6"},{"$f":"Race0209!E$5","v":"Women"},{"$f":"Race0209!D$5","v":"Senior Masters"},{"$f":"Race0209!D$4","v":"Short Course"},{"$f":"Race0209!A$15","v":8},{"$f":"Race0209!D$15","v":0},{"$f":"Race0209!C$15","v":0},{"$f":"Race0209!F$15","v":4}]
[null,{"$f":"Race0209!B$5","v":"Senior"},{"$f":"Race0209!B$4","v":"OC6"},{"$f":"Race0209!E$5","v":"Women"},{"$f":"Race0209!D$5","v":"Senior Masters"},{"$f":"Race0209!D$4","v":"Short Course"},{"$f":"Race0209!A$16","v":9},{"$f":"Race0209!D$16","v":0},{"$f":"Race0209!C$16","v":0},{"$f":"Race0209!F$16","v":3}]
[null,{"$f":"Race0209!B$5","v":"Senior"},{"$f":"Race0209!B$4","v":"OC6"},{"$f":"Race0209!E$5","v":"Women"},{"$f":"Race0209!D$5","v":"Senior Masters"},{"$f":"Race0209!D$4","v":"Short Course"},{"$f":"Race0209!A$17","v":10},{"$f":"Race0209!D$17","v":0},{"$f":"Race0209!C$17","v":0},{"$f":"Race0209!F$17","v":2}]
[null,{"$f":"Race0209!B$5","v":"Senior"},{"$f":"Race0209!B$4","v":"OC6"},{"$f":"Race0209!E$5","v":"Women"},{"$f":"Race0209!D$5","v":"Senior Masters"},{"$f":"Race0209!D$4","v":"Short Course"},{"$f":"Race0209!A$18","v":11},{"$f":"Race0209!D$18","v":0},{"$f":"Race0209!C$18","v":0},{"$f":"Race0209!F$18","v":1}]
[null,{"$f":"Race0209!B$5","v":"Senior"},{"$f":"Race0209!B$4","v":"OC6"},{"$f":"Race0209!E$5","v":"Women"},{"$f":"Race0209!D$5","v":"Senior Masters"},{"$f":"Race0209!D$4","v":"Short Course"},{"$f":"Race0209!A$19","v":12},{"$f":"Race0209!D$19","v":0},{"$f":"Race0209!C$19","v":0},{"$f":"Race0209!F$19","v":1}]
[null,{"$f":"Race0209!B$5","v":"Senior"},{"$f":"Race0209!B$4","v":"OC6"},{"$f":"Race0209!E$5","v":"Women"},{"$f":"Race0209!D$5","v":"Senior Masters"},{"$f":"Race0209!D$4","v":"Short Course"},{"$f":"Race0209!A$20","v":13},{"$f":"Race0209!D$20","v":0},{"$f":"Race0209!C$20","v":0},{"$f":"Race0209!F$20","v":1}]
[null,{"$f":"Race0209!B$5","v":"Senior"},{"$f":"Race0209!B$4","v":"OC6"},{"$f":"Race0209!E$5","v":"Women"},{"$f":"Race0209!D$5","v":"Senior Masters"},{"$f":"Race0209!D$4","v":"Short Course"},{"$f":"Race0209!A$21","v":14},{"$f":"Race0209!D$21","v":0},{"$f":"Race0209!C$21","v":0},{"$f":"Race0209!F$21","v":1}]
[null,{"$f":"Race0209!B$5","v":"Senior"},{"$f":"Race0209!B$4","v":"OC6"},{"$f":"Race0209!E$5","v":"Women"},{"$f":"Race0209!D$5","v":"Senior Masters"},{"$f":"Race0209!D$4","v":"Short Course"},{"$f":"Race0209!A$22","v":15},{"$f":"Race0209!D$22","v":0},{"$f":"Race0209!C$22","v":0},{"$f":"Race0209!F$22","v":1}]
[null,{"$f":"Race0209!B$5","v":"Senior"},{"$f":"Race0209!B$4","v":"OC6"},{"$f":"Race0209!E$5","v":"Women"},{"$f":"Race0209!D$5","v":"Senior Masters"},{"$f":"Race0209!D$4","v":"Short Course"},{"$f":"Race0209!A$23","v":16},{"$f":"Race0209!D$23","v":0},{"$f":"Race0209!C$23","v":0},{"$f":"Race0209!F$23","v":1}]
[null,{"$f":"Race0209!B$5","v":"Senior"},{"$f":"Race0209!B$4","v":"OC6"},{"$f":"Race0209!E$5","v":"Women"},{"$f":"Race0209!D$5","v":"Senior Masters"},{"$f":"Race0209!D$4","v":"Short Course"},{"$f":"Race0209!A$24","v":17},{"$f":"Race0209!D$24","v":0},{"$f":"Race0209!C$24","v":0},{"$f":"Race0209!F$24","v":1}]
[null,{"$f":"Race0209!B$5","v":"Senior"},{"$f":"Race0209!B$4","v":"OC6"},{"$f":"Race0209!E$5","v":"Women"},{"$f":"Race0209!D$5","v":"Senior Masters"},{"$f":"Race0209!D$4","v":"Short Course"},{"$f":"Race0209!A$25","v":18},{"$f":"Race0209!D$25","v":0},{"$f":"Race0209!C$25","v":0},{"$f":"Race0209!F$25","v":1}]
[null,{"$f":"Race0209!B$5","v":"Senior"},{"$f":"Race0209!B$4","v":"OC6"},{"$f":"Race0209!E$5","v":"Women"},{"$f":"Race0209!D$5","v":"Senior Masters"},{"$f":"Race0209!D$4","v":"Short Course"},{"$f":"Race0209!A$26","v":19},{"$f":"Race0209!D$26","v":0},{"$f":"Race0209!C$26","v":0},{"$f":"Race0209!F$26","v":1}]
[null,{"$f":"Race0209!B$5","v":"Senior"},{"$f":"Race0209!B$4","v":"OC6"},{"$f":"Race0209!E$5","v":"Women"},{"$f":"Race0209!D$5","v":"Senior Masters"},{"$f":"Race0209!D$4","v":"Short Course"},{"$f":"Race0209!A$27","v":20},{"$f":"Race0209!D$27","v":0},{"$f":"Race0209!C$27","v":0},{"$f":"Race0209!F$27","v":1}]
[null,{"$f":"Race0209!B$5","v":"Senior"},{"$f":"Race0209!B$4","v":"OC6"},{"$f":"Race0209!E$5","v":"Women"},{"$f":"Race0209!D$5","v":"Senior Masters"},{"$f":"Race0209!D$4","v":"Short Course"},{"$f":"Race0209!A$28","v":21},{"$f":"Race0209!D$28","v":0},{"$f":"Race0209!C$28","v":0},{"$f":"Race0209!F$28","v":1}]
[null,{"$f":"Race0209!B$5","v":"Senior"},{"$f":"Race0209!B$4","v":"OC6"},{"$f":"Race0209!E$5","v":"Women"},{"$f":"Race0209!D$5","v":"Senior Masters"},{"$f":"Race0209!D$4","v":"Short Course"},{"$f":"Race0209!A$29","v":22},{"$f":"Race0209!D$29","v":0},{"$f":"Race0209!C$29","v":0},{"$f":"Race0209!F$29","v":1}]
[null,{"$f":"Race0209!B$5","v":"Senior"},{"$f":"Race0209!B$4","v":"OC6"},{"$f":"Race0209!E$5","v":"Women"},{"$f":"Race0209!D$5","v":"Senior Masters"},{"$f":"Race0209!D$4","v":"Short Course"},{"$f":"Race0209!A$30","v":23},{"$f":"Race0209!D$30","v":0},{"$f":"Race0209!C$30","v":0},{"$f":"Race0209!F$30","v":1}]
[null,{"$f":"Race0209!B$5","v":"Senior"},{"$f":"Race0209!B$4","v":"OC6"},{"$f":"Race0209!E$5","v":"Women"},{"$f":"Race0209!D$5","v":"Senior Masters"},{"$f":"Race0209!D$4","v":"Short Course"},{"$f":"Race0209!A$31","v":24},{"$f":"Race0209!D$31","v":0},{"$f":"Race0209!C$31","v":0},{"$f":"Race0209!F$31","v":1}]
[null,{"$f":"Race0209!B$5","v":"Senior"},{"$f":"Race0209!B$4","v":"OC6"},{"$f":"Race0209!E$5","v":"Women"},{"$f":"Race0209!D$5","v":"Senior Masters"},{"$f":"Race0209!D$4","v":"Short Course"},{"$f":"Race0209!A$32","v":25},{"$f":"Race0209!D$32","v":0},{"$f":"Race0209!C$32","v":0},{"$f":"Race0209!F$32","v":1}]
[null,{"$f":"Race0209!B$5","v":"Senior"},{"$f":"Race0209!B$4","v":"OC6"},{"$f":"Race0209!E$5","v":"Women"},{"$f":"Race0209!D$5","v":"Senior Masters"},{"$f":"Race0209!D$4","v":"Short Course"},{"$f":"Race0209!A$33","v":26},{"$f":"Race0209!D$33","v":0},{"$f":"Race0209!C$33","v":0},{"$f":"Race0209!F$33","v":1}]
[null,{"$f":"Race0209!B$5","v":"Senior"},{"$f":"Race0209!B$4","v":"OC6"},{"$f":"Race0209!E$5","v":"Women"},{"$f":"Race0209!D$5","v":"Senior Masters"},{"$f":"Race0209!D$4","v":"Short Course"},{"$f":"Race0209!A$34","v":27},{"$f":"Race0209!D$34","v":0},{"$f":"Race0209!C$34","v":0},{"$f":"Race0209!F$34","v":1}]
[null,{"$f":"Race0209!B$5","v":"Senior"},{"$f":"Race0209!B$4","v":"OC6"},{"$f":"Race0209!E$5","v":"Women"},{"$f":"Race0209!D$5","v":"Senior Masters"},{"$f":"Race0209!D$4","v":"Short Course"},{"$f":"Race0209!A$35","v":28},{"$f":"Race0209!D$35","v":0},{"$f":"Race0209!C$35","v":0},{"$f":"Race0209!F$35","v":1}]
[null,{"$f":"Race0209!B$5","v":"Senior"},{"$f":"Race0209!B$4","v":"OC6"},{"$f":"Race0209!E$5","v":"Women"},{"$f":"Race0209!D$5","v":"Senior Masters"},{"$f":"Race0209!D$4","v":"Short Course"},{"$f":"Race0209!A$36","v":29},{"$f":"Race0209!D$36","v":0},{"$f":"Race0209!C$36","v":0},{"$f":"Race0209!F$36","v":1}]
[null,{"$f":"Race0209!B$5","v":"Senior"},{"$f":"Race0209!B$4","v":"OC6"},{"$f":"Race0209!E$5","v":"Women"},{"$f":"Race0209!D$5","v":"Senior Masters"},{"$f":"Race0209!D$4","v":"Short Course"},{"$f":"Race0209!A$37","v":30},{"$f":"Race0209!D$37","v":0},{"$f":"Race0209!C$37","v":0},{"$f":"Race0209!F$37","v":1}]
[null,{"$f":"Race0209!B$5","v":"Senior"},{"$f":"Race0209!B$4","v":"OC6"},{"$f":"Race0209!E$5","v":"Women"},{"$f":"Race0209!D$5","v":"Senior Masters"},{"$f":"Race0209!D$4","v":"Short Course"},{"$f":"Race0209!A$38","v":31},{"$f":"Race0209!D$38","v":0},{"$f":"Race0209!C$38","v":0},{"$f":"Race0209!F$38","v":1}]
[null,{"$f":"Race0209!B$5","v":"Senior"},{"$f":"Race0209!B$4","v":"OC6"},{"$f":"Race0209!E$5","v":"Women"},{"$f":"Race0209!D$5","v":"Senior Masters"},{"$f":"Race0209!D$4","v":"Short Course"},{"$f":"Race0209!A$39","v":32},{"$f":"Race0209!D$39","v":0},{"$f":"Race0209!C$39","v":0},{"$f":"Race0209!F$39","v":1}]
[null,{"$f":"Race0209!B$5","v":"Senior"},{"$f":"Race0209!B$4","v":"OC6"},{"$f":"Race0209!E$5","v":"Women"},{"$f":"Race0209!D$5","v":"Senior Masters"},{"$f":"Race0209!D$4","v":"Short Course"},{"$f":"Race0209!A$40","v":33},{"$f":"Race0209!D$40","v":0},{"$f":"Race0209!C$40","v":0},{"$f":"Race0209!F$40","v":1}]
[null,{"$f":"Race0209!B$5","v":"Senior"},{"$f":"Race0209!B$4","v":"OC6"},{"$f":"Race0209!E$5","v":"Women"},{"$f":"Race0209!D$5","v":"Senior Masters"},{"$f":"Race0209!D$4","v":"Short Course"},{"$f":"Race0209!A$41","v":34},{"$f":"Race0209!D$41","v":0},{"$f":"Race0209!C$41","v":0},{"$f":"Race0209!F$41","v":1}]
[null,{"$f":"Race0209!B$5","v":"Senior"},{"$f":"Race0209!B$4","v":"OC6"},{"$f":"Race0209!E$5","v":"Women"},{"$f":"Race0209!D$5","v":"Senior Masters"},{"$f":"Race0209!D$4","v":"Short Course"},{"$f":"Race0209!A$42","v":35},{"$f":"Race0209!D$42","v":0},{"$f":"Race0209!C$42","v":0},{"$f":"Race0209!F$42","v":1}]
[null,{"$f":"Race0209!B$5","v":"Senior"},{"$f":"Race0209!B$4","v":"OC6"},{"$f":"Race0209!E$5","v":"Women"},{"$f":"Race0209!D$5","v":"Senior Masters"},{"$f":"Race0209!D$4","v":"Short Course"},{"$f":"Race0209!A$43","v":36},{"$f":"Race0209!D$43","v":0},{"$f":"Race0209!C$43","v":0},{"$f":"Race0209!F$43","v":1}]
[null,{"$f":"Race0209!B$5","v":"Senior"},{"$f":"Race0209!B$4","v":"OC6"},{"$f":"Race0209!E$5","v":"Women"},{"$f":"Race0209!D$5","v":"Senior Masters"},{"$f":"Race0209!D$4","v":"Short Course"},{"$f":"Race0209!A$44","v":37},{"$f":"Race0209!D$44","v":0},{"$f":"Race0209!C$44","v":0},{"$f":"Race0209!F$44","v":1}]
[null,{"$f":"Race0209!B$5","v":"Senior"},{"$f":"Race0209!B$4","v":"OC6"},{"$f":"Race0209!E$5","v":"Women"},{"$f":"Race0209!D$5","v":"Senior Masters"},{"$f":"Race0209!D$4","v":"Short Course"},{"$f":"Race0209!A$45","v":38},{"$f":"Race0209!D$45","v":0},{"$f":"Race0209!C$45","v":0},{"$f":"Race0209!F$45","v":1}]
[null,{"$f":"Race0209!B$5","v":"Senior"},{"$f":"Race0209!B$4","v":"OC6"},{"$f":"Race0209!E$5","v":"Women"},{"$f":"Race0209!D$5","v":"Senior Masters"},{"$f":"Race0209!D$4","v":"Short Course"},{"$f":"Race0209!A$46","v":39},{"$f":"Race0209!D$46","v":0},{"$f":"Race0209!C$46","v":0},{"$f":"Race0209!F$46","v":1}]
[null,{"$f":"Race0209!B$5","v":"Senior"},{"$f":"Race0209!B$4","v":"OC6"},{"$f":"Race0209!E$5","v":"Women"},{"$f":"Race0209!D$5","v":"Senior Masters"},{"$f":"Race0209!D$4","v":"Short Course"},{"$f":"Race0209!A$47","v":40},{"$f":"Race0209!D$47","v":0},{"$f":"Race0209!C$47","v":0},{"$f":"Race0209!F$47","v":1}]
[null,{"$f":"Race0209!B$5","v":"Senior"},{"$f":"Race0209!B$4","v":"OC6"},{"$f":"Race0209!E$5","v":"Women"},{"$f":"Race0209!D$5","v":"Senior Masters"},{"$f":"Race0209!D$4","v":"Short Course"},{"$f":"Race0209!A$48","v":41},{"$f":"Race0209!D$48","v":0},{"$f":"Race0209!C$48","v":0},{"$f":"Race0209!F$48","v":1}]
[null,{"$f":"Race0209!B$5","v":"Senior"},{"$f":"Race0209!B$4","v":"OC6"},{"$f":"Race0209!E$5","v":"Women"},{"$f":"Race0209!D$5","v":"Senior Masters"},{"$f":"Race0209!D$4","v":"Short Course"},{"$f":"Race0209!A$49","v":42},{"$f":"Race0209!D$49","v":0},{"$f":"Race0209!C$49","v":0},{"$f":"Race0209!F$49","v":1}]
[null,{"$f":"Race0209!B$5","v":"Senior"},{"$f":"Race0209!B$4","v":"OC6"},{"$f":"Race0209!E$5","v":"Women"},{"$f":"Race0209!D$5","v":"Senior Masters"},{"$f":"Race0209!D$4","v":"Short Course"},{"$f":"Race0209!A$50","v":43},{"$f":"Race0209!D$50","v":0},{"$f":"Race0209!C$50","v":0},{"$f":"Race0209!F$50","v":1}]
[null,{"$f":"Race0209!B$5","v":"Senior"},{"$f":"Race0209!B$4","v":"OC6"},{"$f":"Race0209!E$5","v":"Women"},{"$f":"Race0209!D$5","v":"Senior Masters"},{"$f":"Race0209!D$4","v":"Short Course"},{"$f":"Race0209!A$51","v":44},{"$f":"Race0209!D$51","v":0},{"$f":"Race0209!C$51","v":0},{"$f":"Race0209!F$51","v":1}]
[null,{"$f":"Race0209!B$5","v":"Senior"},{"$f":"Race0209!B$4","v":"OC6"},{"$f":"Race0209!E$5","v":"Women"},{"$f":"Race0209!D$5","v":"Senior Masters"},{"$f":"Race0209!D$4","v":"Short Course"},{"$f":"Race0209!A$52","v":45},{"$f":"Race0209!D$52","v":0},{"$f":"Race0209!C$52","v":0},{"$f":"Race0209!F$52","v":1}]
[null,{"$f":"Race0209!B$5","v":"Senior"},{"$f":"Race0209!B$4","v":"OC6"},{"$f":"Race0209!E$5","v":"Women"},{"$f":"Race0209!D$5","v":"Senior Masters"},{"$f":"Race0209!D$4","v":"Short Course"},{"$f":"Race0209!A$53","v":46},{"$f":"Race0209!D$53","v":0},{"$f":"Race0209!C$53","v":0},{"$f":"Race0209!F$53","v":1}]
[null,{"$f":"Race0209!B$5","v":"Senior"},{"$f":"Race0209!B$4","v":"OC6"},{"$f":"Race0209!E$5","v":"Women"},{"$f":"Race0209!D$5","v":"Senior Masters"},{"$f":"Race0209!D$4","v":"Short Course"},{"$f":"Race0209!A$54","v":47},{"$f":"Race0209!D$54","v":0},{"$f":"Race0209!C$54","v":0},{"$f":"Race0209!F$54","v":1}]
[null,{"$f":"Race0209!B$5","v":"Senior"},{"$f":"Race0209!B$4","v":"OC6"},{"$f":"Race0209!E$5","v":"Women"},{"$f":"Race0209!D$5","v":"Senior Masters"},{"$f":"Race0209!D$4","v":"Short Course"},{"$f":"Race0209!A$55","v":48},{"$f":"Race0209!D$55","v":0},{"$f":"Race0209!C$55","v":0},{"$f":"Race0209!F$55","v":1}]
[null,{"$f":"Race0209!B$5","v":"Senior"},{"$f":"Race0209!B$4","v":"OC6"},{"$f":"Race0209!E$5","v":"Women"},{"$f":"Race0209!D$5","v":"Senior Masters"},{"$f":"Race0209!D$4","v":"Short Course"},{"$f":"Race0209!A$56","v":49},{"$f":"Race0209!D$56","v":0},{"$f":"Race0209!C$56","v":0},{"$f":"Race0209!F$56","v":1}]
[null,{"$f":"Race0209!B$5","v":"Senior"},{"$f":"Race0209!B$4","v":"OC6"},{"$f":"Race0209!E$5","v":"Women"},{"$f":"Race0209!D$5","v":"Senior Masters"},{"$f":"Race0209!D$4","v":"Short Course"},{"$f":"Race0209!A$57","v":50},{"$f":"Race0209!D$57","v":0},{"$f":"Race0209!C$57","v":0},{"$f":"Race0209!F$57","v":1}]
["Race0210",{"$f":"Race0210!B$5","v":"Senior"},{"$f":"Race0210!B$4","v":"OC6"},{"$f":"Race0210!E$5","v":"Women"},{"$f":"Race0210!D$5","v":"Golden Masters"},{"$f":"Race0210!D$4","v":"Short Course"},{"$f":"Race0210!A$8","v":1},{"$f":"Race0210!D$8","v":0},{"$f":"Race0210!C$8","v":0},{"$f":"Race0210!F$8","v":14}]
[null,{"$f":"Race0210!B$5","v":"Senior"},{"$f":"Race0210!B$4","v":"OC6"},{"$f":"Race0210!E$5","v":"Women"},{"$f":"Race0210!D$5","v":"Golden Masters"},{"$f":"Race0210!D$4","v":"Short Course"},{"$f":"Race0210!A$9","v":2},{"$f":"Race0210!D$9","v":0},{"$f":"Race0210!C$9","v":0},{"$f":"Race0210!F$9","v":12}]
[null,{"$f":"Race0210!B$5","v":"Senior"},{"$f":"Race0210!B$4","v":"OC6"},{"$f":"Race0210!E$5","v":"Women"},{"$f":"Race0210!D$5","v":"Golden Masters"},{"$f":"Race0210!D$4","v":"Short Course"},{"$f":"Race0210!A$10","v":3},{"$f":"Race0210!D$10","v":0},{"$f":"Race0210!C$10","v":0},{"$f":"Race0210!F$10","v":10}]
[null,{"$f":"Race0210!B$5","v":"Senior"},{"$f":"Race0210!B$4","v":"OC6"},{"$f":"Race0210!E$5","v":"Women"},{"$f":"Race0210!D$5","v":"Golden Masters"},{"$f":"Race0210!D$4","v":"Short Course"},{"$f":"Race0210!A$11","v":4},{"$f":"Race0210!D$11","v":0},{"$f":"Race0210!C$11","v":0},{"$f":"Race0210!F$11","v":8}]
[null,{"$f":"Race0210!B$5","v":"Senior"},{"$f":"Race0210!B$4","v":"OC6"},{"$f":"Race0210!E$5","v":"Women"},{"$f":"Race0210!D$5","v":"Golden Masters"},{"$f":"Race0210!D$4","v":"Short Course"},{"$f":"Race0210!A$12","v":5},{"$f":"Race0210!D$12","v":0},{"$f":"Race0210!C$12","v":0},{"$f":"Race0210!F$12","v":7}]
[null,{"$f":"Race0210!B$5","v":"Senior"},{"$f":"Race0210!B$4","v":"OC6"},{"$f":"Race0210!E$5","v":"Women"},{"$f":"Race0210!D$5","v":"Golden Masters"},{"$f":"Race0210!D$4","v":"Short Course"},{"$f":"Race0210!A$13","v":6},{"$f":"Race0210!D$13","v":0},{"$f":"Race0210!C$13","v":0},{"$f":"Race0210!F$13","v":6}]
[null,{"$f":"Race0210!B$5","v":"Senior"},{"$f":"Race0210!B$4","v":"OC6"},{"$f":"Race0210!E$5","v":"Women"},{"$f":"Race0210!D$5","v":"Golden Masters"},{"$f":"Race0210!D$4","v":"Short Course"},{"$f":"Race0210!A$14","v":7},{"$f":"Race0210!D$14","v":0},{"$f":"Race0210!C$14","v":0},{"$f":"Race0210!F$14","v":5}]
[null,{"$f":"Race0210!B$5","v":"Senior"},{"$f":"Race0210!B$4","v":"OC6"},{"$f":"Race0210!E$5","v":"Women"},{"$f":"Race0210!D$5","v":"Golden Masters"},{"$f":"Race0210!D$4","v":"Short Course"},{"$f":"Race0210!A$15","v":8},{"$f":"Race0210!D$15","v":0},{"$f":"Race0210!C$15","v":0},{"$f":"Race0210!F$15","v":4}]
[null,{"$f":"Race0210!B$5","v":"Senior"},{"$f":"Race0210!B$4","v":"OC6"},{"$f":"Race0210!E$5","v":"Women"},{"$f":"Race0210!D$5","v":"Golden Masters"},{"$f":"Race0210!D$4","v":"Short Course"},{"$f":"Race0210!A$16","v":9},{"$f":"Race0210!D$16","v":0},{"$f":"Race0210!C$16","v":0},{"$f":"Race0210!F$16","v":3}]
[null,{"$f":"Race0210!B$5","v":"Senior"},{"$f":"Race0210!B$4","v":"OC6"},{"$f":"Race0210!E$5","v":"Women"},{"$f":"Race0210!D$5","v":"Golden Masters"},{"$f":"Race0210!D$4","v":"Short Course"},{"$f":"Race0210!A$17","v":10},{"$f":"Race0210!D$17","v":0},{"$f":"Race0210!C$17","v":0},{"$f":"Race0210!F$17","v":2}]
[null,{"$f":"Race0210!B$5","v":"Senior"},{"$f":"Race0210!B$4","v":"OC6"},{"$f":"Race0210!E$5","v":"Women"},{"$f":"Race0210!D$5","v":"Golden Masters"},{"$f":"Race0210!D$4","v":"Short Course"},{"$f":"Race0210!A$18","v":11},{"$f":"Race0210!D$18","v":0},{"$f":"Race0210!C$18","v":0},{"$f":"Race0210!F$18","v":1}]
[null,{"$f":"Race0210!B$5","v":"Senior"},{"$f":"Race0210!B$4","v":"OC6"},{"$f":"Race0210!E$5","v":"Women"},{"$f":"Race0210!D$5","v":"Golden Masters"},{"$f":"Race0210!D$4","v":"Short Course"},{"$f":"Race0210!A$19","v":12},{"$f":"Race0210!D$19","v":0},{"$f":"Race0210!C$19","v":0},{"$f":"Race0210!F$19","v":1}]
[null,{"$f":"Race0210!B$5","v":"Senior"},{"$f":"Race0210!B$4","v":"OC6"},{"$f":"Race0210!E$5","v":"Women"},{"$f":"Race0210!D$5","v":"Golden Masters"},{"$f":"Race0210!D$4","v":"Short Course"},{"$f":"Race0210!A$20","v":13},{"$f":"Race0210!D$20","v":0},{"$f":"Race0210!C$20","v":0},{"$f":"Race0210!F$20","v":1}]
[null,{"$f":"Race0210!B$5","v":"Senior"},{"$f":"Race0210!B$4","v":"OC6"},{"$f":"Race0210!E$5","v":"Women"},{"$f":"Race0210!D$5","v":"Golden Masters"},{"$f":"Race0210!D$4","v":"Short Course"},{"$f":"Race0210!A$21","v":14},{"$f":"Race0210!D$21","v":0},{"$f":"Race0210!C$21","v":0},{"$f":"Race0210!F$21","v":1}]
[null,{"$f":"Race0210!B$5","v":"Senior"},{"$f":"Race0210!B$4","v":"OC6"},{"$f":"Race0210!E$5","v":"Women"},{"$f":"Race0210!D$5","v":"Golden Masters"},{"$f":"Race0210!D$4","v":"Short Course"},{"$f":"Race0210!A$22","v":15},{"$f":"Race0210!D$22","v":0},{"$f":"Race0210!C$22","v":0},{"$f":"Race0210!F$22","v":1}]
[null,{"$f":"Race0210!B$5","v":"Senior"},{"$f":"Race0210!B$4","v":"OC6"},{"$f":"Race0210!E$5","v":"Women"},{"$f":"Race0210!D$5","v":"Golden Masters"},{"$f":"Race0210!D$4","v":"Short Course"},{"$f":"Race0210!A$23","v":16},{"$f":"Race0210!D$23","v":0},{"$f":"Race0210!C$23","v":0},{"$f":"Race0210!F$23","v":1}]
[null,{"$f":"Race0210!B$5","v":"Senior"},{"$f":"Race0210!B$4","v":"OC6"},{"$f":"Race0210!E$5","v":"Women"},{"$f":"Race0210!D$5","v":"Golden Masters"},{"$f":"Race0210!D$4","v":"Short Course"},{"$f":"Race0210!A$24","v":17},{"$f":"Race0210!D$24","v":0},{"$f":"Race0210!C$24","v":0},{"$f":"Race0210!F$24","v":1}]
[null,{"$f":"Race0210!B$5","v":"Senior"},{"$f":"Race0210!B$4","v":"OC6"},{"$f":"Race0210!E$5","v":"Women"},{"$f":"Race0210!D$5","v":"Golden Masters"},{"$f":"Race0210!D$4","v":"Short Course"},{"$f":"Race0210!A$25","v":18},{"$f":"Race0210!D$25","v":0},{"$f":"Race0210!C$25","v":0},{"$f":"Race0210!F$25","v":1}]
[null,{"$f":"Race0210!B$5","v":"Senior"},{"$f":"Race0210!B$4","v":"OC6"},{"$f":"Race0210!E$5","v":"Women"},{"$f":"Race0210!D$5","v":"Golden Masters"},{"$f":"Race0210!D$4","v":"Short Course"},{"$f":"Race0210!A$26","v":19},{"$f":"Race0210!D$26","v":0},{"$f":"Race0210!C$26","v":0},{"$f":"Race0210!F$26","v":1}]
[null,{"$f":"Race0210!B$5","v":"Senior"},{"$f":"Race0210!B$4","v":"OC6"},{"$f":"Race0210!E$5","v":"Women"},{"$f":"Race0210!D$5","v":"Golden Masters"},{"$f":"Race0210!D$4","v":"Short Course"},{"$f":"Race0210!A$27","v":20},{"$f":"Race0210!D$27","v":0},{"$f":"Race0210!C$27","v":0},{"$f":"Race0210!F$27","v":1}]
[null,{"$f":"Race0210!B$5","v":"Senior"},{"$f":"Race0210!B$4","v":"OC6"},{"$f":"Race0210!E$5","v":"Women"},{"$f":"Race0210!D$5","v":"Golden Masters"},{"$f":"Race0210!D$4","v":"Short Course"},{"$f":"Race0210!A$28","v":21},{"$f":"Race0210!D$28","v":0},{"$f":"Race0210!C$28","v":0},{"$f":"Race0210!F$28","v":1}]
[null,{"$f":"Race0210!B$5","v":"Senior"},{"$f":"Race0210!B$4","v":"OC6"},{"$f":"Race0210!E$5","v":"Women"},{"$f":"Race0210!D$5","v":"Golden Masters"},{"$f":"Race0210!D$4","v":"Short Course"},{"$f":"Race0210!A$29","v":22},{"$f":"Race0210!D$29","v":0},{"$f":"Race0210!C$29","v":0},{"$f":"Race0210!F$29","v":1}]
[null,{"$f":"Race0210!B$5","v":"Senior"},{"$f":"Race0210!B$4","v":"OC6"},{"$f":"Race0210!E$5","v":"Women"},{"$f":"Race0210!D$5","v":"Golden Masters"},{"$f":"Race0210!D$4","v":"Short Course"},{"$f":"Race0210!A$30","v":23},{"$f":"Race0210!D$30","v":0},{"$f":"Race0210!C$30","v":0},{"$f":"Race0210!F$30","v":1}]
[null,{"$f":"Race0210!B$5","v":"Senior"},{"$f":"Race0210!B$4","v":"OC6"},{"$f":"Race0210!E$5","v":"Women"},{"$f":"Race0210!D$5","v":"Golden Masters"},{"$f":"Race0210!D$4","v":"Short Course"},{"$f":"Race0210!A$31","v":24},{"$f":"Race0210!D$31","v":0},{"$f":"Race0210!C$31","v":0},{"$f":"Race0210!F$31","v":1}]
[null,{"$f":"Race0210!B$5","v":"Senior"},{"$f":"Race0210!B$4","v":"OC6"},{"$f":"Race0210!E$5","v":"Women"},{"$f":"Race0210!D$5","v":"Golden Masters"},{"$f":"Race0210!D$4","v":"Short Course"},{"$f":"Race0210!A$32","v":25},{"$f":"Race0210!D$32","v":0},{"$f":"Race0210!C$32","v":0},{"$f":"Race0210!F$32","v":1}]
[null,{"$f":"Race0210!B$5","v":"Senior"},{"$f":"Race0210!B$4","v":"OC6"},{"$f":"Race0210!E$5","v":"Women"},{"$f":"Race0210!D$5","v":"Golden Masters"},{"$f":"Race0210!D$4","v":"Short Course"},{"$f":"Race0210!A$33","v":26},{"$f":"Race0210!D$33","v":0},{"$f":"Race0210!C$33","v":0},{"$f":"Race0210!F$33","v":1}]
[null,{"$f":"Race0210!B$5","v":"Senior"},{"$f":"Race0210!B$4","v":"OC6"},{"$f":"Race0210!E$5","v":"Women"},{"$f":"Race0210!D$5","v":"Golden Masters"},{"$f":"Race0210!D$4","v":"Short Course"},{"$f":"Race0210!A$34","v":27},{"$f":"Race0210!D$34","v":0},{"$f":"Race0210!C$34","v":0},{"$f":"Race0210!F$34","v":1}]
[null,{"$f":"Race0210!B$5","v":"Senior"},{"$f":"Race0210!B$4","v":"OC6"},{"$f":"Race0210!E$5","v":"Women"},{"$f":"Race0210!D$5","v":"Golden Masters"},{"$f":"Race0210!D$4","v":"Short Course"},{"$f":"Race0210!A$35","v":28},{"$f":"Race0210!D$35","v":0},{"$f":"Race0210!C$35","v":0},{"$f":"Race0210!F$35","v":1}]
[null,{"$f":"Race0210!B$5","v":"Senior"},{"$f":"Race0210!B$4","v":"OC6"},{"$f":"Race0210!E$5","v":"Women"},{"$f":"Race0210!D$5","v":"Golden Masters"},{"$f":"Race0210!D$4","v":"Short Course"},{"$f":"Race0210!A$36","v":29},{"$f":"Race0210!D$36","v":0},{"$f":"Race0210!C$36","v":0},{"$f":"Race0210!F$36","v":1}]
[null,{"$f":"Race0210!B$5","v":"Senior"},{"$f":"Race0210!B$4","v":"OC6"},{"$f":"Race0210!E$5","v":"Women"},{"$f":"Race0210!D$5","v":"Golden Masters"},{"$f":"Race0210!D$4","v":"Short Course"},{"$f":"Race0210!A$37","v":30},{"$f":"Race0210!D$37","v":0},{"$f":"Race0210!C$37","v":0},{"$f":"Race0210!F$37","v":1}]
[null,{"$f":"Race0210!B$5","v":"Senior"},{"$f":"Race0210!B$4","v":"OC6"},{"$f":"Race0210!E$5","v":"Women"},{"$f":"Race0210!D$5","v":"Golden Masters"},{"$f":"Race0210!D$4","v":"Short Course"},{"$f":"Race0210!A$38","v":31},{"$f":"Race0210!D$38","v":0},{"$f":"Race0210!C$38","v":0},{"$f":"Race0210!F$38","v":1}]
[null,{"$f":"Race0210!B$5","v":"Senior"},{"$f":"Race0210!B$4","v":"OC6"},{"$f":"Race0210!E$5","v":"Women"},{"$f":"Race0210!D$5","v":"Golden Masters"},{"$f":"Race0210!D$4","v":"Short Course"},{"$f":"Race0210!A$39","v":32},{"$f":"Race0210!D$39","v":0},{"$f":"Race0210!C$39","v":0},{"$f":"Race0210!F$39","v":1}]
[null,{"$f":"Race0210!B$5","v":"Senior"},{"$f":"Race0210!B$4","v":"OC6"},{"$f":"Race0210!E$5","v":"Women"},{"$f":"Race0210!D$5","v":"Golden Masters"},{"$f":"Race0210!D$4","v":"Short Course"},{"$f":"Race0210!A$40","v":33},{"$f":"Race0210!D$40","v":0},{"$f":"Race0210!C$40","v":0},{"$f":"Race0210!F$40","v":1}]
[null,{"$f":"Race0210!B$5","v":"Senior"},{"$f":"Race0210!B$4","v":"OC6"},{"$f":"Race0210!E$5","v":"Women"},{"$f":"Race0210!D$5","v":"Golden Masters"},{"$f":"Race0210!D$4","v":"Short Course"},{"$f":"Race0210!A$41","v":34},{"$f":"Race0210!D$41","v":0},{"$f":"Race0210!C$41","v":0},{"$f":"Race0210!F$41","v":1}]
[null,{"$f":"Race0210!B$5","v":"Senior"},{"$f":"Race0210!B$4","v":"OC6"},{"$f":"Race0210!E$5","v":"Women"},{"$f":"Race0210!D$5","v":"Golden Masters"},{"$f":"Race0210!D$4","v":"Short Course"},{"$f":"Race0210!A$42","v":35},{"$f":"Race0210!D$42","v":0},{"$f":"Race0210!C$42","v":0},{"$f":"Race0210!F$42","v":1}]
[null,{"$f":"Race0210!B$5","v":"Senior"},{"$f":"Race0210!B$4","v":"OC6"},{"$f":"Race0210!E$5","v":"Women"},{"$f":"Race0210!D$5","v":"Golden Masters"},{"$f":"Race0210!D$4","v":"Short Course"},{"$f":"Race0210!A$43","v":36},{"$f":"Race0210!D$43","v":0},{"$f":"Race0210!C$43","v":0},{"$f":"Race0210!F$43","v":1}]
[null,{"$f":"Race0210!B$5","v":"Senior"},{"$f":"Race0210!B$4","v":"OC6"},{"$f":"Race0210!E$5","v":"Women"},{"$f":"Race0210!D$5","v":"Golden Masters"},{"$f":"Race0210!D$4","v":"Short Course"},{"$f":"Race0210!A$44","v":37},{"$f":"Race0210!D$44","v":0},{"$f":"Race0210!C$44","v":0},{"$f":"Race0210!F$44","v":1}]
[null,{"$f":"Race0210!B$5","v":"Senior"},{"$f":"Race0210!B$4","v":"OC6"},{"$f":"Race0210!E$5","v":"Women"},{"$f":"Race0210!D$5","v":"Golden Masters"},{"$f":"Race0210!D$4","v":"Short Course"},{"$f":"Race0210!A$45","v":38},{"$f":"Race0210!D$45","v":0},{"$f":"Race0210!C$45","v":0},{"$f":"Race0210!F$45","v":1}]
[null,{"$f":"Race0210!B$5","v":"Senior"},{"$f":"Race0210!B$4","v":"OC6"},{"$f":"Race0210!E$5","v":"Women"},{"$f":"Race0210!D$5","v":"Golden Masters"},{"$f":"Race0210!D$4","v":"Short Course"},{"$f":"Race0210!A$46","v":39},{"$f":"Race0210!D$46","v":0},{"$f":"Race0210!C$46","v":0},{"$f":"Race0210!F$46","v":1}]
[null,{"$f":"Race0210!B$5","v":"Senior"},{"$f":"Race0210!B$4","v":"OC6"},{"$f":"Race0210!E$5","v":"Women"},{"$f":"Race0210!D$5","v":"Golden Masters"},{"$f":"Race0210!D$4","v":"Short Course"},{"$f":"Race0210!A$47","v":40},{"$f":"Race0210!D$47","v":0},{"$f":"Race0210!C$47","v":0},{"$f":"Race0210!F$47","v":1}]
[null,{"$f":"Race0210!B$5","v":"Senior"},{"$f":"Race0210!B$4","v":"OC6"},{"$f":"Race0210!E$5","v":"Women"},{"$f":"Race0210!D$5","v":"Golden Masters"},{"$f":"Race0210!D$4","v":"Short Course"},{"$f":"Race0210!A$48","v":41},{"$f":"Race0210!D$48","v":0},{"$f":"Race0210!C$48","v":0},{"$f":"Race0210!F$48","v":1}]
[null,{"$f":"Race0210!B$5","v":"Senior"},{"$f":"Race0210!B$4","v":"OC6"},{"$f":"Race0210!E$5","v":"Women"},{"$f":"Race0210!D$5","v":"Golden Masters"},{"$f":"Race0210!D$4","v":"Short Course"},{"$f":"Race0210!A$49","v":42},{"$f":"Race0210!D$49","v":0},{"$f":"Race0210!C$49","v":0},{"$f":"Race0210!F$49","v":1}]
[null,{"$f":"Race0210!B$5","v":"Senior"},{"$f":"Race0210!B$4","v":"OC6"},{"$f":"Race0210!E$5","v":"Women"},{"$f":"Race0210!D$5","v":"Golden Masters"},{"$f":"Race0210!D$4","v":"Short Course"},{"$f":"Race0210!A$50","v":43},{"$f":"Race0210!D$50","v":0},{"$f":"Race0210!C$50","v":0},{"$f":"Race0210!F$50","v":1}]
[null,{"$f":"Race0210!B$5","v":"Senior"},{"$f":"Race0210!B$4","v":"OC6"},{"$f":"Race0210!E$5","v":"Women"},{"$f":"Race0210!D$5","v":"Golden Masters"},{"$f":"Race0210!D$4","v":"Short Course"},{"$f":"Race0210!A$51","v":44},{"$f":"Race0210!D$51","v":0},{"$f":"Race0210!C$51","v":0},{"$f":"Race0210!F$51","v":1}]
[null,{"$f":"Race0210!B$5","v":"Senior"},{"$f":"Race0210!B$4","v":"OC6"},{"$f":"Race0210!E$5","v":"Women"},{"$f":"Race0210!D$5","v":"Golden Masters"},{"$f":"Race0210!D$4","v":"Short Course"},{"$f":"Race0210!A$52","v":45},{"$f":"Race0210!D$52","v":0},{"$f":"Race0210!C$52","v":0},{"$f":"Race0210!F$52","v":1}]
[null,{"$f":"Race0210!B$5","v":"Senior"},{"$f":"Race0210!B$4","v":"OC6"},{"$f":"Race0210!E$5","v":"Women"},{"$f":"Race0210!D$5","v":"Golden Masters"},{"$f":"Race0210!D$4","v":"Short Course"},{"$f":"Race0210!A$53","v":46},{"$f":"Race0210!D$53","v":0},{"$f":"Race0210!C$53","v":0},{"$f":"Race0210!F$53","v":1}]
[null,{"$f":"Race0210!B$5","v":"Senior"},{"$f":"Race0210!B$4","v":"OC6"},{"$f":"Race0210!E$5","v":"Women"},{"$f":"Race0210!D$5","v":"Golden Masters"},{"$f":"Race0210!D$4","v":"Short Course"},{"$f":"Race0210!A$54","v":47},{"$f":"Race0210!D$54","v":0},{"$f":"Race0210!C$54","v":0},{"$f":"Race0210!F$54","v":1}]
[null,{"$f":"Race0210!B$5","v":"Senior"},{"$f":"Race0210!B$4","v":"OC6"},{"$f":"Race0210!E$5","v":"Women"},{"$f":"Race0210!D$5","v":"Golden Masters"},{"$f":"Race0210!D$4","v":"Short Course"},{"$f":"Race0210!A$55","v":48},{"$f":"Race0210!D$55","v":0},{"$f":"Race0210!C$55","v":0},{"$f":"Race0210!F$55","v":1}]
[null,{"$f":"Race0210!B$5","v":"Senior"},{"$f":"Race0210!B$4","v":"OC6"},{"$f":"Race0210!E$5","v":"Women"},{"$f":"Race0210!D$5","v":"Golden Masters"},{"$f":"Race0210!D$4","v":"Short Course"},{"$f":"Race0210!A$56","v":49},{"$f":"Race0210!D$56","v":0},{"$f":"Race0210!C$56","v":0},{"$f":"Race0210!F$56","v":1}]
[null,{"$f":"Race0210!B$5","v":"Senior"},{"$f":"Race0210!B$4","v":"OC6"},{"$f":"Race0210!E$5","v":"Women"},{"$f":"Race0210!D$5","v":"Golden Masters"},{"$f":"Race0210!D$4","v":"Short Course"},{"$f":"Race0210!A$57","v":50},{"$f":"Race0210!D$57","v":0},{"$f":"Race0210!C$57","v":0},{"$f":"Race0210!F$57","v":1}]
["Race0212",{"$f":"Race0212!B$5","v":"Senior"},{"$f":"Race0212!B$4","v":"OC6"},{"$f":"Race0212!E$5","v":"Mixed"},{"$f":"Race0212!D$5","v":"Open"},{"$f":"Race0212!D$4","v":"Short Course"},{"$f":"Race0212!A$8","v":1},{"$f":"Race0212!D$8","v":0},{"$f":"Race0212!C$8","v":0},{"$f":"Race0212!F$8","v":14}]
[null,{"$f":"Race0212!B$5","v":"Senior"},{"$f":"Race0212!B$4","v":"OC6"},{"$f":"Race0212!E$5","v":"Mixed"},{"$f":"Race0212!D$5","v":"Open"},{"$f":"Race0212!D$4","v":"Short Course"},{"$f":"Race0212!A$9","v":2},{"$f":"Race0212!D$9","v":0},{"$f":"Race0212!C$9","v":0},{"$f":"Race0212!F$9","v":12}]
[null,{"$f":"Race0212!B$5","v":"Senior"},{"$f":"Race0212!B$4","v":"OC6"},{"$f":"Race0212!E$5","v":"Mixed"},{"$f":"Race0212!D$5","v":"Open"},{"$f":"Race0212!D$4","v":"Short Course"},{"$f":"Race0212!A$10","v":3},{"$f":"Race0212!D$10","v":0},{"$f":"Race0212!C$10","v":0},{"$f":"Race0212!F$10","v":10}]
[null,{"$f":"Race0212!B$5","v":"Senior"},{"$f":"Race0212!B$4","v":"OC6"},{"$f":"Race0212!E$5","v":"Mixed"},{"$f":"Race0212!D$5","v":"Open"},{"$f":"Race0212!D$4","v":"Short Course"},{"$f":"Race0212!A$11","v":4},{"$f":"Race0212!D$11","v":0},{"$f":"Race0212!C$11","v":0},{"$f":"Race0212!F$11","v":8}]
[null,{"$f":"Race0212!B$5","v":"Senior"},{"$f":"Race0212!B$4","v":"OC6"},{"$f":"Race0212!E$5","v":"Mixed"},{"$f":"Race0212!D$5","v":"Open"},{"$f":"Race0212!D$4","v":"Short Course"},{"$f":"Race0212!A$12","v":5},{"$f":"Race0212!D$12","v":0},{"$f":"Race0212!C$12","v":0},{"$f":"Race0212!F$12","v":7}]
[null,{"$f":"Race0212!B$5","v":"Senior"},{"$f":"Race0212!B$4","v":"OC6"},{"$f":"Race0212!E$5","v":"Mixed"},{"$f":"Race0212!D$5","v":"Open"},{"$f":"Race0212!D$4","v":"Short Course"},{"$f":"Race0212!A$13","v":6},{"$f":"Race0212!D$13","v":0},{"$f":"Race0212!C$13","v":0},{"$f":"Race0212!F$13","v":6}]
[null,{"$f":"Race0212!B$5","v":"Senior"},{"$f":"Race0212!B$4","v":"OC6"},{"$f":"Race0212!E$5","v":"Mixed"},{"$f":"Race0212!D$5","v":"Open"},{"$f":"Race0212!D$4","v":"Short Course"},{"$f":"Race0212!A$14","v":7},{"$f":"Race0212!D$14","v":0},{"$f":"Race0212!C$14","v":0},{"$f":"Race0212!F$14","v":5}]
[null,{"$f":"Race0212!B$5","v":"Senior"},{"$f":"Race0212!B$4","v":"OC6"},{"$f":"Race0212!E$5","v":"Mixed"},{"$f":"Race0212!D$5","v":"Open"},{"$f":"Race0212!D$4","v":"Short Course"},{"$f":"Race0212!A$15","v":8},{"$f":"Race0212!D$15","v":0},{"$f":"Race0212!C$15","v":0},{"$f":"Race0212!F$15","v":4}]
[null,{"$f":"Race0212!B$5","v":"Senior"},{"$f":"Race0212!B$4","v":"OC6"},{"$f":"Race0212!E$5","v":"Mixed"},{"$f":"Race0212!D$5","v":"Open"},{"$f":"Race0212!D$4","v":"Short Course"},{"$f":"Race0212!A$16","v":9},{"$f":"Race0212!D$16","v":0},{"$f":"Race0212!C$16","v":0},{"$f":"Race0212!F$16","v":3}]
[null,{"$f":"Race0212!B$5","v":"Senior"},{"$f":"Race0212!B$4","v":"OC6"},{"$f":"Race0212!E$5","v":"Mixed"},{"$f":"Race0212!D$5","v":"Open"},{"$f":"Race0212!D$4","v":"Short Course"},{"$f":"Race0212!A$17","v":10},{"$f":"Race0212!D$17","v":0},{"$f":"Race0212!C$17","v":0},{"$f":"Race0212!F$17","v":2}]
[null,{"$f":"Race0212!B$5","v":"Senior"},{"$f":"Race0212!B$4","v":"OC6"},{"$f":"Race0212!E$5","v":"Mixed"},{"$f":"Race0212!D$5","v":"Open"},{"$f":"Race0212!D$4","v":"Short Course"},{"$f":"Race0212!A$18","v":11},{"$f":"Race0212!D$18","v":0},{"$f":"Race0212!C$18","v":0},{"$f":"Race0212!F$18","v":1}]
[null,{"$f":"Race0212!B$5","v":"Senior"},{"$f":"Race0212!B$4","v":"OC6"},{"$f":"Race0212!E$5","v":"Mixed"},{"$f":"Race0212!D$5","v":"Open"},{"$f":"Race0212!D$4","v":"Short Course"},{"$f":"Race0212!A$19","v":12},{"$f":"Race0212!D$19","v":0},{"$f":"Race0212!C$19","v":0},{"$f":"Race0212!F$19","v":1}]
[null,{"$f":"Race0212!B$5","v":"Senior"},{"$f":"Race0212!B$4","v":"OC6"},{"$f":"Race0212!E$5","v":"Mixed"},{"$f":"Race0212!D$5","v":"Open"},{"$f":"Race0212!D$4","v":"Short Course"},{"$f":"Race0212!A$20","v":13},{"$f":"Race0212!D$20","v":0},{"$f":"Race0212!C$20","v":0},{"$f":"Race0212!F$20","v":1}]
[null,{"$f":"Race0212!B$5","v":"Senior"},{"$f":"Race0212!B$4","v":"OC6"},{"$f":"Race0212!E$5","v":"Mixed"},{"$f":"Race0212!D$5","v":"Open"},{"$f":"Race0212!D$4","v":"Short Course"},{"$f":"Race0212!A$21","v":14},{"$f":"Race0212!D$21","v":0},{"$f":"Race0212!C$21","v":0},{"$f":"Race0212!F$21","v":1}]
[null,{"$f":"Race0212!B$5","v":"Senior"},{"$f":"Race0212!B$4","v":"OC6"},{"$f":"Race0212!E$5","v":"Mixed"},{"$f":"Race0212!D$5","v":"Open"},{"$f":"Race0212!D$4","v":"Short Course"},{"$f":"Race0212!A$22","v":15},{"$f":"Race0212!D$22","v":0},{"$f":"Race0212!C$22","v":0},{"$f":"Race0212!F$22","v":1}]
[null,{"$f":"Race0212!B$5","v":"Senior"},{"$f":"Race0212!B$4","v":"OC6"},{"$f":"Race0212!E$5","v":"Mixed"},{"$f":"Race0212!D$5","v":"Open"},{"$f":"Race0212!D$4","v":"Short Course"},{"$f":"Race0212!A$23","v":16},{"$f":"Race0212!D$23","v":0},{"$f":"Race0212!C$23","v":0},{"$f":"Race0212!F$23","v":1}]
[null,{"$f":"Race0212!B$5","v":"Senior"},{"$f":"Race0212!B$4","v":"OC6"},{"$f":"Race0212!E$5","v":"Mixed"},{"$f":"Race0212!D$5","v":"Open"},{"$f":"Race0212!D$4","v":"Short Course"},{"$f":"Race0212!A$24","v":17},{"$f":"Race0212!D$24","v":0},{"$f":"Race0212!C$24","v":0},{"$f":"Race0212!F$24","v":1}]
[null,{"$f":"Race0212!B$5","v":"Senior"},{"$f":"Race0212!B$4","v":"OC6"},{"$f":"Race0212!E$5","v":"Mixed"},{"$f":"Race0212!D$5","v":"Open"},{"$f":"Race0212!D$4","v":"Short Course"},{"$f":"Race0212!A$25","v":18},{"$f":"Race0212!D$25","v":0},{"$f":"Race0212!C$25","v":0},{"$f":"Race0212!F$25","v":1}]
[null,{"$f":"Race0212!B$5","v":"Senior"},{"$f":"Race0212!B$4","v":"OC6"},{"$f":"Race0212!E$5","v":"Mixed"},{"$f":"Race0212!D$5","v":"Open"},{"$f":"Race0212!D$4","v":"Short Course"},{"$f":"Race0212!A$26","v":19},{"$f":"Race0212!D$26","v":0},{"$f":"Race0212!C$26","v":0},{"$f":"Race0212!F$26","v":1}]
[null,{"$f":"Race0212!B$5","v":"Senior"},{"$f":"Race0212!B$4","v":"OC6"},{"$f":"Race0212!E$5","v":"Mixed"},{"$f":"Race0212!D$5","v":"Open"},{"$f":"Race0212!D$4","v":"Short Course"},{"$f":"Race0212!A$27","v":20},{"$f":"Race0212!D$27","v":0},{"$f":"Race0212!C$27","v":0},{"$f":"Race0212!F$27","v":1}]
[null,{"$f":"Race0212!B$5","v":"Senior"},{"$f":"Race0212!B$4","v":"OC6"},{"$f":"Race0212!E$5","v":"Mixed"},{"$f":"Race0212!D$5","v":"Open"},{"$f":"Race0212!D$4","v":"Short Course"},{"$f":"Race0212!A$28","v":21},{"$f":"Race0212!D$28","v":0},{"$f":"Race0212!C$28","v":0},{"$f":"Race0212!F$28","v":1}]
[null,{"$f":"Race0212!B$5","v":"Senior"},{"$f":"Race0212!B$4","v":"OC6"},{"$f":"Race0212!E$5","v":"Mixed"},{"$f":"Race0212!D$5","v":"Open"},{"$f":"Race0212!D$4","v":"Short Course"},{"$f":"Race0212!A$29","v":22},{"$f":"Race0212!D$29","v":0},{"$f":"Race0212!C$29","v":0},{"$f":"Race0212!F$29","v":1}]
[null,{"$f":"Race0212!B$5","v":"Senior"},{"$f":"Race0212!B$4","v":"OC6"},{"$f":"Race0212!E$5","v":"Mixed"},{"$f":"Race0212!D$5","v":"Open"},{"$f":"Race0212!D$4","v":"Short Course"},{"$f":"Race0212!A$30","v":23},{"$f":"Race0212!D$30","v":0},{"$f":"Race0212!C$30","v":0},{"$f":"Race0212!F$30","v":1}]
[null,{"$f":"Race0212!B$5","v":"Senior"},{"$f":"Race0212!B$4","v":"OC6"},{"$f":"Race0212!E$5","v":"Mixed"},{"$f":"Race0212!D$5","v":"Open"},{"$f":"Race0212!D$4","v":"Short Course"},{"$f":"Race0212!A$31","v":24},{"$f":"Race0212!D$31","v":0},{"$f":"Race0212!C$31","v":0},{"$f":"Race0212!F$31","v":1}]
[null,{"$f":"Race0212!B$5","v":"Senior"},{"$f":"Race0212!B$4","v":"OC6"},{"$f":"Race0212!E$5","v":"Mixed"},{"$f":"Race0212!D$5","v":"Open"},{"$f":"Race0212!D$4","v":"Short Course"},{"$f":"Race0212!A$32","v":25},{"$f":"Race0212!D$32","v":0},{"$f":"Race0212!C$32","v":0},{"$f":"Race0212!F$32","v":1}]
[null,{"$f":"Race0212!B$5","v":"Senior"},{"$f":"Race0212!B$4","v":"OC6"},{"$f":"Race0212!E$5","v":"Mixed"},{"$f":"Race0212!D$5","v":"Open"},{"$f":"Race0212!D$4","v":"Short Course"},{"$f":"Race0212!A$33","v":26},{"$f":"Race0212!D$33","v":0},{"$f":"Race0212!C$33","v":0},{"$f":"Race0212!F$33","v":1}]
[null,{"$f":"Race0212!B$5","v":"Senior"},{"$f":"Race0212!B$4","v":"OC6"},{"$f":"Race0212!E$5","v":"Mixed"},{"$f":"Race0212!D$5","v":"Open"},{"$f":"Race0212!D$4","v":"Short Course"},{"$f":"Race0212!A$34","v":27},{"$f":"Race0212!D$34","v":0},{"$f":"Race0212!C$34","v":0},{"$f":"Race0212!F$34","v":1}]
[null,{"$f":"Race0212!B$5","v":"Senior"},{"$f":"Race0212!B$4","v":"OC6"},{"$f":"Race0212!E$5","v":"Mixed"},{"$f":"Race0212!D$5","v":"Open"},{"$f":"Race0212!D$4","v":"Short Course"},{"$f":"Race0212!A$35","v":28},{"$f":"Race0212!D$35","v":0},{"$f":"Race0212!C$35","v":0},{"$f":"Race0212!F$35","v":1}]
[null,{"$f":"Race0212!B$5","v":"Senior"},{"$f":"Race0212!B$4","v":"OC6"},{"$f":"Race0212!E$5","v":"Mixed"},{"$f":"Race0212!D$5","v":"Open"},{"$f":"Race0212!D$4","v":"Short Course"},{"$f":"Race0212!A$36","v":29},{"$f":"Race0212!D$36","v":0},{"$f":"Race0212!C$36","v":0},{"$f":"Race0212!F$36","v":1}]
[null,{"$f":"Race0212!B$5","v":"Senior"},{"$f":"Race0212!B$4","v":"OC6"},{"$f":"Race0212!E$5","v":"Mixed"},{"$f":"Race0212!D$5","v":"Open"},{"$f":"Race0212!D$4","v":"Short Course"},{"$f":"Race0212!A$37","v":30},{"$f":"Race0212!D$37","v":0},{"$f":"Race0212!C$37","v":0},{"$f":"Race0212!F$37","v":1}]
[null,{"$f":"Race0212!B$5","v":"Senior"},{"$f":"Race0212!B$4","v":"OC6"},{"$f":"Race0212!E$5","v":"Mixed"},{"$f":"Race0212!D$5","v":"Open"},{"$f":"Race0212!D$4","v":"Short Course"},{"$f":"Race0212!A$38","v":31},{"$f":"Race0212!D$38","v":0},{"$f":"Race0212!C$38","v":0},{"$f":"Race0212!F$38","v":1}]
[null,{"$f":"Race0212!B$5","v":"Senior"},{"$f":"Race0212!B$4","v":"OC6"},{"$f":"Race0212!E$5","v":"Mixed"},{"$f":"Race0212!D$5","v":"Open"},{"$f":"Race0212!D$4","v":"Short Course"},{"$f":"Race0212!A$39","v":32},{"$f":"Race0212!D$39","v":0},{"$f":"Race0212!C$39","v":0},{"$f":"Race0212!F$39","v":1}]
[null,{"$f":"Race0212!B$5","v":"Senior"},{"$f":"Race0212!B$4","v":"OC6"},{"$f":"Race0212!E$5","v":"Mixed"},{"$f":"Race0212!D$5","v":"Open"},{"$f":"Race0212!D$4","v":"Short Course"},{"$f":"Race0212!A$40","v":33},{"$f":"Race0212!D$40","v":0},{"$f":"Race0212!C$40","v":0},{"$f":"Race0212!F$40","v":1}]
[null,{"$f":"Race0212!B$5","v":"Senior"},{"$f":"Race0212!B$4","v":"OC6"},{"$f":"Race0212!E$5","v":"Mixed"},{"$f":"Race0212!D$5","v":"Open"},{"$f":"Race0212!D$4","v":"Short Course"},{"$f":"Race0212!A$41","v":34},{"$f":"Race0212!D$41","v":0},{"$f":"Race0212!C$41","v":0},{"$f":"Race0212!F$41","v":1}]
[null,{"$f":"Race0212!B$5","v":"Senior"},{"$f":"Race0212!B$4","v":"OC6"},{"$f":"Race0212!E$5","v":"Mixed"},{"$f":"Race0212!D$5","v":"Open"},{"$f":"Race0212!D$4","v":"Short Course"},{"$f":"Race0212!A$42","v":35},{"$f":"Race0212!D$42","v":0},{"$f":"Race0212!C$42","v":0},{"$f":"Race0212!F$42","v":1}]
[null,{"$f":"Race0212!B$5","v":"Senior"},{"$f":"Race0212!B$4","v":"OC6"},{"$f":"Race0212!E$5","v":"Mixed"},{"$f":"Race0212!D$5","v":"Open"},{"$f":"Race0212!D$4","v":"Short Course"},{"$f":"Race0212!A$43","v":36},{"$f":"Race0212!D$43","v":0},{"$f":"Race0212!C$43","v":0},{"$f":"Race0212!F$43","v":1}]
[null,{"$f":"Race0212!B$5","v":"Senior"},{"$f":"Race0212!B$4","v":"OC6"},{"$f":"Race0212!E$5","v":"Mixed"},{"$f":"Race0212!D$5","v":"Open"},{"$f":"Race0212!D$4","v":"Short Course"},{"$f":"Race0212!A$44","v":37},{"$f":"Race0212!D$44","v":0},{"$f":"Race0212!C$44","v":0},{"$f":"Race0212!F$44","v":1}]
[null,{"$f":"Race0212!B$5","v":"Senior"},{"$f":"Race0212!B$4","v":"OC6"},{"$f":"Race0212!E$5","v":"Mixed"},{"$f":"Race0212!D$5","v":"Open"},{"$f":"Race0212!D$4","v":"Short Course"},{"$f":"Race0212!A$45","v":38},{"$f":"Race0212!D$45","v":0},{"$f":"Race0212!C$45","v":0},{"$f":"Race0212!F$45","v":1}]
[null,{"$f":"Race0212!B$5","v":"Senior"},{"$f":"Race0212!B$4","v":"OC6"},{"$f":"Race0212!E$5","v":"Mixed"},{"$f":"Race0212!D$5","v":"Open"},{"$f":"Race0212!D$4","v":"Short Course"},{"$f":"Race0212!A$46","v":39},{"$f":"Race0212!D$46","v":0},{"$f":"Race0212!C$46","v":0},{"$f":"Race0212!F$46","v":1}]
[null,{"$f":"Race0212!B$5","v":"Senior"},{"$f":"Race0212!B$4","v":"OC6"},{"$f":"Race0212!E$5","v":"Mixed"},{"$f":"Race0212!D$5","v":"Open"},{"$f":"Race0212!D$4","v":"Short Course"},{"$f":"Race0212!A$47","v":40},{"$f":"Race0212!D$47","v":0},{"$f":"Race0212!C$47","v":0},{"$f":"Race0212!F$47","v":1}]
[null,{"$f":"Race0212!B$5","v":"Senior"},{"$f":"Race0212!B$4","v":"OC6"},{"$f":"Race0212!E$5","v":"Mixed"},{"$f":"Race0212!D$5","v":"Open"},{"$f":"Race0212!D$4","v":"Short Course"},{"$f":"Race0212!A$48","v":41},{"$f":"Race0212!D$48","v":0},{"$f":"Race0212!C$48","v":0},{"$f":"Race0212!F$48","v":1}]
[null,{"$f":"Race0212!B$5","v":"Senior"},{"$f":"Race0212!B$4","v":"OC6"},{"$f":"Race0212!E$5","v":"Mixed"},{"$f":"Race0212!D$5","v":"Open"},{"$f":"Race0212!D$4","v":"Short Course"},{"$f":"Race0212!A$49","v":42},{"$f":"Race0212!D$49","v":0},{"$f":"Race0212!C$49","v":0},{"$f":"Race0212!F$49","v":1}]
[null,{"$f":"Race0212!B$5","v":"Senior"},{"$f":"Race0212!B$4","v":"OC6"},{"$f":"Race0212!E$5","v":"Mixed"},{"$f":"Race0212!D$5","v":"Open"},{"$f":"Race0212!D$4","v":"Short Course"},{"$f":"Race0212!A$50","v":43},{"$f":"Race0212!D$50","v":0},{"$f":"Race0212!C$50","v":0},{"$f":"Race0212!F$50","v":1}]
[null,{"$f":"Race0212!B$5","v":"Senior"},{"$f":"Race0212!B$4","v":"OC6"},{"$f":"Race0212!E$5","v":"Mixed"},{"$f":"Race0212!D$5","v":"Open"},{"$f":"Race0212!D$4","v":"Short Course"},{"$f":"Race0212!A$51","v":44},{"$f":"Race0212!D$51","v":0},{"$f":"Race0212!C$51","v":0},{"$f":"Race0212!F$51","v":1}]
[null,{"$f":"Race0212!B$5","v":"Senior"},{"$f":"Race0212!B$4","v":"OC6"},{"$f":"Race0212!E$5","v":"Mixed"},{"$f":"Race0212!D$5","v":"Open"},{"$f":"Race0212!D$4","v":"Short Course"},{"$f":"Race0212!A$52","v":45},{"$f":"Race0212!D$52","v":0},{"$f":"Race0212!C$52","v":0},{"$f":"Race0212!F$52","v":1}]
[null,{"$f":"Race0212!B$5","v":"Senior"},{"$f":"Race0212!B$4","v":"OC6"},{"$f":"Race0212!E$5","v":"Mixed"},{"$f":"Race0212!D$5","v":"Open"},{"$f":"Race0212!D$4","v":"Short Course"},{"$f":"Race0212!A$53","v":46},{"$f":"Race0212!D$53","v":0},{"$f":"Race0212!C$53","v":0},{"$f":"Race0212!F$53","v":1}]
[null,{"$f":"Race0212!B$5","v":"Senior"},{"$f":"Race0212!B$4","v":"OC6"},{"$f":"Race0212!E$5","v":"Mixed"},{"$f":"Race0212!D$5","v":"Open"},{"$f":"Race0212!D$4","v":"Short Course"},{"$f":"Race0212!A$54","v":47},{"$f":"Race0212!D$54","v":0},{"$f":"Race0212!C$54","v":0},{"$f":"Race0212!F$54","v":1}]
[null,{"$f":"Race0212!B$5","v":"Senior"},{"$f":"Race0212!B$4","v":"OC6"},{"$f":"Race0212!E$5","v":"Mixed"},{"$f":"Race0212!D$5","v":"Open"},{"$f":"Race0212!D$4","v":"Short Course"},{"$f":"Race0212!A$55","v":48},{"$f":"Race0212!D$55","v":0},{"$f":"Race0212!C$55","v":0},{"$f":"Race0212!F$55","v":1}]
[null,{"$f":"Race0212!B$5","v":"Senior"},{"$f":"Race0212!B$4","v":"OC6"},{"$f":"Race0212!E$5","v":"Mixed"},{"$f":"Race0212!D$5","v":"Open"},{"$f":"Race0212!D$4","v":"Short Course"},{"$f":"Race0212!A$56","v":49},{"$f":"Race0212!D$56","v":0},{"$f":"Race0212!C$56","v":0},{"$f":"Race0212!F$56","v":1}]
[null,{"$f":"Race0212!B$5","v":"Senior"},{"$f":"Race0212!B$4","v":"OC6"},{"$f":"Race0212!E$5","v":"Mixed"},{"$f":"Race0212!D$5","v":"Open"},{"$f":"Race0212!D$4","v":"Short Course"},{"$f":"Race0212!A$57","v":50},{"$f":"Race0212!D$57","v":0},{"$f":"Race0212!C$57","v":0},{"$f":"Race0212!F$57","v":1}]
["Race0229",{"$f":"Race0229!B$5","v":"Junior"},{"$f":"Race0229!B$4","v":"OC6"},{"$f":"Race0229!E$5","v":"Mixed"},{"$f":"Race0229!D$5","v":"12 & Under"},{"$f":"Race0229!D$4","v":"Short Course"},{"$f":"Race0229!A$8","v":1},{"$f":"Race0229!D$8","v":0},{"$f":"Race0229!C$8","v":0},{"$f":"Race0229!F$8","v":14}]
[null,{"$f":"Race0229!B$5","v":"Junior"},{"$f":"Race0229!B$4","v":"OC6"},{"$f":"Race0229!E$5","v":"Mixed"},{"$f":"Race0229!D$5","v":"12 & Under"},{"$f":"Race0229!D$4","v":"Short Course"},{"$f":"Race0229!A$9","v":2},{"$f":"Race0229!D$9","v":0},{"$f":"Race0229!C$9","v":0},{"$f":"Race0229!F$9","v":12}]
[null,{"$f":"Race0229!B$5","v":"Junior"},{"$f":"Race0229!B$4","v":"OC6"},{"$f":"Race0229!E$5","v":"Mixed"},{"$f":"Race0229!D$5","v":"12 & Under"},{"$f":"Race0229!D$4","v":"Short Course"},{"$f":"Race0229!A$10","v":3},{"$f":"Race0229!D$10","v":0},{"$f":"Race0229!C$10","v":0},{"$f":"Race0229!F$10","v":10}]
[null,{"$f":"Race0229!B$5","v":"Junior"},{"$f":"Race0229!B$4","v":"OC6"},{"$f":"Race0229!E$5","v":"Mixed"},{"$f":"Race0229!D$5","v":"12 & Under"},{"$f":"Race0229!D$4","v":"Short Course"},{"$f":"Race0229!A$11","v":4},{"$f":"Race0229!D$11","v":0},{"$f":"Race0229!C$11","v":0},{"$f":"Race0229!F$11","v":8}]
[null,{"$f":"Race0229!B$5","v":"Junior"},{"$f":"Race0229!B$4","v":"OC6"},{"$f":"Race0229!E$5","v":"Mixed"},{"$f":"Race0229!D$5","v":"12 & Under"},{"$f":"Race0229!D$4","v":"Short Course"},{"$f":"Race0229!A$12","v":5},{"$f":"Race0229!D$12","v":0},{"$f":"Race0229!C$12","v":0},{"$f":"Race0229!F$12","v":7}]
[null,{"$f":"Race0229!B$5","v":"Junior"},{"$f":"Race0229!B$4","v":"OC6"},{"$f":"Race0229!E$5","v":"Mixed"},{"$f":"Race0229!D$5","v":"12 & Under"},{"$f":"Race0229!D$4","v":"Short Course"},{"$f":"Race0229!A$13","v":6},{"$f":"Race0229!D$13","v":0},{"$f":"Race0229!C$13","v":0},{"$f":"Race0229!F$13","v":6}]
[null,{"$f":"Race0229!B$5","v":"Junior"},{"$f":"Race0229!B$4","v":"OC6"},{"$f":"Race0229!E$5","v":"Mixed"},{"$f":"Race0229!D$5","v":"12 & Under"},{"$f":"Race0229!D$4","v":"Short Course"},{"$f":"Race0229!A$14","v":7},{"$f":"Race0229!D$14","v":0},{"$f":"Race0229!C$14","v":0},{"$f":"Race0229!F$14","v":5}]
[null,{"$f":"Race0229!B$5","v":"Junior"},{"$f":"Race0229!B$4","v":"OC6"},{"$f":"Race0229!E$5","v":"Mixed"},{"$f":"Race0229!D$5","v":"12 & Under"},{"$f":"Race0229!D$4","v":"Short Course"},{"$f":"Race0229!A$15","v":8},{"$f":"Race0229!D$15","v":0},{"$f":"Race0229!C$15","v":0},{"$f":"Race0229!F$15","v":4}]
[null,{"$f":"Race0229!B$5","v":"Junior"},{"$f":"Race0229!B$4","v":"OC6"},{"$f":"Race0229!E$5","v":"Mixed"},{"$f":"Race0229!D$5","v":"12 & Under"},{"$f":"Race0229!D$4","v":"Short Course"},{"$f":"Race0229!A$16","v":9},{"$f":"Race0229!D$16","v":0},{"$f":"Race0229!C$16","v":0},{"$f":"Race0229!F$16","v":3}]
[null,{"$f":"Race0229!B$5","v":"Junior"},{"$f":"Race0229!B$4","v":"OC6"},{"$f":"Race0229!E$5","v":"Mixed"},{"$f":"Race0229!D$5","v":"12 & Under"},{"$f":"Race0229!D$4","v":"Short Course"},{"$f":"Race0229!A$17","v":10},{"$f":"Race0229!D$17","v":0},{"$f":"Race0229!C$17","v":0},{"$f":"Race0229!F$17","v":2}]
[null,{"$f":"Race0229!B$5","v":"Junior"},{"$f":"Race0229!B$4","v":"OC6"},{"$f":"Race0229!E$5","v":"Mixed"},{"$f":"Race0229!D$5","v":"12 & Under"},{"$f":"Race0229!D$4","v":"Short Course"},{"$f":"Race0229!A$18","v":11},{"$f":"Race0229!D$18","v":0},{"$f":"Race0229!C$18","v":0},{"$f":"Race0229!F$18","v":1}]
[null,{"$f":"Race0229!B$5","v":"Junior"},{"$f":"Race0229!B$4","v":"OC6"},{"$f":"Race0229!E$5","v":"Mixed"},{"$f":"Race0229!D$5","v":"12 & Under"},{"$f":"Race0229!D$4","v":"Short Course"},{"$f":"Race0229!A$19","v":12},{"$f":"Race0229!D$19","v":0},{"$f":"Race0229!C$19","v":0},{"$f":"Race0229!F$19","v":1}]
[null,{"$f":"Race0229!B$5","v":"Junior"},{"$f":"Race0229!B$4","v":"OC6"},{"$f":"Race0229!E$5","v":"Mixed"},{"$f":"Race0229!D$5","v":"12 & Under"},{"$f":"Race0229!D$4","v":"Short Course"},{"$f":"Race0229!A$20","v":13},{"$f":"Race0229!D$20","v":0},{"$f":"Race0229!C$20","v":0},{"$f":"Race0229!F$20","v":1}]
[null,{"$f":"Race0229!B$5","v":"Junior"},{"$f":"Race0229!B$4","v":"OC6"},{"$f":"Race0229!E$5","v":"Mixed"},{"$f":"Race0229!D$5","v":"12 & Under"},{"$f":"Race0229!D$4","v":"Short Course"},{"$f":"Race0229!A$21","v":14},{"$f":"Race0229!D$21","v":0},{"$f":"Race0229!C$21","v":0},{"$f":"Race0229!F$21","v":1}]
[null,{"$f":"Race0229!B$5","v":"Junior"},{"$f":"Race0229!B$4","v":"OC6"},{"$f":"Race0229!E$5","v":"Mixed"},{"$f":"Race0229!D$5","v":"12 & Under"},{"$f":"Race0229!D$4","v":"Short Course"},{"$f":"Race0229!A$22","v":15},{"$f":"Race0229!D$22","v":0},{"$f":"Race0229!C$22","v":0},{"$f":"Race0229!F$22","v":1}]
[null,{"$f":"Race0229!B$5","v":"Junior"},{"$f":"Race0229!B$4","v":"OC6"},{"$f":"Race0229!E$5","v":"Mixed"},{"$f":"Race0229!D$5","v":"12 & Under"},{"$f":"Race0229!D$4","v":"Short Course"},{"$f":"Race0229!A$23","v":16},{"$f":"Race0229!D$23","v":0},{"$f":"Race0229!C$23","v":0},{"$f":"Race0229!F$23","v":1}]
[null,{"$f":"Race0229!B$5","v":"Junior"},{"$f":"Race0229!B$4","v":"OC6"},{"$f":"Race0229!E$5","v":"Mixed"},{"$f":"Race0229!D$5","v":"12 & Under"},{"$f":"Race0229!D$4","v":"Short Course"},{"$f":"Race0229!A$24","v":17},{"$f":"Race0229!D$24","v":0},{"$f":"Race0229!C$24","v":0},{"$f":"Race0229!F$24","v":1}]
[null,{"$f":"Race0229!B$5","v":"Junior"},{"$f":"Race0229!B$4","v":"OC6"},{"$f":"Race0229!E$5","v":"Mixed"},{"$f":"Race0229!D$5","v":"12 & Under"},{"$f":"Race0229!D$4","v":"Short Course"},{"$f":"Race0229!A$25","v":18},{"$f":"Race0229!D$25","v":0},{"$f":"Race0229!C$25","v":0},{"$f":"Race0229!F$25","v":1}]
[null,{"$f":"Race0229!B$5","v":"Junior"},{"$f":"Race0229!B$4","v":"OC6"},{"$f":"Race0229!E$5","v":"Mixed"},{"$f":"Race0229!D$5","v":"12 & Under"},{"$f":"Race0229!D$4","v":"Short Course"},{"$f":"Race0229!A$26","v":19},{"$f":"Race0229!D$26","v":0},{"$f":"Race0229!C$26","v":0},{"$f":"Race0229!F$26","v":1}]
[null,{"$f":"Race0229!B$5","v":"Junior"},{"$f":"Race0229!B$4","v":"OC6"},{"$f":"Race0229!E$5","v":"Mixed"},{"$f":"Race0229!D$5","v":"12 & Under"},{"$f":"Race0229!D$4","v":"Short Course"},{"$f":"Race0229!A$27","v":20},{"$f":"Race0229!D$27","v":0},{"$f":"Race0229!C$27","v":0},{"$f":"Race0229!F$27","v":1}]
[null,{"$f":"Race0229!B$5","v":"Junior"},{"$f":"Race0229!B$4","v":"OC6"},{"$f":"Race0229!E$5","v":"Mixed"},{"$f":"Race0229!D$5","v":"12 & Under"},{"$f":"Race0229!D$4","v":"Short Course"},{"$f":"Race0229!A$28","v":21},{"$f":"Race0229!D$28","v":0},{"$f":"Race0229!C$28","v":0},{"$f":"Race0229!F$28","v":1}]
[null,{"$f":"Race0229!B$5","v":"Junior"},{"$f":"Race0229!B$4","v":"OC6"},{"$f":"Race0229!E$5","v":"Mixed"},{"$f":"Race0229!D$5","v":"12 & Under"},{"$f":"Race0229!D$4","v":"Short Course"},{"$f":"Race0229!A$29","v":22},{"$f":"Race0229!D$29","v":0},{"$f":"Race0229!C$29","v":0},{"$f":"Race0229!F$29","v":1}]
[null,{"$f":"Race0229!B$5","v":"Junior"},{"$f":"Race0229!B$4","v":"OC6"},{"$f":"Race0229!E$5","v":"Mixed"},{"$f":"Race0229!D$5","v":"12 & Under"},{"$f":"Race0229!D$4","v":"Short Course"},{"$f":"Race0229!A$30","v":23},{"$f":"Race0229!D$30","v":0},{"$f":"Race0229!C$30","v":0},{"$f":"Race0229!F$30","v":1}]
[null,{"$f":"Race0229!B$5","v":"Junior"},{"$f":"Race0229!B$4","v":"OC6"},{"$f":"Race0229!E$5","v":"Mixed"},{"$f":"Race0229!D$5","v":"12 & Under"},{"$f":"Race0229!D$4","v":"Short Course"},{"$f":"Race0229!A$31","v":24},{"$f":"Race0229!D$31","v":0},{"$f":"Race0229!C$31","v":0},{"$f":"Race0229!F$31","v":1}]
[null,{"$f":"Race0229!B$5","v":"Junior"},{"$f":"Race0229!B$4","v":"OC6"},{"$f":"Race0229!E$5","v":"Mixed"},{"$f":"Race0229!D$5","v":"12 & Under"},{"$f":"Race0229!D$4","v":"Short Course"},{"$f":"Race0229!A$32","v":25},{"$f":"Race0229!D$32","v":0},{"$f":"Race0229!C$32","v":0},{"$f":"Race0229!F$32","v":1}]
[null,{"$f":"Race0229!B$5","v":"Junior"},{"$f":"Race0229!B$4","v":"OC6"},{"$f":"Race0229!E$5","v":"Mixed"},{"$f":"Race0229!D$5","v":"12 & Under"},{"$f":"Race0229!D$4","v":"Short Course"},{"$f":"Race0229!A$33","v":26},{"$f":"Race0229!D$33","v":0},{"$f":"Race0229!C$33","v":0},{"$f":"Race0229!F$33","v":1}]
[null,{"$f":"Race0229!B$5","v":"Junior"},{"$f":"Race0229!B$4","v":"OC6"},{"$f":"Race0229!E$5","v":"Mixed"},{"$f":"Race0229!D$5","v":"12 & Under"},{"$f":"Race0229!D$4","v":"Short Course"},{"$f":"Race0229!A$34","v":27},{"$f":"Race0229!D$34","v":0},{"$f":"Race0229!C$34","v":0},{"$f":"Race0229!F$34","v":1}]
[null,{"$f":"Race0229!B$5","v":"Junior"},{"$f":"Race0229!B$4","v":"OC6"},{"$f":"Race0229!E$5","v":"Mixed"},{"$f":"Race0229!D$5","v":"12 & Under"},{"$f":"Race0229!D$4","v":"Short Course"},{"$f":"Race0229!A$35","v":28},{"$f":"Race0229!D$35","v":0},{"$f":"Race0229!C$35","v":0},{"$f":"Race0229!F$35","v":1}]
[null,{"$f":"Race0229!B$5","v":"Junior"},{"$f":"Race0229!B$4","v":"OC6"},{"$f":"Race0229!E$5","v":"Mixed"},{"$f":"Race0229!D$5","v":"12 & Under"},{"$f":"Race0229!D$4","v":"Short Course"},{"$f":"Race0229!A$36","v":29},{"$f":"Race0229!D$36","v":0},{"$f":"Race0229!C$36","v":0},{"$f":"Race0229!F$36","v":1}]
[null,{"$f":"Race0229!B$5","v":"Junior"},{"$f":"Race0229!B$4","v":"OC6"},{"$f":"Race0229!E$5","v":"Mixed"},{"$f":"Race0229!D$5","v":"12 & Under"},{"$f":"Race0229!D$4","v":"Short Course"},{"$f":"Race0229!A$37","v":30},{"$f":"Race0229!D$37","v":0},{"$f":"Race0229!C$37","v":0},{"$f":"Race0229!F$37","v":1}]
[null,{"$f":"Race0229!B$5","v":"Junior"},{"$f":"Race0229!B$4","v":"OC6"},{"$f":"Race0229!E$5","v":"Mixed"},{"$f":"Race0229!D$5","v":"12 & Under"},{"$f":"Race0229!D$4","v":"Short Course"},{"$f":"Race0229!A$38","v":31},{"$f":"Race0229!D$38","v":0},{"$f":"Race0229!C$38","v":0},{"$f":"Race0229!F$38","v":1}]
[null,{"$f":"Race0229!B$5","v":"Junior"},{"$f":"Race0229!B$4","v":"OC6"},{"$f":"Race0229!E$5","v":"Mixed"},{"$f":"Race0229!D$5","v":"12 & Under"},{"$f":"Race0229!D$4","v":"Short Course"},{"$f":"Race0229!A$39","v":32},{"$f":"Race0229!D$39","v":0},{"$f":"Race0229!C$39","v":0},{"$f":"Race0229!F$39","v":1}]
[null,{"$f":"Race0229!B$5","v":"Junior"},{"$f":"Race0229!B$4","v":"OC6"},{"$f":"Race0229!E$5","v":"Mixed"},{"$f":"Race0229!D$5","v":"12 & Under"},{"$f":"Race0229!D$4","v":"Short Course"},{"$f":"Race0229!A$40","v":33},{"$f":"Race0229!D$40","v":0},{"$f":"Race0229!C$40","v":0},{"$f":"Race0229!F$40","v":1}]
[null,{"$f":"Race0229!B$5","v":"Junior"},{"$f":"Race0229!B$4","v":"OC6"},{"$f":"Race0229!E$5","v":"Mixed"},{"$f":"Race0229!D$5","v":"12 & Under"},{"$f":"Race0229!D$4","v":"Short Course"},{"$f":"Race0229!A$41","v":34},{"$f":"Race0229!D$41","v":0},{"$f":"Race0229!C$41","v":0},{"$f":"Race0229!F$41","v":1}]
[null,{"$f":"Race0229!B$5","v":"Junior"},{"$f":"Race0229!B$4","v":"OC6"},{"$f":"Race0229!E$5","v":"Mixed"},{"$f":"Race0229!D$5","v":"12 & Under"},{"$f":"Race0229!D$4","v":"Short Course"},{"$f":"Race0229!A$42","v":35},{"$f":"Race0229!D$42","v":0},{"$f":"Race0229!C$42","v":0},{"$f":"Race0229!F$42","v":1}]
[null,{"$f":"Race0229!B$5","v":"Junior"},{"$f":"Race0229!B$4","v":"OC6"},{"$f":"Race0229!E$5","v":"Mixed"},{"$f":"Race0229!D$5","v":"12 & Under"},{"$f":"Race0229!D$4","v":"Short Course"},{"$f":"Race0229!A$43","v":36},{"$f":"Race0229!D$43","v":0},{"$f":"Race0229!C$43","v":0},{"$f":"Race0229!F$43","v":1}]
[null,{"$f":"Race0229!B$5","v":"Junior"},{"$f":"Race0229!B$4","v":"OC6"},{"$f":"Race0229!E$5","v":"Mixed"},{"$f":"Race0229!D$5","v":"12 & Under"},{"$f":"Race0229!D$4","v":"Short Course"},{"$f":"Race0229!A$44","v":37},{"$f":"Race0229!D$44","v":0},{"$f":"Race0229!C$44","v":0},{"$f":"Race0229!F$44","v":1}]
[null,{"$f":"Race0229!B$5","v":"Junior"},{"$f":"Race0229!B$4","v":"OC6"},{"$f":"Race0229!E$5","v":"Mixed"},{"$f":"Race0229!D$5","v":"12 & Under"},{"$f":"Race0229!D$4","v":"Short Course"},{"$f":"Race0229!A$45","v":38},{"$f":"Race0229!D$45","v":0},{"$f":"Race0229!C$45","v":0},{"$f":"Race0229!F$45","v":1}]
[null,{"$f":"Race0229!B$5","v":"Junior"},{"$f":"Race0229!B$4","v":"OC6"},{"$f":"Race0229!E$5","v":"Mixed"},{"$f":"Race0229!D$5","v":"12 & Under"},{"$f":"Race0229!D$4","v":"Short Course"},{"$f":"Race0229!A$46","v":39},{"$f":"Race0229!D$46","v":0},{"$f":"Race0229!C$46","v":0},{"$f":"Race0229!F$46","v":1}]
[null,{"$f":"Race0229!B$5","v":"Junior"},{"$f":"Race0229!B$4","v":"OC6"},{"$f":"Race0229!E$5","v":"Mixed"},{"$f":"Race0229!D$5","v":"12 & Under"},{"$f":"Race0229!D$4","v":"Short Course"},{"$f":"Race0229!A$47","v":40},{"$f":"Race0229!D$47","v":0},{"$f":"Race0229!C$47","v":0},{"$f":"Race0229!F$47","v":1}]
[null,{"$f":"Race0229!B$5","v":"Junior"},{"$f":"Race0229!B$4","v":"OC6"},{"$f":"Race0229!E$5","v":"Mixed"},{"$f":"Race0229!D$5","v":"12 & Under"},{"$f":"Race0229!D$4","v":"Short Course"},{"$f":"Race0229!A$48","v":41},{"$f":"Race0229!D$48","v":0},{"$f":"Race0229!C$48","v":0},{"$f":"Race0229!F$48","v":1}]
[null,{"$f":"Race0229!B$5","v":"Junior"},{"$f":"Race0229!B$4","v":"OC6"},{"$f":"Race0229!E$5","v":"Mixed"},{"$f":"Race0229!D$5","v":"12 & Under"},{"$f":"Race0229!D$4","v":"Short Course"},{"$f":"Race0229!A$49","v":42},{"$f":"Race0229!D$49","v":0},{"$f":"Race0229!C$49","v":0},{"$f":"Race0229!F$49","v":1}]
[null,{"$f":"Race0229!B$5","v":"Junior"},{"$f":"Race0229!B$4","v":"OC6"},{"$f":"Race0229!E$5","v":"Mixed"},{"$f":"Race0229!D$5","v":"12 & Under"},{"$f":"Race0229!D$4","v":"Short Course"},{"$f":"Race0229!A$50","v":43},{"$f":"Race0229!D$50","v":0},{"$f":"Race0229!C$50","v":0},{"$f":"Race0229!F$50","v":1}]
[null,{"$f":"Race0229!B$5","v":"Junior"},{"$f":"Race0229!B$4","v":"OC6"},{"$f":"Race0229!E$5","v":"Mixed"},{"$f":"Race0229!D$5","v":"12 & Under"},{"$f":"Race0229!D$4","v":"Short Course"},{"$f":"Race0229!A$51","v":44},{"$f":"Race0229!D$51","v":0},{"$f":"Race0229!C$51","v":0},{"$f":"Race0229!F$51","v":1}]
[null,{"$f":"Race0229!B$5","v":"Junior"},{"$f":"Race0229!B$4","v":"OC6"},{"$f":"Race0229!E$5","v":"Mixed"},{"$f":"Race0229!D$5","v":"12 & Under"},{"$f":"Race0229!D$4","v":"Short Course"},{"$f":"Race0229!A$52","v":45},{"$f":"Race0229!D$52","v":0},{"$f":"Race0229!C$52","v":0},{"$f":"Race0229!F$52","v":1}]
[null,{"$f":"Race0229!B$5","v":"Junior"},{"$f":"Race0229!B$4","v":"OC6"},{"$f":"Race0229!E$5","v":"Mixed"},{"$f":"Race0229!D$5","v":"12 & Under"},{"$f":"Race0229!D$4","v":"Short Course"},{"$f":"Race0229!A$53","v":46},{"$f":"Race0229!D$53","v":0},{"$f":"Race0229!C$53","v":0},{"$f":"Race0229!F$53","v":1}]
[null,{"$f":"Race0229!B$5","v":"Junior"},{"$f":"Race0229!B$4","v":"OC6"},{"$f":"Race0229!E$5","v":"Mixed"},{"$f":"Race0229!D$5","v":"12 & Under"},{"$f":"Race0229!D$4","v":"Short Course"},{"$f":"Race0229!A$54","v":47},{"$f":"Race0229!D$54","v":0},{"$f":"Race0229!C$54","v":0},{"$f":"Race0229!F$54","v":1}]
[null,{"$f":"Race0229!B$5","v":"Junior"},{"$f":"Race0229!B$4","v":"OC6"},{"$f":"Race0229!E$5","v":"Mixed"},{"$f":"Race0229!D$5","v":"12 & Under"},{"$f":"Race0229!D$4","v":"Short Course"},{"$f":"Race0229!A$55","v":48},{"$f":"Race0229!D$55","v":0},{"$f":"Race0229!C$55","v":0},{"$f":"Race0229!F$55","v":1}]
[null,{"$f":"Race0229!B$5","v":"Junior"},{"$f":"Race0229!B$4","v":"OC6"},{"$f":"Race0229!E$5","v":"Mixed"},{"$f":"Race0229!D$5","v":"12 & Under"},{"$f":"Race0229!D$4","v":"Short Course"},{"$f":"Race0229!A$56","v":49},{"$f":"Race0229!D$56","v":0},{"$f":"Race0229!C$56","v":0},{"$f":"Race0229!F$56","v":1}]
[null,{"$f":"Race0229!B$5","v":"Junior"},{"$f":"Race0229!B$4","v":"OC6"},{"$f":"Race0229!E$5","v":"Mixed"},{"$f":"Race0229!D$5","v":"12 & Under"},{"$f":"Race0229!D$4","v":"Short Course"},{"$f":"Race0229!A$57","v":50},{"$f":"Race0229!D$57","v":0},{"$f":"Race0229!C$57","v":0},{"$f":"Race0229!F$57","v":1}]
["Race0230",{"$f":"Race0230!B$5","v":"Junior"},{"$f":"Race0230!B$4","v":"OC6"},{"$f":"Race0230!E$5","v":"Mixed"},{"$f":"Race0230!D$5","v":"14 & Under"},{"$f":"Race0230!D$4","v":"Short Course"},{"$f":"Race0230!A$8","v":1},{"$f":"Race0230!D$8","v":0},{"$f":"Race0230!C$8","v":0},{"$f":"Race0230!F$8","v":14}]
[null,{"$f":"Race0230!B$5","v":"Junior"},{"$f":"Race0230!B$4","v":"OC6"},{"$f":"Race0230!E$5","v":"Mixed"},{"$f":"Race0230!D$5","v":"14 & Under"},{"$f":"Race0230!D$4","v":"Short Course"},{"$f":"Race0230!A$9","v":2},{"$f":"Race0230!D$9","v":0},{"$f":"Race0230!C$9","v":0},{"$f":"Race0230!F$9","v":12}]
[null,{"$f":"Race0230!B$5","v":"Junior"},{"$f":"Race0230!B$4","v":"OC6"},{"$f":"Race0230!E$5","v":"Mixed"},{"$f":"Race0230!D$5","v":"14 & Under"},{"$f":"Race0230!D$4","v":"Short Course"},{"$f":"Race0230!A$10","v":3},{"$f":"Race0230!D$10","v":0},{"$f":"Race0230!C$10","v":0},{"$f":"Race0230!F$10","v":10}]
[null,{"$f":"Race0230!B$5","v":"Junior"},{"$f":"Race0230!B$4","v":"OC6"},{"$f":"Race0230!E$5","v":"Mixed"},{"$f":"Race0230!D$5","v":"14 & Under"},{"$f":"Race0230!D$4","v":"Short Course"},{"$f":"Race0230!A$11","v":4},{"$f":"Race0230!D$11","v":0},{"$f":"Race0230!C$11","v":0},{"$f":"Race0230!F$11","v":8}]
[null,{"$f":"Race0230!B$5","v":"Junior"},{"$f":"Race0230!B$4","v":"OC6"},{"$f":"Race0230!E$5","v":"Mixed"},{"$f":"Race0230!D$5","v":"14 & Under"},{"$f":"Race0230!D$4","v":"Short Course"},{"$f":"Race0230!A$12","v":5},{"$f":"Race0230!D$12","v":0},{"$f":"Race0230!C$12","v":0},{"$f":"Race0230!F$12","v":7}]
[null,{"$f":"Race0230!B$5","v":"Junior"},{"$f":"Race0230!B$4","v":"OC6"},{"$f":"Race0230!E$5","v":"Mixed"},{"$f":"Race0230!D$5","v":"14 & Under"},{"$f":"Race0230!D$4","v":"Short Course"},{"$f":"Race0230!A$13","v":6},{"$f":"Race0230!D$13","v":0},{"$f":"Race0230!C$13","v":0},{"$f":"Race0230!F$13","v":6}]
[null,{"$f":"Race0230!B$5","v":"Junior"},{"$f":"Race0230!B$4","v":"OC6"},{"$f":"Race0230!E$5","v":"Mixed"},{"$f":"Race0230!D$5","v":"14 & Under"},{"$f":"Race0230!D$4","v":"Short Course"},{"$f":"Race0230!A$14","v":7},{"$f":"Race0230!D$14","v":0},{"$f":"Race0230!C$14","v":0},{"$f":"Race0230!F$14","v":5}]
[null,{"$f":"Race0230!B$5","v":"Junior"},{"$f":"Race0230!B$4","v":"OC6"},{"$f":"Race0230!E$5","v":"Mixed"},{"$f":"Race0230!D$5","v":"14 & Under"},{"$f":"Race0230!D$4","v":"Short Course"},{"$f":"Race0230!A$15","v":8},{"$f":"Race0230!D$15","v":0},{"$f":"Race0230!C$15","v":0},{"$f":"Race0230!F$15","v":4}]
[null,{"$f":"Race0230!B$5","v":"Junior"},{"$f":"Race0230!B$4","v":"OC6"},{"$f":"Race0230!E$5","v":"Mixed"},{"$f":"Race0230!D$5","v":"14 & Under"},{"$f":"Race0230!D$4","v":"Short Course"},{"$f":"Race0230!A$16","v":9},{"$f":"Race0230!D$16","v":0},{"$f":"Race0230!C$16","v":0},{"$f":"Race0230!F$16","v":3}]
[null,{"$f":"Race0230!B$5","v":"Junior"},{"$f":"Race0230!B$4","v":"OC6"},{"$f":"Race0230!E$5","v":"Mixed"},{"$f":"Race0230!D$5","v":"14 & Under"},{"$f":"Race0230!D$4","v":"Short Course"},{"$f":"Race0230!A$17","v":10},{"$f":"Race0230!D$17","v":0},{"$f":"Race0230!C$17","v":0},{"$f":"Race0230!F$17","v":2}]
[null,{"$f":"Race0230!B$5","v":"Junior"},{"$f":"Race0230!B$4","v":"OC6"},{"$f":"Race0230!E$5","v":"Mixed"},{"$f":"Race0230!D$5","v":"14 & Under"},{"$f":"Race0230!D$4","v":"Short Course"},{"$f":"Race0230!A$18","v":11},{"$f":"Race0230!D$18","v":0},{"$f":"Race0230!C$18","v":0},{"$f":"Race0230!F$18","v":1}]
[null,{"$f":"Race0230!B$5","v":"Junior"},{"$f":"Race0230!B$4","v":"OC6"},{"$f":"Race0230!E$5","v":"Mixed"},{"$f":"Race0230!D$5","v":"14 & Under"},{"$f":"Race0230!D$4","v":"Short Course"},{"$f":"Race0230!A$19","v":12},{"$f":"Race0230!D$19","v":0},{"$f":"Race0230!C$19","v":0},{"$f":"Race0230!F$19","v":1}]
[null,{"$f":"Race0230!B$5","v":"Junior"},{"$f":"Race0230!B$4","v":"OC6"},{"$f":"Race0230!E$5","v":"Mixed"},{"$f":"Race0230!D$5","v":"14 & Under"},{"$f":"Race0230!D$4","v":"Short Course"},{"$f":"Race0230!A$20","v":13},{"$f":"Race0230!D$20","v":0},{"$f":"Race0230!C$20","v":0},{"$f":"Race0230!F$20","v":1}]
[null,{"$f":"Race0230!B$5","v":"Junior"},{"$f":"Race0230!B$4","v":"OC6"},{"$f":"Race0230!E$5","v":"Mixed"},{"$f":"Race0230!D$5","v":"14 & Under"},{"$f":"Race0230!D$4","v":"Short Course"},{"$f":"Race0230!A$21","v":14},{"$f":"Race0230!D$21","v":0},{"$f":"Race0230!C$21","v":0},{"$f":"Race0230!F$21","v":1}]
[null,{"$f":"Race0230!B$5","v":"Junior"},{"$f":"Race0230!B$4","v":"OC6"},{"$f":"Race0230!E$5","v":"Mixed"},{"$f":"Race0230!D$5","v":"14 & Under"},{"$f":"Race0230!D$4","v":"Short Course"},{"$f":"Race0230!A$22","v":15},{"$f":"Race0230!D$22","v":0},{"$f":"Race0230!C$22","v":0},{"$f":"Race0230!F$22","v":1}]
[null,{"$f":"Race0230!B$5","v":"Junior"},{"$f":"Race0230!B$4","v":"OC6"},{"$f":"Race0230!E$5","v":"Mixed"},{"$f":"Race0230!D$5","v":"14 & Under"},{"$f":"Race0230!D$4","v":"Short Course"},{"$f":"Race0230!A$23","v":16},{"$f":"Race0230!D$23","v":0},{"$f":"Race0230!C$23","v":0},{"$f":"Race0230!F$23","v":1}]
[null,{"$f":"Race0230!B$5","v":"Junior"},{"$f":"Race0230!B$4","v":"OC6"},{"$f":"Race0230!E$5","v":"Mixed"},{"$f":"Race0230!D$5","v":"14 & Under"},{"$f":"Race0230!D$4","v":"Short Course"},{"$f":"Race0230!A$24","v":17},{"$f":"Race0230!D$24","v":0},{"$f":"Race0230!C$24","v":0},{"$f":"Race0230!F$24","v":1}]
[null,{"$f":"Race0230!B$5","v":"Junior"},{"$f":"Race0230!B$4","v":"OC6"},{"$f":"Race0230!E$5","v":"Mixed"},{"$f":"Race0230!D$5","v":"14 & Under"},{"$f":"Race0230!D$4","v":"Short Course"},{"$f":"Race0230!A$25","v":18},{"$f":"Race0230!D$25","v":0},{"$f":"Race0230!C$25","v":0},{"$f":"Race0230!F$25","v":1}]
[null,{"$f":"Race0230!B$5","v":"Junior"},{"$f":"Race0230!B$4","v":"OC6"},{"$f":"Race0230!E$5","v":"Mixed"},{"$f":"Race0230!D$5","v":"14 & Under"},{"$f":"Race0230!D$4","v":"Short Course"},{"$f":"Race0230!A$26","v":19},{"$f":"Race0230!D$26","v":0},{"$f":"Race0230!C$26","v":0},{"$f":"Race0230!F$26","v":1}]
[null,{"$f":"Race0230!B$5","v":"Junior"},{"$f":"Race0230!B$4","v":"OC6"},{"$f":"Race0230!E$5","v":"Mixed"},{"$f":"Race0230!D$5","v":"14 & Under"},{"$f":"Race0230!D$4","v":"Short Course"},{"$f":"Race0230!A$27","v":20},{"$f":"Race0230!D$27","v":0},{"$f":"Race0230!C$27","v":0},{"$f":"Race0230!F$27","v":1}]
[null,{"$f":"Race0230!B$5","v":"Junior"},{"$f":"Race0230!B$4","v":"OC6"},{"$f":"Race0230!E$5","v":"Mixed"},{"$f":"Race0230!D$5","v":"14 & Under"},{"$f":"Race0230!D$4","v":"Short Course"},{"$f":"Race0230!A$28","v":21},{"$f":"Race0230!D$28","v":0},{"$f":"Race0230!C$28","v":0},{"$f":"Race0230!F$28","v":1}]
[null,{"$f":"Race0230!B$5","v":"Junior"},{"$f":"Race0230!B$4","v":"OC6"},{"$f":"Race0230!E$5","v":"Mixed"},{"$f":"Race0230!D$5","v":"14 & Under"},{"$f":"Race0230!D$4","v":"Short Course"},{"$f":"Race0230!A$29","v":22},{"$f":"Race0230!D$29","v":0},{"$f":"Race0230!C$29","v":0},{"$f":"Race0230!F$29","v":1}]
[null,{"$f":"Race0230!B$5","v":"Junior"},{"$f":"Race0230!B$4","v":"OC6"},{"$f":"Race0230!E$5","v":"Mixed"},{"$f":"Race0230!D$5","v":"14 & Under"},{"$f":"Race0230!D$4","v":"Short Course"},{"$f":"Race0230!A$30","v":23},{"$f":"Race0230!D$30","v":0},{"$f":"Race0230!C$30","v":0},{"$f":"Race0230!F$30","v":1}]
[null,{"$f":"Race0230!B$5","v":"Junior"},{"$f":"Race0230!B$4","v":"OC6"},{"$f":"Race0230!E$5","v":"Mixed"},{"$f":"Race0230!D$5","v":"14 & Under"},{"$f":"Race0230!D$4","v":"Short Course"},{"$f":"Race0230!A$31","v":24},{"$f":"Race0230!D$31","v":0},{"$f":"Race0230!C$31","v":0},{"$f":"Race0230!F$31","v":1}]
[null,{"$f":"Race0230!B$5","v":"Junior"},{"$f":"Race0230!B$4","v":"OC6"},{"$f":"Race0230!E$5","v":"Mixed"},{"$f":"Race0230!D$5","v":"14 & Under"},{"$f":"Race0230!D$4","v":"Short Course"},{"$f":"Race0230!A$32","v":25},{"$f":"Race0230!D$32","v":0},{"$f":"Race0230!C$32","v":0},{"$f":"Race0230!F$32","v":1}]
[null,{"$f":"Race0230!B$5","v":"Junior"},{"$f":"Race0230!B$4","v":"OC6"},{"$f":"Race0230!E$5","v":"Mixed"},{"$f":"Race0230!D$5","v":"14 & Under"},{"$f":"Race0230!D$4","v":"Short Course"},{"$f":"Race0230!A$33","v":26},{"$f":"Race0230!D$33","v":0},{"$f":"Race0230!C$33","v":0},{"$f":"Race0230!F$33","v":1}]
[null,{"$f":"Race0230!B$5","v":"Junior"},{"$f":"Race0230!B$4","v":"OC6"},{"$f":"Race0230!E$5","v":"Mixed"},{"$f":"Race0230!D$5","v":"14 & Under"},{"$f":"Race0230!D$4","v":"Short Course"},{"$f":"Race0230!A$34","v":27},{"$f":"Race0230!D$34","v":0},{"$f":"Race0230!C$34","v":0},{"$f":"Race0230!F$34","v":1}]
[null,{"$f":"Race0230!B$5","v":"Junior"},{"$f":"Race0230!B$4","v":"OC6"},{"$f":"Race0230!E$5","v":"Mixed"},{"$f":"Race0230!D$5","v":"14 & Under"},{"$f":"Race0230!D$4","v":"Short Course"},{"$f":"Race0230!A$35","v":28},{"$f":"Race0230!D$35","v":0},{"$f":"Race0230!C$35","v":0},{"$f":"Race0230!F$35","v":1}]
[null,{"$f":"Race0230!B$5","v":"Junior"},{"$f":"Race0230!B$4","v":"OC6"},{"$f":"Race0230!E$5","v":"Mixed"},{"$f":"Race0230!D$5","v":"14 & Under"},{"$f":"Race0230!D$4","v":"Short Course"},{"$f":"Race0230!A$36","v":29},{"$f":"Race0230!D$36","v":0},{"$f":"Race0230!C$36","v":0},{"$f":"Race0230!F$36","v":1}]
[null,{"$f":"Race0230!B$5","v":"Junior"},{"$f":"Race0230!B$4","v":"OC6"},{"$f":"Race0230!E$5","v":"Mixed"},{"$f":"Race0230!D$5","v":"14 & Under"},{"$f":"Race0230!D$4","v":"Short Course"},{"$f":"Race0230!A$37","v":30},{"$f":"Race0230!D$37","v":0},{"$f":"Race0230!C$37","v":0},{"$f":"Race0230!F$37","v":1}]
[null,{"$f":"Race0230!B$5","v":"Junior"},{"$f":"Race0230!B$4","v":"OC6"},{"$f":"Race0230!E$5","v":"Mixed"},{"$f":"Race0230!D$5","v":"14 & Under"},{"$f":"Race0230!D$4","v":"Short Course"},{"$f":"Race0230!A$38","v":31},{"$f":"Race0230!D$38","v":0},{"$f":"Race0230!C$38","v":0},{"$f":"Race0230!F$38","v":1}]
[null,{"$f":"Race0230!B$5","v":"Junior"},{"$f":"Race0230!B$4","v":"OC6"},{"$f":"Race0230!E$5","v":"Mixed"},{"$f":"Race0230!D$5","v":"14 & Under"},{"$f":"Race0230!D$4","v":"Short Course"},{"$f":"Race0230!A$39","v":32},{"$f":"Race0230!D$39","v":0},{"$f":"Race0230!C$39","v":0},{"$f":"Race0230!F$39","v":1}]
[null,{"$f":"Race0230!B$5","v":"Junior"},{"$f":"Race0230!B$4","v":"OC6"},{"$f":"Race0230!E$5","v":"Mixed"},{"$f":"Race0230!D$5","v":"14 & Under"},{"$f":"Race0230!D$4","v":"Short Course"},{"$f":"Race0230!A$40","v":33},{"$f":"Race0230!D$40","v":0},{"$f":"Race0230!C$40","v":0},{"$f":"Race0230!F$40","v":1}]
[null,{"$f":"Race0230!B$5","v":"Junior"},{"$f":"Race0230!B$4","v":"OC6"},{"$f":"Race0230!E$5","v":"Mixed"},{"$f":"Race0230!D$5","v":"14 & Under"},{"$f":"Race0230!D$4","v":"Short Course"},{"$f":"Race0230!A$41","v":34},{"$f":"Race0230!D$41","v":0},{"$f":"Race0230!C$41","v":0},{"$f":"Race0230!F$41","v":1}]
[null,{"$f":"Race0230!B$5","v":"Junior"},{"$f":"Race0230!B$4","v":"OC6"},{"$f":"Race0230!E$5","v":"Mixed"},{"$f":"Race0230!D$5","v":"14 & Under"},{"$f":"Race0230!D$4","v":"Short Course"},{"$f":"Race0230!A$42","v":35},{"$f":"Race0230!D$42","v":0},{"$f":"Race0230!C$42","v":0},{"$f":"Race0230!F$42","v":1}]
[null,{"$f":"Race0230!B$5","v":"Junior"},{"$f":"Race0230!B$4","v":"OC6"},{"$f":"Race0230!E$5","v":"Mixed"},{"$f":"Race0230!D$5","v":"14 & Under"},{"$f":"Race0230!D$4","v":"Short Course"},{"$f":"Race0230!A$43","v":36},{"$f":"Race0230!D$43","v":0},{"$f":"Race0230!C$43","v":0},{"$f":"Race0230!F$43","v":1}]
[null,{"$f":"Race0230!B$5","v":"Junior"},{"$f":"Race0230!B$4","v":"OC6"},{"$f":"Race0230!E$5","v":"Mixed"},{"$f":"Race0230!D$5","v":"14 & Under"},{"$f":"Race0230!D$4","v":"Short Course"},{"$f":"Race0230!A$44","v":37},{"$f":"Race0230!D$44","v":0},{"$f":"Race0230!C$44","v":0},{"$f":"Race0230!F$44","v":1}]
[null,{"$f":"Race0230!B$5","v":"Junior"},{"$f":"Race0230!B$4","v":"OC6"},{"$f":"Race0230!E$5","v":"Mixed"},{"$f":"Race0230!D$5","v":"14 & Under"},{"$f":"Race0230!D$4","v":"Short Course"},{"$f":"Race0230!A$45","v":38},{"$f":"Race0230!D$45","v":0},{"$f":"Race0230!C$45","v":0},{"$f":"Race0230!F$45","v":1}]
[null,{"$f":"Race0230!B$5","v":"Junior"},{"$f":"Race0230!B$4","v":"OC6"},{"$f":"Race0230!E$5","v":"Mixed"},{"$f":"Race0230!D$5","v":"14 & Under"},{"$f":"Race0230!D$4","v":"Short Course"},{"$f":"Race0230!A$46","v":39},{"$f":"Race0230!D$46","v":0},{"$f":"Race0230!C$46","v":0},{"$f":"Race0230!F$46","v":1}]
[null,{"$f":"Race0230!B$5","v":"Junior"},{"$f":"Race0230!B$4","v":"OC6"},{"$f":"Race0230!E$5","v":"Mixed"},{"$f":"Race0230!D$5","v":"14 & Under"},{"$f":"Race0230!D$4","v":"Short Course"},{"$f":"Race0230!A$47","v":40},{"$f":"Race0230!D$47","v":0},{"$f":"Race0230!C$47","v":0},{"$f":"Race0230!F$47","v":1}]
[null,{"$f":"Race0230!B$5","v":"Junior"},{"$f":"Race0230!B$4","v":"OC6"},{"$f":"Race0230!E$5","v":"Mixed"},{"$f":"Race0230!D$5","v":"14 & Under"},{"$f":"Race0230!D$4","v":"Short Course"},{"$f":"Race0230!A$48","v":41},{"$f":"Race0230!D$48","v":0},{"$f":"Race0230!C$48","v":0},{"$f":"Race0230!F$48","v":1}]
[null,{"$f":"Race0230!B$5","v":"Junior"},{"$f":"Race0230!B$4","v":"OC6"},{"$f":"Race0230!E$5","v":"Mixed"},{"$f":"Race0230!D$5","v":"14 & Under"},{"$f":"Race0230!D$4","v":"Short Course"},{"$f":"Race0230!A$49","v":42},{"$f":"Race0230!D$49","v":0},{"$f":"Race0230!C$49","v":0},{"$f":"Race0230!F$49","v":1}]
[null,{"$f":"Race0230!B$5","v":"Junior"},{"$f":"Race0230!B$4","v":"OC6"},{"$f":"Race0230!E$5","v":"Mixed"},{"$f":"Race0230!D$5","v":"14 & Under"},{"$f":"Race0230!D$4","v":"Short Course"},{"$f":"Race0230!A$50","v":43},{"$f":"Race0230!D$50","v":0},{"$f":"Race0230!C$50","v":0},{"$f":"Race0230!F$50","v":1}]
[null,{"$f":"Race0230!B$5","v":"Junior"},{"$f":"Race0230!B$4","v":"OC6"},{"$f":"Race0230!E$5","v":"Mixed"},{"$f":"Race0230!D$5","v":"14 & Under"},{"$f":"Race0230!D$4","v":"Short Course"},{"$f":"Race0230!A$51","v":44},{"$f":"Race0230!D$51","v":0},{"$f":"Race0230!C$51","v":0},{"$f":"Race0230!F$51","v":1}]
[null,{"$f":"Race0230!B$5","v":"Junior"},{"$f":"Race0230!B$4","v":"OC6"},{"$f":"Race0230!E$5","v":"Mixed"},{"$f":"Race0230!D$5","v":"14 & Under"},{"$f":"Race0230!D$4","v":"Short Course"},{"$f":"Race0230!A$52","v":45},{"$f":"Race0230!D$52","v":0},{"$f":"Race0230!C$52","v":0},{"$f":"Race0230!F$52","v":1}]
[null,{"$f":"Race0230!B$5","v":"Junior"},{"$f":"Race0230!B$4","v":"OC6"},{"$f":"Race0230!E$5","v":"Mixed"},{"$f":"Race0230!D$5","v":"14 & Under"},{"$f":"Race0230!D$4","v":"Short Course"},{"$f":"Race0230!A$53","v":46},{"$f":"Race0230!D$53","v":0},{"$f":"Race0230!C$53","v":0},{"$f":"Race0230!F$53","v":1}]
[null,{"$f":"Race0230!B$5","v":"Junior"},{"$f":"Race0230!B$4","v":"OC6"},{"$f":"Race0230!E$5","v":"Mixed"},{"$f":"Race0230!D$5","v":"14 & Under"},{"$f":"Race0230!D$4","v":"Short Course"},{"$f":"Race0230!A$54","v":47},{"$f":"Race0230!D$54","v":0},{"$f":"Race0230!C$54","v":0},{"$f":"Race0230!F$54","v":1}]
[null,{"$f":"Race0230!B$5","v":"Junior"},{"$f":"Race0230!B$4","v":"OC6"},{"$f":"Race0230!E$5","v":"Mixed"},{"$f":"Race0230!D$5","v":"14 & Under"},{"$f":"Race0230!D$4","v":"Short Course"},{"$f":"Race0230!A$55","v":48},{"$f":"Race0230!D$55","v":0},{"$f":"Race0230!C$55","v":0},{"$f":"Race0230!F$55","v":1}]
[null,{"$f":"Race0230!B$5","v":"Junior"},{"$f":"Race0230!B$4","v":"OC6"},{"$f":"Race0230!E$5","v":"Mixed"},{"$f":"Race0230!D$5","v":"14 & Under"},{"$f":"Race0230!D$4","v":"Short Course"},{"$f":"Race0230!A$56","v":49},{"$f":"Race0230!D$56","v":0},{"$f":"Race0230!C$56","v":0},{"$f":"Race0230!F$56","v":1}]
[null,{"$f":"Race0230!B$5","v":"Junior"},{"$f":"Race0230!B$4","v":"OC6"},{"$f":"Race0230!E$5","v":"Mixed"},{"$f":"Race0230!D$5","v":"14 & Under"},{"$f":"Race0230!D$4","v":"Short Course"},{"$f":"Race0230!A$57","v":50},{"$f":"Race0230!D$57","v":0},{"$f":"Race0230!C$57","v":0},{"$f":"Race0230!F$57","v":1}]
["Race0231",{"$f":"Race0231!B$5","v":"Junior"},{"$f":"Race0231!B$4","v":"OC6"},{"$f":"Race0231!E$5","v":"Mixed"},{"$f":"Race0231!D$5","v":"16 & Under"},{"$f":"Race0231!D$4","v":"Short Course"},{"$f":"Race0231!A$8","v":1},{"$f":"Race0231!D$8","v":0},{"$f":"Race0231!C$8","v":0},{"$f":"Race0231!F$8","v":14}]
[null,{"$f":"Race0231!B$5","v":"Junior"},{"$f":"Race0231!B$4","v":"OC6"},{"$f":"Race0231!E$5","v":"Mixed"},{"$f":"Race0231!D$5","v":"16 & Under"},{"$f":"Race0231!D$4","v":"Short Course"},{"$f":"Race0231!A$9","v":2},{"$f":"Race0231!D$9","v":0},{"$f":"Race0231!C$9","v":0},{"$f":"Race0231!F$9","v":12}]
[null,{"$f":"Race0231!B$5","v":"Junior"},{"$f":"Race0231!B$4","v":"OC6"},{"$f":"Race0231!E$5","v":"Mixed"},{"$f":"Race0231!D$5","v":"16 & Under"},{"$f":"Race0231!D$4","v":"Short Course"},{"$f":"Race0231!A$10","v":3},{"$f":"Race0231!D$10","v":0},{"$f":"Race0231!C$10","v":0},{"$f":"Race0231!F$10","v":10}]
[null,{"$f":"Race0231!B$5","v":"Junior"},{"$f":"Race0231!B$4","v":"OC6"},{"$f":"Race0231!E$5","v":"Mixed"},{"$f":"Race0231!D$5","v":"16 & Under"},{"$f":"Race0231!D$4","v":"Short Course"},{"$f":"Race0231!A$11","v":4},{"$f":"Race0231!D$11","v":0},{"$f":"Race0231!C$11","v":0},{"$f":"Race0231!F$11","v":8}]
[null,{"$f":"Race0231!B$5","v":"Junior"},{"$f":"Race0231!B$4","v":"OC6"},{"$f":"Race0231!E$5","v":"Mixed"},{"$f":"Race0231!D$5","v":"16 & Under"},{"$f":"Race0231!D$4","v":"Short Course"},{"$f":"Race0231!A$12","v":5},{"$f":"Race0231!D$12","v":0},{"$f":"Race0231!C$12","v":0},{"$f":"Race0231!F$12","v":7}]
[null,{"$f":"Race0231!B$5","v":"Junior"},{"$f":"Race0231!B$4","v":"OC6"},{"$f":"Race0231!E$5","v":"Mixed"},{"$f":"Race0231!D$5","v":"16 & Under"},{"$f":"Race0231!D$4","v":"Short Course"},{"$f":"Race0231!A$13","v":6},{"$f":"Race0231!D$13","v":0},{"$f":"Race0231!C$13","v":0},{"$f":"Race0231!F$13","v":6}]
[null,{"$f":"Race0231!B$5","v":"Junior"},{"$f":"Race0231!B$4","v":"OC6"},{"$f":"Race0231!E$5","v":"Mixed"},{"$f":"Race0231!D$5","v":"16 & Under"},{"$f":"Race0231!D$4","v":"Short Course"},{"$f":"Race0231!A$14","v":7},{"$f":"Race0231!D$14","v":0},{"$f":"Race0231!C$14","v":0},{"$f":"Race0231!F$14","v":5}]
[null,{"$f":"Race0231!B$5","v":"Junior"},{"$f":"Race0231!B$4","v":"OC6"},{"$f":"Race0231!E$5","v":"Mixed"},{"$f":"Race0231!D$5","v":"16 & Under"},{"$f":"Race0231!D$4","v":"Short Course"},{"$f":"Race0231!A$15","v":8},{"$f":"Race0231!D$15","v":0},{"$f":"Race0231!C$15","v":0},{"$f":"Race0231!F$15","v":4}]
[null,{"$f":"Race0231!B$5","v":"Junior"},{"$f":"Race0231!B$4","v":"OC6"},{"$f":"Race0231!E$5","v":"Mixed"},{"$f":"Race0231!D$5","v":"16 & Under"},{"$f":"Race0231!D$4","v":"Short Course"},{"$f":"Race0231!A$16","v":9},{"$f":"Race0231!D$16","v":0},{"$f":"Race0231!C$16","v":0},{"$f":"Race0231!F$16","v":3}]
[null,{"$f":"Race0231!B$5","v":"Junior"},{"$f":"Race0231!B$4","v":"OC6"},{"$f":"Race0231!E$5","v":"Mixed"},{"$f":"Race0231!D$5","v":"16 & Under"},{"$f":"Race0231!D$4","v":"Short Course"},{"$f":"Race0231!A$17","v":10},{"$f":"Race0231!D$17","v":0},{"$f":"Race0231!C$17","v":0},{"$f":"Race0231!F$17","v":2}]
[null,{"$f":"Race0231!B$5","v":"Junior"},{"$f":"Race0231!B$4","v":"OC6"},{"$f":"Race0231!E$5","v":"Mixed"},{"$f":"Race0231!D$5","v":"16 & Under"},{"$f":"Race0231!D$4","v":"Short Course"},{"$f":"Race0231!A$18","v":11},{"$f":"Race0231!D$18","v":0},{"$f":"Race0231!C$18","v":0},{"$f":"Race0231!F$18","v":1}]
[null,{"$f":"Race0231!B$5","v":"Junior"},{"$f":"Race0231!B$4","v":"OC6"},{"$f":"Race0231!E$5","v":"Mixed"},{"$f":"Race0231!D$5","v":"16 & Under"},{"$f":"Race0231!D$4","v":"Short Course"},{"$f":"Race0231!A$19","v":12},{"$f":"Race0231!D$19","v":0},{"$f":"Race0231!C$19","v":0},{"$f":"Race0231!F$19","v":1}]
[null,{"$f":"Race0231!B$5","v":"Junior"},{"$f":"Race0231!B$4","v":"OC6"},{"$f":"Race0231!E$5","v":"Mixed"},{"$f":"Race0231!D$5","v":"16 & Under"},{"$f":"Race0231!D$4","v":"Short Course"},{"$f":"Race0231!A$20","v":13},{"$f":"Race0231!D$20","v":0},{"$f":"Race0231!C$20","v":0},{"$f":"Race0231!F$20","v":1}]
[null,{"$f":"Race0231!B$5","v":"Junior"},{"$f":"Race0231!B$4","v":"OC6"},{"$f":"Race0231!E$5","v":"Mixed"},{"$f":"Race0231!D$5","v":"16 & Under"},{"$f":"Race0231!D$4","v":"Short Course"},{"$f":"Race0231!A$21","v":14},{"$f":"Race0231!D$21","v":0},{"$f":"Race0231!C$21","v":0},{"$f":"Race0231!F$21","v":1}]
[null,{"$f":"Race0231!B$5","v":"Junior"},{"$f":"Race0231!B$4","v":"OC6"},{"$f":"Race0231!E$5","v":"Mixed"},{"$f":"Race0231!D$5","v":"16 & Under"},{"$f":"Race0231!D$4","v":"Short Course"},{"$f":"Race0231!A$22","v":15},{"$f":"Race0231!D$22","v":0},{"$f":"Race0231!C$22","v":0},{"$f":"Race0231!F$22","v":1}]
[null,{"$f":"Race0231!B$5","v":"Junior"},{"$f":"Race0231!B$4","v":"OC6"},{"$f":"Race0231!E$5","v":"Mixed"},{"$f":"Race0231!D$5","v":"16 & Under"},{"$f":"Race0231!D$4","v":"Short Course"},{"$f":"Race0231!A$23","v":16},{"$f":"Race0231!D$23","v":0},{"$f":"Race0231!C$23","v":0},{"$f":"Race0231!F$23","v":1}]
[null,{"$f":"Race0231!B$5","v":"Junior"},{"$f":"Race0231!B$4","v":"OC6"},{"$f":"Race0231!E$5","v":"Mixed"},{"$f":"Race0231!D$5","v":"16 & Under"},{"$f":"Race0231!D$4","v":"Short Course"},{"$f":"Race0231!A$24","v":17},{"$f":"Race0231!D$24","v":0},{"$f":"Race0231!C$24","v":0},{"$f":"Race0231!F$24","v":1}]
[null,{"$f":"Race0231!B$5","v":"Junior"},{"$f":"Race0231!B$4","v":"OC6"},{"$f":"Race0231!E$5","v":"Mixed"},{"$f":"Race0231!D$5","v":"16 & Under"},{"$f":"Race0231!D$4","v":"Short Course"},{"$f":"Race0231!A$25","v":18},{"$f":"Race0231!D$25","v":0},{"$f":"Race0231!C$25","v":0},{"$f":"Race0231!F$25","v":1}]
[null,{"$f":"Race0231!B$5","v":"Junior"},{"$f":"Race0231!B$4","v":"OC6"},{"$f":"Race0231!E$5","v":"Mixed"},{"$f":"Race0231!D$5","v":"16 & Under"},{"$f":"Race0231!D$4","v":"Short Course"},{"$f":"Race0231!A$26","v":19},{"$f":"Race0231!D$26","v":0},{"$f":"Race0231!C$26","v":0},{"$f":"Race0231!F$26","v":1}]
[null,{"$f":"Race0231!B$5","v":"Junior"},{"$f":"Race0231!B$4","v":"OC6"},{"$f":"Race0231!E$5","v":"Mixed"},{"$f":"Race0231!D$5","v":"16 & Under"},{"$f":"Race0231!D$4","v":"Short Course"},{"$f":"Race0231!A$27","v":20},{"$f":"Race0231!D$27","v":0},{"$f":"Race0231!C$27","v":0},{"$f":"Race0231!F$27","v":1}]
[null,{"$f":"Race0231!B$5","v":"Junior"},{"$f":"Race0231!B$4","v":"OC6"},{"$f":"Race0231!E$5","v":"Mixed"},{"$f":"Race0231!D$5","v":"16 & Under"},{"$f":"Race0231!D$4","v":"Short Course"},{"$f":"Race0231!A$28","v":21},{"$f":"Race0231!D$28","v":0},{"$f":"Race0231!C$28","v":0},{"$f":"Race0231!F$28","v":1}]
[null,{"$f":"Race0231!B$5","v":"Junior"},{"$f":"Race0231!B$4","v":"OC6"},{"$f":"Race0231!E$5","v":"Mixed"},{"$f":"Race0231!D$5","v":"16 & Under"},{"$f":"Race0231!D$4","v":"Short Course"},{"$f":"Race0231!A$29","v":22},{"$f":"Race0231!D$29","v":0},{"$f":"Race0231!C$29","v":0},{"$f":"Race0231!F$29","v":1}]
[null,{"$f":"Race0231!B$5","v":"Junior"},{"$f":"Race0231!B$4","v":"OC6"},{"$f":"Race0231!E$5","v":"Mixed"},{"$f":"Race0231!D$5","v":"16 & Under"},{"$f":"Race0231!D$4","v":"Short Course"},{"$f":"Race0231!A$30","v":23},{"$f":"Race0231!D$30","v":0},{"$f":"Race0231!C$30","v":0},{"$f":"Race0231!F$30","v":1}]
[null,{"$f":"Race0231!B$5","v":"Junior"},{"$f":"Race0231!B$4","v":"OC6"},{"$f":"Race0231!E$5","v":"Mixed"},{"$f":"Race0231!D$5","v":"16 & Under"},{"$f":"Race0231!D$4","v":"Short Course"},{"$f":"Race0231!A$31","v":24},{"$f":"Race0231!D$31","v":0},{"$f":"Race0231!C$31","v":0},{"$f":"Race0231!F$31","v":1}]
[null,{"$f":"Race0231!B$5","v":"Junior"},{"$f":"Race0231!B$4","v":"OC6"},{"$f":"Race0231!E$5","v":"Mixed"},{"$f":"Race0231!D$5","v":"16 & Under"},{"$f":"Race0231!D$4","v":"Short Course"},{"$f":"Race0231!A$32","v":25},{"$f":"Race0231!D$32","v":0},{"$f":"Race0231!C$32","v":0},{"$f":"Race0231!F$32","v":1}]
[null,{"$f":"Race0231!B$5","v":"Junior"},{"$f":"Race0231!B$4","v":"OC6"},{"$f":"Race0231!E$5","v":"Mixed"},{"$f":"Race0231!D$5","v":"16 & Under"},{"$f":"Race0231!D$4","v":"Short Course"},{"$f":"Race0231!A$33","v":26},{"$f":"Race0231!D$33","v":0},{"$f":"Race0231!C$33","v":0},{"$f":"Race0231!F$33","v":1}]
[null,{"$f":"Race0231!B$5","v":"Junior"},{"$f":"Race0231!B$4","v":"OC6"},{"$f":"Race0231!E$5","v":"Mixed"},{"$f":"Race0231!D$5","v":"16 & Under"},{"$f":"Race0231!D$4","v":"Short Course"},{"$f":"Race0231!A$34","v":27},{"$f":"Race0231!D$34","v":0},{"$f":"Race0231!C$34","v":0},{"$f":"Race0231!F$34","v":1}]
[null,{"$f":"Race0231!B$5","v":"Junior"},{"$f":"Race0231!B$4","v":"OC6"},{"$f":"Race0231!E$5","v":"Mixed"},{"$f":"Race0231!D$5","v":"16 & Under"},{"$f":"Race0231!D$4","v":"Short Course"},{"$f":"Race0231!A$35","v":28},{"$f":"Race0231!D$35","v":0},{"$f":"Race0231!C$35","v":0},{"$f":"Race0231!F$35","v":1}]
[null,{"$f":"Race0231!B$5","v":"Junior"},{"$f":"Race0231!B$4","v":"OC6"},{"$f":"Race0231!E$5","v":"Mixed"},{"$f":"Race0231!D$5","v":"16 & Under"},{"$f":"Race0231!D$4","v":"Short Course"},{"$f":"Race0231!A$36","v":29},{"$f":"Race0231!D$36","v":0},{"$f":"Race0231!C$36","v":0},{"$f":"Race0231!F$36","v":1}]
[null,{"$f":"Race0231!B$5","v":"Junior"},{"$f":"Race0231!B$4","v":"OC6"},{"$f":"Race0231!E$5","v":"Mixed"},{"$f":"Race0231!D$5","v":"16 & Under"},{"$f":"Race0231!D$4","v":"Short Course"},{"$f":"Race0231!A$37","v":30},{"$f":"Race0231!D$37","v":0},{"$f":"Race0231!C$37","v":0},{"$f":"Race0231!F$37","v":1}]
[null,{"$f":"Race0231!B$5","v":"Junior"},{"$f":"Race0231!B$4","v":"OC6"},{"$f":"Race0231!E$5","v":"Mixed"},{"$f":"Race0231!D$5","v":"16 & Under"},{"$f":"Race0231!D$4","v":"Short Course"},{"$f":"Race0231!A$38","v":31},{"$f":"Race0231!D$38","v":0},{"$f":"Race0231!C$38","v":0},{"$f":"Race0231!F$38","v":1}]
[null,{"$f":"Race0231!B$5","v":"Junior"},{"$f":"Race0231!B$4","v":"OC6"},{"$f":"Race0231!E$5","v":"Mixed"},{"$f":"Race0231!D$5","v":"16 & Under"},{"$f":"Race0231!D$4","v":"Short Course"},{"$f":"Race0231!A$39","v":32},{"$f":"Race0231!D$39","v":0},{"$f":"Race0231!C$39","v":0},{"$f":"Race0231!F$39","v":1}]
[null,{"$f":"Race0231!B$5","v":"Junior"},{"$f":"Race0231!B$4","v":"OC6"},{"$f":"Race0231!E$5","v":"Mixed"},{"$f":"Race0231!D$5","v":"16 & Under"},{"$f":"Race0231!D$4","v":"Short Course"},{"$f":"Race0231!A$40","v":33},{"$f":"Race0231!D$40","v":0},{"$f":"Race0231!C$40","v":0},{"$f":"Race0231!F$40","v":1}]
[null,{"$f":"Race0231!B$5","v":"Junior"},{"$f":"Race0231!B$4","v":"OC6"},{"$f":"Race0231!E$5","v":"Mixed"},{"$f":"Race0231!D$5","v":"16 & Under"},{"$f":"Race0231!D$4","v":"Short Course"},{"$f":"Race0231!A$41","v":34},{"$f":"Race0231!D$41","v":0},{"$f":"Race0231!C$41","v":0},{"$f":"Race0231!F$41","v":1}]
[null,{"$f":"Race0231!B$5","v":"Junior"},{"$f":"Race0231!B$4","v":"OC6"},{"$f":"Race0231!E$5","v":"Mixed"},{"$f":"Race0231!D$5","v":"16 & Under"},{"$f":"Race0231!D$4","v":"Short Course"},{"$f":"Race0231!A$42","v":35},{"$f":"Race0231!D$42","v":0},{"$f":"Race0231!C$42","v":0},{"$f":"Race0231!F$42","v":1}]
[null,{"$f":"Race0231!B$5","v":"Junior"},{"$f":"Race0231!B$4","v":"OC6"},{"$f":"Race0231!E$5","v":"Mixed"},{"$f":"Race0231!D$5","v":"16 & Under"},{"$f":"Race0231!D$4","v":"Short Course"},{"$f":"Race0231!A$43","v":36},{"$f":"Race0231!D$43","v":0},{"$f":"Race0231!C$43","v":0},{"$f":"Race0231!F$43","v":1}]
[null,{"$f":"Race0231!B$5","v":"Junior"},{"$f":"Race0231!B$4","v":"OC6"},{"$f":"Race0231!E$5","v":"Mixed"},{"$f":"Race0231!D$5","v":"16 & Under"},{"$f":"Race0231!D$4","v":"Short Course"},{"$f":"Race0231!A$44","v":37},{"$f":"Race0231!D$44","v":0},{"$f":"Race0231!C$44","v":0},{"$f":"Race0231!F$44","v":1}]
[null,{"$f":"Race0231!B$5","v":"Junior"},{"$f":"Race0231!B$4","v":"OC6"},{"$f":"Race0231!E$5","v":"Mixed"},{"$f":"Race0231!D$5","v":"16 & Under"},{"$f":"Race0231!D$4","v":"Short Course"},{"$f":"Race0231!A$45","v":38},{"$f":"Race0231!D$45","v":0},{"$f":"Race0231!C$45","v":0},{"$f":"Race0231!F$45","v":1}]
[null,{"$f":"Race0231!B$5","v":"Junior"},{"$f":"Race0231!B$4","v":"OC6"},{"$f":"Race0231!E$5","v":"Mixed"},{"$f":"Race0231!D$5","v":"16 & Under"},{"$f":"Race0231!D$4","v":"Short Course"},{"$f":"Race0231!A$46","v":39},{"$f":"Race0231!D$46","v":0},{"$f":"Race0231!C$46","v":0},{"$f":"Race0231!F$46","v":1}]
[null,{"$f":"Race0231!B$5","v":"Junior"},{"$f":"Race0231!B$4","v":"OC6"},{"$f":"Race0231!E$5","v":"Mixed"},{"$f":"Race0231!D$5","v":"16 & Under"},{"$f":"Race0231!D$4","v":"Short Course"},{"$f":"Race0231!A$47","v":40},{"$f":"Race0231!D$47","v":0},{"$f":"Race0231!C$47","v":0},{"$f":"Race0231!F$47","v":1}]
[null,{"$f":"Race0231!B$5","v":"Junior"},{"$f":"Race0231!B$4","v":"OC6"},{"$f":"Race0231!E$5","v":"Mixed"},{"$f":"Race0231!D$5","v":"16 & Under"},{"$f":"Race0231!D$4","v":"Short Course"},{"$f":"Race0231!A$48","v":41},{"$f":"Race0231!D$48","v":0},{"$f":"Race0231!C$48","v":0},{"$f":"Race0231!F$48","v":1}]
[null,{"$f":"Race0231!B$5","v":"Junior"},{"$f":"Race0231!B$4","v":"OC6"},{"$f":"Race0231!E$5","v":"Mixed"},{"$f":"Race0231!D$5","v":"16 & Under"},{"$f":"Race0231!D$4","v":"Short Course"},{"$f":"Race0231!A$49","v":42},{"$f":"Race0231!D$49","v":0},{"$f":"Race0231!C$49","v":0},{"$f":"Race0231!F$49","v":1}]
[null,{"$f":"Race0231!B$5","v":"Junior"},{"$f":"Race0231!B$4","v":"OC6"},{"$f":"Race0231!E$5","v":"Mixed"},{"$f":"Race0231!D$5","v":"16 & Under"},{"$f":"Race0231!D$4","v":"Short Course"},{"$f":"Race0231!A$50","v":43},{"$f":"Race0231!D$50","v":0},{"$f":"Race0231!C$50","v":0},{"$f":"Race0231!F$50","v":1}]
[null,{"$f":"Race0231!B$5","v":"Junior"},{"$f":"Race0231!B$4","v":"OC6"},{"$f":"Race0231!E$5","v":"Mixed"},{"$f":"Race0231!D$5","v":"16 & Under"},{"$f":"Race0231!D$4","v":"Short Course"},{"$f":"Race0231!A$51","v":44},{"$f":"Race0231!D$51","v":0},{"$f":"Race0231!C$51","v":0},{"$f":"Race0231!F$51","v":1}]
[null,{"$f":"Race0231!B$5","v":"Junior"},{"$f":"Race0231!B$4","v":"OC6"},{"$f":"Race0231!E$5","v":"Mixed"},{"$f":"Race0231!D$5","v":"16 & Under"},{"$f":"Race0231!D$4","v":"Short Course"},{"$f":"Race0231!A$52","v":45},{"$f":"Race0231!D$52","v":0},{"$f":"Race0231!C$52","v":0},{"$f":"Race0231!F$52","v":1}]
[null,{"$f":"Race0231!B$5","v":"Junior"},{"$f":"Race0231!B$4","v":"OC6"},{"$f":"Race0231!E$5","v":"Mixed"},{"$f":"Race0231!D$5","v":"16 & Under"},{"$f":"Race0231!D$4","v":"Short Course"},{"$f":"Race0231!A$53","v":46},{"$f":"Race0231!D$53","v":0},{"$f":"Race0231!C$53","v":0},{"$f":"Race0231!F$53","v":1}]
[null,{"$f":"Race0231!B$5","v":"Junior"},{"$f":"Race0231!B$4","v":"OC6"},{"$f":"Race0231!E$5","v":"Mixed"},{"$f":"Race0231!D$5","v":"16 & Under"},{"$f":"Race0231!D$4","v":"Short Course"},{"$f":"Race0231!A$54","v":47},{"$f":"Race0231!D$54","v":0},{"$f":"Race0231!C$54","v":0},{"$f":"Race0231!F$54","v":1}]
[null,{"$f":"Race0231!B$5","v":"Junior"},{"$f":"Race0231!B$4","v":"OC6"},{"$f":"Race0231!E$5","v":"Mixed"},{"$f":"Race0231!D$5","v":"16 & Under"},{"$f":"Race0231!D$4","v":"Short Course"},{"$f":"Race0231!A$55","v":48},{"$f":"Race0231!D$55","v":0},{"$f":"Race0231!C$55","v":0},{"$f":"Race0231!F$55","v":1}]
[null,{"$f":"Race0231!B$5","v":"Junior"},{"$f":"Race0231!B$4","v":"OC6"},{"$f":"Race0231!E$5","v":"Mixed"},{"$f":"Race0231!D$5","v":"16 & Under"},{"$f":"Race0231!D$4","v":"Short Course"},{"$f":"Race0231!A$56","v":49},{"$f":"Race0231!D$56","v":0},{"$f":"Race0231!C$56","v":0},{"$f":"Race0231!F$56","v":1}]
[null,{"$f":"Race0231!B$5","v":"Junior"},{"$f":"Race0231!B$4","v":"OC6"},{"$f":"Race0231!E$5","v":"Mixed"},{"$f":"Race0231!D$5","v":"16 & Under"},{"$f":"Race0231!D$4","v":"Short Course"},{"$f":"Race0231!A$57","v":50},{"$f":"Race0231!D$57","v":0},{"$f":"Race0231!C$57","v":0},{"$f":"Race0231!F$57","v":1}]
["Race0232",{"$f":"Race0232!B$5","v":"Junior"},{"$f":"Race0232!B$4","v":"OC6"},{"$f":"Race0232!E$5","v":"Mixed"},{"$f":"Race0232!D$5","v":"19 & Under"},{"$f":"Race0232!D$4","v":"Short Course"},{"$f":"Race0232!A$8","v":1},{"$f":"Race0232!D$8","v":0},{"$f":"Race0232!C$8","v":0},{"$f":"Race0232!F$8","v":14}]
[null,{"$f":"Race0232!B$5","v":"Junior"},{"$f":"Race0232!B$4","v":"OC6"},{"$f":"Race0232!E$5","v":"Mixed"},{"$f":"Race0232!D$5","v":"19 & Under"},{"$f":"Race0232!D$4","v":"Short Course"},{"$f":"Race0232!A$9","v":2},{"$f":"Race0232!D$9","v":0},{"$f":"Race0232!C$9","v":0},{"$f":"Race0232!F$9","v":12}]
[null,{"$f":"Race0232!B$5","v":"Junior"},{"$f":"Race0232!B$4","v":"OC6"},{"$f":"Race0232!E$5","v":"Mixed"},{"$f":"Race0232!D$5","v":"19 & Under"},{"$f":"Race0232!D$4","v":"Short Course"},{"$f":"Race0232!A$10","v":3},{"$f":"Race0232!D$10","v":0},{"$f":"Race0232!C$10","v":0},{"$f":"Race0232!F$10","v":10}]
[null,{"$f":"Race0232!B$5","v":"Junior"},{"$f":"Race0232!B$4","v":"OC6"},{"$f":"Race0232!E$5","v":"Mixed"},{"$f":"Race0232!D$5","v":"19 & Under"},{"$f":"Race0232!D$4","v":"Short Course"},{"$f":"Race0232!A$11","v":4},{"$f":"Race0232!D$11","v":0},{"$f":"Race0232!C$11","v":0},{"$f":"Race0232!F$11","v":8}]
[null,{"$f":"Race0232!B$5","v":"Junior"},{"$f":"Race0232!B$4","v":"OC6"},{"$f":"Race0232!E$5","v":"Mixed"},{"$f":"Race0232!D$5","v":"19 & Under"},{"$f":"Race0232!D$4","v":"Short Course"},{"$f":"Race0232!A$12","v":5},{"$f":"Race0232!D$12","v":0},{"$f":"Race0232!C$12","v":0},{"$f":"Race0232!F$12","v":7}]
[null,{"$f":"Race0232!B$5","v":"Junior"},{"$f":"Race0232!B$4","v":"OC6"},{"$f":"Race0232!E$5","v":"Mixed"},{"$f":"Race0232!D$5","v":"19 & Under"},{"$f":"Race0232!D$4","v":"Short Course"},{"$f":"Race0232!A$13","v":6},{"$f":"Race0232!D$13","v":0},{"$f":"Race0232!C$13","v":0},{"$f":"Race0232!F$13","v":6}]
[null,{"$f":"Race0232!B$5","v":"Junior"},{"$f":"Race0232!B$4","v":"OC6"},{"$f":"Race0232!E$5","v":"Mixed"},{"$f":"Race0232!D$5","v":"19 & Under"},{"$f":"Race0232!D$4","v":"Short Course"},{"$f":"Race0232!A$14","v":7},{"$f":"Race0232!D$14","v":0},{"$f":"Race0232!C$14","v":0},{"$f":"Race0232!F$14","v":5}]
[null,{"$f":"Race0232!B$5","v":"Junior"},{"$f":"Race0232!B$4","v":"OC6"},{"$f":"Race0232!E$5","v":"Mixed"},{"$f":"Race0232!D$5","v":"19 & Under"},{"$f":"Race0232!D$4","v":"Short Course"},{"$f":"Race0232!A$15","v":8},{"$f":"Race0232!D$15","v":0},{"$f":"Race0232!C$15","v":0},{"$f":"Race0232!F$15","v":4}]
[null,{"$f":"Race0232!B$5","v":"Junior"},{"$f":"Race0232!B$4","v":"OC6"},{"$f":"Race0232!E$5","v":"Mixed"},{"$f":"Race0232!D$5","v":"19 & Under"},{"$f":"Race0232!D$4","v":"Short Course"},{"$f":"Race0232!A$16","v":9},{"$f":"Race0232!D$16","v":0},{"$f":"Race0232!C$16","v":0},{"$f":"Race0232!F$16","v":3}]
[null,{"$f":"Race0232!B$5","v":"Junior"},{"$f":"Race0232!B$4","v":"OC6"},{"$f":"Race0232!E$5","v":"Mixed"},{"$f":"Race0232!D$5","v":"19 & Under"},{"$f":"Race0232!D$4","v":"Short Course"},{"$f":"Race0232!A$17","v":10},{"$f":"Race0232!D$17","v":0},{"$f":"Race0232!C$17","v":0},{"$f":"Race0232!F$17","v":2}]
[null,{"$f":"Race0232!B$5","v":"Junior"},{"$f":"Race0232!B$4","v":"OC6"},{"$f":"Race0232!E$5","v":"Mixed"},{"$f":"Race0232!D$5","v":"19 & Under"},{"$f":"Race0232!D$4","v":"Short Course"},{"$f":"Race0232!A$18","v":11},{"$f":"Race0232!D$18","v":0},{"$f":"Race0232!C$18","v":0},{"$f":"Race0232!F$18","v":1}]
[null,{"$f":"Race0232!B$5","v":"Junior"},{"$f":"Race0232!B$4","v":"OC6"},{"$f":"Race0232!E$5","v":"Mixed"},{"$f":"Race0232!D$5","v":"19 & Under"},{"$f":"Race0232!D$4","v":"Short Course"},{"$f":"Race0232!A$19","v":12},{"$f":"Race0232!D$19","v":0},{"$f":"Race0232!C$19","v":0},{"$f":"Race0232!F$19","v":1}]
[null,{"$f":"Race0232!B$5","v":"Junior"},{"$f":"Race0232!B$4","v":"OC6"},{"$f":"Race0232!E$5","v":"Mixed"},{"$f":"Race0232!D$5","v":"19 & Under"},{"$f":"Race0232!D$4","v":"Short Course"},{"$f":"Race0232!A$20","v":13},{"$f":"Race0232!D$20","v":0},{"$f":"Race0232!C$20","v":0},{"$f":"Race0232!F$20","v":1}]
[null,{"$f":"Race0232!B$5","v":"Junior"},{"$f":"Race0232!B$4","v":"OC6"},{"$f":"Race0232!E$5","v":"Mixed"},{"$f":"Race0232!D$5","v":"19 & Under"},{"$f":"Race0232!D$4","v":"Short Course"},{"$f":"Race0232!A$21","v":14},{"$f":"Race0232!D$21","v":0},{"$f":"Race0232!C$21","v":0},{"$f":"Race0232!F$21","v":1}]
[null,{"$f":"Race0232!B$5","v":"Junior"},{"$f":"Race0232!B$4","v":"OC6"},{"$f":"Race0232!E$5","v":"Mixed"},{"$f":"Race0232!D$5","v":"19 & Under"},{"$f":"Race0232!D$4","v":"Short Course"},{"$f":"Race0232!A$22","v":15},{"$f":"Race0232!D$22","v":0},{"$f":"Race0232!C$22","v":0},{"$f":"Race0232!F$22","v":1}]
[null,{"$f":"Race0232!B$5","v":"Junior"},{"$f":"Race0232!B$4","v":"OC6"},{"$f":"Race0232!E$5","v":"Mixed"},{"$f":"Race0232!D$5","v":"19 & Under"},{"$f":"Race0232!D$4","v":"Short Course"},{"$f":"Race0232!A$23","v":16},{"$f":"Race0232!D$23","v":0},{"$f":"Race0232!C$23","v":0},{"$f":"Race0232!F$23","v":1}]
[null,{"$f":"Race0232!B$5","v":"Junior"},{"$f":"Race0232!B$4","v":"OC6"},{"$f":"Race0232!E$5","v":"Mixed"},{"$f":"Race0232!D$5","v":"19 & Under"},{"$f":"Race0232!D$4","v":"Short Course"},{"$f":"Race0232!A$24","v":17},{"$f":"Race0232!D$24","v":0},{"$f":"Race0232!C$24","v":0},{"$f":"Race0232!F$24","v":1}]
[null,{"$f":"Race0232!B$5","v":"Junior"},{"$f":"Race0232!B$4","v":"OC6"},{"$f":"Race0232!E$5","v":"Mixed"},{"$f":"Race0232!D$5","v":"19 & Under"},{"$f":"Race0232!D$4","v":"Short Course"},{"$f":"Race0232!A$25","v":18},{"$f":"Race0232!D$25","v":0},{"$f":"Race0232!C$25","v":0},{"$f":"Race0232!F$25","v":1}]
[null,{"$f":"Race0232!B$5","v":"Junior"},{"$f":"Race0232!B$4","v":"OC6"},{"$f":"Race0232!E$5","v":"Mixed"},{"$f":"Race0232!D$5","v":"19 & Under"},{"$f":"Race0232!D$4","v":"Short Course"},{"$f":"Race0232!A$26","v":19},{"$f":"Race0232!D$26","v":0},{"$f":"Race0232!C$26","v":0},{"$f":"Race0232!F$26","v":1}]
[null,{"$f":"Race0232!B$5","v":"Junior"},{"$f":"Race0232!B$4","v":"OC6"},{"$f":"Race0232!E$5","v":"Mixed"},{"$f":"Race0232!D$5","v":"19 & Under"},{"$f":"Race0232!D$4","v":"Short Course"},{"$f":"Race0232!A$27","v":20},{"$f":"Race0232!D$27","v":0},{"$f":"Race0232!C$27","v":0},{"$f":"Race0232!F$27","v":1}]
[null,{"$f":"Race0232!B$5","v":"Junior"},{"$f":"Race0232!B$4","v":"OC6"},{"$f":"Race0232!E$5","v":"Mixed"},{"$f":"Race0232!D$5","v":"19 & Under"},{"$f":"Race0232!D$4","v":"Short Course"},{"$f":"Race0232!A$28","v":21},{"$f":"Race0232!D$28","v":0},{"$f":"Race0232!C$28","v":0},{"$f":"Race0232!F$28","v":1}]
[null,{"$f":"Race0232!B$5","v":"Junior"},{"$f":"Race0232!B$4","v":"OC6"},{"$f":"Race0232!E$5","v":"Mixed"},{"$f":"Race0232!D$5","v":"19 & Under"},{"$f":"Race0232!D$4","v":"Short Course"},{"$f":"Race0232!A$29","v":22},{"$f":"Race0232!D$29","v":0},{"$f":"Race0232!C$29","v":0},{"$f":"Race0232!F$29","v":1}]
[null,{"$f":"Race0232!B$5","v":"Junior"},{"$f":"Race0232!B$4","v":"OC6"},{"$f":"Race0232!E$5","v":"Mixed"},{"$f":"Race0232!D$5","v":"19 & Under"},{"$f":"Race0232!D$4","v":"Short Course"},{"$f":"Race0232!A$30","v":23},{"$f":"Race0232!D$30","v":0},{"$f":"Race0232!C$30","v":0},{"$f":"Race0232!F$30","v":1}]
[null,{"$f":"Race0232!B$5","v":"Junior"},{"$f":"Race0232!B$4","v":"OC6"},{"$f":"Race0232!E$5","v":"Mixed"},{"$f":"Race0232!D$5","v":"19 & Under"},{"$f":"Race0232!D$4","v":"Short Course"},{"$f":"Race0232!A$31","v":24},{"$f":"Race0232!D$31","v":0},{"$f":"Race0232!C$31","v":0},{"$f":"Race0232!F$31","v":1}]
[null,{"$f":"Race0232!B$5","v":"Junior"},{"$f":"Race0232!B$4","v":"OC6"},{"$f":"Race0232!E$5","v":"Mixed"},{"$f":"Race0232!D$5","v":"19 & Under"},{"$f":"Race0232!D$4","v":"Short Course"},{"$f":"Race0232!A$32","v":25},{"$f":"Race0232!D$32","v":0},{"$f":"Race0232!C$32","v":0},{"$f":"Race0232!F$32","v":1}]
[null,{"$f":"Race0232!B$5","v":"Junior"},{"$f":"Race0232!B$4","v":"OC6"},{"$f":"Race0232!E$5","v":"Mixed"},{"$f":"Race0232!D$5","v":"19 & Under"},{"$f":"Race0232!D$4","v":"Short Course"},{"$f":"Race0232!A$33","v":26},{"$f":"Race0232!D$33","v":0},{"$f":"Race0232!C$33","v":0},{"$f":"Race0232!F$33","v":1}]
[null,{"$f":"Race0232!B$5","v":"Junior"},{"$f":"Race0232!B$4","v":"OC6"},{"$f":"Race0232!E$5","v":"Mixed"},{"$f":"Race0232!D$5","v":"19 & Under"},{"$f":"Race0232!D$4","v":"Short Course"},{"$f":"Race0232!A$34","v":27},{"$f":"Race0232!D$34","v":0},{"$f":"Race0232!C$34","v":0},{"$f":"Race0232!F$34","v":1}]
[null,{"$f":"Race0232!B$5","v":"Junior"},{"$f":"Race0232!B$4","v":"OC6"},{"$f":"Race0232!E$5","v":"Mixed"},{"$f":"Race0232!D$5","v":"19 & Under"},{"$f":"Race0232!D$4","v":"Short Course"},{"$f":"Race0232!A$35","v":28},{"$f":"Race0232!D$35","v":0},{"$f":"Race0232!C$35","v":0},{"$f":"Race0232!F$35","v":1}]
[null,{"$f":"Race0232!B$5","v":"Junior"},{"$f":"Race0232!B$4","v":"OC6"},{"$f":"Race0232!E$5","v":"Mixed"},{"$f":"Race0232!D$5","v":"19 & Under"},{"$f":"Race0232!D$4","v":"Short Course"},{"$f":"Race0232!A$36","v":29},{"$f":"Race0232!D$36","v":0},{"$f":"Race0232!C$36","v":0},{"$f":"Race0232!F$36","v":1}]
[null,{"$f":"Race0232!B$5","v":"Junior"},{"$f":"Race0232!B$4","v":"OC6"},{"$f":"Race0232!E$5","v":"Mixed"},{"$f":"Race0232!D$5","v":"19 & Under"},{"$f":"Race0232!D$4","v":"Short Course"},{"$f":"Race0232!A$37","v":30},{"$f":"Race0232!D$37","v":0},{"$f":"Race0232!C$37","v":0},{"$f":"Race0232!F$37","v":1}]
[null,{"$f":"Race0232!B$5","v":"Junior"},{"$f":"Race0232!B$4","v":"OC6"},{"$f":"Race0232!E$5","v":"Mixed"},{"$f":"Race0232!D$5","v":"19 & Under"},{"$f":"Race0232!D$4","v":"Short Course"},{"$f":"Race0232!A$38","v":31},{"$f":"Race0232!D$38","v":0},{"$f":"Race0232!C$38","v":0},{"$f":"Race0232!F$38","v":1}]
[null,{"$f":"Race0232!B$5","v":"Junior"},{"$f":"Race0232!B$4","v":"OC6"},{"$f":"Race0232!E$5","v":"Mixed"},{"$f":"Race0232!D$5","v":"19 & Under"},{"$f":"Race0232!D$4","v":"Short Course"},{"$f":"Race0232!A$39","v":32},{"$f":"Race0232!D$39","v":0},{"$f":"Race0232!C$39","v":0},{"$f":"Race0232!F$39","v":1}]
[null,{"$f":"Race0232!B$5","v":"Junior"},{"$f":"Race0232!B$4","v":"OC6"},{"$f":"Race0232!E$5","v":"Mixed"},{"$f":"Race0232!D$5","v":"19 & Under"},{"$f":"Race0232!D$4","v":"Short Course"},{"$f":"Race0232!A$40","v":33},{"$f":"Race0232!D$40","v":0},{"$f":"Race0232!C$40","v":0},{"$f":"Race0232!F$40","v":1}]
[null,{"$f":"Race0232!B$5","v":"Junior"},{"$f":"Race0232!B$4","v":"OC6"},{"$f":"Race0232!E$5","v":"Mixed"},{"$f":"Race0232!D$5","v":"19 & Under"},{"$f":"Race0232!D$4","v":"Short Course"},{"$f":"Race0232!A$41","v":34},{"$f":"Race0232!D$41","v":0},{"$f":"Race0232!C$41","v":0},{"$f":"Race0232!F$41","v":1}]
[null,{"$f":"Race0232!B$5","v":"Junior"},{"$f":"Race0232!B$4","v":"OC6"},{"$f":"Race0232!E$5","v":"Mixed"},{"$f":"Race0232!D$5","v":"19 & Under"},{"$f":"Race0232!D$4","v":"Short Course"},{"$f":"Race0232!A$42","v":35},{"$f":"Race0232!D$42","v":0},{"$f":"Race0232!C$42","v":0},{"$f":"Race0232!F$42","v":1}]
[null,{"$f":"Race0232!B$5","v":"Junior"},{"$f":"Race0232!B$4","v":"OC6"},{"$f":"Race0232!E$5","v":"Mixed"},{"$f":"Race0232!D$5","v":"19 & Under"},{"$f":"Race0232!D$4","v":"Short Course"},{"$f":"Race0232!A$43","v":36},{"$f":"Race0232!D$43","v":0},{"$f":"Race0232!C$43","v":0},{"$f":"Race0232!F$43","v":1}]
[null,{"$f":"Race0232!B$5","v":"Junior"},{"$f":"Race0232!B$4","v":"OC6"},{"$f":"Race0232!E$5","v":"Mixed"},{"$f":"Race0232!D$5","v":"19 & Under"},{"$f":"Race0232!D$4","v":"Short Course"},{"$f":"Race0232!A$44","v":37},{"$f":"Race0232!D$44","v":0},{"$f":"Race0232!C$44","v":0},{"$f":"Race0232!F$44","v":1}]
[null,{"$f":"Race0232!B$5","v":"Junior"},{"$f":"Race0232!B$4","v":"OC6"},{"$f":"Race0232!E$5","v":"Mixed"},{"$f":"Race0232!D$5","v":"19 & Under"},{"$f":"Race0232!D$4","v":"Short Course"},{"$f":"Race0232!A$45","v":38},{"$f":"Race0232!D$45","v":0},{"$f":"Race0232!C$45","v":0},{"$f":"Race0232!F$45","v":1}]
[null,{"$f":"Race0232!B$5","v":"Junior"},{"$f":"Race0232!B$4","v":"OC6"},{"$f":"Race0232!E$5","v":"Mixed"},{"$f":"Race0232!D$5","v":"19 & Under"},{"$f":"Race0232!D$4","v":"Short Course"},{"$f":"Race0232!A$46","v":39},{"$f":"Race0232!D$46","v":0},{"$f":"Race0232!C$46","v":0},{"$f":"Race0232!F$46","v":1}]
[null,{"$f":"Race0232!B$5","v":"Junior"},{"$f":"Race0232!B$4","v":"OC6"},{"$f":"Race0232!E$5","v":"Mixed"},{"$f":"Race0232!D$5","v":"19 & Under"},{"$f":"Race0232!D$4","v":"Short Course"},{"$f":"Race0232!A$47","v":40},{"$f":"Race0232!D$47","v":0},{"$f":"Race0232!C$47","v":0},{"$f":"Race0232!F$47","v":1}]
[null,{"$f":"Race0232!B$5","v":"Junior"},{"$f":"Race0232!B$4","v":"OC6"},{"$f":"Race0232!E$5","v":"Mixed"},{"$f":"Race0232!D$5","v":"19 & Under"},{"$f":"Race0232!D$4","v":"Short Course"},{"$f":"Race0232!A$48","v":41},{"$f":"Race0232!D$48","v":0},{"$f":"Race0232!C$48","v":0},{"$f":"Race0232!F$48","v":1}]
[null,{"$f":"Race0232!B$5","v":"Junior"},{"$f":"Race0232!B$4","v":"OC6"},{"$f":"Race0232!E$5","v":"Mixed"},{"$f":"Race0232!D$5","v":"19 & Under"},{"$f":"Race0232!D$4","v":"Short Course"},{"$f":"Race0232!A$49","v":42},{"$f":"Race0232!D$49","v":0},{"$f":"Race0232!C$49","v":0},{"$f":"Race0232!F$49","v":1}]
[null,{"$f":"Race0232!B$5","v":"Junior"},{"$f":"Race0232!B$4","v":"OC6"},{"$f":"Race0232!E$5","v":"Mixed"},{"$f":"Race0232!D$5","v":"19 & Under"},{"$f":"Race0232!D$4","v":"Short Course"},{"$f":"Race0232!A$50","v":43},{"$f":"Race0232!D$50","v":0},{"$f":"Race0232!C$50","v":0},{"$f":"Race0232!F$50","v":1}]
[null,{"$f":"Race0232!B$5","v":"Junior"},{"$f":"Race0232!B$4","v":"OC6"},{"$f":"Race0232!E$5","v":"Mixed"},{"$f":"Race0232!D$5","v":"19 & Under"},{"$f":"Race0232!D$4","v":"Short Course"},{"$f":"Race0232!A$51","v":44},{"$f":"Race0232!D$51","v":0},{"$f":"Race0232!C$51","v":0},{"$f":"Race0232!F$51","v":1}]
[null,{"$f":"Race0232!B$5","v":"Junior"},{"$f":"Race0232!B$4","v":"OC6"},{"$f":"Race0232!E$5","v":"Mixed"},{"$f":"Race0232!D$5","v":"19 & Under"},{"$f":"Race0232!D$4","v":"Short Course"},{"$f":"Race0232!A$52","v":45},{"$f":"Race0232!D$52","v":0},{"$f":"Race0232!C$52","v":0},{"$f":"Race0232!F$52","v":1}]
[null,{"$f":"Race0232!B$5","v":"Junior"},{"$f":"Race0232!B$4","v":"OC6"},{"$f":"Race0232!E$5","v":"Mixed"},{"$f":"Race0232!D$5","v":"19 & Under"},{"$f":"Race0232!D$4","v":"Short Course"},{"$f":"Race0232!A$53","v":46},{"$f":"Race0232!D$53","v":0},{"$f":"Race0232!C$53","v":0},{"$f":"Race0232!F$53","v":1}]
[null,{"$f":"Race0232!B$5","v":"Junior"},{"$f":"Race0232!B$4","v":"OC6"},{"$f":"Race0232!E$5","v":"Mixed"},{"$f":"Race0232!D$5","v":"19 & Under"},{"$f":"Race0232!D$4","v":"Short Course"},{"$f":"Race0232!A$54","v":47},{"$f":"Race0232!D$54","v":0},{"$f":"Race0232!C$54","v":0},{"$f":"Race0232!F$54","v":1}]
[null,{"$f":"Race0232!B$5","v":"Junior"},{"$f":"Race0232!B$4","v":"OC6"},{"$f":"Race0232!E$5","v":"Mixed"},{"$f":"Race0232!D$5","v":"19 & Under"},{"$f":"Race0232!D$4","v":"Short Course"},{"$f":"Race0232!A$55","v":48},{"$f":"Race0232!D$55","v":0},{"$f":"Race0232!C$55","v":0},{"$f":"Race0232!F$55","v":1}]
[null,{"$f":"Race0232!B$5","v":"Junior"},{"$f":"Race0232!B$4","v":"OC6"},{"$f":"Race0232!E$5","v":"Mixed"},{"$f":"Race0232!D$5","v":"19 & Under"},{"$f":"Race0232!D$4","v":"Short Course"},{"$f":"Race0232!A$56","v":49},{"$f":"Race0232!D$56","v":0},{"$f":"Race0232!C$56","v":0},{"$f":"Race0232!F$56","v":1}]
[null,{"$f":"Race0232!B$5","v":"Junior"},{"$f":"Race0232!B$4","v":"OC6"},{"$f":"Race0232!E$5","v":"Mixed"},{"$f":"Race0232!D$5","v":"19 & Under"},{"$f":"Race0232!D$4","v":"Short Course"},{"$f":"Race0232!A$57","v":50},{"$f":"Race0232!D$57","v":0},{"$f":"Race0232!C$57","v":0},{"$f":"Race0232!F$57","v":1}]
["Race0701",{"$f":"Race0701!B$5","v":"Senior"},{"$f":"Race0701!B$4","v":"OC2"},{"$f":"Race0701!E$5","v":"Men"},{"$f":"Race0701!D$5","v":"21 & Under"},{"$f":"Race0701!D$4","v":"Marathon"},{"$f":"Race0701!A$8","v":1},{"$f":"Race0701!D$8","v":0},{"$f":"Race0701!C$8","v":0},{"$f":"Race0701!F$8","v":9}]
[null,{"$f":"Race0701!B$5","v":"Senior"},{"$f":"Race0701!B$4","v":"OC2"},{"$f":"Race0701!E$5","v":"Men"},{"$f":"Race0701!D$5","v":"21 & Under"},{"$f":"Race0701!D$4","v":"Marathon"},{"$f":"Race0701!A$9","v":2},{"$f":"Race0701!D$9","v":0},{"$f":"Race0701!C$9","v":0},{"$f":"Race0701!F$9","v":7}]
[null,{"$f":"Race0701!B$5","v":"Senior"},{"$f":"Race0701!B$4","v":"OC2"},{"$f":"Race0701!E$5","v":"Men"},{"$f":"Race0701!D$5","v":"21 & Under"},{"$f":"Race0701!D$4","v":"Marathon"},{"$f":"Race0701!A$10","v":3},{"$f":"Race0701!D$10","v":0},{"$f":"Race0701!C$10","v":0},{"$f":"Race0701!F$10","v":5}]
[null,{"$f":"Race0701!B$5","v":"Senior"},{"$f":"Race0701!B$4","v":"OC2"},{"$f":"Race0701!E$5","v":"Men"},{"$f":"Race0701!D$5","v":"21 & Under"},{"$f":"Race0701!D$4","v":"Marathon"},{"$f":"Race0701!A$11","v":4},{"$f":"Race0701!D$11","v":0},{"$f":"Race0701!C$11","v":0},{"$f":"Race0701!F$11","v":3}]
[null,{"$f":"Race0701!B$5","v":"Senior"},{"$f":"Race0701!B$4","v":"OC2"},{"$f":"Race0701!E$5","v":"Men"},{"$f":"Race0701!D$5","v":"21 & Under"},{"$f":"Race0701!D$4","v":"Marathon"},{"$f":"Race0701!A$12","v":5},{"$f":"Race0701!D$12","v":0},{"$f":"Race0701!C$12","v":0},{"$f":"Race0701!F$12","v":2}]
[null,{"$f":"Race0701!B$5","v":"Senior"},{"$f":"Race0701!B$4","v":"OC2"},{"$f":"Race0701!E$5","v":"Men"},{"$f":"Race0701!D$5","v":"21 & Under"},{"$f":"Race0701!D$4","v":"Marathon"},{"$f":"Race0701!A$13","v":6},{"$f":"Race0701!D$13","v":0},{"$f":"Race0701!C$13","v":0},{"$f":"Race0701!F$13","v":1}]
[null,{"$f":"Race0701!B$5","v":"Senior"},{"$f":"Race0701!B$4","v":"OC2"},{"$f":"Race0701!E$5","v":"Men"},{"$f":"Race0701!D$5","v":"21 & Under"},{"$f":"Race0701!D$4","v":"Marathon"},{"$f":"Race0701!A$14","v":7},{"$f":"Race0701!D$14","v":0},{"$f":"Race0701!C$14","v":0},{"$f":"Race0701!F$14","v":1}]
[null,{"$f":"Race0701!B$5","v":"Senior"},{"$f":"Race0701!B$4","v":"OC2"},{"$f":"Race0701!E$5","v":"Men"},{"$f":"Race0701!D$5","v":"21 & Under"},{"$f":"Race0701!D$4","v":"Marathon"},{"$f":"Race0701!A$15","v":8},{"$f":"Race0701!D$15","v":0},{"$f":"Race0701!C$15","v":0},{"$f":"Race0701!F$15","v":1}]
[null,{"$f":"Race0701!B$5","v":"Senior"},{"$f":"Race0701!B$4","v":"OC2"},{"$f":"Race0701!E$5","v":"Men"},{"$f":"Race0701!D$5","v":"21 & Under"},{"$f":"Race0701!D$4","v":"Marathon"},{"$f":"Race0701!A$16","v":9},{"$f":"Race0701!D$16","v":0},{"$f":"Race0701!C$16","v":0},{"$f":"Race0701!F$16","v":1}]
[null,{"$f":"Race0701!B$5","v":"Senior"},{"$f":"Race0701!B$4","v":"OC2"},{"$f":"Race0701!E$5","v":"Men"},{"$f":"Race0701!D$5","v":"21 & Under"},{"$f":"Race0701!D$4","v":"Marathon"},{"$f":"Race0701!A$17","v":10},{"$f":"Race0701!D$17","v":0},{"$f":"Race0701!C$17","v":0},{"$f":"Race0701!F$17","v":1}]
[null,{"$f":"Race0701!B$5","v":"Senior"},{"$f":"Race0701!B$4","v":"OC2"},{"$f":"Race0701!E$5","v":"Men"},{"$f":"Race0701!D$5","v":"21 & Under"},{"$f":"Race0701!D$4","v":"Marathon"},{"$f":"Race0701!A$18","v":11},{"$f":"Race0701!D$18","v":0},{"$f":"Race0701!C$18","v":0},{"$f":"Race0701!F$18","v":1}]
[null,{"$f":"Race0701!B$5","v":"Senior"},{"$f":"Race0701!B$4","v":"OC2"},{"$f":"Race0701!E$5","v":"Men"},{"$f":"Race0701!D$5","v":"21 & Under"},{"$f":"Race0701!D$4","v":"Marathon"},{"$f":"Race0701!A$19","v":12},{"$f":"Race0701!D$19","v":0},{"$f":"Race0701!C$19","v":0},{"$f":"Race0701!F$19","v":1}]
[null,{"$f":"Race0701!B$5","v":"Senior"},{"$f":"Race0701!B$4","v":"OC2"},{"$f":"Race0701!E$5","v":"Men"},{"$f":"Race0701!D$5","v":"21 & Under"},{"$f":"Race0701!D$4","v":"Marathon"},{"$f":"Race0701!A$20","v":13},{"$f":"Race0701!D$20","v":0},{"$f":"Race0701!C$20","v":0},{"$f":"Race0701!F$20","v":1}]
[null,{"$f":"Race0701!B$5","v":"Senior"},{"$f":"Race0701!B$4","v":"OC2"},{"$f":"Race0701!E$5","v":"Men"},{"$f":"Race0701!D$5","v":"21 & Under"},{"$f":"Race0701!D$4","v":"Marathon"},{"$f":"Race0701!A$21","v":14},{"$f":"Race0701!D$21","v":0},{"$f":"Race0701!C$21","v":0},{"$f":"Race0701!F$21","v":1}]
[null,{"$f":"Race0701!B$5","v":"Senior"},{"$f":"Race0701!B$4","v":"OC2"},{"$f":"Race0701!E$5","v":"Men"},{"$f":"Race0701!D$5","v":"21 & Under"},{"$f":"Race0701!D$4","v":"Marathon"},{"$f":"Race0701!A$22","v":15},{"$f":"Race0701!D$22","v":0},{"$f":"Race0701!C$22","v":0},{"$f":"Race0701!F$22","v":1}]
[null,{"$f":"Race0701!B$5","v":"Senior"},{"$f":"Race0701!B$4","v":"OC2"},{"$f":"Race0701!E$5","v":"Men"},{"$f":"Race0701!D$5","v":"21 & Under"},{"$f":"Race0701!D$4","v":"Marathon"},{"$f":"Race0701!A$23","v":16},{"$f":"Race0701!D$23","v":0},{"$f":"Race0701!C$23","v":0},{"$f":"Race0701!F$23","v":1}]
[null,{"$f":"Race0701!B$5","v":"Senior"},{"$f":"Race0701!B$4","v":"OC2"},{"$f":"Race0701!E$5","v":"Men"},{"$f":"Race0701!D$5","v":"21 & Under"},{"$f":"Race0701!D$4","v":"Marathon"},{"$f":"Race0701!A$24","v":17},{"$f":"Race0701!D$24","v":0},{"$f":"Race0701!C$24","v":0},{"$f":"Race0701!F$24","v":1}]
[null,{"$f":"Race0701!B$5","v":"Senior"},{"$f":"Race0701!B$4","v":"OC2"},{"$f":"Race0701!E$5","v":"Men"},{"$f":"Race0701!D$5","v":"21 & Under"},{"$f":"Race0701!D$4","v":"Marathon"},{"$f":"Race0701!A$25","v":18},{"$f":"Race0701!D$25","v":0},{"$f":"Race0701!C$25","v":0},{"$f":"Race0701!F$25","v":1}]
[null,{"$f":"Race0701!B$5","v":"Senior"},{"$f":"Race0701!B$4","v":"OC2"},{"$f":"Race0701!E$5","v":"Men"},{"$f":"Race0701!D$5","v":"21 & Under"},{"$f":"Race0701!D$4","v":"Marathon"},{"$f":"Race0701!A$26","v":19},{"$f":"Race0701!D$26","v":0},{"$f":"Race0701!C$26","v":0},{"$f":"Race0701!F$26","v":1}]
[null,{"$f":"Race0701!B$5","v":"Senior"},{"$f":"Race0701!B$4","v":"OC2"},{"$f":"Race0701!E$5","v":"Men"},{"$f":"Race0701!D$5","v":"21 & Under"},{"$f":"Race0701!D$4","v":"Marathon"},{"$f":"Race0701!A$27","v":20},{"$f":"Race0701!D$27","v":0},{"$f":"Race0701!C$27","v":0},{"$f":"Race0701!F$27","v":1}]
[null,{"$f":"Race0701!B$5","v":"Senior"},{"$f":"Race0701!B$4","v":"OC2"},{"$f":"Race0701!E$5","v":"Men"},{"$f":"Race0701!D$5","v":"21 & Under"},{"$f":"Race0701!D$4","v":"Marathon"},{"$f":"Race0701!A$28","v":21},{"$f":"Race0701!D$28","v":0},{"$f":"Race0701!C$28","v":0},{"$f":"Race0701!F$28","v":1}]
[null,{"$f":"Race0701!B$5","v":"Senior"},{"$f":"Race0701!B$4","v":"OC2"},{"$f":"Race0701!E$5","v":"Men"},{"$f":"Race0701!D$5","v":"21 & Under"},{"$f":"Race0701!D$4","v":"Marathon"},{"$f":"Race0701!A$29","v":22},{"$f":"Race0701!D$29","v":0},{"$f":"Race0701!C$29","v":0},{"$f":"Race0701!F$29","v":1}]
[null,{"$f":"Race0701!B$5","v":"Senior"},{"$f":"Race0701!B$4","v":"OC2"},{"$f":"Race0701!E$5","v":"Men"},{"$f":"Race0701!D$5","v":"21 & Under"},{"$f":"Race0701!D$4","v":"Marathon"},{"$f":"Race0701!A$30","v":23},{"$f":"Race0701!D$30","v":0},{"$f":"Race0701!C$30","v":0},{"$f":"Race0701!F$30","v":1}]
[null,{"$f":"Race0701!B$5","v":"Senior"},{"$f":"Race0701!B$4","v":"OC2"},{"$f":"Race0701!E$5","v":"Men"},{"$f":"Race0701!D$5","v":"21 & Under"},{"$f":"Race0701!D$4","v":"Marathon"},{"$f":"Race0701!A$31","v":24},{"$f":"Race0701!D$31","v":0},{"$f":"Race0701!C$31","v":0},{"$f":"Race0701!F$31","v":1}]
[null,{"$f":"Race0701!B$5","v":"Senior"},{"$f":"Race0701!B$4","v":"OC2"},{"$f":"Race0701!E$5","v":"Men"},{"$f":"Race0701!D$5","v":"21 & Under"},{"$f":"Race0701!D$4","v":"Marathon"},{"$f":"Race0701!A$32","v":25},{"$f":"Race0701!D$32","v":0},{"$f":"Race0701!C$32","v":0},{"$f":"Race0701!F$32","v":1}]
[null,{"$f":"Race0701!B$5","v":"Senior"},{"$f":"Race0701!B$4","v":"OC2"},{"$f":"Race0701!E$5","v":"Men"},{"$f":"Race0701!D$5","v":"21 & Under"},{"$f":"Race0701!D$4","v":"Marathon"},{"$f":"Race0701!A$33","v":26},{"$f":"Race0701!D$33","v":0},{"$f":"Race0701!C$33","v":0},{"$f":"Race0701!F$33","v":1}]
[null,{"$f":"Race0701!B$5","v":"Senior"},{"$f":"Race0701!B$4","v":"OC2"},{"$f":"Race0701!E$5","v":"Men"},{"$f":"Race0701!D$5","v":"21 & Under"},{"$f":"Race0701!D$4","v":"Marathon"},{"$f":"Race0701!A$34","v":27},{"$f":"Race0701!D$34","v":0},{"$f":"Race0701!C$34","v":0},{"$f":"Race0701!F$34","v":1}]
[null,{"$f":"Race0701!B$5","v":"Senior"},{"$f":"Race0701!B$4","v":"OC2"},{"$f":"Race0701!E$5","v":"Men"},{"$f":"Race0701!D$5","v":"21 & Under"},{"$f":"Race0701!D$4","v":"Marathon"},{"$f":"Race0701!A$35","v":28},{"$f":"Race0701!D$35","v":0},{"$f":"Race0701!C$35","v":0},{"$f":"Race0701!F$35","v":1}]
[null,{"$f":"Race0701!B$5","v":"Senior"},{"$f":"Race0701!B$4","v":"OC2"},{"$f":"Race0701!E$5","v":"Men"},{"$f":"Race0701!D$5","v":"21 & Under"},{"$f":"Race0701!D$4","v":"Marathon"},{"$f":"Race0701!A$36","v":29},{"$f":"Race0701!D$36","v":0},{"$f":"Race0701!C$36","v":0},{"$f":"Race0701!F$36","v":1}]
[null,{"$f":"Race0701!B$5","v":"Senior"},{"$f":"Race0701!B$4","v":"OC2"},{"$f":"Race0701!E$5","v":"Men"},{"$f":"Race0701!D$5","v":"21 & Under"},{"$f":"Race0701!D$4","v":"Marathon"},{"$f":"Race0701!A$37","v":30},{"$f":"Race0701!D$37","v":0},{"$f":"Race0701!C$37","v":0},{"$f":"Race0701!F$37","v":1}]
[null,{"$f":"Race0701!B$5","v":"Senior"},{"$f":"Race0701!B$4","v":"OC2"},{"$f":"Race0701!E$5","v":"Men"},{"$f":"Race0701!D$5","v":"21 & Under"},{"$f":"Race0701!D$4","v":"Marathon"},{"$f":"Race0701!A$38","v":31},{"$f":"Race0701!D$38","v":0},{"$f":"Race0701!C$38","v":0},{"$f":"Race0701!F$38","v":1}]
[null,{"$f":"Race0701!B$5","v":"Senior"},{"$f":"Race0701!B$4","v":"OC2"},{"$f":"Race0701!E$5","v":"Men"},{"$f":"Race0701!D$5","v":"21 & Under"},{"$f":"Race0701!D$4","v":"Marathon"},{"$f":"Race0701!A$39","v":32},{"$f":"Race0701!D$39","v":0},{"$f":"Race0701!C$39","v":0},{"$f":"Race0701!F$39","v":1}]
[null,{"$f":"Race0701!B$5","v":"Senior"},{"$f":"Race0701!B$4","v":"OC2"},{"$f":"Race0701!E$5","v":"Men"},{"$f":"Race0701!D$5","v":"21 & Under"},{"$f":"Race0701!D$4","v":"Marathon"},{"$f":"Race0701!A$40","v":33},{"$f":"Race0701!D$40","v":0},{"$f":"Race0701!C$40","v":0},{"$f":"Race0701!F$40","v":1}]
[null,{"$f":"Race0701!B$5","v":"Senior"},{"$f":"Race0701!B$4","v":"OC2"},{"$f":"Race0701!E$5","v":"Men"},{"$f":"Race0701!D$5","v":"21 & Under"},{"$f":"Race0701!D$4","v":"Marathon"},{"$f":"Race0701!A$41","v":34},{"$f":"Race0701!D$41","v":0},{"$f":"Race0701!C$41","v":0},{"$f":"Race0701!F$41","v":1}]
[null,{"$f":"Race0701!B$5","v":"Senior"},{"$f":"Race0701!B$4","v":"OC2"},{"$f":"Race0701!E$5","v":"Men"},{"$f":"Race0701!D$5","v":"21 & Under"},{"$f":"Race0701!D$4","v":"Marathon"},{"$f":"Race0701!A$42","v":35},{"$f":"Race0701!D$42","v":0},{"$f":"Race0701!C$42","v":0},{"$f":"Race0701!F$42","v":1}]
[null,{"$f":"Race0701!B$5","v":"Senior"},{"$f":"Race0701!B$4","v":"OC2"},{"$f":"Race0701!E$5","v":"Men"},{"$f":"Race0701!D$5","v":"21 & Under"},{"$f":"Race0701!D$4","v":"Marathon"},{"$f":"Race0701!A$43","v":36},{"$f":"Race0701!D$43","v":0},{"$f":"Race0701!C$43","v":0},{"$f":"Race0701!F$43","v":1}]
[null,{"$f":"Race0701!B$5","v":"Senior"},{"$f":"Race0701!B$4","v":"OC2"},{"$f":"Race0701!E$5","v":"Men"},{"$f":"Race0701!D$5","v":"21 & Under"},{"$f":"Race0701!D$4","v":"Marathon"},{"$f":"Race0701!A$44","v":37},{"$f":"Race0701!D$44","v":0},{"$f":"Race0701!C$44","v":0},{"$f":"Race0701!F$44","v":1}]
[null,{"$f":"Race0701!B$5","v":"Senior"},{"$f":"Race0701!B$4","v":"OC2"},{"$f":"Race0701!E$5","v":"Men"},{"$f":"Race0701!D$5","v":"21 & Under"},{"$f":"Race0701!D$4","v":"Marathon"},{"$f":"Race0701!A$45","v":38},{"$f":"Race0701!D$45","v":0},{"$f":"Race0701!C$45","v":0},{"$f":"Race0701!F$45","v":1}]
[null,{"$f":"Race0701!B$5","v":"Senior"},{"$f":"Race0701!B$4","v":"OC2"},{"$f":"Race0701!E$5","v":"Men"},{"$f":"Race0701!D$5","v":"21 & Under"},{"$f":"Race0701!D$4","v":"Marathon"},{"$f":"Race0701!A$46","v":39},{"$f":"Race0701!D$46","v":0},{"$f":"Race0701!C$46","v":0},{"$f":"Race0701!F$46","v":1}]
[null,{"$f":"Race0701!B$5","v":"Senior"},{"$f":"Race0701!B$4","v":"OC2"},{"$f":"Race0701!E$5","v":"Men"},{"$f":"Race0701!D$5","v":"21 & Under"},{"$f":"Race0701!D$4","v":"Marathon"},{"$f":"Race0701!A$47","v":40},{"$f":"Race0701!D$47","v":0},{"$f":"Race0701!C$47","v":0},{"$f":"Race0701!F$47","v":1}]
[null,{"$f":"Race0701!B$5","v":"Senior"},{"$f":"Race0701!B$4","v":"OC2"},{"$f":"Race0701!E$5","v":"Men"},{"$f":"Race0701!D$5","v":"21 & Under"},{"$f":"Race0701!D$4","v":"Marathon"},{"$f":"Race0701!A$48","v":41},{"$f":"Race0701!D$48","v":0},{"$f":"Race0701!C$48","v":0},{"$f":"Race0701!F$48","v":1}]
[null,{"$f":"Race0701!B$5","v":"Senior"},{"$f":"Race0701!B$4","v":"OC2"},{"$f":"Race0701!E$5","v":"Men"},{"$f":"Race0701!D$5","v":"21 & Under"},{"$f":"Race0701!D$4","v":"Marathon"},{"$f":"Race0701!A$49","v":42},{"$f":"Race0701!D$49","v":0},{"$f":"Race0701!C$49","v":0},{"$f":"Race0701!F$49","v":1}]
[null,{"$f":"Race0701!B$5","v":"Senior"},{"$f":"Race0701!B$4","v":"OC2"},{"$f":"Race0701!E$5","v":"Men"},{"$f":"Race0701!D$5","v":"21 & Under"},{"$f":"Race0701!D$4","v":"Marathon"},{"$f":"Race0701!A$50","v":43},{"$f":"Race0701!D$50","v":0},{"$f":"Race0701!C$50","v":0},{"$f":"Race0701!F$50","v":1}]
[null,{"$f":"Race0701!B$5","v":"Senior"},{"$f":"Race0701!B$4","v":"OC2"},{"$f":"Race0701!E$5","v":"Men"},{"$f":"Race0701!D$5","v":"21 & Under"},{"$f":"Race0701!D$4","v":"Marathon"},{"$f":"Race0701!A$51","v":44},{"$f":"Race0701!D$51","v":0},{"$f":"Race0701!C$51","v":0},{"$f":"Race0701!F$51","v":1}]
[null,{"$f":"Race0701!B$5","v":"Senior"},{"$f":"Race0701!B$4","v":"OC2"},{"$f":"Race0701!E$5","v":"Men"},{"$f":"Race0701!D$5","v":"21 & Under"},{"$f":"Race0701!D$4","v":"Marathon"},{"$f":"Race0701!A$52","v":45},{"$f":"Race0701!D$52","v":0},{"$f":"Race0701!C$52","v":0},{"$f":"Race0701!F$52","v":1}]
[null,{"$f":"Race0701!B$5","v":"Senior"},{"$f":"Race0701!B$4","v":"OC2"},{"$f":"Race0701!E$5","v":"Men"},{"$f":"Race0701!D$5","v":"21 & Under"},{"$f":"Race0701!D$4","v":"Marathon"},{"$f":"Race0701!A$53","v":46},{"$f":"Race0701!D$53","v":0},{"$f":"Race0701!C$53","v":0},{"$f":"Race0701!F$53","v":1}]
[null,{"$f":"Race0701!B$5","v":"Senior"},{"$f":"Race0701!B$4","v":"OC2"},{"$f":"Race0701!E$5","v":"Men"},{"$f":"Race0701!D$5","v":"21 & Under"},{"$f":"Race0701!D$4","v":"Marathon"},{"$f":"Race0701!A$54","v":47},{"$f":"Race0701!D$54","v":0},{"$f":"Race0701!C$54","v":0},{"$f":"Race0701!F$54","v":1}]
[null,{"$f":"Race0701!B$5","v":"Senior"},{"$f":"Race0701!B$4","v":"OC2"},{"$f":"Race0701!E$5","v":"Men"},{"$f":"Race0701!D$5","v":"21 & Under"},{"$f":"Race0701!D$4","v":"Marathon"},{"$f":"Race0701!A$55","v":48},{"$f":"Race0701!D$55","v":0},{"$f":"Race0701!C$55","v":0},{"$f":"Race0701!F$55","v":1}]
[null,{"$f":"Race0701!B$5","v":"Senior"},{"$f":"Race0701!B$4","v":"OC2"},{"$f":"Race0701!E$5","v":"Men"},{"$f":"Race0701!D$5","v":"21 & Under"},{"$f":"Race0701!D$4","v":"Marathon"},{"$f":"Race0701!A$56","v":49},{"$f":"Race0701!D$56","v":0},{"$f":"Race0701!C$56","v":0},{"$f":"Race0701!F$56","v":1}]
[null,{"$f":"Race0701!B$5","v":"Senior"},{"$f":"Race0701!B$4","v":"OC2"},{"$f":"Race0701!E$5","v":"Men"},{"$f":"Race0701!D$5","v":"21 & Under"},{"$f":"Race0701!D$4","v":"Marathon"},{"$f":"Race0701!A$57","v":50},{"$f":"Race0701!D$57","v":0},{"$f":"Race0701!C$57","v":0},{"$f":"Race0701!F$57","v":1}]
["Race0702",{"$f":"Race0702!B$5","v":"Senior"},{"$f":"Race0702!B$4","v":"OC2"},{"$f":"Race0702!E$5","v":"Men"},{"$f":"Race0702!D$5","v":"Open"},{"$f":"Race0702!D$4","v":"Marathon"},{"$f":"Race0702!A$8","v":1},{"$f":"Race0702!D$8","v":0},{"$f":"Race0702!C$8","v":0},{"$f":"Race0702!F$8","v":9}]
[null,{"$f":"Race0702!B$5","v":"Senior"},{"$f":"Race0702!B$4","v":"OC2"},{"$f":"Race0702!E$5","v":"Men"},{"$f":"Race0702!D$5","v":"Open"},{"$f":"Race0702!D$4","v":"Marathon"},{"$f":"Race0702!A$9","v":2},{"$f":"Race0702!D$9","v":0},{"$f":"Race0702!C$9","v":0},{"$f":"Race0702!F$9","v":7}]
[null,{"$f":"Race0702!B$5","v":"Senior"},{"$f":"Race0702!B$4","v":"OC2"},{"$f":"Race0702!E$5","v":"Men"},{"$f":"Race0702!D$5","v":"Open"},{"$f":"Race0702!D$4","v":"Marathon"},{"$f":"Race0702!A$10","v":3},{"$f":"Race0702!D$10","v":0},{"$f":"Race0702!C$10","v":0},{"$f":"Race0702!F$10","v":5}]
[null,{"$f":"Race0702!B$5","v":"Senior"},{"$f":"Race0702!B$4","v":"OC2"},{"$f":"Race0702!E$5","v":"Men"},{"$f":"Race0702!D$5","v":"Open"},{"$f":"Race0702!D$4","v":"Marathon"},{"$f":"Race0702!A$11","v":4},{"$f":"Race0702!D$11","v":0},{"$f":"Race0702!C$11","v":0},{"$f":"Race0702!F$11","v":3}]
[null,{"$f":"Race0702!B$5","v":"Senior"},{"$f":"Race0702!B$4","v":"OC2"},{"$f":"Race0702!E$5","v":"Men"},{"$f":"Race0702!D$5","v":"Open"},{"$f":"Race0702!D$4","v":"Marathon"},{"$f":"Race0702!A$12","v":5},{"$f":"Race0702!D$12","v":0},{"$f":"Race0702!C$12","v":0},{"$f":"Race0702!F$12","v":2}]
[null,{"$f":"Race0702!B$5","v":"Senior"},{"$f":"Race0702!B$4","v":"OC2"},{"$f":"Race0702!E$5","v":"Men"},{"$f":"Race0702!D$5","v":"Open"},{"$f":"Race0702!D$4","v":"Marathon"},{"$f":"Race0702!A$13","v":6},{"$f":"Race0702!D$13","v":0},{"$f":"Race0702!C$13","v":0},{"$f":"Race0702!F$13","v":1}]
[null,{"$f":"Race0702!B$5","v":"Senior"},{"$f":"Race0702!B$4","v":"OC2"},{"$f":"Race0702!E$5","v":"Men"},{"$f":"Race0702!D$5","v":"Open"},{"$f":"Race0702!D$4","v":"Marathon"},{"$f":"Race0702!A$14","v":7},{"$f":"Race0702!D$14","v":0},{"$f":"Race0702!C$14","v":0},{"$f":"Race0702!F$14","v":1}]
[null,{"$f":"Race0702!B$5","v":"Senior"},{"$f":"Race0702!B$4","v":"OC2"},{"$f":"Race0702!E$5","v":"Men"},{"$f":"Race0702!D$5","v":"Open"},{"$f":"Race0702!D$4","v":"Marathon"},{"$f":"Race0702!A$15","v":8},{"$f":"Race0702!D$15","v":0},{"$f":"Race0702!C$15","v":0},{"$f":"Race0702!F$15","v":1}]
[null,{"$f":"Race0702!B$5","v":"Senior"},{"$f":"Race0702!B$4","v":"OC2"},{"$f":"Race0702!E$5","v":"Men"},{"$f":"Race0702!D$5","v":"Open"},{"$f":"Race0702!D$4","v":"Marathon"},{"$f":"Race0702!A$16","v":9},{"$f":"Race0702!D$16","v":0},{"$f":"Race0702!C$16","v":0},{"$f":"Race0702!F$16","v":1}]
[null,{"$f":"Race0702!B$5","v":"Senior"},{"$f":"Race0702!B$4","v":"OC2"},{"$f":"Race0702!E$5","v":"Men"},{"$f":"Race0702!D$5","v":"Open"},{"$f":"Race0702!D$4","v":"Marathon"},{"$f":"Race0702!A$17","v":10},{"$f":"Race0702!D$17","v":0},{"$f":"Race0702!C$17","v":0},{"$f":"Race0702!F$17","v":1}]
[null,{"$f":"Race0702!B$5","v":"Senior"},{"$f":"Race0702!B$4","v":"OC2"},{"$f":"Race0702!E$5","v":"Men"},{"$f":"Race0702!D$5","v":"Open"},{"$f":"Race0702!D$4","v":"Marathon"},{"$f":"Race0702!A$18","v":11},{"$f":"Race0702!D$18","v":0},{"$f":"Race0702!C$18","v":0},{"$f":"Race0702!F$18","v":1}]
[null,{"$f":"Race0702!B$5","v":"Senior"},{"$f":"Race0702!B$4","v":"OC2"},{"$f":"Race0702!E$5","v":"Men"},{"$f":"Race0702!D$5","v":"Open"},{"$f":"Race0702!D$4","v":"Marathon"},{"$f":"Race0702!A$19","v":12},{"$f":"Race0702!D$19","v":0},{"$f":"Race0702!C$19","v":0},{"$f":"Race0702!F$19","v":1}]
[null,{"$f":"Race0702!B$5","v":"Senior"},{"$f":"Race0702!B$4","v":"OC2"},{"$f":"Race0702!E$5","v":"Men"},{"$f":"Race0702!D$5","v":"Open"},{"$f":"Race0702!D$4","v":"Marathon"},{"$f":"Race0702!A$20","v":13},{"$f":"Race0702!D$20","v":0},{"$f":"Race0702!C$20","v":0},{"$f":"Race0702!F$20","v":1}]
[null,{"$f":"Race0702!B$5","v":"Senior"},{"$f":"Race0702!B$4","v":"OC2"},{"$f":"Race0702!E$5","v":"Men"},{"$f":"Race0702!D$5","v":"Open"},{"$f":"Race0702!D$4","v":"Marathon"},{"$f":"Race0702!A$21","v":14},{"$f":"Race0702!D$21","v":0},{"$f":"Race0702!C$21","v":0},{"$f":"Race0702!F$21","v":1}]
[null,{"$f":"Race0702!B$5","v":"Senior"},{"$f":"Race0702!B$4","v":"OC2"},{"$f":"Race0702!E$5","v":"Men"},{"$f":"Race0702!D$5","v":"Open"},{"$f":"Race0702!D$4","v":"Marathon"},{"$f":"Race0702!A$22","v":15},{"$f":"Race0702!D$22","v":0},{"$f":"Race0702!C$22","v":0},{"$f":"Race0702!F$22","v":1}]
[null,{"$f":"Race0702!B$5","v":"Senior"},{"$f":"Race0702!B$4","v":"OC2"},{"$f":"Race0702!E$5","v":"Men"},{"$f":"Race0702!D$5","v":"Open"},{"$f":"Race0702!D$4","v":"Marathon"},{"$f":"Race0702!A$23","v":16},{"$f":"Race0702!D$23","v":0},{"$f":"Race0702!C$23","v":0},{"$f":"Race0702!F$23","v":1}]
[null,{"$f":"Race0702!B$5","v":"Senior"},{"$f":"Race0702!B$4","v":"OC2"},{"$f":"Race0702!E$5","v":"Men"},{"$f":"Race0702!D$5","v":"Open"},{"$f":"Race0702!D$4","v":"Marathon"},{"$f":"Race0702!A$24","v":17},{"$f":"Race0702!D$24","v":0},{"$f":"Race0702!C$24","v":0},{"$f":"Race0702!F$24","v":1}]
[null,{"$f":"Race0702!B$5","v":"Senior"},{"$f":"Race0702!B$4","v":"OC2"},{"$f":"Race0702!E$5","v":"Men"},{"$f":"Race0702!D$5","v":"Open"},{"$f":"Race0702!D$4","v":"Marathon"},{"$f":"Race0702!A$25","v":18},{"$f":"Race0702!D$25","v":0},{"$f":"Race0702!C$25","v":0},{"$f":"Race0702!F$25","v":1}]
[null,{"$f":"Race0702!B$5","v":"Senior"},{"$f":"Race0702!B$4","v":"OC2"},{"$f":"Race0702!E$5","v":"Men"},{"$f":"Race0702!D$5","v":"Open"},{"$f":"Race0702!D$4","v":"Marathon"},{"$f":"Race0702!A$26","v":19},{"$f":"Race0702!D$26","v":0},{"$f":"Race0702!C$26","v":0},{"$f":"Race0702!F$26","v":1}]
[null,{"$f":"Race0702!B$5","v":"Senior"},{"$f":"Race0702!B$4","v":"OC2"},{"$f":"Race0702!E$5","v":"Men"},{"$f":"Race0702!D$5","v":"Open"},{"$f":"Race0702!D$4","v":"Marathon"},{"$f":"Race0702!A$27","v":20},{"$f":"Race0702!D$27","v":0},{"$f":"Race0702!C$27","v":0},{"$f":"Race0702!F$27","v":1}]
[null,{"$f":"Race0702!B$5","v":"Senior"},{"$f":"Race0702!B$4","v":"OC2"},{"$f":"Race0702!E$5","v":"Men"},{"$f":"Race0702!D$5","v":"Open"},{"$f":"Race0702!D$4","v":"Marathon"},{"$f":"Race0702!A$28","v":21},{"$f":"Race0702!D$28","v":0},{"$f":"Race0702!C$28","v":0},{"$f":"Race0702!F$28","v":1}]
[null,{"$f":"Race0702!B$5","v":"Senior"},{"$f":"Race0702!B$4","v":"OC2"},{"$f":"Race0702!E$5","v":"Men"},{"$f":"Race0702!D$5","v":"Open"},{"$f":"Race0702!D$4","v":"Marathon"},{"$f":"Race0702!A$29","v":22},{"$f":"Race0702!D$29","v":0},{"$f":"Race0702!C$29","v":0},{"$f":"Race0702!F$29","v":1}]
[null,{"$f":"Race0702!B$5","v":"Senior"},{"$f":"Race0702!B$4","v":"OC2"},{"$f":"Race0702!E$5","v":"Men"},{"$f":"Race0702!D$5","v":"Open"},{"$f":"Race0702!D$4","v":"Marathon"},{"$f":"Race0702!A$30","v":23},{"$f":"Race0702!D$30","v":0},{"$f":"Race0702!C$30","v":0},{"$f":"Race0702!F$30","v":1}]
[null,{"$f":"Race0702!B$5","v":"Senior"},{"$f":"Race0702!B$4","v":"OC2"},{"$f":"Race0702!E$5","v":"Men"},{"$f":"Race0702!D$5","v":"Open"},{"$f":"Race0702!D$4","v":"Marathon"},{"$f":"Race0702!A$31","v":24},{"$f":"Race0702!D$31","v":0},{"$f":"Race0702!C$31","v":0},{"$f":"Race0702!F$31","v":1}]
[null,{"$f":"Race0702!B$5","v":"Senior"},{"$f":"Race0702!B$4","v":"OC2"},{"$f":"Race0702!E$5","v":"Men"},{"$f":"Race0702!D$5","v":"Open"},{"$f":"Race0702!D$4","v":"Marathon"},{"$f":"Race0702!A$32","v":25},{"$f":"Race0702!D$32","v":0},{"$f":"Race0702!C$32","v":0},{"$f":"Race0702!F$32","v":1}]
[null,{"$f":"Race0702!B$5","v":"Senior"},{"$f":"Race0702!B$4","v":"OC2"},{"$f":"Race0702!E$5","v":"Men"},{"$f":"Race0702!D$5","v":"Open"},{"$f":"Race0702!D$4","v":"Marathon"},{"$f":"Race0702!A$33","v":26},{"$f":"Race0702!D$33","v":0},{"$f":"Race0702!C$33","v":0},{"$f":"Race0702!F$33","v":1}]
[null,{"$f":"Race0702!B$5","v":"Senior"},{"$f":"Race0702!B$4","v":"OC2"},{"$f":"Race0702!E$5","v":"Men"},{"$f":"Race0702!D$5","v":"Open"},{"$f":"Race0702!D$4","v":"Marathon"},{"$f":"Race0702!A$34","v":27},{"$f":"Race0702!D$34","v":0},{"$f":"Race0702!C$34","v":0},{"$f":"Race0702!F$34","v":1}]
[null,{"$f":"Race0702!B$5","v":"Senior"},{"$f":"Race0702!B$4","v":"OC2"},{"$f":"Race0702!E$5","v":"Men"},{"$f":"Race0702!D$5","v":"Open"},{"$f":"Race0702!D$4","v":"Marathon"},{"$f":"Race0702!A$35","v":28},{"$f":"Race0702!D$35","v":0},{"$f":"Race0702!C$35","v":0},{"$f":"Race0702!F$35","v":1}]
[null,{"$f":"Race0702!B$5","v":"Senior"},{"$f":"Race0702!B$4","v":"OC2"},{"$f":"Race0702!E$5","v":"Men"},{"$f":"Race0702!D$5","v":"Open"},{"$f":"Race0702!D$4","v":"Marathon"},{"$f":"Race0702!A$36","v":29},{"$f":"Race0702!D$36","v":0},{"$f":"Race0702!C$36","v":0},{"$f":"Race0702!F$36","v":1}]
[null,{"$f":"Race0702!B$5","v":"Senior"},{"$f":"Race0702!B$4","v":"OC2"},{"$f":"Race0702!E$5","v":"Men"},{"$f":"Race0702!D$5","v":"Open"},{"$f":"Race0702!D$4","v":"Marathon"},{"$f":"Race0702!A$37","v":30},{"$f":"Race0702!D$37","v":0},{"$f":"Race0702!C$37","v":0},{"$f":"Race0702!F$37","v":1}]
[null,{"$f":"Race0702!B$5","v":"Senior"},{"$f":"Race0702!B$4","v":"OC2"},{"$f":"Race0702!E$5","v":"Men"},{"$f":"Race0702!D$5","v":"Open"},{"$f":"Race0702!D$4","v":"Marathon"},{"$f":"Race0702!A$38","v":31},{"$f":"Race0702!D$38","v":0},{"$f":"Race0702!C$38","v":0},{"$f":"Race0702!F$38","v":1}]
[null,{"$f":"Race0702!B$5","v":"Senior"},{"$f":"Race0702!B$4","v":"OC2"},{"$f":"Race0702!E$5","v":"Men"},{"$f":"Race0702!D$5","v":"Open"},{"$f":"Race0702!D$4","v":"Marathon"},{"$f":"Race0702!A$39","v":32},{"$f":"Race0702!D$39","v":0},{"$f":"Race0702!C$39","v":0},{"$f":"Race0702!F$39","v":1}]
[null,{"$f":"Race0702!B$5","v":"Senior"},{"$f":"Race0702!B$4","v":"OC2"},{"$f":"Race0702!E$5","v":"Men"},{"$f":"Race0702!D$5","v":"Open"},{"$f":"Race0702!D$4","v":"Marathon"},{"$f":"Race0702!A$40","v":33},{"$f":"Race0702!D$40","v":0},{"$f":"Race0702!C$40","v":0},{"$f":"Race0702!F$40","v":1}]
[null,{"$f":"Race0702!B$5","v":"Senior"},{"$f":"Race0702!B$4","v":"OC2"},{"$f":"Race0702!E$5","v":"Men"},{"$f":"Race0702!D$5","v":"Open"},{"$f":"Race0702!D$4","v":"Marathon"},{"$f":"Race0702!A$41","v":34},{"$f":"Race0702!D$41","v":0},{"$f":"Race0702!C$41","v":0},{"$f":"Race0702!F$41","v":1}]
[null,{"$f":"Race0702!B$5","v":"Senior"},{"$f":"Race0702!B$4","v":"OC2"},{"$f":"Race0702!E$5","v":"Men"},{"$f":"Race0702!D$5","v":"Open"},{"$f":"Race0702!D$4","v":"Marathon"},{"$f":"Race0702!A$42","v":35},{"$f":"Race0702!D$42","v":0},{"$f":"Race0702!C$42","v":0},{"$f":"Race0702!F$42","v":1}]
[null,{"$f":"Race0702!B$5","v":"Senior"},{"$f":"Race0702!B$4","v":"OC2"},{"$f":"Race0702!E$5","v":"Men"},{"$f":"Race0702!D$5","v":"Open"},{"$f":"Race0702!D$4","v":"Marathon"},{"$f":"Race0702!A$43","v":36},{"$f":"Race0702!D$43","v":0},{"$f":"Race0702!C$43","v":0},{"$f":"Race0702!F$43","v":1}]
[null,{"$f":"Race0702!B$5","v":"Senior"},{"$f":"Race0702!B$4","v":"OC2"},{"$f":"Race0702!E$5","v":"Men"},{"$f":"Race0702!D$5","v":"Open"},{"$f":"Race0702!D$4","v":"Marathon"},{"$f":"Race0702!A$44","v":37},{"$f":"Race0702!D$44","v":0},{"$f":"Race0702!C$44","v":0},{"$f":"Race0702!F$44","v":1}]
[null,{"$f":"Race0702!B$5","v":"Senior"},{"$f":"Race0702!B$4","v":"OC2"},{"$f":"Race0702!E$5","v":"Men"},{"$f":"Race0702!D$5","v":"Open"},{"$f":"Race0702!D$4","v":"Marathon"},{"$f":"Race0702!A$45","v":38},{"$f":"Race0702!D$45","v":0},{"$f":"Race0702!C$45","v":0},{"$f":"Race0702!F$45","v":1}]
[null,{"$f":"Race0702!B$5","v":"Senior"},{"$f":"Race0702!B$4","v":"OC2"},{"$f":"Race0702!E$5","v":"Men"},{"$f":"Race0702!D$5","v":"Open"},{"$f":"Race0702!D$4","v":"Marathon"},{"$f":"Race0702!A$46","v":39},{"$f":"Race0702!D$46","v":0},{"$f":"Race0702!C$46","v":0},{"$f":"Race0702!F$46","v":1}]
[null,{"$f":"Race0702!B$5","v":"Senior"},{"$f":"Race0702!B$4","v":"OC2"},{"$f":"Race0702!E$5","v":"Men"},{"$f":"Race0702!D$5","v":"Open"},{"$f":"Race0702!D$4","v":"Marathon"},{"$f":"Race0702!A$47","v":40},{"$f":"Race0702!D$47","v":0},{"$f":"Race0702!C$47","v":0},{"$f":"Race0702!F$47","v":1}]
[null,{"$f":"Race0702!B$5","v":"Senior"},{"$f":"Race0702!B$4","v":"OC2"},{"$f":"Race0702!E$5","v":"Men"},{"$f":"Race0702!D$5","v":"Open"},{"$f":"Race0702!D$4","v":"Marathon"},{"$f":"Race0702!A$48","v":41},{"$f":"Race0702!D$48","v":0},{"$f":"Race0702!C$48","v":0},{"$f":"Race0702!F$48","v":1}]
[null,{"$f":"Race0702!B$5","v":"Senior"},{"$f":"Race0702!B$4","v":"OC2"},{"$f":"Race0702!E$5","v":"Men"},{"$f":"Race0702!D$5","v":"Open"},{"$f":"Race0702!D$4","v":"Marathon"},{"$f":"Race0702!A$49","v":42},{"$f":"Race0702!D$49","v":0},{"$f":"Race0702!C$49","v":0},{"$f":"Race0702!F$49","v":1}]
[null,{"$f":"Race0702!B$5","v":"Senior"},{"$f":"Race0702!B$4","v":"OC2"},{"$f":"Race0702!E$5","v":"Men"},{"$f":"Race0702!D$5","v":"Open"},{"$f":"Race0702!D$4","v":"Marathon"},{"$f":"Race0702!A$50","v":43},{"$f":"Race0702!D$50","v":0},{"$f":"Race0702!C$50","v":0},{"$f":"Race0702!F$50","v":1}]
[null,{"$f":"Race0702!B$5","v":"Senior"},{"$f":"Race0702!B$4","v":"OC2"},{"$f":"Race0702!E$5","v":"Men"},{"$f":"Race0702!D$5","v":"Open"},{"$f":"Race0702!D$4","v":"Marathon"},{"$f":"Race0702!A$51","v":44},{"$f":"Race0702!D$51","v":0},{"$f":"Race0702!C$51","v":0},{"$f":"Race0702!F$51","v":1}]
[null,{"$f":"Race0702!B$5","v":"Senior"},{"$f":"Race0702!B$4","v":"OC2"},{"$f":"Race0702!E$5","v":"Men"},{"$f":"Race0702!D$5","v":"Open"},{"$f":"Race0702!D$4","v":"Marathon"},{"$f":"Race0702!A$52","v":45},{"$f":"Race0702!D$52","v":0},{"$f":"Race0702!C$52","v":0},{"$f":"Race0702!F$52","v":1}]
[null,{"$f":"Race0702!B$5","v":"Senior"},{"$f":"Race0702!B$4","v":"OC2"},{"$f":"Race0702!E$5","v":"Men"},{"$f":"Race0702!D$5","v":"Open"},{"$f":"Race0702!D$4","v":"Marathon"},{"$f":"Race0702!A$53","v":46},{"$f":"Race0702!D$53","v":0},{"$f":"Race0702!C$53","v":0},{"$f":"Race0702!F$53","v":1}]
[null,{"$f":"Race0702!B$5","v":"Senior"},{"$f":"Race0702!B$4","v":"OC2"},{"$f":"Race0702!E$5","v":"Men"},{"$f":"Race0702!D$5","v":"Open"},{"$f":"Race0702!D$4","v":"Marathon"},{"$f":"Race0702!A$54","v":47},{"$f":"Race0702!D$54","v":0},{"$f":"Race0702!C$54","v":0},{"$f":"Race0702!F$54","v":1}]
[null,{"$f":"Race0702!B$5","v":"Senior"},{"$f":"Race0702!B$4","v":"OC2"},{"$f":"Race0702!E$5","v":"Men"},{"$f":"Race0702!D$5","v":"Open"},{"$f":"Race0702!D$4","v":"Marathon"},{"$f":"Race0702!A$55","v":48},{"$f":"Race0702!D$55","v":0},{"$f":"Race0702!C$55","v":0},{"$f":"Race0702!F$55","v":1}]
[null,{"$f":"Race0702!B$5","v":"Senior"},{"$f":"Race0702!B$4","v":"OC2"},{"$f":"Race0702!E$5","v":"Men"},{"$f":"Race0702!D$5","v":"Open"},{"$f":"Race0702!D$4","v":"Marathon"},{"$f":"Race0702!A$56","v":49},{"$f":"Race0702!D$56","v":0},{"$f":"Race0702!C$56","v":0},{"$f":"Race0702!F$56","v":1}]
[null,{"$f":"Race0702!B$5","v":"Senior"},{"$f":"Race0702!B$4","v":"OC2"},{"$f":"Race0702!E$5","v":"Men"},{"$f":"Race0702!D$5","v":"Open"},{"$f":"Race0702!D$4","v":"Marathon"},{"$f":"Race0702!A$57","v":50},{"$f":"Race0702!D$57","v":0},{"$f":"Race0702!C$57","v":0},{"$f":"Race0702!F$57","v":1}]
["Race0703",{"$f":"Race0703!B$5","v":"Senior"},{"$f":"Race0703!B$4","v":"OC2"},{"$f":"Race0703!E$5","v":"Men"},{"$f":"Race0703!D$5","v":"Masters"},{"$f":"Race0703!D$4","v":"Marathon"},{"$f":"Race0703!A$8","v":1},{"$f":"Race0703!D$8","v":0},{"$f":"Race0703!C$8","v":0},{"$f":"Race0703!F$8","v":9}]
[null,{"$f":"Race0703!B$5","v":"Senior"},{"$f":"Race0703!B$4","v":"OC2"},{"$f":"Race0703!E$5","v":"Men"},{"$f":"Race0703!D$5","v":"Masters"},{"$f":"Race0703!D$4","v":"Marathon"},{"$f":"Race0703!A$9","v":2},{"$f":"Race0703!D$9","v":0},{"$f":"Race0703!C$9","v":0},{"$f":"Race0703!F$9","v":7}]
[null,{"$f":"Race0703!B$5","v":"Senior"},{"$f":"Race0703!B$4","v":"OC2"},{"$f":"Race0703!E$5","v":"Men"},{"$f":"Race0703!D$5","v":"Masters"},{"$f":"Race0703!D$4","v":"Marathon"},{"$f":"Race0703!A$10","v":3},{"$f":"Race0703!D$10","v":0},{"$f":"Race0703!C$10","v":0},{"$f":"Race0703!F$10","v":5}]
[null,{"$f":"Race0703!B$5","v":"Senior"},{"$f":"Race0703!B$4","v":"OC2"},{"$f":"Race0703!E$5","v":"Men"},{"$f":"Race0703!D$5","v":"Masters"},{"$f":"Race0703!D$4","v":"Marathon"},{"$f":"Race0703!A$11","v":4},{"$f":"Race0703!D$11","v":0},{"$f":"Race0703!C$11","v":0},{"$f":"Race0703!F$11","v":3}]
[null,{"$f":"Race0703!B$5","v":"Senior"},{"$f":"Race0703!B$4","v":"OC2"},{"$f":"Race0703!E$5","v":"Men"},{"$f":"Race0703!D$5","v":"Masters"},{"$f":"Race0703!D$4","v":"Marathon"},{"$f":"Race0703!A$12","v":5},{"$f":"Race0703!D$12","v":0},{"$f":"Race0703!C$12","v":0},{"$f":"Race0703!F$12","v":2}]
[null,{"$f":"Race0703!B$5","v":"Senior"},{"$f":"Race0703!B$4","v":"OC2"},{"$f":"Race0703!E$5","v":"Men"},{"$f":"Race0703!D$5","v":"Masters"},{"$f":"Race0703!D$4","v":"Marathon"},{"$f":"Race0703!A$13","v":6},{"$f":"Race0703!D$13","v":0},{"$f":"Race0703!C$13","v":0},{"$f":"Race0703!F$13","v":1}]
[null,{"$f":"Race0703!B$5","v":"Senior"},{"$f":"Race0703!B$4","v":"OC2"},{"$f":"Race0703!E$5","v":"Men"},{"$f":"Race0703!D$5","v":"Masters"},{"$f":"Race0703!D$4","v":"Marathon"},{"$f":"Race0703!A$14","v":7},{"$f":"Race0703!D$14","v":0},{"$f":"Race0703!C$14","v":0},{"$f":"Race0703!F$14","v":1}]
[null,{"$f":"Race0703!B$5","v":"Senior"},{"$f":"Race0703!B$4","v":"OC2"},{"$f":"Race0703!E$5","v":"Men"},{"$f":"Race0703!D$5","v":"Masters"},{"$f":"Race0703!D$4","v":"Marathon"},{"$f":"Race0703!A$15","v":8},{"$f":"Race0703!D$15","v":0},{"$f":"Race0703!C$15","v":0},{"$f":"Race0703!F$15","v":1}]
[null,{"$f":"Race0703!B$5","v":"Senior"},{"$f":"Race0703!B$4","v":"OC2"},{"$f":"Race0703!E$5","v":"Men"},{"$f":"Race0703!D$5","v":"Masters"},{"$f":"Race0703!D$4","v":"Marathon"},{"$f":"Race0703!A$16","v":9},{"$f":"Race0703!D$16","v":0},{"$f":"Race0703!C$16","v":0},{"$f":"Race0703!F$16","v":1}]
[null,{"$f":"Race0703!B$5","v":"Senior"},{"$f":"Race0703!B$4","v":"OC2"},{"$f":"Race0703!E$5","v":"Men"},{"$f":"Race0703!D$5","v":"Masters"},{"$f":"Race0703!D$4","v":"Marathon"},{"$f":"Race0703!A$17","v":10},{"$f":"Race0703!D$17","v":0},{"$f":"Race0703!C$17","v":0},{"$f":"Race0703!F$17","v":1}]
[null,{"$f":"Race0703!B$5","v":"Senior"},{"$f":"Race0703!B$4","v":"OC2"},{"$f":"Race0703!E$5","v":"Men"},{"$f":"Race0703!D$5","v":"Masters"},{"$f":"Race0703!D$4","v":"Marathon"},{"$f":"Race0703!A$18","v":11},{"$f":"Race0703!D$18","v":0},{"$f":"Race0703!C$18","v":0},{"$f":"Race0703!F$18","v":1}]
[null,{"$f":"Race0703!B$5","v":"Senior"},{"$f":"Race0703!B$4","v":"OC2"},{"$f":"Race0703!E$5","v":"Men"},{"$f":"Race0703!D$5","v":"Masters"},{"$f":"Race0703!D$4","v":"Marathon"},{"$f":"Race0703!A$19","v":12},{"$f":"Race0703!D$19","v":0},{"$f":"Race0703!C$19","v":0},{"$f":"Race0703!F$19","v":1}]
[null,{"$f":"Race0703!B$5","v":"Senior"},{"$f":"Race0703!B$4","v":"OC2"},{"$f":"Race0703!E$5","v":"Men"},{"$f":"Race0703!D$5","v":"Masters"},{"$f":"Race0703!D$4","v":"Marathon"},{"$f":"Race0703!A$20","v":13},{"$f":"Race0703!D$20","v":0},{"$f":"Race0703!C$20","v":0},{"$f":"Race0703!F$20","v":1}]
[null,{"$f":"Race0703!B$5","v":"Senior"},{"$f":"Race0703!B$4","v":"OC2"},{"$f":"Race0703!E$5","v":"Men"},{"$f":"Race0703!D$5","v":"Masters"},{"$f":"Race0703!D$4","v":"Marathon"},{"$f":"Race0703!A$21","v":14},{"$f":"Race0703!D$21","v":0},{"$f":"Race0703!C$21","v":0},{"$f":"Race0703!F$21","v":1}]
[null,{"$f":"Race0703!B$5","v":"Senior"},{"$f":"Race0703!B$4","v":"OC2"},{"$f":"Race0703!E$5","v":"Men"},{"$f":"Race0703!D$5","v":"Masters"},{"$f":"Race0703!D$4","v":"Marathon"},{"$f":"Race0703!A$22","v":15},{"$f":"Race0703!D$22","v":0},{"$f":"Race0703!C$22","v":0},{"$f":"Race0703!F$22","v":1}]
[null,{"$f":"Race0703!B$5","v":"Senior"},{"$f":"Race0703!B$4","v":"OC2"},{"$f":"Race0703!E$5","v":"Men"},{"$f":"Race0703!D$5","v":"Masters"},{"$f":"Race0703!D$4","v":"Marathon"},{"$f":"Race0703!A$23","v":16},{"$f":"Race0703!D$23","v":0},{"$f":"Race0703!C$23","v":0},{"$f":"Race0703!F$23","v":1}]
[null,{"$f":"Race0703!B$5","v":"Senior"},{"$f":"Race0703!B$4","v":"OC2"},{"$f":"Race0703!E$5","v":"Men"},{"$f":"Race0703!D$5","v":"Masters"},{"$f":"Race0703!D$4","v":"Marathon"},{"$f":"Race0703!A$24","v":17},{"$f":"Race0703!D$24","v":0},{"$f":"Race0703!C$24","v":0},{"$f":"Race0703!F$24","v":1}]
[null,{"$f":"Race0703!B$5","v":"Senior"},{"$f":"Race0703!B$4","v":"OC2"},{"$f":"Race0703!E$5","v":"Men"},{"$f":"Race0703!D$5","v":"Masters"},{"$f":"Race0703!D$4","v":"Marathon"},{"$f":"Race0703!A$25","v":18},{"$f":"Race0703!D$25","v":0},{"$f":"Race0703!C$25","v":0},{"$f":"Race0703!F$25","v":1}]
[null,{"$f":"Race0703!B$5","v":"Senior"},{"$f":"Race0703!B$4","v":"OC2"},{"$f":"Race0703!E$5","v":"Men"},{"$f":"Race0703!D$5","v":"Masters"},{"$f":"Race0703!D$4","v":"Marathon"},{"$f":"Race0703!A$26","v":19},{"$f":"Race0703!D$26","v":0},{"$f":"Race0703!C$26","v":0},{"$f":"Race0703!F$26","v":1}]
[null,{"$f":"Race0703!B$5","v":"Senior"},{"$f":"Race0703!B$4","v":"OC2"},{"$f":"Race0703!E$5","v":"Men"},{"$f":"Race0703!D$5","v":"Masters"},{"$f":"Race0703!D$4","v":"Marathon"},{"$f":"Race0703!A$27","v":20},{"$f":"Race0703!D$27","v":0},{"$f":"Race0703!C$27","v":0},{"$f":"Race0703!F$27","v":1}]
[null,{"$f":"Race0703!B$5","v":"Senior"},{"$f":"Race0703!B$4","v":"OC2"},{"$f":"Race0703!E$5","v":"Men"},{"$f":"Race0703!D$5","v":"Masters"},{"$f":"Race0703!D$4","v":"Marathon"},{"$f":"Race0703!A$28","v":21},{"$f":"Race0703!D$28","v":0},{"$f":"Race0703!C$28","v":0},{"$f":"Race0703!F$28","v":1}]
[null,{"$f":"Race0703!B$5","v":"Senior"},{"$f":"Race0703!B$4","v":"OC2"},{"$f":"Race0703!E$5","v":"Men"},{"$f":"Race0703!D$5","v":"Masters"},{"$f":"Race0703!D$4","v":"Marathon"},{"$f":"Race0703!A$29","v":22},{"$f":"Race0703!D$29","v":0},{"$f":"Race0703!C$29","v":0},{"$f":"Race0703!F$29","v":1}]
[null,{"$f":"Race0703!B$5","v":"Senior"},{"$f":"Race0703!B$4","v":"OC2"},{"$f":"Race0703!E$5","v":"Men"},{"$f":"Race0703!D$5","v":"Masters"},{"$f":"Race0703!D$4","v":"Marathon"},{"$f":"Race0703!A$30","v":23},{"$f":"Race0703!D$30","v":0},{"$f":"Race0703!C$30","v":0},{"$f":"Race0703!F$30","v":1}]
[null,{"$f":"Race0703!B$5","v":"Senior"},{"$f":"Race0703!B$4","v":"OC2"},{"$f":"Race0703!E$5","v":"Men"},{"$f":"Race0703!D$5","v":"Masters"},{"$f":"Race0703!D$4","v":"Marathon"},{"$f":"Race0703!A$31","v":24},{"$f":"Race0703!D$31","v":0},{"$f":"Race0703!C$31","v":0},{"$f":"Race0703!F$31","v":1}]
[null,{"$f":"Race0703!B$5","v":"Senior"},{"$f":"Race0703!B$4","v":"OC2"},{"$f":"Race0703!E$5","v":"Men"},{"$f":"Race0703!D$5","v":"Masters"},{"$f":"Race0703!D$4","v":"Marathon"},{"$f":"Race0703!A$32","v":25},{"$f":"Race0703!D$32","v":0},{"$f":"Race0703!C$32","v":0},{"$f":"Race0703!F$32","v":1}]
[null,{"$f":"Race0703!B$5","v":"Senior"},{"$f":"Race0703!B$4","v":"OC2"},{"$f":"Race0703!E$5","v":"Men"},{"$f":"Race0703!D$5","v":"Masters"},{"$f":"Race0703!D$4","v":"Marathon"},{"$f":"Race0703!A$33","v":26},{"$f":"Race0703!D$33","v":0},{"$f":"Race0703!C$33","v":0},{"$f":"Race0703!F$33","v":1}]
[null,{"$f":"Race0703!B$5","v":"Senior"},{"$f":"Race0703!B$4","v":"OC2"},{"$f":"Race0703!E$5","v":"Men"},{"$f":"Race0703!D$5","v":"Masters"},{"$f":"Race0703!D$4","v":"Marathon"},{"$f":"Race0703!A$34","v":27},{"$f":"Race0703!D$34","v":0},{"$f":"Race0703!C$34","v":0},{"$f":"Race0703!F$34","v":1}]
[null,{"$f":"Race0703!B$5","v":"Senior"},{"$f":"Race0703!B$4","v":"OC2"},{"$f":"Race0703!E$5","v":"Men"},{"$f":"Race0703!D$5","v":"Masters"},{"$f":"Race0703!D$4","v":"Marathon"},{"$f":"Race0703!A$35","v":28},{"$f":"Race0703!D$35","v":0},{"$f":"Race0703!C$35","v":0},{"$f":"Race0703!F$35","v":1}]
[null,{"$f":"Race0703!B$5","v":"Senior"},{"$f":"Race0703!B$4","v":"OC2"},{"$f":"Race0703!E$5","v":"Men"},{"$f":"Race0703!D$5","v":"Masters"},{"$f":"Race0703!D$4","v":"Marathon"},{"$f":"Race0703!A$36","v":29},{"$f":"Race0703!D$36","v":0},{"$f":"Race0703!C$36","v":0},{"$f":"Race0703!F$36","v":1}]
[null,{"$f":"Race0703!B$5","v":"Senior"},{"$f":"Race0703!B$4","v":"OC2"},{"$f":"Race0703!E$5","v":"Men"},{"$f":"Race0703!D$5","v":"Masters"},{"$f":"Race0703!D$4","v":"Marathon"},{"$f":"Race0703!A$37","v":30},{"$f":"Race0703!D$37","v":0},{"$f":"Race0703!C$37","v":0},{"$f":"Race0703!F$37","v":1}]
[null,{"$f":"Race0703!B$5","v":"Senior"},{"$f":"Race0703!B$4","v":"OC2"},{"$f":"Race0703!E$5","v":"Men"},{"$f":"Race0703!D$5","v":"Masters"},{"$f":"Race0703!D$4","v":"Marathon"},{"$f":"Race0703!A$38","v":31},{"$f":"Race0703!D$38","v":0},{"$f":"Race0703!C$38","v":0},{"$f":"Race0703!F$38","v":1}]
[null,{"$f":"Race0703!B$5","v":"Senior"},{"$f":"Race0703!B$4","v":"OC2"},{"$f":"Race0703!E$5","v":"Men"},{"$f":"Race0703!D$5","v":"Masters"},{"$f":"Race0703!D$4","v":"Marathon"},{"$f":"Race0703!A$39","v":32},{"$f":"Race0703!D$39","v":0},{"$f":"Race0703!C$39","v":0},{"$f":"Race0703!F$39","v":1}]
[null,{"$f":"Race0703!B$5","v":"Senior"},{"$f":"Race0703!B$4","v":"OC2"},{"$f":"Race0703!E$5","v":"Men"},{"$f":"Race0703!D$5","v":"Masters"},{"$f":"Race0703!D$4","v":"Marathon"},{"$f":"Race0703!A$40","v":33},{"$f":"Race0703!D$40","v":0},{"$f":"Race0703!C$40","v":0},{"$f":"Race0703!F$40","v":1}]
[null,{"$f":"Race0703!B$5","v":"Senior"},{"$f":"Race0703!B$4","v":"OC2"},{"$f":"Race0703!E$5","v":"Men"},{"$f":"Race0703!D$5","v":"Masters"},{"$f":"Race0703!D$4","v":"Marathon"},{"$f":"Race0703!A$41","v":34},{"$f":"Race0703!D$41","v":0},{"$f":"Race0703!C$41","v":0},{"$f":"Race0703!F$41","v":1}]
[null,{"$f":"Race0703!B$5","v":"Senior"},{"$f":"Race0703!B$4","v":"OC2"},{"$f":"Race0703!E$5","v":"Men"},{"$f":"Race0703!D$5","v":"Masters"},{"$f":"Race0703!D$4","v":"Marathon"},{"$f":"Race0703!A$42","v":35},{"$f":"Race0703!D$42","v":0},{"$f":"Race0703!C$42","v":0},{"$f":"Race0703!F$42","v":1}]
[null,{"$f":"Race0703!B$5","v":"Senior"},{"$f":"Race0703!B$4","v":"OC2"},{"$f":"Race0703!E$5","v":"Men"},{"$f":"Race0703!D$5","v":"Masters"},{"$f":"Race0703!D$4","v":"Marathon"},{"$f":"Race0703!A$43","v":36},{"$f":"Race0703!D$43","v":0},{"$f":"Race0703!C$43","v":0},{"$f":"Race0703!F$43","v":1}]
[null,{"$f":"Race0703!B$5","v":"Senior"},{"$f":"Race0703!B$4","v":"OC2"},{"$f":"Race0703!E$5","v":"Men"},{"$f":"Race0703!D$5","v":"Masters"},{"$f":"Race0703!D$4","v":"Marathon"},{"$f":"Race0703!A$44","v":37},{"$f":"Race0703!D$44","v":0},{"$f":"Race0703!C$44","v":0},{"$f":"Race0703!F$44","v":1}]
[null,{"$f":"Race0703!B$5","v":"Senior"},{"$f":"Race0703!B$4","v":"OC2"},{"$f":"Race0703!E$5","v":"Men"},{"$f":"Race0703!D$5","v":"Masters"},{"$f":"Race0703!D$4","v":"Marathon"},{"$f":"Race0703!A$45","v":38},{"$f":"Race0703!D$45","v":0},{"$f":"Race0703!C$45","v":0},{"$f":"Race0703!F$45","v":1}]
[null,{"$f":"Race0703!B$5","v":"Senior"},{"$f":"Race0703!B$4","v":"OC2"},{"$f":"Race0703!E$5","v":"Men"},{"$f":"Race0703!D$5","v":"Masters"},{"$f":"Race0703!D$4","v":"Marathon"},{"$f":"Race0703!A$46","v":39},{"$f":"Race0703!D$46","v":0},{"$f":"Race0703!C$46","v":0},{"$f":"Race0703!F$46","v":1}]
[null,{"$f":"Race0703!B$5","v":"Senior"},{"$f":"Race0703!B$4","v":"OC2"},{"$f":"Race0703!E$5","v":"Men"},{"$f":"Race0703!D$5","v":"Masters"},{"$f":"Race0703!D$4","v":"Marathon"},{"$f":"Race0703!A$47","v":40},{"$f":"Race0703!D$47","v":0},{"$f":"Race0703!C$47","v":0},{"$f":"Race0703!F$47","v":1}]
[null,{"$f":"Race0703!B$5","v":"Senior"},{"$f":"Race0703!B$4","v":"OC2"},{"$f":"Race0703!E$5","v":"Men"},{"$f":"Race0703!D$5","v":"Masters"},{"$f":"Race0703!D$4","v":"Marathon"},{"$f":"Race0703!A$48","v":41},{"$f":"Race0703!D$48","v":0},{"$f":"Race0703!C$48","v":0},{"$f":"Race0703!F$48","v":1}]
[null,{"$f":"Race0703!B$5","v":"Senior"},{"$f":"Race0703!B$4","v":"OC2"},{"$f":"Race0703!E$5","v":"Men"},{"$f":"Race0703!D$5","v":"Masters"},{"$f":"Race0703!D$4","v":"Marathon"},{"$f":"Race0703!A$49","v":42},{"$f":"Race0703!D$49","v":0},{"$f":"Race0703!C$49","v":0},{"$f":"Race0703!F$49","v":1}]
[null,{"$f":"Race0703!B$5","v":"Senior"},{"$f":"Race0703!B$4","v":"OC2"},{"$f":"Race0703!E$5","v":"Men"},{"$f":"Race0703!D$5","v":"Masters"},{"$f":"Race0703!D$4","v":"Marathon"},{"$f":"Race0703!A$50","v":43},{"$f":"Race0703!D$50","v":0},{"$f":"Race0703!C$50","v":0},{"$f":"Race0703!F$50","v":1}]
[null,{"$f":"Race0703!B$5","v":"Senior"},{"$f":"Race0703!B$4","v":"OC2"},{"$f":"Race0703!E$5","v":"Men"},{"$f":"Race0703!D$5","v":"Masters"},{"$f":"Race0703!D$4","v":"Marathon"},{"$f":"Race0703!A$51","v":44},{"$f":"Race0703!D$51","v":0},{"$f":"Race0703!C$51","v":0},{"$f":"Race0703!F$51","v":1}]
[null,{"$f":"Race0703!B$5","v":"Senior"},{"$f":"Race0703!B$4","v":"OC2"},{"$f":"Race0703!E$5","v":"Men"},{"$f":"Race0703!D$5","v":"Masters"},{"$f":"Race0703!D$4","v":"Marathon"},{"$f":"Race0703!A$52","v":45},{"$f":"Race0703!D$52","v":0},{"$f":"Race0703!C$52","v":0},{"$f":"Race0703!F$52","v":1}]
[null,{"$f":"Race0703!B$5","v":"Senior"},{"$f":"Race0703!B$4","v":"OC2"},{"$f":"Race0703!E$5","v":"Men"},{"$f":"Race0703!D$5","v":"Masters"},{"$f":"Race0703!D$4","v":"Marathon"},{"$f":"Race0703!A$53","v":46},{"$f":"Race0703!D$53","v":0},{"$f":"Race0703!C$53","v":0},{"$f":"Race0703!F$53","v":1}]
[null,{"$f":"Race0703!B$5","v":"Senior"},{"$f":"Race0703!B$4","v":"OC2"},{"$f":"Race0703!E$5","v":"Men"},{"$f":"Race0703!D$5","v":"Masters"},{"$f":"Race0703!D$4","v":"Marathon"},{"$f":"Race0703!A$54","v":47},{"$f":"Race0703!D$54","v":0},{"$f":"Race0703!C$54","v":0},{"$f":"Race0703!F$54","v":1}]
[null,{"$f":"Race0703!B$5","v":"Senior"},{"$f":"Race0703!B$4","v":"OC2"},{"$f":"Race0703!E$5","v":"Men"},{"$f":"Race0703!D$5","v":"Masters"},{"$f":"Race0703!D$4","v":"Marathon"},{"$f":"Race0703!A$55","v":48},{"$f":"Race0703!D$55","v":0},{"$f":"Race0703!C$55","v":0},{"$f":"Race0703!F$55","v":1}]
[null,{"$f":"Race0703!B$5","v":"Senior"},{"$f":"Race0703!B$4","v":"OC2"},{"$f":"Race0703!E$5","v":"Men"},{"$f":"Race0703!D$5","v":"Masters"},{"$f":"Race0703!D$4","v":"Marathon"},{"$f":"Race0703!A$56","v":49},{"$f":"Race0703!D$56","v":0},{"$f":"Race0703!C$56","v":0},{"$f":"Race0703!F$56","v":1}]
[null,{"$f":"Race0703!B$5","v":"Senior"},{"$f":"Race0703!B$4","v":"OC2"},{"$f":"Race0703!E$5","v":"Men"},{"$f":"Race0703!D$5","v":"Masters"},{"$f":"Race0703!D$4","v":"Marathon"},{"$f":"Race0703!A$57","v":50},{"$f":"Race0703!D$57","v":0},{"$f":"Race0703!C$57","v":0},{"$f":"Race0703!F$57","v":1}]
["Race0704",{"$f":"Race0704!B$5","v":"Senior"},{"$f":"Race0704!B$4","v":"OC2"},{"$f":"Race0704!E$5","v":"Men"},{"$f":"Race0704!D$5","v":"Senior Masters"},{"$f":"Race0704!D$4","v":"Marathon"},{"$f":"Race0704!A$8","v":1},{"$f":"Race0704!D$8","v":0},{"$f":"Race0704!C$8","v":0},{"$f":"Race0704!F$8","v":9}]
[null,{"$f":"Race0704!B$5","v":"Senior"},{"$f":"Race0704!B$4","v":"OC2"},{"$f":"Race0704!E$5","v":"Men"},{"$f":"Race0704!D$5","v":"Senior Masters"},{"$f":"Race0704!D$4","v":"Marathon"},{"$f":"Race0704!A$9","v":2},{"$f":"Race0704!D$9","v":0},{"$f":"Race0704!C$9","v":0},{"$f":"Race0704!F$9","v":7}]
[null,{"$f":"Race0704!B$5","v":"Senior"},{"$f":"Race0704!B$4","v":"OC2"},{"$f":"Race0704!E$5","v":"Men"},{"$f":"Race0704!D$5","v":"Senior Masters"},{"$f":"Race0704!D$4","v":"Marathon"},{"$f":"Race0704!A$10","v":3},{"$f":"Race0704!D$10","v":0},{"$f":"Race0704!C$10","v":0},{"$f":"Race0704!F$10","v":5}]
[null,{"$f":"Race0704!B$5","v":"Senior"},{"$f":"Race0704!B$4","v":"OC2"},{"$f":"Race0704!E$5","v":"Men"},{"$f":"Race0704!D$5","v":"Senior Masters"},{"$f":"Race0704!D$4","v":"Marathon"},{"$f":"Race0704!A$11","v":4},{"$f":"Race0704!D$11","v":0},{"$f":"Race0704!C$11","v":0},{"$f":"Race0704!F$11","v":3}]
[null,{"$f":"Race0704!B$5","v":"Senior"},{"$f":"Race0704!B$4","v":"OC2"},{"$f":"Race0704!E$5","v":"Men"},{"$f":"Race0704!D$5","v":"Senior Masters"},{"$f":"Race0704!D$4","v":"Marathon"},{"$f":"Race0704!A$12","v":5},{"$f":"Race0704!D$12","v":0},{"$f":"Race0704!C$12","v":0},{"$f":"Race0704!F$12","v":2}]
[null,{"$f":"Race0704!B$5","v":"Senior"},{"$f":"Race0704!B$4","v":"OC2"},{"$f":"Race0704!E$5","v":"Men"},{"$f":"Race0704!D$5","v":"Senior Masters"},{"$f":"Race0704!D$4","v":"Marathon"},{"$f":"Race0704!A$13","v":6},{"$f":"Race0704!D$13","v":0},{"$f":"Race0704!C$13","v":0},{"$f":"Race0704!F$13","v":1}]
[null,{"$f":"Race0704!B$5","v":"Senior"},{"$f":"Race0704!B$4","v":"OC2"},{"$f":"Race0704!E$5","v":"Men"},{"$f":"Race0704!D$5","v":"Senior Masters"},{"$f":"Race0704!D$4","v":"Marathon"},{"$f":"Race0704!A$14","v":7},{"$f":"Race0704!D$14","v":0},{"$f":"Race0704!C$14","v":0},{"$f":"Race0704!F$14","v":1}]
[null,{"$f":"Race0704!B$5","v":"Senior"},{"$f":"Race0704!B$4","v":"OC2"},{"$f":"Race0704!E$5","v":"Men"},{"$f":"Race0704!D$5","v":"Senior Masters"},{"$f":"Race0704!D$4","v":"Marathon"},{"$f":"Race0704!A$15","v":8},{"$f":"Race0704!D$15","v":0},{"$f":"Race0704!C$15","v":0},{"$f":"Race0704!F$15","v":1}]
[null,{"$f":"Race0704!B$5","v":"Senior"},{"$f":"Race0704!B$4","v":"OC2"},{"$f":"Race0704!E$5","v":"Men"},{"$f":"Race0704!D$5","v":"Senior Masters"},{"$f":"Race0704!D$4","v":"Marathon"},{"$f":"Race0704!A$16","v":9},{"$f":"Race0704!D$16","v":0},{"$f":"Race0704!C$16","v":0},{"$f":"Race0704!F$16","v":1}]
[null,{"$f":"Race0704!B$5","v":"Senior"},{"$f":"Race0704!B$4","v":"OC2"},{"$f":"Race0704!E$5","v":"Men"},{"$f":"Race0704!D$5","v":"Senior Masters"},{"$f":"Race0704!D$4","v":"Marathon"},{"$f":"Race0704!A$17","v":10},{"$f":"Race0704!D$17","v":0},{"$f":"Race0704!C$17","v":0},{"$f":"Race0704!F$17","v":1}]
[null,{"$f":"Race0704!B$5","v":"Senior"},{"$f":"Race0704!B$4","v":"OC2"},{"$f":"Race0704!E$5","v":"Men"},{"$f":"Race0704!D$5","v":"Senior Masters"},{"$f":"Race0704!D$4","v":"Marathon"},{"$f":"Race0704!A$18","v":11},{"$f":"Race0704!D$18","v":0},{"$f":"Race0704!C$18","v":0},{"$f":"Race0704!F$18","v":1}]
[null,{"$f":"Race0704!B$5","v":"Senior"},{"$f":"Race0704!B$4","v":"OC2"},{"$f":"Race0704!E$5","v":"Men"},{"$f":"Race0704!D$5","v":"Senior Masters"},{"$f":"Race0704!D$4","v":"Marathon"},{"$f":"Race0704!A$19","v":12},{"$f":"Race0704!D$19","v":0},{"$f":"Race0704!C$19","v":0},{"$f":"Race0704!F$19","v":1}]
[null,{"$f":"Race0704!B$5","v":"Senior"},{"$f":"Race0704!B$4","v":"OC2"},{"$f":"Race0704!E$5","v":"Men"},{"$f":"Race0704!D$5","v":"Senior Masters"},{"$f":"Race0704!D$4","v":"Marathon"},{"$f":"Race0704!A$20","v":13},{"$f":"Race0704!D$20","v":0},{"$f":"Race0704!C$20","v":0},{"$f":"Race0704!F$20","v":1}]
[null,{"$f":"Race0704!B$5","v":"Senior"},{"$f":"Race0704!B$4","v":"OC2"},{"$f":"Race0704!E$5","v":"Men"},{"$f":"Race0704!D$5","v":"Senior Masters"},{"$f":"Race0704!D$4","v":"Marathon"},{"$f":"Race0704!A$21","v":14},{"$f":"Race0704!D$21","v":0},{"$f":"Race0704!C$21","v":0},{"$f":"Race0704!F$21","v":1}]
[null,{"$f":"Race0704!B$5","v":"Senior"},{"$f":"Race0704!B$4","v":"OC2"},{"$f":"Race0704!E$5","v":"Men"},{"$f":"Race0704!D$5","v":"Senior Masters"},{"$f":"Race0704!D$4","v":"Marathon"},{"$f":"Race0704!A$22","v":15},{"$f":"Race0704!D$22","v":0},{"$f":"Race0704!C$22","v":0},{"$f":"Race0704!F$22","v":1}]
[null,{"$f":"Race0704!B$5","v":"Senior"},{"$f":"Race0704!B$4","v":"OC2"},{"$f":"Race0704!E$5","v":"Men"},{"$f":"Race0704!D$5","v":"Senior Masters"},{"$f":"Race0704!D$4","v":"Marathon"},{"$f":"Race0704!A$23","v":16},{"$f":"Race0704!D$23","v":0},{"$f":"Race0704!C$23","v":0},{"$f":"Race0704!F$23","v":1}]
[null,{"$f":"Race0704!B$5","v":"Senior"},{"$f":"Race0704!B$4","v":"OC2"},{"$f":"Race0704!E$5","v":"Men"},{"$f":"Race0704!D$5","v":"Senior Masters"},{"$f":"Race0704!D$4","v":"Marathon"},{"$f":"Race0704!A$24","v":17},{"$f":"Race0704!D$24","v":0},{"$f":"Race0704!C$24","v":0},{"$f":"Race0704!F$24","v":1}]
[null,{"$f":"Race0704!B$5","v":"Senior"},{"$f":"Race0704!B$4","v":"OC2"},{"$f":"Race0704!E$5","v":"Men"},{"$f":"Race0704!D$5","v":"Senior Masters"},{"$f":"Race0704!D$4","v":"Marathon"},{"$f":"Race0704!A$25","v":18},{"$f":"Race0704!D$25","v":0},{"$f":"Race0704!C$25","v":0},{"$f":"Race0704!F$25","v":1}]
[null,{"$f":"Race0704!B$5","v":"Senior"},{"$f":"Race0704!B$4","v":"OC2"},{"$f":"Race0704!E$5","v":"Men"},{"$f":"Race0704!D$5","v":"Senior Masters"},{"$f":"Race0704!D$4","v":"Marathon"},{"$f":"Race0704!A$26","v":19},{"$f":"Race0704!D$26","v":0},{"$f":"Race0704!C$26","v":0},{"$f":"Race0704!F$26","v":1}]
[null,{"$f":"Race0704!B$5","v":"Senior"},{"$f":"Race0704!B$4","v":"OC2"},{"$f":"Race0704!E$5","v":"Men"},{"$f":"Race0704!D$5","v":"Senior Masters"},{"$f":"Race0704!D$4","v":"Marathon"},{"$f":"Race0704!A$27","v":20},{"$f":"Race0704!D$27","v":0},{"$f":"Race0704!C$27","v":0},{"$f":"Race0704!F$27","v":1}]
[null,{"$f":"Race0704!B$5","v":"Senior"},{"$f":"Race0704!B$4","v":"OC2"},{"$f":"Race0704!E$5","v":"Men"},{"$f":"Race0704!D$5","v":"Senior Masters"},{"$f":"Race0704!D$4","v":"Marathon"},{"$f":"Race0704!A$28","v":21},{"$f":"Race0704!D$28","v":0},{"$f":"Race0704!C$28","v":0},{"$f":"Race0704!F$28","v":1}]
[null,{"$f":"Race0704!B$5","v":"Senior"},{"$f":"Race0704!B$4","v":"OC2"},{"$f":"Race0704!E$5","v":"Men"},{"$f":"Race0704!D$5","v":"Senior Masters"},{"$f":"Race0704!D$4","v":"Marathon"},{"$f":"Race0704!A$29","v":22},{"$f":"Race0704!D$29","v":0},{"$f":"Race0704!C$29","v":0},{"$f":"Race0704!F$29","v":1}]
[null,{"$f":"Race0704!B$5","v":"Senior"},{"$f":"Race0704!B$4","v":"OC2"},{"$f":"Race0704!E$5","v":"Men"},{"$f":"Race0704!D$5","v":"Senior Masters"},{"$f":"Race0704!D$4","v":"Marathon"},{"$f":"Race0704!A$30","v":23},{"$f":"Race0704!D$30","v":0},{"$f":"Race0704!C$30","v":0},{"$f":"Race0704!F$30","v":1}]
[null,{"$f":"Race0704!B$5","v":"Senior"},{"$f":"Race0704!B$4","v":"OC2"},{"$f":"Race0704!E$5","v":"Men"},{"$f":"Race0704!D$5","v":"Senior Masters"},{"$f":"Race0704!D$4","v":"Marathon"},{"$f":"Race0704!A$31","v":24},{"$f":"Race0704!D$31","v":0},{"$f":"Race0704!C$31","v":0},{"$f":"Race0704!F$31","v":1}]
[null,{"$f":"Race0704!B$5","v":"Senior"},{"$f":"Race0704!B$4","v":"OC2"},{"$f":"Race0704!E$5","v":"Men"},{"$f":"Race0704!D$5","v":"Senior Masters"},{"$f":"Race0704!D$4","v":"Marathon"},{"$f":"Race0704!A$32","v":25},{"$f":"Race0704!D$32","v":0},{"$f":"Race0704!C$32","v":0},{"$f":"Race0704!F$32","v":1}]
[null,{"$f":"Race0704!B$5","v":"Senior"},{"$f":"Race0704!B$4","v":"OC2"},{"$f":"Race0704!E$5","v":"Men"},{"$f":"Race0704!D$5","v":"Senior Masters"},{"$f":"Race0704!D$4","v":"Marathon"},{"$f":"Race0704!A$33","v":26},{"$f":"Race0704!D$33","v":0},{"$f":"Race0704!C$33","v":0},{"$f":"Race0704!F$33","v":1}]
[null,{"$f":"Race0704!B$5","v":"Senior"},{"$f":"Race0704!B$4","v":"OC2"},{"$f":"Race0704!E$5","v":"Men"},{"$f":"Race0704!D$5","v":"Senior Masters"},{"$f":"Race0704!D$4","v":"Marathon"},{"$f":"Race0704!A$34","v":27},{"$f":"Race0704!D$34","v":0},{"$f":"Race0704!C$34","v":0},{"$f":"Race0704!F$34","v":1}]
[null,{"$f":"Race0704!B$5","v":"Senior"},{"$f":"Race0704!B$4","v":"OC2"},{"$f":"Race0704!E$5","v":"Men"},{"$f":"Race0704!D$5","v":"Senior Masters"},{"$f":"Race0704!D$4","v":"Marathon"},{"$f":"Race0704!A$35","v":28},{"$f":"Race0704!D$35","v":0},{"$f":"Race0704!C$35","v":0},{"$f":"Race0704!F$35","v":1}]
[null,{"$f":"Race0704!B$5","v":"Senior"},{"$f":"Race0704!B$4","v":"OC2"},{"$f":"Race0704!E$5","v":"Men"},{"$f":"Race0704!D$5","v":"Senior Masters"},{"$f":"Race0704!D$4","v":"Marathon"},{"$f":"Race0704!A$36","v":29},{"$f":"Race0704!D$36","v":0},{"$f":"Race0704!C$36","v":0},{"$f":"Race0704!F$36","v":1}]
[null,{"$f":"Race0704!B$5","v":"Senior"},{"$f":"Race0704!B$4","v":"OC2"},{"$f":"Race0704!E$5","v":"Men"},{"$f":"Race0704!D$5","v":"Senior Masters"},{"$f":"Race0704!D$4","v":"Marathon"},{"$f":"Race0704!A$37","v":30},{"$f":"Race0704!D$37","v":0},{"$f":"Race0704!C$37","v":0},{"$f":"Race0704!F$37","v":1}]
[null,{"$f":"Race0704!B$5","v":"Senior"},{"$f":"Race0704!B$4","v":"OC2"},{"$f":"Race0704!E$5","v":"Men"},{"$f":"Race0704!D$5","v":"Senior Masters"},{"$f":"Race0704!D$4","v":"Marathon"},{"$f":"Race0704!A$38","v":31},{"$f":"Race0704!D$38","v":0},{"$f":"Race0704!C$38","v":0},{"$f":"Race0704!F$38","v":1}]
[null,{"$f":"Race0704!B$5","v":"Senior"},{"$f":"Race0704!B$4","v":"OC2"},{"$f":"Race0704!E$5","v":"Men"},{"$f":"Race0704!D$5","v":"Senior Masters"},{"$f":"Race0704!D$4","v":"Marathon"},{"$f":"Race0704!A$39","v":32},{"$f":"Race0704!D$39","v":0},{"$f":"Race0704!C$39","v":0},{"$f":"Race0704!F$39","v":1}]
[null,{"$f":"Race0704!B$5","v":"Senior"},{"$f":"Race0704!B$4","v":"OC2"},{"$f":"Race0704!E$5","v":"Men"},{"$f":"Race0704!D$5","v":"Senior Masters"},{"$f":"Race0704!D$4","v":"Marathon"},{"$f":"Race0704!A$40","v":33},{"$f":"Race0704!D$40","v":0},{"$f":"Race0704!C$40","v":0},{"$f":"Race0704!F$40","v":1}]
[null,{"$f":"Race0704!B$5","v":"Senior"},{"$f":"Race0704!B$4","v":"OC2"},{"$f":"Race0704!E$5","v":"Men"},{"$f":"Race0704!D$5","v":"Senior Masters"},{"$f":"Race0704!D$4","v":"Marathon"},{"$f":"Race0704!A$41","v":34},{"$f":"Race0704!D$41","v":0},{"$f":"Race0704!C$41","v":0},{"$f":"Race0704!F$41","v":1}]
[null,{"$f":"Race0704!B$5","v":"Senior"},{"$f":"Race0704!B$4","v":"OC2"},{"$f":"Race0704!E$5","v":"Men"},{"$f":"Race0704!D$5","v":"Senior Masters"},{"$f":"Race0704!D$4","v":"Marathon"},{"$f":"Race0704!A$42","v":35},{"$f":"Race0704!D$42","v":0},{"$f":"Race0704!C$42","v":0},{"$f":"Race0704!F$42","v":1}]
[null,{"$f":"Race0704!B$5","v":"Senior"},{"$f":"Race0704!B$4","v":"OC2"},{"$f":"Race0704!E$5","v":"Men"},{"$f":"Race0704!D$5","v":"Senior Masters"},{"$f":"Race0704!D$4","v":"Marathon"},{"$f":"Race0704!A$43","v":36},{"$f":"Race0704!D$43","v":0},{"$f":"Race0704!C$43","v":0},{"$f":"Race0704!F$43","v":1}]
[null,{"$f":"Race0704!B$5","v":"Senior"},{"$f":"Race0704!B$4","v":"OC2"},{"$f":"Race0704!E$5","v":"Men"},{"$f":"Race0704!D$5","v":"Senior Masters"},{"$f":"Race0704!D$4","v":"Marathon"},{"$f":"Race0704!A$44","v":37},{"$f":"Race0704!D$44","v":0},{"$f":"Race0704!C$44","v":0},{"$f":"Race0704!F$44","v":1}]
[null,{"$f":"Race0704!B$5","v":"Senior"},{"$f":"Race0704!B$4","v":"OC2"},{"$f":"Race0704!E$5","v":"Men"},{"$f":"Race0704!D$5","v":"Senior Masters"},{"$f":"Race0704!D$4","v":"Marathon"},{"$f":"Race0704!A$45","v":38},{"$f":"Race0704!D$45","v":0},{"$f":"Race0704!C$45","v":0},{"$f":"Race0704!F$45","v":1}]
[null,{"$f":"Race0704!B$5","v":"Senior"},{"$f":"Race0704!B$4","v":"OC2"},{"$f":"Race0704!E$5","v":"Men"},{"$f":"Race0704!D$5","v":"Senior Masters"},{"$f":"Race0704!D$4","v":"Marathon"},{"$f":"Race0704!A$46","v":39},{"$f":"Race0704!D$46","v":0},{"$f":"Race0704!C$46","v":0},{"$f":"Race0704!F$46","v":1}]
[null,{"$f":"Race0704!B$5","v":"Senior"},{"$f":"Race0704!B$4","v":"OC2"},{"$f":"Race0704!E$5","v":"Men"},{"$f":"Race0704!D$5","v":"Senior Masters"},{"$f":"Race0704!D$4","v":"Marathon"},{"$f":"Race0704!A$47","v":40},{"$f":"Race0704!D$47","v":0},{"$f":"Race0704!C$47","v":0},{"$f":"Race0704!F$47","v":1}]
[null,{"$f":"Race0704!B$5","v":"Senior"},{"$f":"Race0704!B$4","v":"OC2"},{"$f":"Race0704!E$5","v":"Men"},{"$f":"Race0704!D$5","v":"Senior Masters"},{"$f":"Race0704!D$4","v":"Marathon"},{"$f":"Race0704!A$48","v":41},{"$f":"Race0704!D$48","v":0},{"$f":"Race0704!C$48","v":0},{"$f":"Race0704!F$48","v":1}]
[null,{"$f":"Race0704!B$5","v":"Senior"},{"$f":"Race0704!B$4","v":"OC2"},{"$f":"Race0704!E$5","v":"Men"},{"$f":"Race0704!D$5","v":"Senior Masters"},{"$f":"Race0704!D$4","v":"Marathon"},{"$f":"Race0704!A$49","v":42},{"$f":"Race0704!D$49","v":0},{"$f":"Race0704!C$49","v":0},{"$f":"Race0704!F$49","v":1}]
[null,{"$f":"Race0704!B$5","v":"Senior"},{"$f":"Race0704!B$4","v":"OC2"},{"$f":"Race0704!E$5","v":"Men"},{"$f":"Race0704!D$5","v":"Senior Masters"},{"$f":"Race0704!D$4","v":"Marathon"},{"$f":"Race0704!A$50","v":43},{"$f":"Race0704!D$50","v":0},{"$f":"Race0704!C$50","v":0},{"$f":"Race0704!F$50","v":1}]
[null,{"$f":"Race0704!B$5","v":"Senior"},{"$f":"Race0704!B$4","v":"OC2"},{"$f":"Race0704!E$5","v":"Men"},{"$f":"Race0704!D$5","v":"Senior Masters"},{"$f":"Race0704!D$4","v":"Marathon"},{"$f":"Race0704!A$51","v":44},{"$f":"Race0704!D$51","v":0},{"$f":"Race0704!C$51","v":0},{"$f":"Race0704!F$51","v":1}]
[null,{"$f":"Race0704!B$5","v":"Senior"},{"$f":"Race0704!B$4","v":"OC2"},{"$f":"Race0704!E$5","v":"Men"},{"$f":"Race0704!D$5","v":"Senior Masters"},{"$f":"Race0704!D$4","v":"Marathon"},{"$f":"Race0704!A$52","v":45},{"$f":"Race0704!D$52","v":0},{"$f":"Race0704!C$52","v":0},{"$f":"Race0704!F$52","v":1}]
[null,{"$f":"Race0704!B$5","v":"Senior"},{"$f":"Race0704!B$4","v":"OC2"},{"$f":"Race0704!E$5","v":"Men"},{"$f":"Race0704!D$5","v":"Senior Masters"},{"$f":"Race0704!D$4","v":"Marathon"},{"$f":"Race0704!A$53","v":46},{"$f":"Race0704!D$53","v":0},{"$f":"Race0704!C$53","v":0},{"$f":"Race0704!F$53","v":1}]
[null,{"$f":"Race0704!B$5","v":"Senior"},{"$f":"Race0704!B$4","v":"OC2"},{"$f":"Race0704!E$5","v":"Men"},{"$f":"Race0704!D$5","v":"Senior Masters"},{"$f":"Race0704!D$4","v":"Marathon"},{"$f":"Race0704!A$54","v":47},{"$f":"Race0704!D$54","v":0},{"$f":"Race0704!C$54","v":0},{"$f":"Race0704!F$54","v":1}]
[null,{"$f":"Race0704!B$5","v":"Senior"},{"$f":"Race0704!B$4","v":"OC2"},{"$f":"Race0704!E$5","v":"Men"},{"$f":"Race0704!D$5","v":"Senior Masters"},{"$f":"Race0704!D$4","v":"Marathon"},{"$f":"Race0704!A$55","v":48},{"$f":"Race0704!D$55","v":0},{"$f":"Race0704!C$55","v":0},{"$f":"Race0704!F$55","v":1}]
[null,{"$f":"Race0704!B$5","v":"Senior"},{"$f":"Race0704!B$4","v":"OC2"},{"$f":"Race0704!E$5","v":"Men"},{"$f":"Race0704!D$5","v":"Senior Masters"},{"$f":"Race0704!D$4","v":"Marathon"},{"$f":"Race0704!A$56","v":49},{"$f":"Race0704!D$56","v":0},{"$f":"Race0704!C$56","v":0},{"$f":"Race0704!F$56","v":1}]
[null,{"$f":"Race0704!B$5","v":"Senior"},{"$f":"Race0704!B$4","v":"OC2"},{"$f":"Race0704!E$5","v":"Men"},{"$f":"Race0704!D$5","v":"Senior Masters"},{"$f":"Race0704!D$4","v":"Marathon"},{"$f":"Race0704!A$57","v":50},{"$f":"Race0704!D$57","v":0},{"$f":"Race0704!C$57","v":0},{"$f":"Race0704!F$57","v":1}]
["Race0705",{"$f":"Race0705!B$5","v":"Senior"},{"$f":"Race0705!B$4","v":"OC2"},{"$f":"Race0705!E$5","v":"Men"},{"$f":"Race0705!D$5","v":"Golden Masters"},{"$f":"Race0705!D$4","v":"Marathon"},{"$f":"Race0705!A$8","v":1},{"$f":"Race0705!D$8","v":0},{"$f":"Race0705!C$8","v":0},{"$f":"Race0705!F$8","v":9}]
[null,{"$f":"Race0705!B$5","v":"Senior"},{"$f":"Race0705!B$4","v":"OC2"},{"$f":"Race0705!E$5","v":"Men"},{"$f":"Race0705!D$5","v":"Golden Masters"},{"$f":"Race0705!D$4","v":"Marathon"},{"$f":"Race0705!A$9","v":2},{"$f":"Race0705!D$9","v":0},{"$f":"Race0705!C$9","v":0},{"$f":"Race0705!F$9","v":7}]
[null,{"$f":"Race0705!B$5","v":"Senior"},{"$f":"Race0705!B$4","v":"OC2"},{"$f":"Race0705!E$5","v":"Men"},{"$f":"Race0705!D$5","v":"Golden Masters"},{"$f":"Race0705!D$4","v":"Marathon"},{"$f":"Race0705!A$10","v":3},{"$f":"Race0705!D$10","v":0},{"$f":"Race0705!C$10","v":0},{"$f":"Race0705!F$10","v":5}]
[null,{"$f":"Race0705!B$5","v":"Senior"},{"$f":"Race0705!B$4","v":"OC2"},{"$f":"Race0705!E$5","v":"Men"},{"$f":"Race0705!D$5","v":"Golden Masters"},{"$f":"Race0705!D$4","v":"Marathon"},{"$f":"Race0705!A$11","v":4},{"$f":"Race0705!D$11","v":0},{"$f":"Race0705!C$11","v":0},{"$f":"Race0705!F$11","v":3}]
[null,{"$f":"Race0705!B$5","v":"Senior"},{"$f":"Race0705!B$4","v":"OC2"},{"$f":"Race0705!E$5","v":"Men"},{"$f":"Race0705!D$5","v":"Golden Masters"},{"$f":"Race0705!D$4","v":"Marathon"},{"$f":"Race0705!A$12","v":5},{"$f":"Race0705!D$12","v":0},{"$f":"Race0705!C$12","v":0},{"$f":"Race0705!F$12","v":2}]
[null,{"$f":"Race0705!B$5","v":"Senior"},{"$f":"Race0705!B$4","v":"OC2"},{"$f":"Race0705!E$5","v":"Men"},{"$f":"Race0705!D$5","v":"Golden Masters"},{"$f":"Race0705!D$4","v":"Marathon"},{"$f":"Race0705!A$13","v":6},{"$f":"Race0705!D$13","v":0},{"$f":"Race0705!C$13","v":0},{"$f":"Race0705!F$13","v":1}]
[null,{"$f":"Race0705!B$5","v":"Senior"},{"$f":"Race0705!B$4","v":"OC2"},{"$f":"Race0705!E$5","v":"Men"},{"$f":"Race0705!D$5","v":"Golden Masters"},{"$f":"Race0705!D$4","v":"Marathon"},{"$f":"Race0705!A$14","v":7},{"$f":"Race0705!D$14","v":0},{"$f":"Race0705!C$14","v":0},{"$f":"Race0705!F$14","v":1}]
[null,{"$f":"Race0705!B$5","v":"Senior"},{"$f":"Race0705!B$4","v":"OC2"},{"$f":"Race0705!E$5","v":"Men"},{"$f":"Race0705!D$5","v":"Golden Masters"},{"$f":"Race0705!D$4","v":"Marathon"},{"$f":"Race0705!A$15","v":8},{"$f":"Race0705!D$15","v":0},{"$f":"Race0705!C$15","v":0},{"$f":"Race0705!F$15","v":1}]
[null,{"$f":"Race0705!B$5","v":"Senior"},{"$f":"Race0705!B$4","v":"OC2"},{"$f":"Race0705!E$5","v":"Men"},{"$f":"Race0705!D$5","v":"Golden Masters"},{"$f":"Race0705!D$4","v":"Marathon"},{"$f":"Race0705!A$16","v":9},{"$f":"Race0705!D$16","v":0},{"$f":"Race0705!C$16","v":0},{"$f":"Race0705!F$16","v":1}]
[null,{"$f":"Race0705!B$5","v":"Senior"},{"$f":"Race0705!B$4","v":"OC2"},{"$f":"Race0705!E$5","v":"Men"},{"$f":"Race0705!D$5","v":"Golden Masters"},{"$f":"Race0705!D$4","v":"Marathon"},{"$f":"Race0705!A$17","v":10},{"$f":"Race0705!D$17","v":0},{"$f":"Race0705!C$17","v":0},{"$f":"Race0705!F$17","v":1}]
[null,{"$f":"Race0705!B$5","v":"Senior"},{"$f":"Race0705!B$4","v":"OC2"},{"$f":"Race0705!E$5","v":"Men"},{"$f":"Race0705!D$5","v":"Golden Masters"},{"$f":"Race0705!D$4","v":"Marathon"},{"$f":"Race0705!A$18","v":11},{"$f":"Race0705!D$18","v":0},{"$f":"Race0705!C$18","v":0},{"$f":"Race0705!F$18","v":1}]
[null,{"$f":"Race0705!B$5","v":"Senior"},{"$f":"Race0705!B$4","v":"OC2"},{"$f":"Race0705!E$5","v":"Men"},{"$f":"Race0705!D$5","v":"Golden Masters"},{"$f":"Race0705!D$4","v":"Marathon"},{"$f":"Race0705!A$19","v":12},{"$f":"Race0705!D$19","v":0},{"$f":"Race0705!C$19","v":0},{"$f":"Race0705!F$19","v":1}]
[null,{"$f":"Race0705!B$5","v":"Senior"},{"$f":"Race0705!B$4","v":"OC2"},{"$f":"Race0705!E$5","v":"Men"},{"$f":"Race0705!D$5","v":"Golden Masters"},{"$f":"Race0705!D$4","v":"Marathon"},{"$f":"Race0705!A$20","v":13},{"$f":"Race0705!D$20","v":0},{"$f":"Race0705!C$20","v":0},{"$f":"Race0705!F$20","v":1}]
[null,{"$f":"Race0705!B$5","v":"Senior"},{"$f":"Race0705!B$4","v":"OC2"},{"$f":"Race0705!E$5","v":"Men"},{"$f":"Race0705!D$5","v":"Golden Masters"},{"$f":"Race0705!D$4","v":"Marathon"},{"$f":"Race0705!A$21","v":14},{"$f":"Race0705!D$21","v":0},{"$f":"Race0705!C$21","v":0},{"$f":"Race0705!F$21","v":1}]
[null,{"$f":"Race0705!B$5","v":"Senior"},{"$f":"Race0705!B$4","v":"OC2"},{"$f":"Race0705!E$5","v":"Men"},{"$f":"Race0705!D$5","v":"Golden Masters"},{"$f":"Race0705!D$4","v":"Marathon"},{"$f":"Race0705!A$22","v":15},{"$f":"Race0705!D$22","v":0},{"$f":"Race0705!C$22","v":0},{"$f":"Race0705!F$22","v":1}]
[null,{"$f":"Race0705!B$5","v":"Senior"},{"$f":"Race0705!B$4","v":"OC2"},{"$f":"Race0705!E$5","v":"Men"},{"$f":"Race0705!D$5","v":"Golden Masters"},{"$f":"Race0705!D$4","v":"Marathon"},{"$f":"Race0705!A$23","v":16},{"$f":"Race0705!D$23","v":0},{"$f":"Race0705!C$23","v":0},{"$f":"Race0705!F$23","v":1}]
[null,{"$f":"Race0705!B$5","v":"Senior"},{"$f":"Race0705!B$4","v":"OC2"},{"$f":"Race0705!E$5","v":"Men"},{"$f":"Race0705!D$5","v":"Golden Masters"},{"$f":"Race0705!D$4","v":"Marathon"},{"$f":"Race0705!A$24","v":17},{"$f":"Race0705!D$24","v":0},{"$f":"Race0705!C$24","v":0},{"$f":"Race0705!F$24","v":1}]
[null,{"$f":"Race0705!B$5","v":"Senior"},{"$f":"Race0705!B$4","v":"OC2"},{"$f":"Race0705!E$5","v":"Men"},{"$f":"Race0705!D$5","v":"Golden Masters"},{"$f":"Race0705!D$4","v":"Marathon"},{"$f":"Race0705!A$25","v":18},{"$f":"Race0705!D$25","v":0},{"$f":"Race0705!C$25","v":0},{"$f":"Race0705!F$25","v":1}]
[null,{"$f":"Race0705!B$5","v":"Senior"},{"$f":"Race0705!B$4","v":"OC2"},{"$f":"Race0705!E$5","v":"Men"},{"$f":"Race0705!D$5","v":"Golden Masters"},{"$f":"Race0705!D$4","v":"Marathon"},{"$f":"Race0705!A$26","v":19},{"$f":"Race0705!D$26","v":0},{"$f":"Race0705!C$26","v":0},{"$f":"Race0705!F$26","v":1}]
[null,{"$f":"Race0705!B$5","v":"Senior"},{"$f":"Race0705!B$4","v":"OC2"},{"$f":"Race0705!E$5","v":"Men"},{"$f":"Race0705!D$5","v":"Golden Masters"},{"$f":"Race0705!D$4","v":"Marathon"},{"$f":"Race0705!A$27","v":20},{"$f":"Race0705!D$27","v":0},{"$f":"Race0705!C$27","v":0},{"$f":"Race0705!F$27","v":1}]
[null,{"$f":"Race0705!B$5","v":"Senior"},{"$f":"Race0705!B$4","v":"OC2"},{"$f":"Race0705!E$5","v":"Men"},{"$f":"Race0705!D$5","v":"Golden Masters"},{"$f":"Race0705!D$4","v":"Marathon"},{"$f":"Race0705!A$28","v":21},{"$f":"Race0705!D$28","v":0},{"$f":"Race0705!C$28","v":0},{"$f":"Race0705!F$28","v":1}]
[null,{"$f":"Race0705!B$5","v":"Senior"},{"$f":"Race0705!B$4","v":"OC2"},{"$f":"Race0705!E$5","v":"Men"},{"$f":"Race0705!D$5","v":"Golden Masters"},{"$f":"Race0705!D$4","v":"Marathon"},{"$f":"Race0705!A$29","v":22},{"$f":"Race0705!D$29","v":0},{"$f":"Race0705!C$29","v":0},{"$f":"Race0705!F$29","v":1}]
[null,{"$f":"Race0705!B$5","v":"Senior"},{"$f":"Race0705!B$4","v":"OC2"},{"$f":"Race0705!E$5","v":"Men"},{"$f":"Race0705!D$5","v":"Golden Masters"},{"$f":"Race0705!D$4","v":"Marathon"},{"$f":"Race0705!A$30","v":23},{"$f":"Race0705!D$30","v":0},{"$f":"Race0705!C$30","v":0},{"$f":"Race0705!F$30","v":1}]
[null,{"$f":"Race0705!B$5","v":"Senior"},{"$f":"Race0705!B$4","v":"OC2"},{"$f":"Race0705!E$5","v":"Men"},{"$f":"Race0705!D$5","v":"Golden Masters"},{"$f":"Race0705!D$4","v":"Marathon"},{"$f":"Race0705!A$31","v":24},{"$f":"Race0705!D$31","v":0},{"$f":"Race0705!C$31","v":0},{"$f":"Race0705!F$31","v":1}]
[null,{"$f":"Race0705!B$5","v":"Senior"},{"$f":"Race0705!B$4","v":"OC2"},{"$f":"Race0705!E$5","v":"Men"},{"$f":"Race0705!D$5","v":"Golden Masters"},{"$f":"Race0705!D$4","v":"Marathon"},{"$f":"Race0705!A$32","v":25},{"$f":"Race0705!D$32","v":0},{"$f":"Race0705!C$32","v":0},{"$f":"Race0705!F$32","v":1}]
[null,{"$f":"Race0705!B$5","v":"Senior"},{"$f":"Race0705!B$4","v":"OC2"},{"$f":"Race0705!E$5","v":"Men"},{"$f":"Race0705!D$5","v":"Golden Masters"},{"$f":"Race0705!D$4","v":"Marathon"},{"$f":"Race0705!A$33","v":26},{"$f":"Race0705!D$33","v":0},{"$f":"Race0705!C$33","v":0},{"$f":"Race0705!F$33","v":1}]
[null,{"$f":"Race0705!B$5","v":"Senior"},{"$f":"Race0705!B$4","v":"OC2"},{"$f":"Race0705!E$5","v":"Men"},{"$f":"Race0705!D$5","v":"Golden Masters"},{"$f":"Race0705!D$4","v":"Marathon"},{"$f":"Race0705!A$34","v":27},{"$f":"Race0705!D$34","v":0},{"$f":"Race0705!C$34","v":0},{"$f":"Race0705!F$34","v":1}]
[null,{"$f":"Race0705!B$5","v":"Senior"},{"$f":"Race0705!B$4","v":"OC2"},{"$f":"Race0705!E$5","v":"Men"},{"$f":"Race0705!D$5","v":"Golden Masters"},{"$f":"Race0705!D$4","v":"Marathon"},{"$f":"Race0705!A$35","v":28},{"$f":"Race0705!D$35","v":0},{"$f":"Race0705!C$35","v":0},{"$f":"Race0705!F$35","v":1}]
[null,{"$f":"Race0705!B$5","v":"Senior"},{"$f":"Race0705!B$4","v":"OC2"},{"$f":"Race0705!E$5","v":"Men"},{"$f":"Race0705!D$5","v":"Golden Masters"},{"$f":"Race0705!D$4","v":"Marathon"},{"$f":"Race0705!A$36","v":29},{"$f":"Race0705!D$36","v":0},{"$f":"Race0705!C$36","v":0},{"$f":"Race0705!F$36","v":1}]
[null,{"$f":"Race0705!B$5","v":"Senior"},{"$f":"Race0705!B$4","v":"OC2"},{"$f":"Race0705!E$5","v":"Men"},{"$f":"Race0705!D$5","v":"Golden Masters"},{"$f":"Race0705!D$4","v":"Marathon"},{"$f":"Race0705!A$37","v":30},{"$f":"Race0705!D$37","v":0},{"$f":"Race0705!C$37","v":0},{"$f":"Race0705!F$37","v":1}]
[null,{"$f":"Race0705!B$5","v":"Senior"},{"$f":"Race0705!B$4","v":"OC2"},{"$f":"Race0705!E$5","v":"Men"},{"$f":"Race0705!D$5","v":"Golden Masters"},{"$f":"Race0705!D$4","v":"Marathon"},{"$f":"Race0705!A$38","v":31},{"$f":"Race0705!D$38","v":0},{"$f":"Race0705!C$38","v":0},{"$f":"Race0705!F$38","v":1}]
[null,{"$f":"Race0705!B$5","v":"Senior"},{"$f":"Race0705!B$4","v":"OC2"},{"$f":"Race0705!E$5","v":"Men"},{"$f":"Race0705!D$5","v":"Golden Masters"},{"$f":"Race0705!D$4","v":"Marathon"},{"$f":"Race0705!A$39","v":32},{"$f":"Race0705!D$39","v":0},{"$f":"Race0705!C$39","v":0},{"$f":"Race0705!F$39","v":1}]
[null,{"$f":"Race0705!B$5","v":"Senior"},{"$f":"Race0705!B$4","v":"OC2"},{"$f":"Race0705!E$5","v":"Men"},{"$f":"Race0705!D$5","v":"Golden Masters"},{"$f":"Race0705!D$4","v":"Marathon"},{"$f":"Race0705!A$40","v":33},{"$f":"Race0705!D$40","v":0},{"$f":"Race0705!C$40","v":0},{"$f":"Race0705!F$40","v":1}]
[null,{"$f":"Race0705!B$5","v":"Senior"},{"$f":"Race0705!B$4","v":"OC2"},{"$f":"Race0705!E$5","v":"Men"},{"$f":"Race0705!D$5","v":"Golden Masters"},{"$f":"Race0705!D$4","v":"Marathon"},{"$f":"Race0705!A$41","v":34},{"$f":"Race0705!D$41","v":0},{"$f":"Race0705!C$41","v":0},{"$f":"Race0705!F$41","v":1}]
[null,{"$f":"Race0705!B$5","v":"Senior"},{"$f":"Race0705!B$4","v":"OC2"},{"$f":"Race0705!E$5","v":"Men"},{"$f":"Race0705!D$5","v":"Golden Masters"},{"$f":"Race0705!D$4","v":"Marathon"},{"$f":"Race0705!A$42","v":35},{"$f":"Race0705!D$42","v":0},{"$f":"Race0705!C$42","v":0},{"$f":"Race0705!F$42","v":1}]
[null,{"$f":"Race0705!B$5","v":"Senior"},{"$f":"Race0705!B$4","v":"OC2"},{"$f":"Race0705!E$5","v":"Men"},{"$f":"Race0705!D$5","v":"Golden Masters"},{"$f":"Race0705!D$4","v":"Marathon"},{"$f":"Race0705!A$43","v":36},{"$f":"Race0705!D$43","v":0},{"$f":"Race0705!C$43","v":0},{"$f":"Race0705!F$43","v":1}]
[null,{"$f":"Race0705!B$5","v":"Senior"},{"$f":"Race0705!B$4","v":"OC2"},{"$f":"Race0705!E$5","v":"Men"},{"$f":"Race0705!D$5","v":"Golden Masters"},{"$f":"Race0705!D$4","v":"Marathon"},{"$f":"Race0705!A$44","v":37},{"$f":"Race0705!D$44","v":0},{"$f":"Race0705!C$44","v":0},{"$f":"Race0705!F$44","v":1}]
[null,{"$f":"Race0705!B$5","v":"Senior"},{"$f":"Race0705!B$4","v":"OC2"},{"$f":"Race0705!E$5","v":"Men"},{"$f":"Race0705!D$5","v":"Golden Masters"},{"$f":"Race0705!D$4","v":"Marathon"},{"$f":"Race0705!A$45","v":38},{"$f":"Race0705!D$45","v":0},{"$f":"Race0705!C$45","v":0},{"$f":"Race0705!F$45","v":1}]
[null,{"$f":"Race0705!B$5","v":"Senior"},{"$f":"Race0705!B$4","v":"OC2"},{"$f":"Race0705!E$5","v":"Men"},{"$f":"Race0705!D$5","v":"Golden Masters"},{"$f":"Race0705!D$4","v":"Marathon"},{"$f":"Race0705!A$46","v":39},{"$f":"Race0705!D$46","v":0},{"$f":"Race0705!C$46","v":0},{"$f":"Race0705!F$46","v":1}]
[null,{"$f":"Race0705!B$5","v":"Senior"},{"$f":"Race0705!B$4","v":"OC2"},{"$f":"Race0705!E$5","v":"Men"},{"$f":"Race0705!D$5","v":"Golden Masters"},{"$f":"Race0705!D$4","v":"Marathon"},{"$f":"Race0705!A$47","v":40},{"$f":"Race0705!D$47","v":0},{"$f":"Race0705!C$47","v":0},{"$f":"Race0705!F$47","v":1}]
[null,{"$f":"Race0705!B$5","v":"Senior"},{"$f":"Race0705!B$4","v":"OC2"},{"$f":"Race0705!E$5","v":"Men"},{"$f":"Race0705!D$5","v":"Golden Masters"},{"$f":"Race0705!D$4","v":"Marathon"},{"$f":"Race0705!A$48","v":41},{"$f":"Race0705!D$48","v":0},{"$f":"Race0705!C$48","v":0},{"$f":"Race0705!F$48","v":1}]
[null,{"$f":"Race0705!B$5","v":"Senior"},{"$f":"Race0705!B$4","v":"OC2"},{"$f":"Race0705!E$5","v":"Men"},{"$f":"Race0705!D$5","v":"Golden Masters"},{"$f":"Race0705!D$4","v":"Marathon"},{"$f":"Race0705!A$49","v":42},{"$f":"Race0705!D$49","v":0},{"$f":"Race0705!C$49","v":0},{"$f":"Race0705!F$49","v":1}]
[null,{"$f":"Race0705!B$5","v":"Senior"},{"$f":"Race0705!B$4","v":"OC2"},{"$f":"Race0705!E$5","v":"Men"},{"$f":"Race0705!D$5","v":"Golden Masters"},{"$f":"Race0705!D$4","v":"Marathon"},{"$f":"Race0705!A$50","v":43},{"$f":"Race0705!D$50","v":0},{"$f":"Race0705!C$50","v":0},{"$f":"Race0705!F$50","v":1}]
[null,{"$f":"Race0705!B$5","v":"Senior"},{"$f":"Race0705!B$4","v":"OC2"},{"$f":"Race0705!E$5","v":"Men"},{"$f":"Race0705!D$5","v":"Golden Masters"},{"$f":"Race0705!D$4","v":"Marathon"},{"$f":"Race0705!A$51","v":44},{"$f":"Race0705!D$51","v":0},{"$f":"Race0705!C$51","v":0},{"$f":"Race0705!F$51","v":1}]
[null,{"$f":"Race0705!B$5","v":"Senior"},{"$f":"Race0705!B$4","v":"OC2"},{"$f":"Race0705!E$5","v":"Men"},{"$f":"Race0705!D$5","v":"Golden Masters"},{"$f":"Race0705!D$4","v":"Marathon"},{"$f":"Race0705!A$52","v":45},{"$f":"Race0705!D$52","v":0},{"$f":"Race0705!C$52","v":0},{"$f":"Race0705!F$52","v":1}]
[null,{"$f":"Race0705!B$5","v":"Senior"},{"$f":"Race0705!B$4","v":"OC2"},{"$f":"Race0705!E$5","v":"Men"},{"$f":"Race0705!D$5","v":"Golden Masters"},{"$f":"Race0705!D$4","v":"Marathon"},{"$f":"Race0705!A$53","v":46},{"$f":"Race0705!D$53","v":0},{"$f":"Race0705!C$53","v":0},{"$f":"Race0705!F$53","v":1}]
[null,{"$f":"Race0705!B$5","v":"Senior"},{"$f":"Race0705!B$4","v":"OC2"},{"$f":"Race0705!E$5","v":"Men"},{"$f":"Race0705!D$5","v":"Golden Masters"},{"$f":"Race0705!D$4","v":"Marathon"},{"$f":"Race0705!A$54","v":47},{"$f":"Race0705!D$54","v":0},{"$f":"Race0705!C$54","v":0},{"$f":"Race0705!F$54","v":1}]
[null,{"$f":"Race0705!B$5","v":"Senior"},{"$f":"Race0705!B$4","v":"OC2"},{"$f":"Race0705!E$5","v":"Men"},{"$f":"Race0705!D$5","v":"Golden Masters"},{"$f":"Race0705!D$4","v":"Marathon"},{"$f":"Race0705!A$55","v":48},{"$f":"Race0705!D$55","v":0},{"$f":"Race0705!C$55","v":0},{"$f":"Race0705!F$55","v":1}]
[null,{"$f":"Race0705!B$5","v":"Senior"},{"$f":"Race0705!B$4","v":"OC2"},{"$f":"Race0705!E$5","v":"Men"},{"$f":"Race0705!D$5","v":"Golden Masters"},{"$f":"Race0705!D$4","v":"Marathon"},{"$f":"Race0705!A$56","v":49},{"$f":"Race0705!D$56","v":0},{"$f":"Race0705!C$56","v":0},{"$f":"Race0705!F$56","v":1}]
[null,{"$f":"Race0705!B$5","v":"Senior"},{"$f":"Race0705!B$4","v":"OC2"},{"$f":"Race0705!E$5","v":"Men"},{"$f":"Race0705!D$5","v":"Golden Masters"},{"$f":"Race0705!D$4","v":"Marathon"},{"$f":"Race0705!A$57","v":50},{"$f":"Race0705!D$57","v":0},{"$f":"Race0705!C$57","v":0},{"$f":"Race0705!F$57","v":1}]
["Race0706",{"$f":"Race0706!B$5","v":"Senior"},{"$f":"Race0706!B$4","v":"OC2"},{"$f":"Race0706!E$5","v":"Women"},{"$f":"Race0706!D$5","v":"21 & Under"},{"$f":"Race0706!D$4","v":"Marathon"},{"$f":"Race0706!A$8","v":1},{"$f":"Race0706!D$8","v":0},{"$f":"Race0706!C$8","v":0},{"$f":"Race0706!F$8","v":9}]
[null,{"$f":"Race0706!B$5","v":"Senior"},{"$f":"Race0706!B$4","v":"OC2"},{"$f":"Race0706!E$5","v":"Women"},{"$f":"Race0706!D$5","v":"21 & Under"},{"$f":"Race0706!D$4","v":"Marathon"},{"$f":"Race0706!A$9","v":2},{"$f":"Race0706!D$9","v":0},{"$f":"Race0706!C$9","v":0},{"$f":"Race0706!F$9","v":7}]
[null,{"$f":"Race0706!B$5","v":"Senior"},{"$f":"Race0706!B$4","v":"OC2"},{"$f":"Race0706!E$5","v":"Women"},{"$f":"Race0706!D$5","v":"21 & Under"},{"$f":"Race0706!D$4","v":"Marathon"},{"$f":"Race0706!A$10","v":3},{"$f":"Race0706!D$10","v":0},{"$f":"Race0706!C$10","v":0},{"$f":"Race0706!F$10","v":5}]
[null,{"$f":"Race0706!B$5","v":"Senior"},{"$f":"Race0706!B$4","v":"OC2"},{"$f":"Race0706!E$5","v":"Women"},{"$f":"Race0706!D$5","v":"21 & Under"},{"$f":"Race0706!D$4","v":"Marathon"},{"$f":"Race0706!A$11","v":4},{"$f":"Race0706!D$11","v":0},{"$f":"Race0706!C$11","v":0},{"$f":"Race0706!F$11","v":3}]
[null,{"$f":"Race0706!B$5","v":"Senior"},{"$f":"Race0706!B$4","v":"OC2"},{"$f":"Race0706!E$5","v":"Women"},{"$f":"Race0706!D$5","v":"21 & Under"},{"$f":"Race0706!D$4","v":"Marathon"},{"$f":"Race0706!A$12","v":5},{"$f":"Race0706!D$12","v":0},{"$f":"Race0706!C$12","v":0},{"$f":"Race0706!F$12","v":2}]
[null,{"$f":"Race0706!B$5","v":"Senior"},{"$f":"Race0706!B$4","v":"OC2"},{"$f":"Race0706!E$5","v":"Women"},{"$f":"Race0706!D$5","v":"21 & Under"},{"$f":"Race0706!D$4","v":"Marathon"},{"$f":"Race0706!A$13","v":6},{"$f":"Race0706!D$13","v":0},{"$f":"Race0706!C$13","v":0},{"$f":"Race0706!F$13","v":1}]
[null,{"$f":"Race0706!B$5","v":"Senior"},{"$f":"Race0706!B$4","v":"OC2"},{"$f":"Race0706!E$5","v":"Women"},{"$f":"Race0706!D$5","v":"21 & Under"},{"$f":"Race0706!D$4","v":"Marathon"},{"$f":"Race0706!A$14","v":7},{"$f":"Race0706!D$14","v":0},{"$f":"Race0706!C$14","v":0},{"$f":"Race0706!F$14","v":1}]
[null,{"$f":"Race0706!B$5","v":"Senior"},{"$f":"Race0706!B$4","v":"OC2"},{"$f":"Race0706!E$5","v":"Women"},{"$f":"Race0706!D$5","v":"21 & Under"},{"$f":"Race0706!D$4","v":"Marathon"},{"$f":"Race0706!A$15","v":8},{"$f":"Race0706!D$15","v":0},{"$f":"Race0706!C$15","v":0},{"$f":"Race0706!F$15","v":1}]
[null,{"$f":"Race0706!B$5","v":"Senior"},{"$f":"Race0706!B$4","v":"OC2"},{"$f":"Race0706!E$5","v":"Women"},{"$f":"Race0706!D$5","v":"21 & Under"},{"$f":"Race0706!D$4","v":"Marathon"},{"$f":"Race0706!A$16","v":9},{"$f":"Race0706!D$16","v":0},{"$f":"Race0706!C$16","v":0},{"$f":"Race0706!F$16","v":1}]
[null,{"$f":"Race0706!B$5","v":"Senior"},{"$f":"Race0706!B$4","v":"OC2"},{"$f":"Race0706!E$5","v":"Women"},{"$f":"Race0706!D$5","v":"21 & Under"},{"$f":"Race0706!D$4","v":"Marathon"},{"$f":"Race0706!A$17","v":10},{"$f":"Race0706!D$17","v":0},{"$f":"Race0706!C$17","v":0},{"$f":"Race0706!F$17","v":1}]
[null,{"$f":"Race0706!B$5","v":"Senior"},{"$f":"Race0706!B$4","v":"OC2"},{"$f":"Race0706!E$5","v":"Women"},{"$f":"Race0706!D$5","v":"21 & Under"},{"$f":"Race0706!D$4","v":"Marathon"},{"$f":"Race0706!A$18","v":11},{"$f":"Race0706!D$18","v":0},{"$f":"Race0706!C$18","v":0},{"$f":"Race0706!F$18","v":1}]
[null,{"$f":"Race0706!B$5","v":"Senior"},{"$f":"Race0706!B$4","v":"OC2"},{"$f":"Race0706!E$5","v":"Women"},{"$f":"Race0706!D$5","v":"21 & Under"},{"$f":"Race0706!D$4","v":"Marathon"},{"$f":"Race0706!A$19","v":12},{"$f":"Race0706!D$19","v":0},{"$f":"Race0706!C$19","v":0},{"$f":"Race0706!F$19","v":1}]
[null,{"$f":"Race0706!B$5","v":"Senior"},{"$f":"Race0706!B$4","v":"OC2"},{"$f":"Race0706!E$5","v":"Women"},{"$f":"Race0706!D$5","v":"21 & Under"},{"$f":"Race0706!D$4","v":"Marathon"},{"$f":"Race0706!A$20","v":13},{"$f":"Race0706!D$20","v":0},{"$f":"Race0706!C$20","v":0},{"$f":"Race0706!F$20","v":1}]
[null,{"$f":"Race0706!B$5","v":"Senior"},{"$f":"Race0706!B$4","v":"OC2"},{"$f":"Race0706!E$5","v":"Women"},{"$f":"Race0706!D$5","v":"21 & Under"},{"$f":"Race0706!D$4","v":"Marathon"},{"$f":"Race0706!A$21","v":14},{"$f":"Race0706!D$21","v":0},{"$f":"Race0706!C$21","v":0},{"$f":"Race0706!F$21","v":1}]
[null,{"$f":"Race0706!B$5","v":"Senior"},{"$f":"Race0706!B$4","v":"OC2"},{"$f":"Race0706!E$5","v":"Women"},{"$f":"Race0706!D$5","v":"21 & Under"},{"$f":"Race0706!D$4","v":"Marathon"},{"$f":"Race0706!A$22","v":15},{"$f":"Race0706!D$22","v":0},{"$f":"Race0706!C$22","v":0},{"$f":"Race0706!F$22","v":1}]
[null,{"$f":"Race0706!B$5","v":"Senior"},{"$f":"Race0706!B$4","v":"OC2"},{"$f":"Race0706!E$5","v":"Women"},{"$f":"Race0706!D$5","v":"21 & Under"},{"$f":"Race0706!D$4","v":"Marathon"},{"$f":"Race0706!A$23","v":16},{"$f":"Race0706!D$23","v":0},{"$f":"Race0706!C$23","v":0},{"$f":"Race0706!F$23","v":1}]
[null,{"$f":"Race0706!B$5","v":"Senior"},{"$f":"Race0706!B$4","v":"OC2"},{"$f":"Race0706!E$5","v":"Women"},{"$f":"Race0706!D$5","v":"21 & Under"},{"$f":"Race0706!D$4","v":"Marathon"},{"$f":"Race0706!A$24","v":17},{"$f":"Race0706!D$24","v":0},{"$f":"Race0706!C$24","v":0},{"$f":"Race0706!F$24","v":1}]
[null,{"$f":"Race0706!B$5","v":"Senior"},{"$f":"Race0706!B$4","v":"OC2"},{"$f":"Race0706!E$5","v":"Women"},{"$f":"Race0706!D$5","v":"21 & Under"},{"$f":"Race0706!D$4","v":"Marathon"},{"$f":"Race0706!A$25","v":18},{"$f":"Race0706!D$25","v":0},{"$f":"Race0706!C$25","v":0},{"$f":"Race0706!F$25","v":1}]
[null,{"$f":"Race0706!B$5","v":"Senior"},{"$f":"Race0706!B$4","v":"OC2"},{"$f":"Race0706!E$5","v":"Women"},{"$f":"Race0706!D$5","v":"21 & Under"},{"$f":"Race0706!D$4","v":"Marathon"},{"$f":"Race0706!A$26","v":19},{"$f":"Race0706!D$26","v":0},{"$f":"Race0706!C$26","v":0},{"$f":"Race0706!F$26","v":1}]
[null,{"$f":"Race0706!B$5","v":"Senior"},{"$f":"Race0706!B$4","v":"OC2"},{"$f":"Race0706!E$5","v":"Women"},{"$f":"Race0706!D$5","v":"21 & Under"},{"$f":"Race0706!D$4","v":"Marathon"},{"$f":"Race0706!A$27","v":20},{"$f":"Race0706!D$27","v":0},{"$f":"Race0706!C$27","v":0},{"$f":"Race0706!F$27","v":1}]
[null,{"$f":"Race0706!B$5","v":"Senior"},{"$f":"Race0706!B$4","v":"OC2"},{"$f":"Race0706!E$5","v":"Women"},{"$f":"Race0706!D$5","v":"21 & Under"},{"$f":"Race0706!D$4","v":"Marathon"},{"$f":"Race0706!A$28","v":21},{"$f":"Race0706!D$28","v":0},{"$f":"Race0706!C$28","v":0},{"$f":"Race0706!F$28","v":1}]
[null,{"$f":"Race0706!B$5","v":"Senior"},{"$f":"Race0706!B$4","v":"OC2"},{"$f":"Race0706!E$5","v":"Women"},{"$f":"Race0706!D$5","v":"21 & Under"},{"$f":"Race0706!D$4","v":"Marathon"},{"$f":"Race0706!A$29","v":22},{"$f":"Race0706!D$29","v":0},{"$f":"Race0706!C$29","v":0},{"$f":"Race0706!F$29","v":1}]
[null,{"$f":"Race0706!B$5","v":"Senior"},{"$f":"Race0706!B$4","v":"OC2"},{"$f":"Race0706!E$5","v":"Women"},{"$f":"Race0706!D$5","v":"21 & Under"},{"$f":"Race0706!D$4","v":"Marathon"},{"$f":"Race0706!A$30","v":23},{"$f":"Race0706!D$30","v":0},{"$f":"Race0706!C$30","v":0},{"$f":"Race0706!F$30","v":1}]
[null,{"$f":"Race0706!B$5","v":"Senior"},{"$f":"Race0706!B$4","v":"OC2"},{"$f":"Race0706!E$5","v":"Women"},{"$f":"Race0706!D$5","v":"21 & Under"},{"$f":"Race0706!D$4","v":"Marathon"},{"$f":"Race0706!A$31","v":24},{"$f":"Race0706!D$31","v":0},{"$f":"Race0706!C$31","v":0},{"$f":"Race0706!F$31","v":1}]
[null,{"$f":"Race0706!B$5","v":"Senior"},{"$f":"Race0706!B$4","v":"OC2"},{"$f":"Race0706!E$5","v":"Women"},{"$f":"Race0706!D$5","v":"21 & Under"},{"$f":"Race0706!D$4","v":"Marathon"},{"$f":"Race0706!A$32","v":25},{"$f":"Race0706!D$32","v":0},{"$f":"Race0706!C$32","v":0},{"$f":"Race0706!F$32","v":1}]
[null,{"$f":"Race0706!B$5","v":"Senior"},{"$f":"Race0706!B$4","v":"OC2"},{"$f":"Race0706!E$5","v":"Women"},{"$f":"Race0706!D$5","v":"21 & Under"},{"$f":"Race0706!D$4","v":"Marathon"},{"$f":"Race0706!A$33","v":26},{"$f":"Race0706!D$33","v":0},{"$f":"Race0706!C$33","v":0},{"$f":"Race0706!F$33","v":1}]
[null,{"$f":"Race0706!B$5","v":"Senior"},{"$f":"Race0706!B$4","v":"OC2"},{"$f":"Race0706!E$5","v":"Women"},{"$f":"Race0706!D$5","v":"21 & Under"},{"$f":"Race0706!D$4","v":"Marathon"},{"$f":"Race0706!A$34","v":27},{"$f":"Race0706!D$34","v":0},{"$f":"Race0706!C$34","v":0},{"$f":"Race0706!F$34","v":1}]
[null,{"$f":"Race0706!B$5","v":"Senior"},{"$f":"Race0706!B$4","v":"OC2"},{"$f":"Race0706!E$5","v":"Women"},{"$f":"Race0706!D$5","v":"21 & Under"},{"$f":"Race0706!D$4","v":"Marathon"},{"$f":"Race0706!A$35","v":28},{"$f":"Race0706!D$35","v":0},{"$f":"Race0706!C$35","v":0},{"$f":"Race0706!F$35","v":1}]
[null,{"$f":"Race0706!B$5","v":"Senior"},{"$f":"Race0706!B$4","v":"OC2"},{"$f":"Race0706!E$5","v":"Women"},{"$f":"Race0706!D$5","v":"21 & Under"},{"$f":"Race0706!D$4","v":"Marathon"},{"$f":"Race0706!A$36","v":29},{"$f":"Race0706!D$36","v":0},{"$f":"Race0706!C$36","v":0},{"$f":"Race0706!F$36","v":1}]
[null,{"$f":"Race0706!B$5","v":"Senior"},{"$f":"Race0706!B$4","v":"OC2"},{"$f":"Race0706!E$5","v":"Women"},{"$f":"Race0706!D$5","v":"21 & Under"},{"$f":"Race0706!D$4","v":"Marathon"},{"$f":"Race0706!A$37","v":30},{"$f":"Race0706!D$37","v":0},{"$f":"Race0706!C$37","v":0},{"$f":"Race0706!F$37","v":1}]
[null,{"$f":"Race0706!B$5","v":"Senior"},{"$f":"Race0706!B$4","v":"OC2"},{"$f":"Race0706!E$5","v":"Women"},{"$f":"Race0706!D$5","v":"21 & Under"},{"$f":"Race0706!D$4","v":"Marathon"},{"$f":"Race0706!A$38","v":31},{"$f":"Race0706!D$38","v":0},{"$f":"Race0706!C$38","v":0},{"$f":"Race0706!F$38","v":1}]
[null,{"$f":"Race0706!B$5","v":"Senior"},{"$f":"Race0706!B$4","v":"OC2"},{"$f":"Race0706!E$5","v":"Women"},{"$f":"Race0706!D$5","v":"21 & Under"},{"$f":"Race0706!D$4","v":"Marathon"},{"$f":"Race0706!A$39","v":32},{"$f":"Race0706!D$39","v":0},{"$f":"Race0706!C$39","v":0},{"$f":"Race0706!F$39","v":1}]
[null,{"$f":"Race0706!B$5","v":"Senior"},{"$f":"Race0706!B$4","v":"OC2"},{"$f":"Race0706!E$5","v":"Women"},{"$f":"Race0706!D$5","v":"21 & Under"},{"$f":"Race0706!D$4","v":"Marathon"},{"$f":"Race0706!A$40","v":33},{"$f":"Race0706!D$40","v":0},{"$f":"Race0706!C$40","v":0},{"$f":"Race0706!F$40","v":1}]
[null,{"$f":"Race0706!B$5","v":"Senior"},{"$f":"Race0706!B$4","v":"OC2"},{"$f":"Race0706!E$5","v":"Women"},{"$f":"Race0706!D$5","v":"21 & Under"},{"$f":"Race0706!D$4","v":"Marathon"},{"$f":"Race0706!A$41","v":34},{"$f":"Race0706!D$41","v":0},{"$f":"Race0706!C$41","v":0},{"$f":"Race0706!F$41","v":1}]
[null,{"$f":"Race0706!B$5","v":"Senior"},{"$f":"Race0706!B$4","v":"OC2"},{"$f":"Race0706!E$5","v":"Women"},{"$f":"Race0706!D$5","v":"21 & Under"},{"$f":"Race0706!D$4","v":"Marathon"},{"$f":"Race0706!A$42","v":35},{"$f":"Race0706!D$42","v":0},{"$f":"Race0706!C$42","v":0},{"$f":"Race0706!F$42","v":1}]
[null,{"$f":"Race0706!B$5","v":"Senior"},{"$f":"Race0706!B$4","v":"OC2"},{"$f":"Race0706!E$5","v":"Women"},{"$f":"Race0706!D$5","v":"21 & Under"},{"$f":"Race0706!D$4","v":"Marathon"},{"$f":"Race0706!A$43","v":36},{"$f":"Race0706!D$43","v":0},{"$f":"Race0706!C$43","v":0},{"$f":"Race0706!F$43","v":1}]
[null,{"$f":"Race0706!B$5","v":"Senior"},{"$f":"Race0706!B$4","v":"OC2"},{"$f":"Race0706!E$5","v":"Women"},{"$f":"Race0706!D$5","v":"21 & Under"},{"$f":"Race0706!D$4","v":"Marathon"},{"$f":"Race0706!A$44","v":37},{"$f":"Race0706!D$44","v":0},{"$f":"Race0706!C$44","v":0},{"$f":"Race0706!F$44","v":1}]
[null,{"$f":"Race0706!B$5","v":"Senior"},{"$f":"Race0706!B$4","v":"OC2"},{"$f":"Race0706!E$5","v":"Women"},{"$f":"Race0706!D$5","v":"21 & Under"},{"$f":"Race0706!D$4","v":"Marathon"},{"$f":"Race0706!A$45","v":38},{"$f":"Race0706!D$45","v":0},{"$f":"Race0706!C$45","v":0},{"$f":"Race0706!F$45","v":1}]
[null,{"$f":"Race0706!B$5","v":"Senior"},{"$f":"Race0706!B$4","v":"OC2"},{"$f":"Race0706!E$5","v":"Women"},{"$f":"Race0706!D$5","v":"21 & Under"},{"$f":"Race0706!D$4","v":"Marathon"},{"$f":"Race0706!A$46","v":39},{"$f":"Race0706!D$46","v":0},{"$f":"Race0706!C$46","v":0},{"$f":"Race0706!F$46","v":1}]
[null,{"$f":"Race0706!B$5","v":"Senior"},{"$f":"Race0706!B$4","v":"OC2"},{"$f":"Race0706!E$5","v":"Women"},{"$f":"Race0706!D$5","v":"21 & Under"},{"$f":"Race0706!D$4","v":"Marathon"},{"$f":"Race0706!A$47","v":40},{"$f":"Race0706!D$47","v":0},{"$f":"Race0706!C$47","v":0},{"$f":"Race0706!F$47","v":1}]
[null,{"$f":"Race0706!B$5","v":"Senior"},{"$f":"Race0706!B$4","v":"OC2"},{"$f":"Race0706!E$5","v":"Women"},{"$f":"Race0706!D$5","v":"21 & Under"},{"$f":"Race0706!D$4","v":"Marathon"},{"$f":"Race0706!A$48","v":41},{"$f":"Race0706!D$48","v":0},{"$f":"Race0706!C$48","v":0},{"$f":"Race0706!F$48","v":1}]
[null,{"$f":"Race0706!B$5","v":"Senior"},{"$f":"Race0706!B$4","v":"OC2"},{"$f":"Race0706!E$5","v":"Women"},{"$f":"Race0706!D$5","v":"21 & Under"},{"$f":"Race0706!D$4","v":"Marathon"},{"$f":"Race0706!A$49","v":42},{"$f":"Race0706!D$49","v":0},{"$f":"Race0706!C$49","v":0},{"$f":"Race0706!F$49","v":1}]
[null,{"$f":"Race0706!B$5","v":"Senior"},{"$f":"Race0706!B$4","v":"OC2"},{"$f":"Race0706!E$5","v":"Women"},{"$f":"Race0706!D$5","v":"21 & Under"},{"$f":"Race0706!D$4","v":"Marathon"},{"$f":"Race0706!A$50","v":43},{"$f":"Race0706!D$50","v":0},{"$f":"Race0706!C$50","v":0},{"$f":"Race0706!F$50","v":1}]
[null,{"$f":"Race0706!B$5","v":"Senior"},{"$f":"Race0706!B$4","v":"OC2"},{"$f":"Race0706!E$5","v":"Women"},{"$f":"Race0706!D$5","v":"21 & Under"},{"$f":"Race0706!D$4","v":"Marathon"},{"$f":"Race0706!A$51","v":44},{"$f":"Race0706!D$51","v":0},{"$f":"Race0706!C$51","v":0},{"$f":"Race0706!F$51","v":1}]
[null,{"$f":"Race0706!B$5","v":"Senior"},{"$f":"Race0706!B$4","v":"OC2"},{"$f":"Race0706!E$5","v":"Women"},{"$f":"Race0706!D$5","v":"21 & Under"},{"$f":"Race0706!D$4","v":"Marathon"},{"$f":"Race0706!A$52","v":45},{"$f":"Race0706!D$52","v":0},{"$f":"Race0706!C$52","v":0},{"$f":"Race0706!F$52","v":1}]
[null,{"$f":"Race0706!B$5","v":"Senior"},{"$f":"Race0706!B$4","v":"OC2"},{"$f":"Race0706!E$5","v":"Women"},{"$f":"Race0706!D$5","v":"21 & Under"},{"$f":"Race0706!D$4","v":"Marathon"},{"$f":"Race0706!A$53","v":46},{"$f":"Race0706!D$53","v":0},{"$f":"Race0706!C$53","v":0},{"$f":"Race0706!F$53","v":1}]
[null,{"$f":"Race0706!B$5","v":"Senior"},{"$f":"Race0706!B$4","v":"OC2"},{"$f":"Race0706!E$5","v":"Women"},{"$f":"Race0706!D$5","v":"21 & Under"},{"$f":"Race0706!D$4","v":"Marathon"},{"$f":"Race0706!A$54","v":47},{"$f":"Race0706!D$54","v":0},{"$f":"Race0706!C$54","v":0},{"$f":"Race0706!F$54","v":1}]
[null,{"$f":"Race0706!B$5","v":"Senior"},{"$f":"Race0706!B$4","v":"OC2"},{"$f":"Race0706!E$5","v":"Women"},{"$f":"Race0706!D$5","v":"21 & Under"},{"$f":"Race0706!D$4","v":"Marathon"},{"$f":"Race0706!A$55","v":48},{"$f":"Race0706!D$55","v":0},{"$f":"Race0706!C$55","v":0},{"$f":"Race0706!F$55","v":1}]
[null,{"$f":"Race0706!B$5","v":"Senior"},{"$f":"Race0706!B$4","v":"OC2"},{"$f":"Race0706!E$5","v":"Women"},{"$f":"Race0706!D$5","v":"21 & Under"},{"$f":"Race0706!D$4","v":"Marathon"},{"$f":"Race0706!A$56","v":49},{"$f":"Race0706!D$56","v":0},{"$f":"Race0706!C$56","v":0},{"$f":"Race0706!F$56","v":1}]
[null,{"$f":"Race0706!B$5","v":"Senior"},{"$f":"Race0706!B$4","v":"OC2"},{"$f":"Race0706!E$5","v":"Women"},{"$f":"Race0706!D$5","v":"21 & Under"},{"$f":"Race0706!D$4","v":"Marathon"},{"$f":"Race0706!A$57","v":50},{"$f":"Race0706!D$57","v":0},{"$f":"Race0706!C$57","v":0},{"$f":"Race0706!F$57","v":1}]
["Race0707",{"$f":"Race0707!B$5","v":"Senior"},{"$f":"Race0707!B$4","v":"OC2"},{"$f":"Race0707!E$5","v":"Women"},{"$f":"Race0707!D$5","v":"Open"},{"$f":"Race0707!D$4","v":"Marathon"},{"$f":"Race0707!A$8","v":1},{"$f":"Race0707!D$8","v":0},{"$f":"Race0707!C$8","v":0},{"$f":"Race0707!F$8","v":9}]
[null,{"$f":"Race0707!B$5","v":"Senior"},{"$f":"Race0707!B$4","v":"OC2"},{"$f":"Race0707!E$5","v":"Women"},{"$f":"Race0707!D$5","v":"Open"},{"$f":"Race0707!D$4","v":"Marathon"},{"$f":"Race0707!A$9","v":2},{"$f":"Race0707!D$9","v":0},{"$f":"Race0707!C$9","v":0},{"$f":"Race0707!F$9","v":7}]
[null,{"$f":"Race0707!B$5","v":"Senior"},{"$f":"Race0707!B$4","v":"OC2"},{"$f":"Race0707!E$5","v":"Women"},{"$f":"Race0707!D$5","v":"Open"},{"$f":"Race0707!D$4","v":"Marathon"},{"$f":"Race0707!A$10","v":3},{"$f":"Race0707!D$10","v":0},{"$f":"Race0707!C$10","v":0},{"$f":"Race0707!F$10","v":5}]
[null,{"$f":"Race0707!B$5","v":"Senior"},{"$f":"Race0707!B$4","v":"OC2"},{"$f":"Race0707!E$5","v":"Women"},{"$f":"Race0707!D$5","v":"Open"},{"$f":"Race0707!D$4","v":"Marathon"},{"$f":"Race0707!A$11","v":4},{"$f":"Race0707!D$11","v":0},{"$f":"Race0707!C$11","v":0},{"$f":"Race0707!F$11","v":3}]
[null,{"$f":"Race0707!B$5","v":"Senior"},{"$f":"Race0707!B$4","v":"OC2"},{"$f":"Race0707!E$5","v":"Women"},{"$f":"Race0707!D$5","v":"Open"},{"$f":"Race0707!D$4","v":"Marathon"},{"$f":"Race0707!A$12","v":5},{"$f":"Race0707!D$12","v":0},{"$f":"Race0707!C$12","v":0},{"$f":"Race0707!F$12","v":2}]
[null,{"$f":"Race0707!B$5","v":"Senior"},{"$f":"Race0707!B$4","v":"OC2"},{"$f":"Race0707!E$5","v":"Women"},{"$f":"Race0707!D$5","v":"Open"},{"$f":"Race0707!D$4","v":"Marathon"},{"$f":"Race0707!A$13","v":6},{"$f":"Race0707!D$13","v":0},{"$f":"Race0707!C$13","v":0},{"$f":"Race0707!F$13","v":1}]
[null,{"$f":"Race0707!B$5","v":"Senior"},{"$f":"Race0707!B$4","v":"OC2"},{"$f":"Race0707!E$5","v":"Women"},{"$f":"Race0707!D$5","v":"Open"},{"$f":"Race0707!D$4","v":"Marathon"},{"$f":"Race0707!A$14","v":7},{"$f":"Race0707!D$14","v":0},{"$f":"Race0707!C$14","v":0},{"$f":"Race0707!F$14","v":1}]
[null,{"$f":"Race0707!B$5","v":"Senior"},{"$f":"Race0707!B$4","v":"OC2"},{"$f":"Race0707!E$5","v":"Women"},{"$f":"Race0707!D$5","v":"Open"},{"$f":"Race0707!D$4","v":"Marathon"},{"$f":"Race0707!A$15","v":8},{"$f":"Race0707!D$15","v":0},{"$f":"Race0707!C$15","v":0},{"$f":"Race0707!F$15","v":1}]
[null,{"$f":"Race0707!B$5","v":"Senior"},{"$f":"Race0707!B$4","v":"OC2"},{"$f":"Race0707!E$5","v":"Women"},{"$f":"Race0707!D$5","v":"Open"},{"$f":"Race0707!D$4","v":"Marathon"},{"$f":"Race0707!A$16","v":9},{"$f":"Race0707!D$16","v":0},{"$f":"Race0707!C$16","v":0},{"$f":"Race0707!F$16","v":1}]
[null,{"$f":"Race0707!B$5","v":"Senior"},{"$f":"Race0707!B$4","v":"OC2"},{"$f":"Race0707!E$5","v":"Women"},{"$f":"Race0707!D$5","v":"Open"},{"$f":"Race0707!D$4","v":"Marathon"},{"$f":"Race0707!A$17","v":10},{"$f":"Race0707!D$17","v":0},{"$f":"Race0707!C$17","v":0},{"$f":"Race0707!F$17","v":1}]
[null,{"$f":"Race0707!B$5","v":"Senior"},{"$f":"Race0707!B$4","v":"OC2"},{"$f":"Race0707!E$5","v":"Women"},{"$f":"Race0707!D$5","v":"Open"},{"$f":"Race0707!D$4","v":"Marathon"},{"$f":"Race0707!A$18","v":11},{"$f":"Race0707!D$18","v":0},{"$f":"Race0707!C$18","v":0},{"$f":"Race0707!F$18","v":1}]
[null,{"$f":"Race0707!B$5","v":"Senior"},{"$f":"Race0707!B$4","v":"OC2"},{"$f":"Race0707!E$5","v":"Women"},{"$f":"Race0707!D$5","v":"Open"},{"$f":"Race0707!D$4","v":"Marathon"},{"$f":"Race0707!A$19","v":12},{"$f":"Race0707!D$19","v":0},{"$f":"Race0707!C$19","v":0},{"$f":"Race0707!F$19","v":1}]
[null,{"$f":"Race0707!B$5","v":"Senior"},{"$f":"Race0707!B$4","v":"OC2"},{"$f":"Race0707!E$5","v":"Women"},{"$f":"Race0707!D$5","v":"Open"},{"$f":"Race0707!D$4","v":"Marathon"},{"$f":"Race0707!A$20","v":13},{"$f":"Race0707!D$20","v":0},{"$f":"Race0707!C$20","v":0},{"$f":"Race0707!F$20","v":1}]
[null,{"$f":"Race0707!B$5","v":"Senior"},{"$f":"Race0707!B$4","v":"OC2"},{"$f":"Race0707!E$5","v":"Women"},{"$f":"Race0707!D$5","v":"Open"},{"$f":"Race0707!D$4","v":"Marathon"},{"$f":"Race0707!A$21","v":14},{"$f":"Race0707!D$21","v":0},{"$f":"Race0707!C$21","v":0},{"$f":"Race0707!F$21","v":1}]
[null,{"$f":"Race0707!B$5","v":"Senior"},{"$f":"Race0707!B$4","v":"OC2"},{"$f":"Race0707!E$5","v":"Women"},{"$f":"Race0707!D$5","v":"Open"},{"$f":"Race0707!D$4","v":"Marathon"},{"$f":"Race0707!A$22","v":15},{"$f":"Race0707!D$22","v":0},{"$f":"Race0707!C$22","v":0},{"$f":"Race0707!F$22","v":1}]
[null,{"$f":"Race0707!B$5","v":"Senior"},{"$f":"Race0707!B$4","v":"OC2"},{"$f":"Race0707!E$5","v":"Women"},{"$f":"Race0707!D$5","v":"Open"},{"$f":"Race0707!D$4","v":"Marathon"},{"$f":"Race0707!A$23","v":16},{"$f":"Race0707!D$23","v":0},{"$f":"Race0707!C$23","v":0},{"$f":"Race0707!F$23","v":1}]
[null,{"$f":"Race0707!B$5","v":"Senior"},{"$f":"Race0707!B$4","v":"OC2"},{"$f":"Race0707!E$5","v":"Women"},{"$f":"Race0707!D$5","v":"Open"},{"$f":"Race0707!D$4","v":"Marathon"},{"$f":"Race0707!A$24","v":17},{"$f":"Race0707!D$24","v":0},{"$f":"Race0707!C$24","v":0},{"$f":"Race0707!F$24","v":1}]
[null,{"$f":"Race0707!B$5","v":"Senior"},{"$f":"Race0707!B$4","v":"OC2"},{"$f":"Race0707!E$5","v":"Women"},{"$f":"Race0707!D$5","v":"Open"},{"$f":"Race0707!D$4","v":"Marathon"},{"$f":"Race0707!A$25","v":18},{"$f":"Race0707!D$25","v":0},{"$f":"Race0707!C$25","v":0},{"$f":"Race0707!F$25","v":1}]
[null,{"$f":"Race0707!B$5","v":"Senior"},{"$f":"Race0707!B$4","v":"OC2"},{"$f":"Race0707!E$5","v":"Women"},{"$f":"Race0707!D$5","v":"Open"},{"$f":"Race0707!D$4","v":"Marathon"},{"$f":"Race0707!A$26","v":19},{"$f":"Race0707!D$26","v":0},{"$f":"Race0707!C$26","v":0},{"$f":"Race0707!F$26","v":1}]
[null,{"$f":"Race0707!B$5","v":"Senior"},{"$f":"Race0707!B$4","v":"OC2"},{"$f":"Race0707!E$5","v":"Women"},{"$f":"Race0707!D$5","v":"Open"},{"$f":"Race0707!D$4","v":"Marathon"},{"$f":"Race0707!A$27","v":20},{"$f":"Race0707!D$27","v":0},{"$f":"Race0707!C$27","v":0},{"$f":"Race0707!F$27","v":1}]
[null,{"$f":"Race0707!B$5","v":"Senior"},{"$f":"Race0707!B$4","v":"OC2"},{"$f":"Race0707!E$5","v":"Women"},{"$f":"Race0707!D$5","v":"Open"},{"$f":"Race0707!D$4","v":"Marathon"},{"$f":"Race0707!A$28","v":21},{"$f":"Race0707!D$28","v":0},{"$f":"Race0707!C$28","v":0},{"$f":"Race0707!F$28","v":1}]
[null,{"$f":"Race0707!B$5","v":"Senior"},{"$f":"Race0707!B$4","v":"OC2"},{"$f":"Race0707!E$5","v":"Women"},{"$f":"Race0707!D$5","v":"Open"},{"$f":"Race0707!D$4","v":"Marathon"},{"$f":"Race0707!A$29","v":22},{"$f":"Race0707!D$29","v":0},{"$f":"Race0707!C$29","v":0},{"$f":"Race0707!F$29","v":1}]
[null,{"$f":"Race0707!B$5","v":"Senior"},{"$f":"Race0707!B$4","v":"OC2"},{"$f":"Race0707!E$5","v":"Women"},{"$f":"Race0707!D$5","v":"Open"},{"$f":"Race0707!D$4","v":"Marathon"},{"$f":"Race0707!A$30","v":23},{"$f":"Race0707!D$30","v":0},{"$f":"Race0707!C$30","v":0},{"$f":"Race0707!F$30","v":1}]
[null,{"$f":"Race0707!B$5","v":"Senior"},{"$f":"Race0707!B$4","v":"OC2"},{"$f":"Race0707!E$5","v":"Women"},{"$f":"Race0707!D$5","v":"Open"},{"$f":"Race0707!D$4","v":"Marathon"},{"$f":"Race0707!A$31","v":24},{"$f":"Race0707!D$31","v":0},{"$f":"Race0707!C$31","v":0},{"$f":"Race0707!F$31","v":1}]
[null,{"$f":"Race0707!B$5","v":"Senior"},{"$f":"Race0707!B$4","v":"OC2"},{"$f":"Race0707!E$5","v":"Women"},{"$f":"Race0707!D$5","v":"Open"},{"$f":"Race0707!D$4","v":"Marathon"},{"$f":"Race0707!A$32","v":25},{"$f":"Race0707!D$32","v":0},{"$f":"Race0707!C$32","v":0},{"$f":"Race0707!F$32","v":1}]
[null,{"$f":"Race0707!B$5","v":"Senior"},{"$f":"Race0707!B$4","v":"OC2"},{"$f":"Race0707!E$5","v":"Women"},{"$f":"Race0707!D$5","v":"Open"},{"$f":"Race0707!D$4","v":"Marathon"},{"$f":"Race0707!A$33","v":26},{"$f":"Race0707!D$33","v":0},{"$f":"Race0707!C$33","v":0},{"$f":"Race0707!F$33","v":1}]
[null,{"$f":"Race0707!B$5","v":"Senior"},{"$f":"Race0707!B$4","v":"OC2"},{"$f":"Race0707!E$5","v":"Women"},{"$f":"Race0707!D$5","v":"Open"},{"$f":"Race0707!D$4","v":"Marathon"},{"$f":"Race0707!A$34","v":27},{"$f":"Race0707!D$34","v":0},{"$f":"Race0707!C$34","v":0},{"$f":"Race0707!F$34","v":1}]
[null,{"$f":"Race0707!B$5","v":"Senior"},{"$f":"Race0707!B$4","v":"OC2"},{"$f":"Race0707!E$5","v":"Women"},{"$f":"Race0707!D$5","v":"Open"},{"$f":"Race0707!D$4","v":"Marathon"},{"$f":"Race0707!A$35","v":28},{"$f":"Race0707!D$35","v":0},{"$f":"Race0707!C$35","v":0},{"$f":"Race0707!F$35","v":1}]
[null,{"$f":"Race0707!B$5","v":"Senior"},{"$f":"Race0707!B$4","v":"OC2"},{"$f":"Race0707!E$5","v":"Women"},{"$f":"Race0707!D$5","v":"Open"},{"$f":"Race0707!D$4","v":"Marathon"},{"$f":"Race0707!A$36","v":29},{"$f":"Race0707!D$36","v":0},{"$f":"Race0707!C$36","v":0},{"$f":"Race0707!F$36","v":1}]
[null,{"$f":"Race0707!B$5","v":"Senior"},{"$f":"Race0707!B$4","v":"OC2"},{"$f":"Race0707!E$5","v":"Women"},{"$f":"Race0707!D$5","v":"Open"},{"$f":"Race0707!D$4","v":"Marathon"},{"$f":"Race0707!A$37","v":30},{"$f":"Race0707!D$37","v":0},{"$f":"Race0707!C$37","v":0},{"$f":"Race0707!F$37","v":1}]
[null,{"$f":"Race0707!B$5","v":"Senior"},{"$f":"Race0707!B$4","v":"OC2"},{"$f":"Race0707!E$5","v":"Women"},{"$f":"Race0707!D$5","v":"Open"},{"$f":"Race0707!D$4","v":"Marathon"},{"$f":"Race0707!A$38","v":31},{"$f":"Race0707!D$38","v":0},{"$f":"Race0707!C$38","v":0},{"$f":"Race0707!F$38","v":1}]
[null,{"$f":"Race0707!B$5","v":"Senior"},{"$f":"Race0707!B$4","v":"OC2"},{"$f":"Race0707!E$5","v":"Women"},{"$f":"Race0707!D$5","v":"Open"},{"$f":"Race0707!D$4","v":"Marathon"},{"$f":"Race0707!A$39","v":32},{"$f":"Race0707!D$39","v":0},{"$f":"Race0707!C$39","v":0},{"$f":"Race0707!F$39","v":1}]
[null,{"$f":"Race0707!B$5","v":"Senior"},{"$f":"Race0707!B$4","v":"OC2"},{"$f":"Race0707!E$5","v":"Women"},{"$f":"Race0707!D$5","v":"Open"},{"$f":"Race0707!D$4","v":"Marathon"},{"$f":"Race0707!A$40","v":33},{"$f":"Race0707!D$40","v":0},{"$f":"Race0707!C$40","v":0},{"$f":"Race0707!F$40","v":1}]
[null,{"$f":"Race0707!B$5","v":"Senior"},{"$f":"Race0707!B$4","v":"OC2"},{"$f":"Race0707!E$5","v":"Women"},{"$f":"Race0707!D$5","v":"Open"},{"$f":"Race0707!D$4","v":"Marathon"},{"$f":"Race0707!A$41","v":34},{"$f":"Race0707!D$41","v":0},{"$f":"Race0707!C$41","v":0},{"$f":"Race0707!F$41","v":1}]
[null,{"$f":"Race0707!B$5","v":"Senior"},{"$f":"Race0707!B$4","v":"OC2"},{"$f":"Race0707!E$5","v":"Women"},{"$f":"Race0707!D$5","v":"Open"},{"$f":"Race0707!D$4","v":"Marathon"},{"$f":"Race0707!A$42","v":35},{"$f":"Race0707!D$42","v":0},{"$f":"Race0707!C$42","v":0},{"$f":"Race0707!F$42","v":1}]
[null,{"$f":"Race0707!B$5","v":"Senior"},{"$f":"Race0707!B$4","v":"OC2"},{"$f":"Race0707!E$5","v":"Women"},{"$f":"Race0707!D$5","v":"Open"},{"$f":"Race0707!D$4","v":"Marathon"},{"$f":"Race0707!A$43","v":36},{"$f":"Race0707!D$43","v":0},{"$f":"Race0707!C$43","v":0},{"$f":"Race0707!F$43","v":1}]
[null,{"$f":"Race0707!B$5","v":"Senior"},{"$f":"Race0707!B$4","v":"OC2"},{"$f":"Race0707!E$5","v":"Women"},{"$f":"Race0707!D$5","v":"Open"},{"$f":"Race0707!D$4","v":"Marathon"},{"$f":"Race0707!A$44","v":37},{"$f":"Race0707!D$44","v":0},{"$f":"Race0707!C$44","v":0},{"$f":"Race0707!F$44","v":1}]
[null,{"$f":"Race0707!B$5","v":"Senior"},{"$f":"Race0707!B$4","v":"OC2"},{"$f":"Race0707!E$5","v":"Women"},{"$f":"Race0707!D$5","v":"Open"},{"$f":"Race0707!D$4","v":"Marathon"},{"$f":"Race0707!A$45","v":38},{"$f":"Race0707!D$45","v":0},{"$f":"Race0707!C$45","v":0},{"$f":"Race0707!F$45","v":1}]
[null,{"$f":"Race0707!B$5","v":"Senior"},{"$f":"Race0707!B$4","v":"OC2"},{"$f":"Race0707!E$5","v":"Women"},{"$f":"Race0707!D$5","v":"Open"},{"$f":"Race0707!D$4","v":"Marathon"},{"$f":"Race0707!A$46","v":39},{"$f":"Race0707!D$46","v":0},{"$f":"Race0707!C$46","v":0},{"$f":"Race0707!F$46","v":1}]
[null,{"$f":"Race0707!B$5","v":"Senior"},{"$f":"Race0707!B$4","v":"OC2"},{"$f":"Race0707!E$5","v":"Women"},{"$f":"Race0707!D$5","v":"Open"},{"$f":"Race0707!D$4","v":"Marathon"},{"$f":"Race0707!A$47","v":40},{"$f":"Race0707!D$47","v":0},{"$f":"Race0707!C$47","v":0},{"$f":"Race0707!F$47","v":1}]
[null,{"$f":"Race0707!B$5","v":"Senior"},{"$f":"Race0707!B$4","v":"OC2"},{"$f":"Race0707!E$5","v":"Women"},{"$f":"Race0707!D$5","v":"Open"},{"$f":"Race0707!D$4","v":"Marathon"},{"$f":"Race0707!A$48","v":41},{"$f":"Race0707!D$48","v":0},{"$f":"Race0707!C$48","v":0},{"$f":"Race0707!F$48","v":1}]
[null,{"$f":"Race0707!B$5","v":"Senior"},{"$f":"Race0707!B$4","v":"OC2"},{"$f":"Race0707!E$5","v":"Women"},{"$f":"Race0707!D$5","v":"Open"},{"$f":"Race0707!D$4","v":"Marathon"},{"$f":"Race0707!A$49","v":42},{"$f":"Race0707!D$49","v":0},{"$f":"Race0707!C$49","v":0},{"$f":"Race0707!F$49","v":1}]
[null,{"$f":"Race0707!B$5","v":"Senior"},{"$f":"Race0707!B$4","v":"OC2"},{"$f":"Race0707!E$5","v":"Women"},{"$f":"Race0707!D$5","v":"Open"},{"$f":"Race0707!D$4","v":"Marathon"},{"$f":"Race0707!A$50","v":43},{"$f":"Race0707!D$50","v":0},{"$f":"Race0707!C$50","v":0},{"$f":"Race0707!F$50","v":1}]
[null,{"$f":"Race0707!B$5","v":"Senior"},{"$f":"Race0707!B$4","v":"OC2"},{"$f":"Race0707!E$5","v":"Women"},{"$f":"Race0707!D$5","v":"Open"},{"$f":"Race0707!D$4","v":"Marathon"},{"$f":"Race0707!A$51","v":44},{"$f":"Race0707!D$51","v":0},{"$f":"Race0707!C$51","v":0},{"$f":"Race0707!F$51","v":1}]
[null,{"$f":"Race0707!B$5","v":"Senior"},{"$f":"Race0707!B$4","v":"OC2"},{"$f":"Race0707!E$5","v":"Women"},{"$f":"Race0707!D$5","v":"Open"},{"$f":"Race0707!D$4","v":"Marathon"},{"$f":"Race0707!A$52","v":45},{"$f":"Race0707!D$52","v":0},{"$f":"Race0707!C$52","v":0},{"$f":"Race0707!F$52","v":1}]
[null,{"$f":"Race0707!B$5","v":"Senior"},{"$f":"Race0707!B$4","v":"OC2"},{"$f":"Race0707!E$5","v":"Women"},{"$f":"Race0707!D$5","v":"Open"},{"$f":"Race0707!D$4","v":"Marathon"},{"$f":"Race0707!A$53","v":46},{"$f":"Race0707!D$53","v":0},{"$f":"Race0707!C$53","v":0},{"$f":"Race0707!F$53","v":1}]
[null,{"$f":"Race0707!B$5","v":"Senior"},{"$f":"Race0707!B$4","v":"OC2"},{"$f":"Race0707!E$5","v":"Women"},{"$f":"Race0707!D$5","v":"Open"},{"$f":"Race0707!D$4","v":"Marathon"},{"$f":"Race0707!A$54","v":47},{"$f":"Race0707!D$54","v":0},{"$f":"Race0707!C$54","v":0},{"$f":"Race0707!F$54","v":1}]
[null,{"$f":"Race0707!B$5","v":"Senior"},{"$f":"Race0707!B$4","v":"OC2"},{"$f":"Race0707!E$5","v":"Women"},{"$f":"Race0707!D$5","v":"Open"},{"$f":"Race0707!D$4","v":"Marathon"},{"$f":"Race0707!A$55","v":48},{"$f":"Race0707!D$55","v":0},{"$f":"Race0707!C$55","v":0},{"$f":"Race0707!F$55","v":1}]
[null,{"$f":"Race0707!B$5","v":"Senior"},{"$f":"Race0707!B$4","v":"OC2"},{"$f":"Race0707!E$5","v":"Women"},{"$f":"Race0707!D$5","v":"Open"},{"$f":"Race0707!D$4","v":"Marathon"},{"$f":"Race0707!A$56","v":49},{"$f":"Race0707!D$56","v":0},{"$f":"Race0707!C$56","v":0},{"$f":"Race0707!F$56","v":1}]
[null,{"$f":"Race0707!B$5","v":"Senior"},{"$f":"Race0707!B$4","v":"OC2"},{"$f":"Race0707!E$5","v":"Women"},{"$f":"Race0707!D$5","v":"Open"},{"$f":"Race0707!D$4","v":"Marathon"},{"$f":"Race0707!A$57","v":50},{"$f":"Race0707!D$57","v":0},{"$f":"Race0707!C$57","v":0},{"$f":"Race0707!F$57","v":1}]
["Race0708",{"$f":"Race0708!B$5","v":"Senior"},{"$f":"Race0708!B$4","v":"OC2"},{"$f":"Race0708!E$5","v":"Women"},{"$f":"Race0708!D$5","v":"Masters"},{"$f":"Race0708!D$4","v":"Marathon"},{"$f":"Race0708!A$8","v":1},{"$f":"Race0708!D$8","v":0},{"$f":"Race0708!C$8","v":0},{"$f":"Race0708!F$8","v":9}]
[null,{"$f":"Race0708!B$5","v":"Senior"},{"$f":"Race0708!B$4","v":"OC2"},{"$f":"Race0708!E$5","v":"Women"},{"$f":"Race0708!D$5","v":"Masters"},{"$f":"Race0708!D$4","v":"Marathon"},{"$f":"Race0708!A$9","v":2},{"$f":"Race0708!D$9","v":0},{"$f":"Race0708!C$9","v":0},{"$f":"Race0708!F$9","v":7}]
[null,{"$f":"Race0708!B$5","v":"Senior"},{"$f":"Race0708!B$4","v":"OC2"},{"$f":"Race0708!E$5","v":"Women"},{"$f":"Race0708!D$5","v":"Masters"},{"$f":"Race0708!D$4","v":"Marathon"},{"$f":"Race0708!A$10","v":3},{"$f":"Race0708!D$10","v":0},{"$f":"Race0708!C$10","v":0},{"$f":"Race0708!F$10","v":5}]
[null,{"$f":"Race0708!B$5","v":"Senior"},{"$f":"Race0708!B$4","v":"OC2"},{"$f":"Race0708!E$5","v":"Women"},{"$f":"Race0708!D$5","v":"Masters"},{"$f":"Race0708!D$4","v":"Marathon"},{"$f":"Race0708!A$11","v":4},{"$f":"Race0708!D$11","v":0},{"$f":"Race0708!C$11","v":0},{"$f":"Race0708!F$11","v":3}]
[null,{"$f":"Race0708!B$5","v":"Senior"},{"$f":"Race0708!B$4","v":"OC2"},{"$f":"Race0708!E$5","v":"Women"},{"$f":"Race0708!D$5","v":"Masters"},{"$f":"Race0708!D$4","v":"Marathon"},{"$f":"Race0708!A$12","v":5},{"$f":"Race0708!D$12","v":0},{"$f":"Race0708!C$12","v":0},{"$f":"Race0708!F$12","v":2}]
[null,{"$f":"Race0708!B$5","v":"Senior"},{"$f":"Race0708!B$4","v":"OC2"},{"$f":"Race0708!E$5","v":"Women"},{"$f":"Race0708!D$5","v":"Masters"},{"$f":"Race0708!D$4","v":"Marathon"},{"$f":"Race0708!A$13","v":6},{"$f":"Race0708!D$13","v":0},{"$f":"Race0708!C$13","v":0},{"$f":"Race0708!F$13","v":1}]
[null,{"$f":"Race0708!B$5","v":"Senior"},{"$f":"Race0708!B$4","v":"OC2"},{"$f":"Race0708!E$5","v":"Women"},{"$f":"Race0708!D$5","v":"Masters"},{"$f":"Race0708!D$4","v":"Marathon"},{"$f":"Race0708!A$14","v":7},{"$f":"Race0708!D$14","v":0},{"$f":"Race0708!C$14","v":0},{"$f":"Race0708!F$14","v":1}]
[null,{"$f":"Race0708!B$5","v":"Senior"},{"$f":"Race0708!B$4","v":"OC2"},{"$f":"Race0708!E$5","v":"Women"},{"$f":"Race0708!D$5","v":"Masters"},{"$f":"Race0708!D$4","v":"Marathon"},{"$f":"Race0708!A$15","v":8},{"$f":"Race0708!D$15","v":0},{"$f":"Race0708!C$15","v":0},{"$f":"Race0708!F$15","v":1}]
[null,{"$f":"Race0708!B$5","v":"Senior"},{"$f":"Race0708!B$4","v":"OC2"},{"$f":"Race0708!E$5","v":"Women"},{"$f":"Race0708!D$5","v":"Masters"},{"$f":"Race0708!D$4","v":"Marathon"},{"$f":"Race0708!A$16","v":9},{"$f":"Race0708!D$16","v":0},{"$f":"Race0708!C$16","v":0},{"$f":"Race0708!F$16","v":1}]
[null,{"$f":"Race0708!B$5","v":"Senior"},{"$f":"Race0708!B$4","v":"OC2"},{"$f":"Race0708!E$5","v":"Women"},{"$f":"Race0708!D$5","v":"Masters"},{"$f":"Race0708!D$4","v":"Marathon"},{"$f":"Race0708!A$17","v":10},{"$f":"Race0708!D$17","v":0},{"$f":"Race0708!C$17","v":0},{"$f":"Race0708!F$17","v":1}]
[null,{"$f":"Race0708!B$5","v":"Senior"},{"$f":"Race0708!B$4","v":"OC2"},{"$f":"Race0708!E$5","v":"Women"},{"$f":"Race0708!D$5","v":"Masters"},{"$f":"Race0708!D$4","v":"Marathon"},{"$f":"Race0708!A$18","v":11},{"$f":"Race0708!D$18","v":0},{"$f":"Race0708!C$18","v":0},{"$f":"Race0708!F$18","v":1}]
[null,{"$f":"Race0708!B$5","v":"Senior"},{"$f":"Race0708!B$4","v":"OC2"},{"$f":"Race0708!E$5","v":"Women"},{"$f":"Race0708!D$5","v":"Masters"},{"$f":"Race0708!D$4","v":"Marathon"},{"$f":"Race0708!A$19","v":12},{"$f":"Race0708!D$19","v":0},{"$f":"Race0708!C$19","v":0},{"$f":"Race0708!F$19","v":1}]
[null,{"$f":"Race0708!B$5","v":"Senior"},{"$f":"Race0708!B$4","v":"OC2"},{"$f":"Race0708!E$5","v":"Women"},{"$f":"Race0708!D$5","v":"Masters"},{"$f":"Race0708!D$4","v":"Marathon"},{"$f":"Race0708!A$20","v":13},{"$f":"Race0708!D$20","v":0},{"$f":"Race0708!C$20","v":0},{"$f":"Race0708!F$20","v":1}]
[null,{"$f":"Race0708!B$5","v":"Senior"},{"$f":"Race0708!B$4","v":"OC2"},{"$f":"Race0708!E$5","v":"Women"},{"$f":"Race0708!D$5","v":"Masters"},{"$f":"Race0708!D$4","v":"Marathon"},{"$f":"Race0708!A$21","v":14},{"$f":"Race0708!D$21","v":0},{"$f":"Race0708!C$21","v":0},{"$f":"Race0708!F$21","v":1}]
[null,{"$f":"Race0708!B$5","v":"Senior"},{"$f":"Race0708!B$4","v":"OC2"},{"$f":"Race0708!E$5","v":"Women"},{"$f":"Race0708!D$5","v":"Masters"},{"$f":"Race0708!D$4","v":"Marathon"},{"$f":"Race0708!A$22","v":15},{"$f":"Race0708!D$22","v":0},{"$f":"Race0708!C$22","v":0},{"$f":"Race0708!F$22","v":1}]
[null,{"$f":"Race0708!B$5","v":"Senior"},{"$f":"Race0708!B$4","v":"OC2"},{"$f":"Race0708!E$5","v":"Women"},{"$f":"Race0708!D$5","v":"Masters"},{"$f":"Race0708!D$4","v":"Marathon"},{"$f":"Race0708!A$23","v":16},{"$f":"Race0708!D$23","v":0},{"$f":"Race0708!C$23","v":0},{"$f":"Race0708!F$23","v":1}]
[null,{"$f":"Race0708!B$5","v":"Senior"},{"$f":"Race0708!B$4","v":"OC2"},{"$f":"Race0708!E$5","v":"Women"},{"$f":"Race0708!D$5","v":"Masters"},{"$f":"Race0708!D$4","v":"Marathon"},{"$f":"Race0708!A$24","v":17},{"$f":"Race0708!D$24","v":0},{"$f":"Race0708!C$24","v":0},{"$f":"Race0708!F$24","v":1}]
[null,{"$f":"Race0708!B$5","v":"Senior"},{"$f":"Race0708!B$4","v":"OC2"},{"$f":"Race0708!E$5","v":"Women"},{"$f":"Race0708!D$5","v":"Masters"},{"$f":"Race0708!D$4","v":"Marathon"},{"$f":"Race0708!A$25","v":18},{"$f":"Race0708!D$25","v":0},{"$f":"Race0708!C$25","v":0},{"$f":"Race0708!F$25","v":1}]
[null,{"$f":"Race0708!B$5","v":"Senior"},{"$f":"Race0708!B$4","v":"OC2"},{"$f":"Race0708!E$5","v":"Women"},{"$f":"Race0708!D$5","v":"Masters"},{"$f":"Race0708!D$4","v":"Marathon"},{"$f":"Race0708!A$26","v":19},{"$f":"Race0708!D$26","v":0},{"$f":"Race0708!C$26","v":0},{"$f":"Race0708!F$26","v":1}]
[null,{"$f":"Race0708!B$5","v":"Senior"},{"$f":"Race0708!B$4","v":"OC2"},{"$f":"Race0708!E$5","v":"Women"},{"$f":"Race0708!D$5","v":"Masters"},{"$f":"Race0708!D$4","v":"Marathon"},{"$f":"Race0708!A$27","v":20},{"$f":"Race0708!D$27","v":0},{"$f":"Race0708!C$27","v":0},{"$f":"Race0708!F$27","v":1}]
[null,{"$f":"Race0708!B$5","v":"Senior"},{"$f":"Race0708!B$4","v":"OC2"},{"$f":"Race0708!E$5","v":"Women"},{"$f":"Race0708!D$5","v":"Masters"},{"$f":"Race0708!D$4","v":"Marathon"},{"$f":"Race0708!A$28","v":21},{"$f":"Race0708!D$28","v":0},{"$f":"Race0708!C$28","v":0},{"$f":"Race0708!F$28","v":1}]
[null,{"$f":"Race0708!B$5","v":"Senior"},{"$f":"Race0708!B$4","v":"OC2"},{"$f":"Race0708!E$5","v":"Women"},{"$f":"Race0708!D$5","v":"Masters"},{"$f":"Race0708!D$4","v":"Marathon"},{"$f":"Race0708!A$29","v":22},{"$f":"Race0708!D$29","v":0},{"$f":"Race0708!C$29","v":0},{"$f":"Race0708!F$29","v":1}]
[null,{"$f":"Race0708!B$5","v":"Senior"},{"$f":"Race0708!B$4","v":"OC2"},{"$f":"Race0708!E$5","v":"Women"},{"$f":"Race0708!D$5","v":"Masters"},{"$f":"Race0708!D$4","v":"Marathon"},{"$f":"Race0708!A$30","v":23},{"$f":"Race0708!D$30","v":0},{"$f":"Race0708!C$30","v":0},{"$f":"Race0708!F$30","v":1}]
[null,{"$f":"Race0708!B$5","v":"Senior"},{"$f":"Race0708!B$4","v":"OC2"},{"$f":"Race0708!E$5","v":"Women"},{"$f":"Race0708!D$5","v":"Masters"},{"$f":"Race0708!D$4","v":"Marathon"},{"$f":"Race0708!A$31","v":24},{"$f":"Race0708!D$31","v":0},{"$f":"Race0708!C$31","v":0},{"$f":"Race0708!F$31","v":1}]
[null,{"$f":"Race0708!B$5","v":"Senior"},{"$f":"Race0708!B$4","v":"OC2"},{"$f":"Race0708!E$5","v":"Women"},{"$f":"Race0708!D$5","v":"Masters"},{"$f":"Race0708!D$4","v":"Marathon"},{"$f":"Race0708!A$32","v":25},{"$f":"Race0708!D$32","v":0},{"$f":"Race0708!C$32","v":0},{"$f":"Race0708!F$32","v":1}]
[null,{"$f":"Race0708!B$5","v":"Senior"},{"$f":"Race0708!B$4","v":"OC2"},{"$f":"Race0708!E$5","v":"Women"},{"$f":"Race0708!D$5","v":"Masters"},{"$f":"Race0708!D$4","v":"Marathon"},{"$f":"Race0708!A$33","v":26},{"$f":"Race0708!D$33","v":0},{"$f":"Race0708!C$33","v":0},{"$f":"Race0708!F$33","v":1}]
[null,{"$f":"Race0708!B$5","v":"Senior"},{"$f":"Race0708!B$4","v":"OC2"},{"$f":"Race0708!E$5","v":"Women"},{"$f":"Race0708!D$5","v":"Masters"},{"$f":"Race0708!D$4","v":"Marathon"},{"$f":"Race0708!A$34","v":27},{"$f":"Race0708!D$34","v":0},{"$f":"Race0708!C$34","v":0},{"$f":"Race0708!F$34","v":1}]
[null,{"$f":"Race0708!B$5","v":"Senior"},{"$f":"Race0708!B$4","v":"OC2"},{"$f":"Race0708!E$5","v":"Women"},{"$f":"Race0708!D$5","v":"Masters"},{"$f":"Race0708!D$4","v":"Marathon"},{"$f":"Race0708!A$35","v":28},{"$f":"Race0708!D$35","v":0},{"$f":"Race0708!C$35","v":0},{"$f":"Race0708!F$35","v":1}]
[null,{"$f":"Race0708!B$5","v":"Senior"},{"$f":"Race0708!B$4","v":"OC2"},{"$f":"Race0708!E$5","v":"Women"},{"$f":"Race0708!D$5","v":"Masters"},{"$f":"Race0708!D$4","v":"Marathon"},{"$f":"Race0708!A$36","v":29},{"$f":"Race0708!D$36","v":0},{"$f":"Race0708!C$36","v":0},{"$f":"Race0708!F$36","v":1}]
[null,{"$f":"Race0708!B$5","v":"Senior"},{"$f":"Race0708!B$4","v":"OC2"},{"$f":"Race0708!E$5","v":"Women"},{"$f":"Race0708!D$5","v":"Masters"},{"$f":"Race0708!D$4","v":"Marathon"},{"$f":"Race0708!A$37","v":30},{"$f":"Race0708!D$37","v":0},{"$f":"Race0708!C$37","v":0},{"$f":"Race0708!F$37","v":1}]
[null,{"$f":"Race0708!B$5","v":"Senior"},{"$f":"Race0708!B$4","v":"OC2"},{"$f":"Race0708!E$5","v":"Women"},{"$f":"Race0708!D$5","v":"Masters"},{"$f":"Race0708!D$4","v":"Marathon"},{"$f":"Race0708!A$38","v":31},{"$f":"Race0708!D$38","v":0},{"$f":"Race0708!C$38","v":0},{"$f":"Race0708!F$38","v":1}]
[null,{"$f":"Race0708!B$5","v":"Senior"},{"$f":"Race0708!B$4","v":"OC2"},{"$f":"Race0708!E$5","v":"Women"},{"$f":"Race0708!D$5","v":"Masters"},{"$f":"Race0708!D$4","v":"Marathon"},{"$f":"Race0708!A$39","v":32},{"$f":"Race0708!D$39","v":0},{"$f":"Race0708!C$39","v":0},{"$f":"Race0708!F$39","v":1}]
[null,{"$f":"Race0708!B$5","v":"Senior"},{"$f":"Race0708!B$4","v":"OC2"},{"$f":"Race0708!E$5","v":"Women"},{"$f":"Race0708!D$5","v":"Masters"},{"$f":"Race0708!D$4","v":"Marathon"},{"$f":"Race0708!A$40","v":33},{"$f":"Race0708!D$40","v":0},{"$f":"Race0708!C$40","v":0},{"$f":"Race0708!F$40","v":1}]
[null,{"$f":"Race0708!B$5","v":"Senior"},{"$f":"Race0708!B$4","v":"OC2"},{"$f":"Race0708!E$5","v":"Women"},{"$f":"Race0708!D$5","v":"Masters"},{"$f":"Race0708!D$4","v":"Marathon"},{"$f":"Race0708!A$41","v":34},{"$f":"Race0708!D$41","v":0},{"$f":"Race0708!C$41","v":0},{"$f":"Race0708!F$41","v":1}]
[null,{"$f":"Race0708!B$5","v":"Senior"},{"$f":"Race0708!B$4","v":"OC2"},{"$f":"Race0708!E$5","v":"Women"},{"$f":"Race0708!D$5","v":"Masters"},{"$f":"Race0708!D$4","v":"Marathon"},{"$f":"Race0708!A$42","v":35},{"$f":"Race0708!D$42","v":0},{"$f":"Race0708!C$42","v":0},{"$f":"Race0708!F$42","v":1}]
[null,{"$f":"Race0708!B$5","v":"Senior"},{"$f":"Race0708!B$4","v":"OC2"},{"$f":"Race0708!E$5","v":"Women"},{"$f":"Race0708!D$5","v":"Masters"},{"$f":"Race0708!D$4","v":"Marathon"},{"$f":"Race0708!A$43","v":36},{"$f":"Race0708!D$43","v":0},{"$f":"Race0708!C$43","v":0},{"$f":"Race0708!F$43","v":1}]
[null,{"$f":"Race0708!B$5","v":"Senior"},{"$f":"Race0708!B$4","v":"OC2"},{"$f":"Race0708!E$5","v":"Women"},{"$f":"Race0708!D$5","v":"Masters"},{"$f":"Race0708!D$4","v":"Marathon"},{"$f":"Race0708!A$44","v":37},{"$f":"Race0708!D$44","v":0},{"$f":"Race0708!C$44","v":0},{"$f":"Race0708!F$44","v":1}]
[null,{"$f":"Race0708!B$5","v":"Senior"},{"$f":"Race0708!B$4","v":"OC2"},{"$f":"Race0708!E$5","v":"Women"},{"$f":"Race0708!D$5","v":"Masters"},{"$f":"Race0708!D$4","v":"Marathon"},{"$f":"Race0708!A$45","v":38},{"$f":"Race0708!D$45","v":0},{"$f":"Race0708!C$45","v":0},{"$f":"Race0708!F$45","v":1}]
[null,{"$f":"Race0708!B$5","v":"Senior"},{"$f":"Race0708!B$4","v":"OC2"},{"$f":"Race0708!E$5","v":"Women"},{"$f":"Race0708!D$5","v":"Masters"},{"$f":"Race0708!D$4","v":"Marathon"},{"$f":"Race0708!A$46","v":39},{"$f":"Race0708!D$46","v":0},{"$f":"Race0708!C$46","v":0},{"$f":"Race0708!F$46","v":1}]
[null,{"$f":"Race0708!B$5","v":"Senior"},{"$f":"Race0708!B$4","v":"OC2"},{"$f":"Race0708!E$5","v":"Women"},{"$f":"Race0708!D$5","v":"Masters"},{"$f":"Race0708!D$4","v":"Marathon"},{"$f":"Race0708!A$47","v":40},{"$f":"Race0708!D$47","v":0},{"$f":"Race0708!C$47","v":0},{"$f":"Race0708!F$47","v":1}]
[null,{"$f":"Race0708!B$5","v":"Senior"},{"$f":"Race0708!B$4","v":"OC2"},{"$f":"Race0708!E$5","v":"Women"},{"$f":"Race0708!D$5","v":"Masters"},{"$f":"Race0708!D$4","v":"Marathon"},{"$f":"Race0708!A$48","v":41},{"$f":"Race0708!D$48","v":0},{"$f":"Race0708!C$48","v":0},{"$f":"Race0708!F$48","v":1}]
[null,{"$f":"Race0708!B$5","v":"Senior"},{"$f":"Race0708!B$4","v":"OC2"},{"$f":"Race0708!E$5","v":"Women"},{"$f":"Race0708!D$5","v":"Masters"},{"$f":"Race0708!D$4","v":"Marathon"},{"$f":"Race0708!A$49","v":42},{"$f":"Race0708!D$49","v":0},{"$f":"Race0708!C$49","v":0},{"$f":"Race0708!F$49","v":1}]
[null,{"$f":"Race0708!B$5","v":"Senior"},{"$f":"Race0708!B$4","v":"OC2"},{"$f":"Race0708!E$5","v":"Women"},{"$f":"Race0708!D$5","v":"Masters"},{"$f":"Race0708!D$4","v":"Marathon"},{"$f":"Race0708!A$50","v":43},{"$f":"Race0708!D$50","v":0},{"$f":"Race0708!C$50","v":0},{"$f":"Race0708!F$50","v":1}]
[null,{"$f":"Race0708!B$5","v":"Senior"},{"$f":"Race0708!B$4","v":"OC2"},{"$f":"Race0708!E$5","v":"Women"},{"$f":"Race0708!D$5","v":"Masters"},{"$f":"Race0708!D$4","v":"Marathon"},{"$f":"Race0708!A$51","v":44},{"$f":"Race0708!D$51","v":0},{"$f":"Race0708!C$51","v":0},{"$f":"Race0708!F$51","v":1}]
[null,{"$f":"Race0708!B$5","v":"Senior"},{"$f":"Race0708!B$4","v":"OC2"},{"$f":"Race0708!E$5","v":"Women"},{"$f":"Race0708!D$5","v":"Masters"},{"$f":"Race0708!D$4","v":"Marathon"},{"$f":"Race0708!A$52","v":45},{"$f":"Race0708!D$52","v":0},{"$f":"Race0708!C$52","v":0},{"$f":"Race0708!F$52","v":1}]
[null,{"$f":"Race0708!B$5","v":"Senior"},{"$f":"Race0708!B$4","v":"OC2"},{"$f":"Race0708!E$5","v":"Women"},{"$f":"Race0708!D$5","v":"Masters"},{"$f":"Race0708!D$4","v":"Marathon"},{"$f":"Race0708!A$53","v":46},{"$f":"Race0708!D$53","v":0},{"$f":"Race0708!C$53","v":0},{"$f":"Race0708!F$53","v":1}]
[null,{"$f":"Race0708!B$5","v":"Senior"},{"$f":"Race0708!B$4","v":"OC2"},{"$f":"Race0708!E$5","v":"Women"},{"$f":"Race0708!D$5","v":"Masters"},{"$f":"Race0708!D$4","v":"Marathon"},{"$f":"Race0708!A$54","v":47},{"$f":"Race0708!D$54","v":0},{"$f":"Race0708!C$54","v":0},{"$f":"Race0708!F$54","v":1}]
[null,{"$f":"Race0708!B$5","v":"Senior"},{"$f":"Race0708!B$4","v":"OC2"},{"$f":"Race0708!E$5","v":"Women"},{"$f":"Race0708!D$5","v":"Masters"},{"$f":"Race0708!D$4","v":"Marathon"},{"$f":"Race0708!A$55","v":48},{"$f":"Race0708!D$55","v":0},{"$f":"Race0708!C$55","v":0},{"$f":"Race0708!F$55","v":1}]
[null,{"$f":"Race0708!B$5","v":"Senior"},{"$f":"Race0708!B$4","v":"OC2"},{"$f":"Race0708!E$5","v":"Women"},{"$f":"Race0708!D$5","v":"Masters"},{"$f":"Race0708!D$4","v":"Marathon"},{"$f":"Race0708!A$56","v":49},{"$f":"Race0708!D$56","v":0},{"$f":"Race0708!C$56","v":0},{"$f":"Race0708!F$56","v":1}]
[null,{"$f":"Race0708!B$5","v":"Senior"},{"$f":"Race0708!B$4","v":"OC2"},{"$f":"Race0708!E$5","v":"Women"},{"$f":"Race0708!D$5","v":"Masters"},{"$f":"Race0708!D$4","v":"Marathon"},{"$f":"Race0708!A$57","v":50},{"$f":"Race0708!D$57","v":0},{"$f":"Race0708!C$57","v":0},{"$f":"Race0708!F$57","v":1}]
["Race0709",{"$f":"Race0709!B$5","v":"Senior"},{"$f":"Race0709!B$4","v":"OC2"},{"$f":"Race0709!E$5","v":"Women"},{"$f":"Race0709!D$5","v":"Senior Masters"},{"$f":"Race0709!D$4","v":"Marathon"},{"$f":"Race0709!A$8","v":1},{"$f":"Race0709!D$8","v":0},{"$f":"Race0709!C$8","v":0},{"$f":"Race0709!F$8","v":9}]
[null,{"$f":"Race0709!B$5","v":"Senior"},{"$f":"Race0709!B$4","v":"OC2"},{"$f":"Race0709!E$5","v":"Women"},{"$f":"Race0709!D$5","v":"Senior Masters"},{"$f":"Race0709!D$4","v":"Marathon"},{"$f":"Race0709!A$9","v":2},{"$f":"Race0709!D$9","v":0},{"$f":"Race0709!C$9","v":0},{"$f":"Race0709!F$9","v":7}]
[null,{"$f":"Race0709!B$5","v":"Senior"},{"$f":"Race0709!B$4","v":"OC2"},{"$f":"Race0709!E$5","v":"Women"},{"$f":"Race0709!D$5","v":"Senior Masters"},{"$f":"Race0709!D$4","v":"Marathon"},{"$f":"Race0709!A$10","v":3},{"$f":"Race0709!D$10","v":0},{"$f":"Race0709!C$10","v":0},{"$f":"Race0709!F$10","v":5}]
[null,{"$f":"Race0709!B$5","v":"Senior"},{"$f":"Race0709!B$4","v":"OC2"},{"$f":"Race0709!E$5","v":"Women"},{"$f":"Race0709!D$5","v":"Senior Masters"},{"$f":"Race0709!D$4","v":"Marathon"},{"$f":"Race0709!A$11","v":4},{"$f":"Race0709!D$11","v":0},{"$f":"Race0709!C$11","v":0},{"$f":"Race0709!F$11","v":3}]
[null,{"$f":"Race0709!B$5","v":"Senior"},{"$f":"Race0709!B$4","v":"OC2"},{"$f":"Race0709!E$5","v":"Women"},{"$f":"Race0709!D$5","v":"Senior Masters"},{"$f":"Race0709!D$4","v":"Marathon"},{"$f":"Race0709!A$12","v":5},{"$f":"Race0709!D$12","v":0},{"$f":"Race0709!C$12","v":0},{"$f":"Race0709!F$12","v":2}]
[null,{"$f":"Race0709!B$5","v":"Senior"},{"$f":"Race0709!B$4","v":"OC2"},{"$f":"Race0709!E$5","v":"Women"},{"$f":"Race0709!D$5","v":"Senior Masters"},{"$f":"Race0709!D$4","v":"Marathon"},{"$f":"Race0709!A$13","v":6},{"$f":"Race0709!D$13","v":0},{"$f":"Race0709!C$13","v":0},{"$f":"Race0709!F$13","v":1}]
[null,{"$f":"Race0709!B$5","v":"Senior"},{"$f":"Race0709!B$4","v":"OC2"},{"$f":"Race0709!E$5","v":"Women"},{"$f":"Race0709!D$5","v":"Senior Masters"},{"$f":"Race0709!D$4","v":"Marathon"},{"$f":"Race0709!A$14","v":7},{"$f":"Race0709!D$14","v":0},{"$f":"Race0709!C$14","v":0},{"$f":"Race0709!F$14","v":1}]
[null,{"$f":"Race0709!B$5","v":"Senior"},{"$f":"Race0709!B$4","v":"OC2"},{"$f":"Race0709!E$5","v":"Women"},{"$f":"Race0709!D$5","v":"Senior Masters"},{"$f":"Race0709!D$4","v":"Marathon"},{"$f":"Race0709!A$15","v":8},{"$f":"Race0709!D$15","v":0},{"$f":"Race0709!C$15","v":0},{"$f":"Race0709!F$15","v":1}]
[null,{"$f":"Race0709!B$5","v":"Senior"},{"$f":"Race0709!B$4","v":"OC2"},{"$f":"Race0709!E$5","v":"Women"},{"$f":"Race0709!D$5","v":"Senior Masters"},{"$f":"Race0709!D$4","v":"Marathon"},{"$f":"Race0709!A$16","v":9},{"$f":"Race0709!D$16","v":0},{"$f":"Race0709!C$16","v":0},{"$f":"Race0709!F$16","v":1}]
[null,{"$f":"Race0709!B$5","v":"Senior"},{"$f":"Race0709!B$4","v":"OC2"},{"$f":"Race0709!E$5","v":"Women"},{"$f":"Race0709!D$5","v":"Senior Masters"},{"$f":"Race0709!D$4","v":"Marathon"},{"$f":"Race0709!A$17","v":10},{"$f":"Race0709!D$17","v":0},{"$f":"Race0709!C$17","v":0},{"$f":"Race0709!F$17","v":1}]
[null,{"$f":"Race0709!B$5","v":"Senior"},{"$f":"Race0709!B$4","v":"OC2"},{"$f":"Race0709!E$5","v":"Women"},{"$f":"Race0709!D$5","v":"Senior Masters"},{"$f":"Race0709!D$4","v":"Marathon"},{"$f":"Race0709!A$18","v":11},{"$f":"Race0709!D$18","v":0},{"$f":"Race0709!C$18","v":0},{"$f":"Race0709!F$18","v":1}]
[null,{"$f":"Race0709!B$5","v":"Senior"},{"$f":"Race0709!B$4","v":"OC2"},{"$f":"Race0709!E$5","v":"Women"},{"$f":"Race0709!D$5","v":"Senior Masters"},{"$f":"Race0709!D$4","v":"Marathon"},{"$f":"Race0709!A$19","v":12},{"$f":"Race0709!D$19","v":0},{"$f":"Race0709!C$19","v":0},{"$f":"Race0709!F$19","v":1}]
[null,{"$f":"Race0709!B$5","v":"Senior"},{"$f":"Race0709!B$4","v":"OC2"},{"$f":"Race0709!E$5","v":"Women"},{"$f":"Race0709!D$5","v":"Senior Masters"},{"$f":"Race0709!D$4","v":"Marathon"},{"$f":"Race0709!A$20","v":13},{"$f":"Race0709!D$20","v":0},{"$f":"Race0709!C$20","v":0},{"$f":"Race0709!F$20","v":1}]
[null,{"$f":"Race0709!B$5","v":"Senior"},{"$f":"Race0709!B$4","v":"OC2"},{"$f":"Race0709!E$5","v":"Women"},{"$f":"Race0709!D$5","v":"Senior Masters"},{"$f":"Race0709!D$4","v":"Marathon"},{"$f":"Race0709!A$21","v":14},{"$f":"Race0709!D$21","v":0},{"$f":"Race0709!C$21","v":0},{"$f":"Race0709!F$21","v":1}]
[null,{"$f":"Race0709!B$5","v":"Senior"},{"$f":"Race0709!B$4","v":"OC2"},{"$f":"Race0709!E$5","v":"Women"},{"$f":"Race0709!D$5","v":"Senior Masters"},{"$f":"Race0709!D$4","v":"Marathon"},{"$f":"Race0709!A$22","v":15},{"$f":"Race0709!D$22","v":0},{"$f":"Race0709!C$22","v":0},{"$f":"Race0709!F$22","v":1}]
[null,{"$f":"Race0709!B$5","v":"Senior"},{"$f":"Race0709!B$4","v":"OC2"},{"$f":"Race0709!E$5","v":"Women"},{"$f":"Race0709!D$5","v":"Senior Masters"},{"$f":"Race0709!D$4","v":"Marathon"},{"$f":"Race0709!A$23","v":16},{"$f":"Race0709!D$23","v":0},{"$f":"Race0709!C$23","v":0},{"$f":"Race0709!F$23","v":1}]
[null,{"$f":"Race0709!B$5","v":"Senior"},{"$f":"Race0709!B$4","v":"OC2"},{"$f":"Race0709!E$5","v":"Women"},{"$f":"Race0709!D$5","v":"Senior Masters"},{"$f":"Race0709!D$4","v":"Marathon"},{"$f":"Race0709!A$24","v":17},{"$f":"Race0709!D$24","v":0},{"$f":"Race0709!C$24","v":0},{"$f":"Race0709!F$24","v":1}]
[null,{"$f":"Race0709!B$5","v":"Senior"},{"$f":"Race0709!B$4","v":"OC2"},{"$f":"Race0709!E$5","v":"Women"},{"$f":"Race0709!D$5","v":"Senior Masters"},{"$f":"Race0709!D$4","v":"Marathon"},{"$f":"Race0709!A$25","v":18},{"$f":"Race0709!D$25","v":0},{"$f":"Race0709!C$25","v":0},{"$f":"Race0709!F$25","v":1}]
[null,{"$f":"Race0709!B$5","v":"Senior"},{"$f":"Race0709!B$4","v":"OC2"},{"$f":"Race0709!E$5","v":"Women"},{"$f":"Race0709!D$5","v":"Senior Masters"},{"$f":"Race0709!D$4","v":"Marathon"},{"$f":"Race0709!A$26","v":19},{"$f":"Race0709!D$26","v":0},{"$f":"Race0709!C$26","v":0},{"$f":"Race0709!F$26","v":1}]
[null,{"$f":"Race0709!B$5","v":"Senior"},{"$f":"Race0709!B$4","v":"OC2"},{"$f":"Race0709!E$5","v":"Women"},{"$f":"Race0709!D$5","v":"Senior Masters"},{"$f":"Race0709!D$4","v":"Marathon"},{"$f":"Race0709!A$27","v":20},{"$f":"Race0709!D$27","v":0},{"$f":"Race0709!C$27","v":0},{"$f":"Race0709!F$27","v":1}]
[null,{"$f":"Race0709!B$5","v":"Senior"},{"$f":"Race0709!B$4","v":"OC2"},{"$f":"Race0709!E$5","v":"Women"},{"$f":"Race0709!D$5","v":"Senior Masters"},{"$f":"Race0709!D$4","v":"Marathon"},{"$f":"Race0709!A$28","v":21},{"$f":"Race0709!D$28","v":0},{"$f":"Race0709!C$28","v":0},{"$f":"Race0709!F$28","v":1}]
[null,{"$f":"Race0709!B$5","v":"Senior"},{"$f":"Race0709!B$4","v":"OC2"},{"$f":"Race0709!E$5","v":"Women"},{"$f":"Race0709!D$5","v":"Senior Masters"},{"$f":"Race0709!D$4","v":"Marathon"},{"$f":"Race0709!A$29","v":22},{"$f":"Race0709!D$29","v":0},{"$f":"Race0709!C$29","v":0},{"$f":"Race0709!F$29","v":1}]
[null,{"$f":"Race0709!B$5","v":"Senior"},{"$f":"Race0709!B$4","v":"OC2"},{"$f":"Race0709!E$5","v":"Women"},{"$f":"Race0709!D$5","v":"Senior Masters"},{"$f":"Race0709!D$4","v":"Marathon"},{"$f":"Race0709!A$30","v":23},{"$f":"Race0709!D$30","v":0},{"$f":"Race0709!C$30","v":0},{"$f":"Race0709!F$30","v":1}]
[null,{"$f":"Race0709!B$5","v":"Senior"},{"$f":"Race0709!B$4","v":"OC2"},{"$f":"Race0709!E$5","v":"Women"},{"$f":"Race0709!D$5","v":"Senior Masters"},{"$f":"Race0709!D$4","v":"Marathon"},{"$f":"Race0709!A$31","v":24},{"$f":"Race0709!D$31","v":0},{"$f":"Race0709!C$31","v":0},{"$f":"Race0709!F$31","v":1}]
[null,{"$f":"Race0709!B$5","v":"Senior"},{"$f":"Race0709!B$4","v":"OC2"},{"$f":"Race0709!E$5","v":"Women"},{"$f":"Race0709!D$5","v":"Senior Masters"},{"$f":"Race0709!D$4","v":"Marathon"},{"$f":"Race0709!A$32","v":25},{"$f":"Race0709!D$32","v":0},{"$f":"Race0709!C$32","v":0},{"$f":"Race0709!F$32","v":1}]
[null,{"$f":"Race0709!B$5","v":"Senior"},{"$f":"Race0709!B$4","v":"OC2"},{"$f":"Race0709!E$5","v":"Women"},{"$f":"Race0709!D$5","v":"Senior Masters"},{"$f":"Race0709!D$4","v":"Marathon"},{"$f":"Race0709!A$33","v":26},{"$f":"Race0709!D$33","v":0},{"$f":"Race0709!C$33","v":0},{"$f":"Race0709!F$33","v":1}]
[null,{"$f":"Race0709!B$5","v":"Senior"},{"$f":"Race0709!B$4","v":"OC2"},{"$f":"Race0709!E$5","v":"Women"},{"$f":"Race0709!D$5","v":"Senior Masters"},{"$f":"Race0709!D$4","v":"Marathon"},{"$f":"Race0709!A$34","v":27},{"$f":"Race0709!D$34","v":0},{"$f":"Race0709!C$34","v":0},{"$f":"Race0709!F$34","v":1}]
[null,{"$f":"Race0709!B$5","v":"Senior"},{"$f":"Race0709!B$4","v":"OC2"},{"$f":"Race0709!E$5","v":"Women"},{"$f":"Race0709!D$5","v":"Senior Masters"},{"$f":"Race0709!D$4","v":"Marathon"},{"$f":"Race0709!A$35","v":28},{"$f":"Race0709!D$35","v":0},{"$f":"Race0709!C$35","v":0},{"$f":"Race0709!F$35","v":1}]
[null,{"$f":"Race0709!B$5","v":"Senior"},{"$f":"Race0709!B$4","v":"OC2"},{"$f":"Race0709!E$5","v":"Women"},{"$f":"Race0709!D$5","v":"Senior Masters"},{"$f":"Race0709!D$4","v":"Marathon"},{"$f":"Race0709!A$36","v":29},{"$f":"Race0709!D$36","v":0},{"$f":"Race0709!C$36","v":0},{"$f":"Race0709!F$36","v":1}]
[null,{"$f":"Race0709!B$5","v":"Senior"},{"$f":"Race0709!B$4","v":"OC2"},{"$f":"Race0709!E$5","v":"Women"},{"$f":"Race0709!D$5","v":"Senior Masters"},{"$f":"Race0709!D$4","v":"Marathon"},{"$f":"Race0709!A$37","v":30},{"$f":"Race0709!D$37","v":0},{"$f":"Race0709!C$37","v":0},{"$f":"Race0709!F$37","v":1}]
[null,{"$f":"Race0709!B$5","v":"Senior"},{"$f":"Race0709!B$4","v":"OC2"},{"$f":"Race0709!E$5","v":"Women"},{"$f":"Race0709!D$5","v":"Senior Masters"},{"$f":"Race0709!D$4","v":"Marathon"},{"$f":"Race0709!A$38","v":31},{"$f":"Race0709!D$38","v":0},{"$f":"Race0709!C$38","v":0},{"$f":"Race0709!F$38","v":1}]
[null,{"$f":"Race0709!B$5","v":"Senior"},{"$f":"Race0709!B$4","v":"OC2"},{"$f":"Race0709!E$5","v":"Women"},{"$f":"Race0709!D$5","v":"Senior Masters"},{"$f":"Race0709!D$4","v":"Marathon"},{"$f":"Race0709!A$39","v":32},{"$f":"Race0709!D$39","v":0},{"$f":"Race0709!C$39","v":0},{"$f":"Race0709!F$39","v":1}]
[null,{"$f":"Race0709!B$5","v":"Senior"},{"$f":"Race0709!B$4","v":"OC2"},{"$f":"Race0709!E$5","v":"Women"},{"$f":"Race0709!D$5","v":"Senior Masters"},{"$f":"Race0709!D$4","v":"Marathon"},{"$f":"Race0709!A$40","v":33},{"$f":"Race0709!D$40","v":0},{"$f":"Race0709!C$40","v":0},{"$f":"Race0709!F$40","v":1}]
[null,{"$f":"Race0709!B$5","v":"Senior"},{"$f":"Race0709!B$4","v":"OC2"},{"$f":"Race0709!E$5","v":"Women"},{"$f":"Race0709!D$5","v":"Senior Masters"},{"$f":"Race0709!D$4","v":"Marathon"},{"$f":"Race0709!A$41","v":34},{"$f":"Race0709!D$41","v":0},{"$f":"Race0709!C$41","v":0},{"$f":"Race0709!F$41","v":1}]
[null,{"$f":"Race0709!B$5","v":"Senior"},{"$f":"Race0709!B$4","v":"OC2"},{"$f":"Race0709!E$5","v":"Women"},{"$f":"Race0709!D$5","v":"Senior Masters"},{"$f":"Race0709!D$4","v":"Marathon"},{"$f":"Race0709!A$42","v":35},{"$f":"Race0709!D$42","v":0},{"$f":"Race0709!C$42","v":0},{"$f":"Race0709!F$42","v":1}]
[null,{"$f":"Race0709!B$5","v":"Senior"},{"$f":"Race0709!B$4","v":"OC2"},{"$f":"Race0709!E$5","v":"Women"},{"$f":"Race0709!D$5","v":"Senior Masters"},{"$f":"Race0709!D$4","v":"Marathon"},{"$f":"Race0709!A$43","v":36},{"$f":"Race0709!D$43","v":0},{"$f":"Race0709!C$43","v":0},{"$f":"Race0709!F$43","v":1}]
[null,{"$f":"Race0709!B$5","v":"Senior"},{"$f":"Race0709!B$4","v":"OC2"},{"$f":"Race0709!E$5","v":"Women"},{"$f":"Race0709!D$5","v":"Senior Masters"},{"$f":"Race0709!D$4","v":"Marathon"},{"$f":"Race0709!A$44","v":37},{"$f":"Race0709!D$44","v":0},{"$f":"Race0709!C$44","v":0},{"$f":"Race0709!F$44","v":1}]
[null,{"$f":"Race0709!B$5","v":"Senior"},{"$f":"Race0709!B$4","v":"OC2"},{"$f":"Race0709!E$5","v":"Women"},{"$f":"Race0709!D$5","v":"Senior Masters"},{"$f":"Race0709!D$4","v":"Marathon"},{"$f":"Race0709!A$45","v":38},{"$f":"Race0709!D$45","v":0},{"$f":"Race0709!C$45","v":0},{"$f":"Race0709!F$45","v":1}]
[null,{"$f":"Race0709!B$5","v":"Senior"},{"$f":"Race0709!B$4","v":"OC2"},{"$f":"Race0709!E$5","v":"Women"},{"$f":"Race0709!D$5","v":"Senior Masters"},{"$f":"Race0709!D$4","v":"Marathon"},{"$f":"Race0709!A$46","v":39},{"$f":"Race0709!D$46","v":0},{"$f":"Race0709!C$46","v":0},{"$f":"Race0709!F$46","v":1}]
[null,{"$f":"Race0709!B$5","v":"Senior"},{"$f":"Race0709!B$4","v":"OC2"},{"$f":"Race0709!E$5","v":"Women"},{"$f":"Race0709!D$5","v":"Senior Masters"},{"$f":"Race0709!D$4","v":"Marathon"},{"$f":"Race0709!A$47","v":40},{"$f":"Race0709!D$47","v":0},{"$f":"Race0709!C$47","v":0},{"$f":"Race0709!F$47","v":1}]
[null,{"$f":"Race0709!B$5","v":"Senior"},{"$f":"Race0709!B$4","v":"OC2"},{"$f":"Race0709!E$5","v":"Women"},{"$f":"Race0709!D$5","v":"Senior Masters"},{"$f":"Race0709!D$4","v":"Marathon"},{"$f":"Race0709!A$48","v":41},{"$f":"Race0709!D$48","v":0},{"$f":"Race0709!C$48","v":0},{"$f":"Race0709!F$48","v":1}]
[null,{"$f":"Race0709!B$5","v":"Senior"},{"$f":"Race0709!B$4","v":"OC2"},{"$f":"Race0709!E$5","v":"Women"},{"$f":"Race0709!D$5","v":"Senior Masters"},{"$f":"Race0709!D$4","v":"Marathon"},{"$f":"Race0709!A$49","v":42},{"$f":"Race0709!D$49","v":0},{"$f":"Race0709!C$49","v":0},{"$f":"Race0709!F$49","v":1}]
[null,{"$f":"Race0709!B$5","v":"Senior"},{"$f":"Race0709!B$4","v":"OC2"},{"$f":"Race0709!E$5","v":"Women"},{"$f":"Race0709!D$5","v":"Senior Masters"},{"$f":"Race0709!D$4","v":"Marathon"},{"$f":"Race0709!A$50","v":43},{"$f":"Race0709!D$50","v":0},{"$f":"Race0709!C$50","v":0},{"$f":"Race0709!F$50","v":1}]
[null,{"$f":"Race0709!B$5","v":"Senior"},{"$f":"Race0709!B$4","v":"OC2"},{"$f":"Race0709!E$5","v":"Women"},{"$f":"Race0709!D$5","v":"Senior Masters"},{"$f":"Race0709!D$4","v":"Marathon"},{"$f":"Race0709!A$51","v":44},{"$f":"Race0709!D$51","v":0},{"$f":"Race0709!C$51","v":0},{"$f":"Race0709!F$51","v":1}]
[null,{"$f":"Race0709!B$5","v":"Senior"},{"$f":"Race0709!B$4","v":"OC2"},{"$f":"Race0709!E$5","v":"Women"},{"$f":"Race0709!D$5","v":"Senior Masters"},{"$f":"Race0709!D$4","v":"Marathon"},{"$f":"Race0709!A$52","v":45},{"$f":"Race0709!D$52","v":0},{"$f":"Race0709!C$52","v":0},{"$f":"Race0709!F$52","v":1}]
[null,{"$f":"Race0709!B$5","v":"Senior"},{"$f":"Race0709!B$4","v":"OC2"},{"$f":"Race0709!E$5","v":"Women"},{"$f":"Race0709!D$5","v":"Senior Masters"},{"$f":"Race0709!D$4","v":"Marathon"},{"$f":"Race0709!A$53","v":46},{"$f":"Race0709!D$53","v":0},{"$f":"Race0709!C$53","v":0},{"$f":"Race0709!F$53","v":1}]
[null,{"$f":"Race0709!B$5","v":"Senior"},{"$f":"Race0709!B$4","v":"OC2"},{"$f":"Race0709!E$5","v":"Women"},{"$f":"Race0709!D$5","v":"Senior Masters"},{"$f":"Race0709!D$4","v":"Marathon"},{"$f":"Race0709!A$54","v":47},{"$f":"Race0709!D$54","v":0},{"$f":"Race0709!C$54","v":0},{"$f":"Race0709!F$54","v":1}]
[null,{"$f":"Race0709!B$5","v":"Senior"},{"$f":"Race0709!B$4","v":"OC2"},{"$f":"Race0709!E$5","v":"Women"},{"$f":"Race0709!D$5","v":"Senior Masters"},{"$f":"Race0709!D$4","v":"Marathon"},{"$f":"Race0709!A$55","v":48},{"$f":"Race0709!D$55","v":0},{"$f":"Race0709!C$55","v":0},{"$f":"Race0709!F$55","v":1}]
[null,{"$f":"Race0709!B$5","v":"Senior"},{"$f":"Race0709!B$4","v":"OC2"},{"$f":"Race0709!E$5","v":"Women"},{"$f":"Race0709!D$5","v":"Senior Masters"},{"$f":"Race0709!D$4","v":"Marathon"},{"$f":"Race0709!A$56","v":49},{"$f":"Race0709!D$56","v":0},{"$f":"Race0709!C$56","v":0},{"$f":"Race0709!F$56","v":1}]
[null,{"$f":"Race0709!B$5","v":"Senior"},{"$f":"Race0709!B$4","v":"OC2"},{"$f":"Race0709!E$5","v":"Women"},{"$f":"Race0709!D$5","v":"Senior Masters"},{"$f":"Race0709!D$4","v":"Marathon"},{"$f":"Race0709!A$57","v":50},{"$f":"Race0709!D$57","v":0},{"$f":"Race0709!C$57","v":0},{"$f":"Race0709!F$57","v":1}]
["Race0710",{"$f":"Race0710!B$5","v":"Senior"},{"$f":"Race0710!B$4","v":"OC2"},{"$f":"Race0710!E$5","v":"Women"},{"$f":"Race0710!D$5","v":"Golden Masters"},{"$f":"Race0710!D$4","v":"Marathon"},{"$f":"Race0710!A$8","v":1},{"$f":"Race0710!D$8","v":0},{"$f":"Race0710!C$8","v":0},{"$f":"Race0710!F$8","v":9}]
[null,{"$f":"Race0710!B$5","v":"Senior"},{"$f":"Race0710!B$4","v":"OC2"},{"$f":"Race0710!E$5","v":"Women"},{"$f":"Race0710!D$5","v":"Golden Masters"},{"$f":"Race0710!D$4","v":"Marathon"},{"$f":"Race0710!A$9","v":2},{"$f":"Race0710!D$9","v":0},{"$f":"Race0710!C$9","v":0},{"$f":"Race0710!F$9","v":7}]
[null,{"$f":"Race0710!B$5","v":"Senior"},{"$f":"Race0710!B$4","v":"OC2"},{"$f":"Race0710!E$5","v":"Women"},{"$f":"Race0710!D$5","v":"Golden Masters"},{"$f":"Race0710!D$4","v":"Marathon"},{"$f":"Race0710!A$10","v":3},{"$f":"Race0710!D$10","v":0},{"$f":"Race0710!C$10","v":0},{"$f":"Race0710!F$10","v":5}]
[null,{"$f":"Race0710!B$5","v":"Senior"},{"$f":"Race0710!B$4","v":"OC2"},{"$f":"Race0710!E$5","v":"Women"},{"$f":"Race0710!D$5","v":"Golden Masters"},{"$f":"Race0710!D$4","v":"Marathon"},{"$f":"Race0710!A$11","v":4},{"$f":"Race0710!D$11","v":0},{"$f":"Race0710!C$11","v":0},{"$f":"Race0710!F$11","v":3}]
[null,{"$f":"Race0710!B$5","v":"Senior"},{"$f":"Race0710!B$4","v":"OC2"},{"$f":"Race0710!E$5","v":"Women"},{"$f":"Race0710!D$5","v":"Golden Masters"},{"$f":"Race0710!D$4","v":"Marathon"},{"$f":"Race0710!A$12","v":5},{"$f":"Race0710!D$12","v":0},{"$f":"Race0710!C$12","v":0},{"$f":"Race0710!F$12","v":2}]
[null,{"$f":"Race0710!B$5","v":"Senior"},{"$f":"Race0710!B$4","v":"OC2"},{"$f":"Race0710!E$5","v":"Women"},{"$f":"Race0710!D$5","v":"Golden Masters"},{"$f":"Race0710!D$4","v":"Marathon"},{"$f":"Race0710!A$13","v":6},{"$f":"Race0710!D$13","v":0},{"$f":"Race0710!C$13","v":0},{"$f":"Race0710!F$13","v":1}]
[null,{"$f":"Race0710!B$5","v":"Senior"},{"$f":"Race0710!B$4","v":"OC2"},{"$f":"Race0710!E$5","v":"Women"},{"$f":"Race0710!D$5","v":"Golden Masters"},{"$f":"Race0710!D$4","v":"Marathon"},{"$f":"Race0710!A$14","v":7},{"$f":"Race0710!D$14","v":0},{"$f":"Race0710!C$14","v":0},{"$f":"Race0710!F$14","v":1}]
[null,{"$f":"Race0710!B$5","v":"Senior"},{"$f":"Race0710!B$4","v":"OC2"},{"$f":"Race0710!E$5","v":"Women"},{"$f":"Race0710!D$5","v":"Golden Masters"},{"$f":"Race0710!D$4","v":"Marathon"},{"$f":"Race0710!A$15","v":8},{"$f":"Race0710!D$15","v":0},{"$f":"Race0710!C$15","v":0},{"$f":"Race0710!F$15","v":1}]
[null,{"$f":"Race0710!B$5","v":"Senior"},{"$f":"Race0710!B$4","v":"OC2"},{"$f":"Race0710!E$5","v":"Women"},{"$f":"Race0710!D$5","v":"Golden Masters"},{"$f":"Race0710!D$4","v":"Marathon"},{"$f":"Race0710!A$16","v":9},{"$f":"Race0710!D$16","v":0},{"$f":"Race0710!C$16","v":0},{"$f":"Race0710!F$16","v":1}]
[null,{"$f":"Race0710!B$5","v":"Senior"},{"$f":"Race0710!B$4","v":"OC2"},{"$f":"Race0710!E$5","v":"Women"},{"$f":"Race0710!D$5","v":"Golden Masters"},{"$f":"Race0710!D$4","v":"Marathon"},{"$f":"Race0710!A$17","v":10},{"$f":"Race0710!D$17","v":0},{"$f":"Race0710!C$17","v":0},{"$f":"Race0710!F$17","v":1}]
[null,{"$f":"Race0710!B$5","v":"Senior"},{"$f":"Race0710!B$4","v":"OC2"},{"$f":"Race0710!E$5","v":"Women"},{"$f":"Race0710!D$5","v":"Golden Masters"},{"$f":"Race0710!D$4","v":"Marathon"},{"$f":"Race0710!A$18","v":11},{"$f":"Race0710!D$18","v":0},{"$f":"Race0710!C$18","v":0},{"$f":"Race0710!F$18","v":1}]
[null,{"$f":"Race0710!B$5","v":"Senior"},{"$f":"Race0710!B$4","v":"OC2"},{"$f":"Race0710!E$5","v":"Women"},{"$f":"Race0710!D$5","v":"Golden Masters"},{"$f":"Race0710!D$4","v":"Marathon"},{"$f":"Race0710!A$19","v":12},{"$f":"Race0710!D$19","v":0},{"$f":"Race0710!C$19","v":0},{"$f":"Race0710!F$19","v":1}]
[null,{"$f":"Race0710!B$5","v":"Senior"},{"$f":"Race0710!B$4","v":"OC2"},{"$f":"Race0710!E$5","v":"Women"},{"$f":"Race0710!D$5","v":"Golden Masters"},{"$f":"Race0710!D$4","v":"Marathon"},{"$f":"Race0710!A$20","v":13},{"$f":"Race0710!D$20","v":0},{"$f":"Race0710!C$20","v":0},{"$f":"Race0710!F$20","v":1}]
[null,{"$f":"Race0710!B$5","v":"Senior"},{"$f":"Race0710!B$4","v":"OC2"},{"$f":"Race0710!E$5","v":"Women"},{"$f":"Race0710!D$5","v":"Golden Masters"},{"$f":"Race0710!D$4","v":"Marathon"},{"$f":"Race0710!A$21","v":14},{"$f":"Race0710!D$21","v":0},{"$f":"Race0710!C$21","v":0},{"$f":"Race0710!F$21","v":1}]
[null,{"$f":"Race0710!B$5","v":"Senior"},{"$f":"Race0710!B$4","v":"OC2"},{"$f":"Race0710!E$5","v":"Women"},{"$f":"Race0710!D$5","v":"Golden Masters"},{"$f":"Race0710!D$4","v":"Marathon"},{"$f":"Race0710!A$22","v":15},{"$f":"Race0710!D$22","v":0},{"$f":"Race0710!C$22","v":0},{"$f":"Race0710!F$22","v":1}]
[null,{"$f":"Race0710!B$5","v":"Senior"},{"$f":"Race0710!B$4","v":"OC2"},{"$f":"Race0710!E$5","v":"Women"},{"$f":"Race0710!D$5","v":"Golden Masters"},{"$f":"Race0710!D$4","v":"Marathon"},{"$f":"Race0710!A$23","v":16},{"$f":"Race0710!D$23","v":0},{"$f":"Race0710!C$23","v":0},{"$f":"Race0710!F$23","v":1}]
[null,{"$f":"Race0710!B$5","v":"Senior"},{"$f":"Race0710!B$4","v":"OC2"},{"$f":"Race0710!E$5","v":"Women"},{"$f":"Race0710!D$5","v":"Golden Masters"},{"$f":"Race0710!D$4","v":"Marathon"},{"$f":"Race0710!A$24","v":17},{"$f":"Race0710!D$24","v":0},{"$f":"Race0710!C$24","v":0},{"$f":"Race0710!F$24","v":1}]
[null,{"$f":"Race0710!B$5","v":"Senior"},{"$f":"Race0710!B$4","v":"OC2"},{"$f":"Race0710!E$5","v":"Women"},{"$f":"Race0710!D$5","v":"Golden Masters"},{"$f":"Race0710!D$4","v":"Marathon"},{"$f":"Race0710!A$25","v":18},{"$f":"Race0710!D$25","v":0},{"$f":"Race0710!C$25","v":0},{"$f":"Race0710!F$25","v":1}]
[null,{"$f":"Race0710!B$5","v":"Senior"},{"$f":"Race0710!B$4","v":"OC2"},{"$f":"Race0710!E$5","v":"Women"},{"$f":"Race0710!D$5","v":"Golden Masters"},{"$f":"Race0710!D$4","v":"Marathon"},{"$f":"Race0710!A$26","v":19},{"$f":"Race0710!D$26","v":0},{"$f":"Race0710!C$26","v":0},{"$f":"Race0710!F$26","v":1}]
[null,{"$f":"Race0710!B$5","v":"Senior"},{"$f":"Race0710!B$4","v":"OC2"},{"$f":"Race0710!E$5","v":"Women"},{"$f":"Race0710!D$5","v":"Golden Masters"},{"$f":"Race0710!D$4","v":"Marathon"},{"$f":"Race0710!A$27","v":20},{"$f":"Race0710!D$27","v":0},{"$f":"Race0710!C$27","v":0},{"$f":"Race0710!F$27","v":1}]
[null,{"$f":"Race0710!B$5","v":"Senior"},{"$f":"Race0710!B$4","v":"OC2"},{"$f":"Race0710!E$5","v":"Women"},{"$f":"Race0710!D$5","v":"Golden Masters"},{"$f":"Race0710!D$4","v":"Marathon"},{"$f":"Race0710!A$28","v":21},{"$f":"Race0710!D$28","v":0},{"$f":"Race0710!C$28","v":0},{"$f":"Race0710!F$28","v":1}]
[null,{"$f":"Race0710!B$5","v":"Senior"},{"$f":"Race0710!B$4","v":"OC2"},{"$f":"Race0710!E$5","v":"Women"},{"$f":"Race0710!D$5","v":"Golden Masters"},{"$f":"Race0710!D$4","v":"Marathon"},{"$f":"Race0710!A$29","v":22},{"$f":"Race0710!D$29","v":0},{"$f":"Race0710!C$29","v":0},{"$f":"Race0710!F$29","v":1}]
[null,{"$f":"Race0710!B$5","v":"Senior"},{"$f":"Race0710!B$4","v":"OC2"},{"$f":"Race0710!E$5","v":"Women"},{"$f":"Race0710!D$5","v":"Golden Masters"},{"$f":"Race0710!D$4","v":"Marathon"},{"$f":"Race0710!A$30","v":23},{"$f":"Race0710!D$30","v":0},{"$f":"Race0710!C$30","v":0},{"$f":"Race0710!F$30","v":1}]
[null,{"$f":"Race0710!B$5","v":"Senior"},{"$f":"Race0710!B$4","v":"OC2"},{"$f":"Race0710!E$5","v":"Women"},{"$f":"Race0710!D$5","v":"Golden Masters"},{"$f":"Race0710!D$4","v":"Marathon"},{"$f":"Race0710!A$31","v":24},{"$f":"Race0710!D$31","v":0},{"$f":"Race0710!C$31","v":0},{"$f":"Race0710!F$31","v":1}]
[null,{"$f":"Race0710!B$5","v":"Senior"},{"$f":"Race0710!B$4","v":"OC2"},{"$f":"Race0710!E$5","v":"Women"},{"$f":"Race0710!D$5","v":"Golden Masters"},{"$f":"Race0710!D$4","v":"Marathon"},{"$f":"Race0710!A$32","v":25},{"$f":"Race0710!D$32","v":0},{"$f":"Race0710!C$32","v":0},{"$f":"Race0710!F$32","v":1}]
[null,{"$f":"Race0710!B$5","v":"Senior"},{"$f":"Race0710!B$4","v":"OC2"},{"$f":"Race0710!E$5","v":"Women"},{"$f":"Race0710!D$5","v":"Golden Masters"},{"$f":"Race0710!D$4","v":"Marathon"},{"$f":"Race0710!A$33","v":26},{"$f":"Race0710!D$33","v":0},{"$f":"Race0710!C$33","v":0},{"$f":"Race0710!F$33","v":1}]
[null,{"$f":"Race0710!B$5","v":"Senior"},{"$f":"Race0710!B$4","v":"OC2"},{"$f":"Race0710!E$5","v":"Women"},{"$f":"Race0710!D$5","v":"Golden Masters"},{"$f":"Race0710!D$4","v":"Marathon"},{"$f":"Race0710!A$34","v":27},{"$f":"Race0710!D$34","v":0},{"$f":"Race0710!C$34","v":0},{"$f":"Race0710!F$34","v":1}]
[null,{"$f":"Race0710!B$5","v":"Senior"},{"$f":"Race0710!B$4","v":"OC2"},{"$f":"Race0710!E$5","v":"Women"},{"$f":"Race0710!D$5","v":"Golden Masters"},{"$f":"Race0710!D$4","v":"Marathon"},{"$f":"Race0710!A$35","v":28},{"$f":"Race0710!D$35","v":0},{"$f":"Race0710!C$35","v":0},{"$f":"Race0710!F$35","v":1}]
[null,{"$f":"Race0710!B$5","v":"Senior"},{"$f":"Race0710!B$4","v":"OC2"},{"$f":"Race0710!E$5","v":"Women"},{"$f":"Race0710!D$5","v":"Golden Masters"},{"$f":"Race0710!D$4","v":"Marathon"},{"$f":"Race0710!A$36","v":29},{"$f":"Race0710!D$36","v":0},{"$f":"Race0710!C$36","v":0},{"$f":"Race0710!F$36","v":1}]
[null,{"$f":"Race0710!B$5","v":"Senior"},{"$f":"Race0710!B$4","v":"OC2"},{"$f":"Race0710!E$5","v":"Women"},{"$f":"Race0710!D$5","v":"Golden Masters"},{"$f":"Race0710!D$4","v":"Marathon"},{"$f":"Race0710!A$37","v":30},{"$f":"Race0710!D$37","v":0},{"$f":"Race0710!C$37","v":0},{"$f":"Race0710!F$37","v":1}]
[null,{"$f":"Race0710!B$5","v":"Senior"},{"$f":"Race0710!B$4","v":"OC2"},{"$f":"Race0710!E$5","v":"Women"},{"$f":"Race0710!D$5","v":"Golden Masters"},{"$f":"Race0710!D$4","v":"Marathon"},{"$f":"Race0710!A$38","v":31},{"$f":"Race0710!D$38","v":0},{"$f":"Race0710!C$38","v":0},{"$f":"Race0710!F$38","v":1}]
[null,{"$f":"Race0710!B$5","v":"Senior"},{"$f":"Race0710!B$4","v":"OC2"},{"$f":"Race0710!E$5","v":"Women"},{"$f":"Race0710!D$5","v":"Golden Masters"},{"$f":"Race0710!D$4","v":"Marathon"},{"$f":"Race0710!A$39","v":32},{"$f":"Race0710!D$39","v":0},{"$f":"Race0710!C$39","v":0},{"$f":"Race0710!F$39","v":1}]
[null,{"$f":"Race0710!B$5","v":"Senior"},{"$f":"Race0710!B$4","v":"OC2"},{"$f":"Race0710!E$5","v":"Women"},{"$f":"Race0710!D$5","v":"Golden Masters"},{"$f":"Race0710!D$4","v":"Marathon"},{"$f":"Race0710!A$40","v":33},{"$f":"Race0710!D$40","v":0},{"$f":"Race0710!C$40","v":0},{"$f":"Race0710!F$40","v":1}]
[null,{"$f":"Race0710!B$5","v":"Senior"},{"$f":"Race0710!B$4","v":"OC2"},{"$f":"Race0710!E$5","v":"Women"},{"$f":"Race0710!D$5","v":"Golden Masters"},{"$f":"Race0710!D$4","v":"Marathon"},{"$f":"Race0710!A$41","v":34},{"$f":"Race0710!D$41","v":0},{"$f":"Race0710!C$41","v":0},{"$f":"Race0710!F$41","v":1}]
[null,{"$f":"Race0710!B$5","v":"Senior"},{"$f":"Race0710!B$4","v":"OC2"},{"$f":"Race0710!E$5","v":"Women"},{"$f":"Race0710!D$5","v":"Golden Masters"},{"$f":"Race0710!D$4","v":"Marathon"},{"$f":"Race0710!A$42","v":35},{"$f":"Race0710!D$42","v":0},{"$f":"Race0710!C$42","v":0},{"$f":"Race0710!F$42","v":1}]
[null,{"$f":"Race0710!B$5","v":"Senior"},{"$f":"Race0710!B$4","v":"OC2"},{"$f":"Race0710!E$5","v":"Women"},{"$f":"Race0710!D$5","v":"Golden Masters"},{"$f":"Race0710!D$4","v":"Marathon"},{"$f":"Race0710!A$43","v":36},{"$f":"Race0710!D$43","v":0},{"$f":"Race0710!C$43","v":0},{"$f":"Race0710!F$43","v":1}]
[null,{"$f":"Race0710!B$5","v":"Senior"},{"$f":"Race0710!B$4","v":"OC2"},{"$f":"Race0710!E$5","v":"Women"},{"$f":"Race0710!D$5","v":"Golden Masters"},{"$f":"Race0710!D$4","v":"Marathon"},{"$f":"Race0710!A$44","v":37},{"$f":"Race0710!D$44","v":0},{"$f":"Race0710!C$44","v":0},{"$f":"Race0710!F$44","v":1}]
[null,{"$f":"Race0710!B$5","v":"Senior"},{"$f":"Race0710!B$4","v":"OC2"},{"$f":"Race0710!E$5","v":"Women"},{"$f":"Race0710!D$5","v":"Golden Masters"},{"$f":"Race0710!D$4","v":"Marathon"},{"$f":"Race0710!A$45","v":38},{"$f":"Race0710!D$45","v":0},{"$f":"Race0710!C$45","v":0},{"$f":"Race0710!F$45","v":1}]
[null,{"$f":"Race0710!B$5","v":"Senior"},{"$f":"Race0710!B$4","v":"OC2"},{"$f":"Race0710!E$5","v":"Women"},{"$f":"Race0710!D$5","v":"Golden Masters"},{"$f":"Race0710!D$4","v":"Marathon"},{"$f":"Race0710!A$46","v":39},{"$f":"Race0710!D$46","v":0},{"$f":"Race0710!C$46","v":0},{"$f":"Race0710!F$46","v":1}]
[null,{"$f":"Race0710!B$5","v":"Senior"},{"$f":"Race0710!B$4","v":"OC2"},{"$f":"Race0710!E$5","v":"Women"},{"$f":"Race0710!D$5","v":"Golden Masters"},{"$f":"Race0710!D$4","v":"Marathon"},{"$f":"Race0710!A$47","v":40},{"$f":"Race0710!D$47","v":0},{"$f":"Race0710!C$47","v":0},{"$f":"Race0710!F$47","v":1}]
[null,{"$f":"Race0710!B$5","v":"Senior"},{"$f":"Race0710!B$4","v":"OC2"},{"$f":"Race0710!E$5","v":"Women"},{"$f":"Race0710!D$5","v":"Golden Masters"},{"$f":"Race0710!D$4","v":"Marathon"},{"$f":"Race0710!A$48","v":41},{"$f":"Race0710!D$48","v":0},{"$f":"Race0710!C$48","v":0},{"$f":"Race0710!F$48","v":1}]
[null,{"$f":"Race0710!B$5","v":"Senior"},{"$f":"Race0710!B$4","v":"OC2"},{"$f":"Race0710!E$5","v":"Women"},{"$f":"Race0710!D$5","v":"Golden Masters"},{"$f":"Race0710!D$4","v":"Marathon"},{"$f":"Race0710!A$49","v":42},{"$f":"Race0710!D$49","v":0},{"$f":"Race0710!C$49","v":0},{"$f":"Race0710!F$49","v":1}]
[null,{"$f":"Race0710!B$5","v":"Senior"},{"$f":"Race0710!B$4","v":"OC2"},{"$f":"Race0710!E$5","v":"Women"},{"$f":"Race0710!D$5","v":"Golden Masters"},{"$f":"Race0710!D$4","v":"Marathon"},{"$f":"Race0710!A$50","v":43},{"$f":"Race0710!D$50","v":0},{"$f":"Race0710!C$50","v":0},{"$f":"Race0710!F$50","v":1}]
[null,{"$f":"Race0710!B$5","v":"Senior"},{"$f":"Race0710!B$4","v":"OC2"},{"$f":"Race0710!E$5","v":"Women"},{"$f":"Race0710!D$5","v":"Golden Masters"},{"$f":"Race0710!D$4","v":"Marathon"},{"$f":"Race0710!A$51","v":44},{"$f":"Race0710!D$51","v":0},{"$f":"Race0710!C$51","v":0},{"$f":"Race0710!F$51","v":1}]
[null,{"$f":"Race0710!B$5","v":"Senior"},{"$f":"Race0710!B$4","v":"OC2"},{"$f":"Race0710!E$5","v":"Women"},{"$f":"Race0710!D$5","v":"Golden Masters"},{"$f":"Race0710!D$4","v":"Marathon"},{"$f":"Race0710!A$52","v":45},{"$f":"Race0710!D$52","v":0},{"$f":"Race0710!C$52","v":0},{"$f":"Race0710!F$52","v":1}]
[null,{"$f":"Race0710!B$5","v":"Senior"},{"$f":"Race0710!B$4","v":"OC2"},{"$f":"Race0710!E$5","v":"Women"},{"$f":"Race0710!D$5","v":"Golden Masters"},{"$f":"Race0710!D$4","v":"Marathon"},{"$f":"Race0710!A$53","v":46},{"$f":"Race0710!D$53","v":0},{"$f":"Race0710!C$53","v":0},{"$f":"Race0710!F$53","v":1}]
[null,{"$f":"Race0710!B$5","v":"Senior"},{"$f":"Race0710!B$4","v":"OC2"},{"$f":"Race0710!E$5","v":"Women"},{"$f":"Race0710!D$5","v":"Golden Masters"},{"$f":"Race0710!D$4","v":"Marathon"},{"$f":"Race0710!A$54","v":47},{"$f":"Race0710!D$54","v":0},{"$f":"Race0710!C$54","v":0},{"$f":"Race0710!F$54","v":1}]
[null,{"$f":"Race0710!B$5","v":"Senior"},{"$f":"Race0710!B$4","v":"OC2"},{"$f":"Race0710!E$5","v":"Women"},{"$f":"Race0710!D$5","v":"Golden Masters"},{"$f":"Race0710!D$4","v":"Marathon"},{"$f":"Race0710!A$55","v":48},{"$f":"Race0710!D$55","v":0},{"$f":"Race0710!C$55","v":0},{"$f":"Race0710!F$55","v":1}]
[null,{"$f":"Race0710!B$5","v":"Senior"},{"$f":"Race0710!B$4","v":"OC2"},{"$f":"Race0710!E$5","v":"Women"},{"$f":"Race0710!D$5","v":"Golden Masters"},{"$f":"Race0710!D$4","v":"Marathon"},{"$f":"Race0710!A$56","v":49},{"$f":"Race0710!D$56","v":0},{"$f":"Race0710!C$56","v":0},{"$f":"Race0710!F$56","v":1}]
[null,{"$f":"Race0710!B$5","v":"Senior"},{"$f":"Race0710!B$4","v":"OC2"},{"$f":"Race0710!E$5","v":"Women"},{"$f":"Race0710!D$5","v":"Golden Masters"},{"$f":"Race0710!D$4","v":"Marathon"},{"$f":"Race0710!A$57","v":50},{"$f":"Race0710!D$57","v":0},{"$f":"Race0710!C$57","v":0},{"$f":"Race0710!F$57","v":1}]
["Race0711",{"$f":"Race0711!B$5","v":"Senior"},{"$f":"Race0711!B$4","v":"OC2"},{"$f":"Race0711!E$5","v":"Mixed"},{"$f":"Race0711!D$5","v":"21 & Under"},{"$f":"Race0711!D$4","v":"Marathon"},{"$f":"Race0711!A$8","v":1},{"$f":"Race0711!D$8","v":0},{"$f":"Race0711!C$8","v":0},{"$f":"Race0711!F$8","v":9}]
[null,{"$f":"Race0711!B$5","v":"Senior"},{"$f":"Race0711!B$4","v":"OC2"},{"$f":"Race0711!E$5","v":"Mixed"},{"$f":"Race0711!D$5","v":"21 & Under"},{"$f":"Race0711!D$4","v":"Marathon"},{"$f":"Race0711!A$9","v":2},{"$f":"Race0711!D$9","v":0},{"$f":"Race0711!C$9","v":0},{"$f":"Race0711!F$9","v":7}]
[null,{"$f":"Race0711!B$5","v":"Senior"},{"$f":"Race0711!B$4","v":"OC2"},{"$f":"Race0711!E$5","v":"Mixed"},{"$f":"Race0711!D$5","v":"21 & Under"},{"$f":"Race0711!D$4","v":"Marathon"},{"$f":"Race0711!A$10","v":3},{"$f":"Race0711!D$10","v":0},{"$f":"Race0711!C$10","v":0},{"$f":"Race0711!F$10","v":5}]
[null,{"$f":"Race0711!B$5","v":"Senior"},{"$f":"Race0711!B$4","v":"OC2"},{"$f":"Race0711!E$5","v":"Mixed"},{"$f":"Race0711!D$5","v":"21 & Under"},{"$f":"Race0711!D$4","v":"Marathon"},{"$f":"Race0711!A$11","v":4},{"$f":"Race0711!D$11","v":0},{"$f":"Race0711!C$11","v":0},{"$f":"Race0711!F$11","v":3}]
[null,{"$f":"Race0711!B$5","v":"Senior"},{"$f":"Race0711!B$4","v":"OC2"},{"$f":"Race0711!E$5","v":"Mixed"},{"$f":"Race0711!D$5","v":"21 & Under"},{"$f":"Race0711!D$4","v":"Marathon"},{"$f":"Race0711!A$12","v":5},{"$f":"Race0711!D$12","v":0},{"$f":"Race0711!C$12","v":0},{"$f":"Race0711!F$12","v":2}]
[null,{"$f":"Race0711!B$5","v":"Senior"},{"$f":"Race0711!B$4","v":"OC2"},{"$f":"Race0711!E$5","v":"Mixed"},{"$f":"Race0711!D$5","v":"21 & Under"},{"$f":"Race0711!D$4","v":"Marathon"},{"$f":"Race0711!A$13","v":6},{"$f":"Race0711!D$13","v":0},{"$f":"Race0711!C$13","v":0},{"$f":"Race0711!F$13","v":1}]
[null,{"$f":"Race0711!B$5","v":"Senior"},{"$f":"Race0711!B$4","v":"OC2"},{"$f":"Race0711!E$5","v":"Mixed"},{"$f":"Race0711!D$5","v":"21 & Under"},{"$f":"Race0711!D$4","v":"Marathon"},{"$f":"Race0711!A$14","v":7},{"$f":"Race0711!D$14","v":0},{"$f":"Race0711!C$14","v":0},{"$f":"Race0711!F$14","v":1}]
[null,{"$f":"Race0711!B$5","v":"Senior"},{"$f":"Race0711!B$4","v":"OC2"},{"$f":"Race0711!E$5","v":"Mixed"},{"$f":"Race0711!D$5","v":"21 & Under"},{"$f":"Race0711!D$4","v":"Marathon"},{"$f":"Race0711!A$15","v":8},{"$f":"Race0711!D$15","v":0},{"$f":"Race0711!C$15","v":0},{"$f":"Race0711!F$15","v":1}]
[null,{"$f":"Race0711!B$5","v":"Senior"},{"$f":"Race0711!B$4","v":"OC2"},{"$f":"Race0711!E$5","v":"Mixed"},{"$f":"Race0711!D$5","v":"21 & Under"},{"$f":"Race0711!D$4","v":"Marathon"},{"$f":"Race0711!A$16","v":9},{"$f":"Race0711!D$16","v":0},{"$f":"Race0711!C$16","v":0},{"$f":"Race0711!F$16","v":1}]
[null,{"$f":"Race0711!B$5","v":"Senior"},{"$f":"Race0711!B$4","v":"OC2"},{"$f":"Race0711!E$5","v":"Mixed"},{"$f":"Race0711!D$5","v":"21 & Under"},{"$f":"Race0711!D$4","v":"Marathon"},{"$f":"Race0711!A$17","v":10},{"$f":"Race0711!D$17","v":0},{"$f":"Race0711!C$17","v":0},{"$f":"Race0711!F$17","v":1}]
[null,{"$f":"Race0711!B$5","v":"Senior"},{"$f":"Race0711!B$4","v":"OC2"},{"$f":"Race0711!E$5","v":"Mixed"},{"$f":"Race0711!D$5","v":"21 & Under"},{"$f":"Race0711!D$4","v":"Marathon"},{"$f":"Race0711!A$18","v":11},{"$f":"Race0711!D$18","v":0},{"$f":"Race0711!C$18","v":0},{"$f":"Race0711!F$18","v":1}]
[null,{"$f":"Race0711!B$5","v":"Senior"},{"$f":"Race0711!B$4","v":"OC2"},{"$f":"Race0711!E$5","v":"Mixed"},{"$f":"Race0711!D$5","v":"21 & Under"},{"$f":"Race0711!D$4","v":"Marathon"},{"$f":"Race0711!A$19","v":12},{"$f":"Race0711!D$19","v":0},{"$f":"Race0711!C$19","v":0},{"$f":"Race0711!F$19","v":1}]
[null,{"$f":"Race0711!B$5","v":"Senior"},{"$f":"Race0711!B$4","v":"OC2"},{"$f":"Race0711!E$5","v":"Mixed"},{"$f":"Race0711!D$5","v":"21 & Under"},{"$f":"Race0711!D$4","v":"Marathon"},{"$f":"Race0711!A$20","v":13},{"$f":"Race0711!D$20","v":0},{"$f":"Race0711!C$20","v":0},{"$f":"Race0711!F$20","v":1}]
[null,{"$f":"Race0711!B$5","v":"Senior"},{"$f":"Race0711!B$4","v":"OC2"},{"$f":"Race0711!E$5","v":"Mixed"},{"$f":"Race0711!D$5","v":"21 & Under"},{"$f":"Race0711!D$4","v":"Marathon"},{"$f":"Race0711!A$21","v":14},{"$f":"Race0711!D$21","v":0},{"$f":"Race0711!C$21","v":0},{"$f":"Race0711!F$21","v":1}]
[null,{"$f":"Race0711!B$5","v":"Senior"},{"$f":"Race0711!B$4","v":"OC2"},{"$f":"Race0711!E$5","v":"Mixed"},{"$f":"Race0711!D$5","v":"21 & Under"},{"$f":"Race0711!D$4","v":"Marathon"},{"$f":"Race0711!A$22","v":15},{"$f":"Race0711!D$22","v":0},{"$f":"Race0711!C$22","v":0},{"$f":"Race0711!F$22","v":1}]
[null,{"$f":"Race0711!B$5","v":"Senior"},{"$f":"Race0711!B$4","v":"OC2"},{"$f":"Race0711!E$5","v":"Mixed"},{"$f":"Race0711!D$5","v":"21 & Under"},{"$f":"Race0711!D$4","v":"Marathon"},{"$f":"Race0711!A$23","v":16},{"$f":"Race0711!D$23","v":0},{"$f":"Race0711!C$23","v":0},{"$f":"Race0711!F$23","v":1}]
[null,{"$f":"Race0711!B$5","v":"Senior"},{"$f":"Race0711!B$4","v":"OC2"},{"$f":"Race0711!E$5","v":"Mixed"},{"$f":"Race0711!D$5","v":"21 & Under"},{"$f":"Race0711!D$4","v":"Marathon"},{"$f":"Race0711!A$24","v":17},{"$f":"Race0711!D$24","v":0},{"$f":"Race0711!C$24","v":0},{"$f":"Race0711!F$24","v":1}]
[null,{"$f":"Race0711!B$5","v":"Senior"},{"$f":"Race0711!B$4","v":"OC2"},{"$f":"Race0711!E$5","v":"Mixed"},{"$f":"Race0711!D$5","v":"21 & Under"},{"$f":"Race0711!D$4","v":"Marathon"},{"$f":"Race0711!A$25","v":18},{"$f":"Race0711!D$25","v":0},{"$f":"Race0711!C$25","v":0},{"$f":"Race0711!F$25","v":1}]
[null,{"$f":"Race0711!B$5","v":"Senior"},{"$f":"Race0711!B$4","v":"OC2"},{"$f":"Race0711!E$5","v":"Mixed"},{"$f":"Race0711!D$5","v":"21 & Under"},{"$f":"Race0711!D$4","v":"Marathon"},{"$f":"Race0711!A$26","v":19},{"$f":"Race0711!D$26","v":0},{"$f":"Race0711!C$26","v":0},{"$f":"Race0711!F$26","v":1}]
[null,{"$f":"Race0711!B$5","v":"Senior"},{"$f":"Race0711!B$4","v":"OC2"},{"$f":"Race0711!E$5","v":"Mixed"},{"$f":"Race0711!D$5","v":"21 & Under"},{"$f":"Race0711!D$4","v":"Marathon"},{"$f":"Race0711!A$27","v":20},{"$f":"Race0711!D$27","v":0},{"$f":"Race0711!C$27","v":0},{"$f":"Race0711!F$27","v":1}]
[null,{"$f":"Race0711!B$5","v":"Senior"},{"$f":"Race0711!B$4","v":"OC2"},{"$f":"Race0711!E$5","v":"Mixed"},{"$f":"Race0711!D$5","v":"21 & Under"},{"$f":"Race0711!D$4","v":"Marathon"},{"$f":"Race0711!A$28","v":21},{"$f":"Race0711!D$28","v":0},{"$f":"Race0711!C$28","v":0},{"$f":"Race0711!F$28","v":1}]
[null,{"$f":"Race0711!B$5","v":"Senior"},{"$f":"Race0711!B$4","v":"OC2"},{"$f":"Race0711!E$5","v":"Mixed"},{"$f":"Race0711!D$5","v":"21 & Under"},{"$f":"Race0711!D$4","v":"Marathon"},{"$f":"Race0711!A$29","v":22},{"$f":"Race0711!D$29","v":0},{"$f":"Race0711!C$29","v":0},{"$f":"Race0711!F$29","v":1}]
[null,{"$f":"Race0711!B$5","v":"Senior"},{"$f":"Race0711!B$4","v":"OC2"},{"$f":"Race0711!E$5","v":"Mixed"},{"$f":"Race0711!D$5","v":"21 & Under"},{"$f":"Race0711!D$4","v":"Marathon"},{"$f":"Race0711!A$30","v":23},{"$f":"Race0711!D$30","v":0},{"$f":"Race0711!C$30","v":0},{"$f":"Race0711!F$30","v":1}]
[null,{"$f":"Race0711!B$5","v":"Senior"},{"$f":"Race0711!B$4","v":"OC2"},{"$f":"Race0711!E$5","v":"Mixed"},{"$f":"Race0711!D$5","v":"21 & Under"},{"$f":"Race0711!D$4","v":"Marathon"},{"$f":"Race0711!A$31","v":24},{"$f":"Race0711!D$31","v":0},{"$f":"Race0711!C$31","v":0},{"$f":"Race0711!F$31","v":1}]
[null,{"$f":"Race0711!B$5","v":"Senior"},{"$f":"Race0711!B$4","v":"OC2"},{"$f":"Race0711!E$5","v":"Mixed"},{"$f":"Race0711!D$5","v":"21 & Under"},{"$f":"Race0711!D$4","v":"Marathon"},{"$f":"Race0711!A$32","v":25},{"$f":"Race0711!D$32","v":0},{"$f":"Race0711!C$32","v":0},{"$f":"Race0711!F$32","v":1}]
[null,{"$f":"Race0711!B$5","v":"Senior"},{"$f":"Race0711!B$4","v":"OC2"},{"$f":"Race0711!E$5","v":"Mixed"},{"$f":"Race0711!D$5","v":"21 & Under"},{"$f":"Race0711!D$4","v":"Marathon"},{"$f":"Race0711!A$33","v":26},{"$f":"Race0711!D$33","v":0},{"$f":"Race0711!C$33","v":0},{"$f":"Race0711!F$33","v":1}]
[null,{"$f":"Race0711!B$5","v":"Senior"},{"$f":"Race0711!B$4","v":"OC2"},{"$f":"Race0711!E$5","v":"Mixed"},{"$f":"Race0711!D$5","v":"21 & Under"},{"$f":"Race0711!D$4","v":"Marathon"},{"$f":"Race0711!A$34","v":27},{"$f":"Race0711!D$34","v":0},{"$f":"Race0711!C$34","v":0},{"$f":"Race0711!F$34","v":1}]
[null,{"$f":"Race0711!B$5","v":"Senior"},{"$f":"Race0711!B$4","v":"OC2"},{"$f":"Race0711!E$5","v":"Mixed"},{"$f":"Race0711!D$5","v":"21 & Under"},{"$f":"Race0711!D$4","v":"Marathon"},{"$f":"Race0711!A$35","v":28},{"$f":"Race0711!D$35","v":0},{"$f":"Race0711!C$35","v":0},{"$f":"Race0711!F$35","v":1}]
[null,{"$f":"Race0711!B$5","v":"Senior"},{"$f":"Race0711!B$4","v":"OC2"},{"$f":"Race0711!E$5","v":"Mixed"},{"$f":"Race0711!D$5","v":"21 & Under"},{"$f":"Race0711!D$4","v":"Marathon"},{"$f":"Race0711!A$36","v":29},{"$f":"Race0711!D$36","v":0},{"$f":"Race0711!C$36","v":0},{"$f":"Race0711!F$36","v":1}]
[null,{"$f":"Race0711!B$5","v":"Senior"},{"$f":"Race0711!B$4","v":"OC2"},{"$f":"Race0711!E$5","v":"Mixed"},{"$f":"Race0711!D$5","v":"21 & Under"},{"$f":"Race0711!D$4","v":"Marathon"},{"$f":"Race0711!A$37","v":30},{"$f":"Race0711!D$37","v":0},{"$f":"Race0711!C$37","v":0},{"$f":"Race0711!F$37","v":1}]
[null,{"$f":"Race0711!B$5","v":"Senior"},{"$f":"Race0711!B$4","v":"OC2"},{"$f":"Race0711!E$5","v":"Mixed"},{"$f":"Race0711!D$5","v":"21 & Under"},{"$f":"Race0711!D$4","v":"Marathon"},{"$f":"Race0711!A$38","v":31},{"$f":"Race0711!D$38","v":0},{"$f":"Race0711!C$38","v":0},{"$f":"Race0711!F$38","v":1}]
[null,{"$f":"Race0711!B$5","v":"Senior"},{"$f":"Race0711!B$4","v":"OC2"},{"$f":"Race0711!E$5","v":"Mixed"},{"$f":"Race0711!D$5","v":"21 & Under"},{"$f":"Race0711!D$4","v":"Marathon"},{"$f":"Race0711!A$39","v":32},{"$f":"Race0711!D$39","v":0},{"$f":"Race0711!C$39","v":0},{"$f":"Race0711!F$39","v":1}]
[null,{"$f":"Race0711!B$5","v":"Senior"},{"$f":"Race0711!B$4","v":"OC2"},{"$f":"Race0711!E$5","v":"Mixed"},{"$f":"Race0711!D$5","v":"21 & Under"},{"$f":"Race0711!D$4","v":"Marathon"},{"$f":"Race0711!A$40","v":33},{"$f":"Race0711!D$40","v":0},{"$f":"Race0711!C$40","v":0},{"$f":"Race0711!F$40","v":1}]
[null,{"$f":"Race0711!B$5","v":"Senior"},{"$f":"Race0711!B$4","v":"OC2"},{"$f":"Race0711!E$5","v":"Mixed"},{"$f":"Race0711!D$5","v":"21 & Under"},{"$f":"Race0711!D$4","v":"Marathon"},{"$f":"Race0711!A$41","v":34},{"$f":"Race0711!D$41","v":0},{"$f":"Race0711!C$41","v":0},{"$f":"Race0711!F$41","v":1}]
[null,{"$f":"Race0711!B$5","v":"Senior"},{"$f":"Race0711!B$4","v":"OC2"},{"$f":"Race0711!E$5","v":"Mixed"},{"$f":"Race0711!D$5","v":"21 & Under"},{"$f":"Race0711!D$4","v":"Marathon"},{"$f":"Race0711!A$42","v":35},{"$f":"Race0711!D$42","v":0},{"$f":"Race0711!C$42","v":0},{"$f":"Race0711!F$42","v":1}]
[null,{"$f":"Race0711!B$5","v":"Senior"},{"$f":"Race0711!B$4","v":"OC2"},{"$f":"Race0711!E$5","v":"Mixed"},{"$f":"Race0711!D$5","v":"21 & Under"},{"$f":"Race0711!D$4","v":"Marathon"},{"$f":"Race0711!A$43","v":36},{"$f":"Race0711!D$43","v":0},{"$f":"Race0711!C$43","v":0},{"$f":"Race0711!F$43","v":1}]
[null,{"$f":"Race0711!B$5","v":"Senior"},{"$f":"Race0711!B$4","v":"OC2"},{"$f":"Race0711!E$5","v":"Mixed"},{"$f":"Race0711!D$5","v":"21 & Under"},{"$f":"Race0711!D$4","v":"Marathon"},{"$f":"Race0711!A$44","v":37},{"$f":"Race0711!D$44","v":0},{"$f":"Race0711!C$44","v":0},{"$f":"Race0711!F$44","v":1}]
[null,{"$f":"Race0711!B$5","v":"Senior"},{"$f":"Race0711!B$4","v":"OC2"},{"$f":"Race0711!E$5","v":"Mixed"},{"$f":"Race0711!D$5","v":"21 & Under"},{"$f":"Race0711!D$4","v":"Marathon"},{"$f":"Race0711!A$45","v":38},{"$f":"Race0711!D$45","v":0},{"$f":"Race0711!C$45","v":0},{"$f":"Race0711!F$45","v":1}]
[null,{"$f":"Race0711!B$5","v":"Senior"},{"$f":"Race0711!B$4","v":"OC2"},{"$f":"Race0711!E$5","v":"Mixed"},{"$f":"Race0711!D$5","v":"21 & Under"},{"$f":"Race0711!D$4","v":"Marathon"},{"$f":"Race0711!A$46","v":39},{"$f":"Race0711!D$46","v":0},{"$f":"Race0711!C$46","v":0},{"$f":"Race0711!F$46","v":1}]
[null,{"$f":"Race0711!B$5","v":"Senior"},{"$f":"Race0711!B$4","v":"OC2"},{"$f":"Race0711!E$5","v":"Mixed"},{"$f":"Race0711!D$5","v":"21 & Under"},{"$f":"Race0711!D$4","v":"Marathon"},{"$f":"Race0711!A$47","v":40},{"$f":"Race0711!D$47","v":0},{"$f":"Race0711!C$47","v":0},{"$f":"Race0711!F$47","v":1}]
[null,{"$f":"Race0711!B$5","v":"Senior"},{"$f":"Race0711!B$4","v":"OC2"},{"$f":"Race0711!E$5","v":"Mixed"},{"$f":"Race0711!D$5","v":"21 & Under"},{"$f":"Race0711!D$4","v":"Marathon"},{"$f":"Race0711!A$48","v":41},{"$f":"Race0711!D$48","v":0},{"$f":"Race0711!C$48","v":0},{"$f":"Race0711!F$48","v":1}]
[null,{"$f":"Race0711!B$5","v":"Senior"},{"$f":"Race0711!B$4","v":"OC2"},{"$f":"Race0711!E$5","v":"Mixed"},{"$f":"Race0711!D$5","v":"21 & Under"},{"$f":"Race0711!D$4","v":"Marathon"},{"$f":"Race0711!A$49","v":42},{"$f":"Race0711!D$49","v":0},{"$f":"Race0711!C$49","v":0},{"$f":"Race0711!F$49","v":1}]
[null,{"$f":"Race0711!B$5","v":"Senior"},{"$f":"Race0711!B$4","v":"OC2"},{"$f":"Race0711!E$5","v":"Mixed"},{"$f":"Race0711!D$5","v":"21 & Under"},{"$f":"Race0711!D$4","v":"Marathon"},{"$f":"Race0711!A$50","v":43},{"$f":"Race0711!D$50","v":0},{"$f":"Race0711!C$50","v":0},{"$f":"Race0711!F$50","v":1}]
[null,{"$f":"Race0711!B$5","v":"Senior"},{"$f":"Race0711!B$4","v":"OC2"},{"$f":"Race0711!E$5","v":"Mixed"},{"$f":"Race0711!D$5","v":"21 & Under"},{"$f":"Race0711!D$4","v":"Marathon"},{"$f":"Race0711!A$51","v":44},{"$f":"Race0711!D$51","v":0},{"$f":"Race0711!C$51","v":0},{"$f":"Race0711!F$51","v":1}]
[null,{"$f":"Race0711!B$5","v":"Senior"},{"$f":"Race0711!B$4","v":"OC2"},{"$f":"Race0711!E$5","v":"Mixed"},{"$f":"Race0711!D$5","v":"21 & Under"},{"$f":"Race0711!D$4","v":"Marathon"},{"$f":"Race0711!A$52","v":45},{"$f":"Race0711!D$52","v":0},{"$f":"Race0711!C$52","v":0},{"$f":"Race0711!F$52","v":1}]
[null,{"$f":"Race0711!B$5","v":"Senior"},{"$f":"Race0711!B$4","v":"OC2"},{"$f":"Race0711!E$5","v":"Mixed"},{"$f":"Race0711!D$5","v":"21 & Under"},{"$f":"Race0711!D$4","v":"Marathon"},{"$f":"Race0711!A$53","v":46},{"$f":"Race0711!D$53","v":0},{"$f":"Race0711!C$53","v":0},{"$f":"Race0711!F$53","v":1}]
[null,{"$f":"Race0711!B$5","v":"Senior"},{"$f":"Race0711!B$4","v":"OC2"},{"$f":"Race0711!E$5","v":"Mixed"},{"$f":"Race0711!D$5","v":"21 & Under"},{"$f":"Race0711!D$4","v":"Marathon"},{"$f":"Race0711!A$54","v":47},{"$f":"Race0711!D$54","v":0},{"$f":"Race0711!C$54","v":0},{"$f":"Race0711!F$54","v":1}]
[null,{"$f":"Race0711!B$5","v":"Senior"},{"$f":"Race0711!B$4","v":"OC2"},{"$f":"Race0711!E$5","v":"Mixed"},{"$f":"Race0711!D$5","v":"21 & Under"},{"$f":"Race0711!D$4","v":"Marathon"},{"$f":"Race0711!A$55","v":48},{"$f":"Race0711!D$55","v":0},{"$f":"Race0711!C$55","v":0},{"$f":"Race0711!F$55","v":1}]
[null,{"$f":"Race0711!B$5","v":"Senior"},{"$f":"Race0711!B$4","v":"OC2"},{"$f":"Race0711!E$5","v":"Mixed"},{"$f":"Race0711!D$5","v":"21 & Under"},{"$f":"Race0711!D$4","v":"Marathon"},{"$f":"Race0711!A$56","v":49},{"$f":"Race0711!D$56","v":0},{"$f":"Race0711!C$56","v":0},{"$f":"Race0711!F$56","v":1}]
[null,{"$f":"Race0711!B$5","v":"Senior"},{"$f":"Race0711!B$4","v":"OC2"},{"$f":"Race0711!E$5","v":"Mixed"},{"$f":"Race0711!D$5","v":"21 & Under"},{"$f":"Race0711!D$4","v":"Marathon"},{"$f":"Race0711!A$57","v":50},{"$f":"Race0711!D$57","v":0},{"$f":"Race0711!C$57","v":0},{"$f":"Race0711!F$57","v":1}]
["Race0712",{"$f":"Race0712!B$5","v":"Senior"},{"$f":"Race0712!B$4","v":"OC2"},{"$f":"Race0712!E$5","v":"Mixed"},{"$f":"Race0712!D$5","v":"Open"},{"$f":"Race0712!D$4","v":"Marathon"},{"$f":"Race0712!A$8","v":1},{"$f":"Race0712!D$8","v":0},{"$f":"Race0712!C$8","v":0},{"$f":"Race0712!F$8","v":9}]
[null,{"$f":"Race0712!B$5","v":"Senior"},{"$f":"Race0712!B$4","v":"OC2"},{"$f":"Race0712!E$5","v":"Mixed"},{"$f":"Race0712!D$5","v":"Open"},{"$f":"Race0712!D$4","v":"Marathon"},{"$f":"Race0712!A$9","v":2},{"$f":"Race0712!D$9","v":0},{"$f":"Race0712!C$9","v":0},{"$f":"Race0712!F$9","v":7}]
[null,{"$f":"Race0712!B$5","v":"Senior"},{"$f":"Race0712!B$4","v":"OC2"},{"$f":"Race0712!E$5","v":"Mixed"},{"$f":"Race0712!D$5","v":"Open"},{"$f":"Race0712!D$4","v":"Marathon"},{"$f":"Race0712!A$10","v":3},{"$f":"Race0712!D$10","v":0},{"$f":"Race0712!C$10","v":0},{"$f":"Race0712!F$10","v":5}]
[null,{"$f":"Race0712!B$5","v":"Senior"},{"$f":"Race0712!B$4","v":"OC2"},{"$f":"Race0712!E$5","v":"Mixed"},{"$f":"Race0712!D$5","v":"Open"},{"$f":"Race0712!D$4","v":"Marathon"},{"$f":"Race0712!A$11","v":4},{"$f":"Race0712!D$11","v":0},{"$f":"Race0712!C$11","v":0},{"$f":"Race0712!F$11","v":3}]
[null,{"$f":"Race0712!B$5","v":"Senior"},{"$f":"Race0712!B$4","v":"OC2"},{"$f":"Race0712!E$5","v":"Mixed"},{"$f":"Race0712!D$5","v":"Open"},{"$f":"Race0712!D$4","v":"Marathon"},{"$f":"Race0712!A$12","v":5},{"$f":"Race0712!D$12","v":0},{"$f":"Race0712!C$12","v":0},{"$f":"Race0712!F$12","v":2}]
[null,{"$f":"Race0712!B$5","v":"Senior"},{"$f":"Race0712!B$4","v":"OC2"},{"$f":"Race0712!E$5","v":"Mixed"},{"$f":"Race0712!D$5","v":"Open"},{"$f":"Race0712!D$4","v":"Marathon"},{"$f":"Race0712!A$13","v":6},{"$f":"Race0712!D$13","v":0},{"$f":"Race0712!C$13","v":0},{"$f":"Race0712!F$13","v":1}]
[null,{"$f":"Race0712!B$5","v":"Senior"},{"$f":"Race0712!B$4","v":"OC2"},{"$f":"Race0712!E$5","v":"Mixed"},{"$f":"Race0712!D$5","v":"Open"},{"$f":"Race0712!D$4","v":"Marathon"},{"$f":"Race0712!A$14","v":7},{"$f":"Race0712!D$14","v":0},{"$f":"Race0712!C$14","v":0},{"$f":"Race0712!F$14","v":1}]
[null,{"$f":"Race0712!B$5","v":"Senior"},{"$f":"Race0712!B$4","v":"OC2"},{"$f":"Race0712!E$5","v":"Mixed"},{"$f":"Race0712!D$5","v":"Open"},{"$f":"Race0712!D$4","v":"Marathon"},{"$f":"Race0712!A$15","v":8},{"$f":"Race0712!D$15","v":0},{"$f":"Race0712!C$15","v":0},{"$f":"Race0712!F$15","v":1}]
[null,{"$f":"Race0712!B$5","v":"Senior"},{"$f":"Race0712!B$4","v":"OC2"},{"$f":"Race0712!E$5","v":"Mixed"},{"$f":"Race0712!D$5","v":"Open"},{"$f":"Race0712!D$4","v":"Marathon"},{"$f":"Race0712!A$16","v":9},{"$f":"Race0712!D$16","v":0},{"$f":"Race0712!C$16","v":0},{"$f":"Race0712!F$16","v":1}]
[null,{"$f":"Race0712!B$5","v":"Senior"},{"$f":"Race0712!B$4","v":"OC2"},{"$f":"Race0712!E$5","v":"Mixed"},{"$f":"Race0712!D$5","v":"Open"},{"$f":"Race0712!D$4","v":"Marathon"},{"$f":"Race0712!A$17","v":10},{"$f":"Race0712!D$17","v":0},{"$f":"Race0712!C$17","v":0},{"$f":"Race0712!F$17","v":1}]
[null,{"$f":"Race0712!B$5","v":"Senior"},{"$f":"Race0712!B$4","v":"OC2"},{"$f":"Race0712!E$5","v":"Mixed"},{"$f":"Race0712!D$5","v":"Open"},{"$f":"Race0712!D$4","v":"Marathon"},{"$f":"Race0712!A$18","v":11},{"$f":"Race0712!D$18","v":0},{"$f":"Race0712!C$18","v":0},{"$f":"Race0712!F$18","v":1}]
[null,{"$f":"Race0712!B$5","v":"Senior"},{"$f":"Race0712!B$4","v":"OC2"},{"$f":"Race0712!E$5","v":"Mixed"},{"$f":"Race0712!D$5","v":"Open"},{"$f":"Race0712!D$4","v":"Marathon"},{"$f":"Race0712!A$19","v":12},{"$f":"Race0712!D$19","v":0},{"$f":"Race0712!C$19","v":0},{"$f":"Race0712!F$19","v":1}]
[null,{"$f":"Race0712!B$5","v":"Senior"},{"$f":"Race0712!B$4","v":"OC2"},{"$f":"Race0712!E$5","v":"Mixed"},{"$f":"Race0712!D$5","v":"Open"},{"$f":"Race0712!D$4","v":"Marathon"},{"$f":"Race0712!A$20","v":13},{"$f":"Race0712!D$20","v":0},{"$f":"Race0712!C$20","v":0},{"$f":"Race0712!F$20","v":1}]
[null,{"$f":"Race0712!B$5","v":"Senior"},{"$f":"Race0712!B$4","v":"OC2"},{"$f":"Race0712!E$5","v":"Mixed"},{"$f":"Race0712!D$5","v":"Open"},{"$f":"Race0712!D$4","v":"Marathon"},{"$f":"Race0712!A$21","v":14},{"$f":"Race0712!D$21","v":0},{"$f":"Race0712!C$21","v":0},{"$f":"Race0712!F$21","v":1}]
[null,{"$f":"Race0712!B$5","v":"Senior"},{"$f":"Race0712!B$4","v":"OC2"},{"$f":"Race0712!E$5","v":"Mixed"},{"$f":"Race0712!D$5","v":"Open"},{"$f":"Race0712!D$4","v":"Marathon"},{"$f":"Race0712!A$22","v":15},{"$f":"Race0712!D$22","v":0},{"$f":"Race0712!C$22","v":0},{"$f":"Race0712!F$22","v":1}]
[null,{"$f":"Race0712!B$5","v":"Senior"},{"$f":"Race0712!B$4","v":"OC2"},{"$f":"Race0712!E$5","v":"Mixed"},{"$f":"Race0712!D$5","v":"Open"},{"$f":"Race0712!D$4","v":"Marathon"},{"$f":"Race0712!A$23","v":16},{"$f":"Race0712!D$23","v":0},{"$f":"Race0712!C$23","v":0},{"$f":"Race0712!F$23","v":1}]
[null,{"$f":"Race0712!B$5","v":"Senior"},{"$f":"Race0712!B$4","v":"OC2"},{"$f":"Race0712!E$5","v":"Mixed"},{"$f":"Race0712!D$5","v":"Open"},{"$f":"Race0712!D$4","v":"Marathon"},{"$f":"Race0712!A$24","v":17},{"$f":"Race0712!D$24","v":0},{"$f":"Race0712!C$24","v":0},{"$f":"Race0712!F$24","v":1}]
[null,{"$f":"Race0712!B$5","v":"Senior"},{"$f":"Race0712!B$4","v":"OC2"},{"$f":"Race0712!E$5","v":"Mixed"},{"$f":"Race0712!D$5","v":"Open"},{"$f":"Race0712!D$4","v":"Marathon"},{"$f":"Race0712!A$25","v":18},{"$f":"Race0712!D$25","v":0},{"$f":"Race0712!C$25","v":0},{"$f":"Race0712!F$25","v":1}]
[null,{"$f":"Race0712!B$5","v":"Senior"},{"$f":"Race0712!B$4","v":"OC2"},{"$f":"Race0712!E$5","v":"Mixed"},{"$f":"Race0712!D$5","v":"Open"},{"$f":"Race0712!D$4","v":"Marathon"},{"$f":"Race0712!A$26","v":19},{"$f":"Race0712!D$26","v":0},{"$f":"Race0712!C$26","v":0},{"$f":"Race0712!F$26","v":1}]
[null,{"$f":"Race0712!B$5","v":"Senior"},{"$f":"Race0712!B$4","v":"OC2"},{"$f":"Race0712!E$5","v":"Mixed"},{"$f":"Race0712!D$5","v":"Open"},{"$f":"Race0712!D$4","v":"Marathon"},{"$f":"Race0712!A$27","v":20},{"$f":"Race0712!D$27","v":0},{"$f":"Race0712!C$27","v":0},{"$f":"Race0712!F$27","v":1}]
[null,{"$f":"Race0712!B$5","v":"Senior"},{"$f":"Race0712!B$4","v":"OC2"},{"$f":"Race0712!E$5","v":"Mixed"},{"$f":"Race0712!D$5","v":"Open"},{"$f":"Race0712!D$4","v":"Marathon"},{"$f":"Race0712!A$28","v":21},{"$f":"Race0712!D$28","v":0},{"$f":"Race0712!C$28","v":0},{"$f":"Race0712!F$28","v":1}]
[null,{"$f":"Race0712!B$5","v":"Senior"},{"$f":"Race0712!B$4","v":"OC2"},{"$f":"Race0712!E$5","v":"Mixed"},{"$f":"Race0712!D$5","v":"Open"},{"$f":"Race0712!D$4","v":"Marathon"},{"$f":"Race0712!A$29","v":22},{"$f":"Race0712!D$29","v":0},{"$f":"Race0712!C$29","v":0},{"$f":"Race0712!F$29","v":1}]
[null,{"$f":"Race0712!B$5","v":"Senior"},{"$f":"Race0712!B$4","v":"OC2"},{"$f":"Race0712!E$5","v":"Mixed"},{"$f":"Race0712!D$5","v":"Open"},{"$f":"Race0712!D$4","v":"Marathon"},{"$f":"Race0712!A$30","v":23},{"$f":"Race0712!D$30","v":0},{"$f":"Race0712!C$30","v":0},{"$f":"Race0712!F$30","v":1}]
[null,{"$f":"Race0712!B$5","v":"Senior"},{"$f":"Race0712!B$4","v":"OC2"},{"$f":"Race0712!E$5","v":"Mixed"},{"$f":"Race0712!D$5","v":"Open"},{"$f":"Race0712!D$4","v":"Marathon"},{"$f":"Race0712!A$31","v":24},{"$f":"Race0712!D$31","v":0},{"$f":"Race0712!C$31","v":0},{"$f":"Race0712!F$31","v":1}]
[null,{"$f":"Race0712!B$5","v":"Senior"},{"$f":"Race0712!B$4","v":"OC2"},{"$f":"Race0712!E$5","v":"Mixed"},{"$f":"Race0712!D$5","v":"Open"},{"$f":"Race0712!D$4","v":"Marathon"},{"$f":"Race0712!A$32","v":25},{"$f":"Race0712!D$32","v":0},{"$f":"Race0712!C$32","v":0},{"$f":"Race0712!F$32","v":1}]
[null,{"$f":"Race0712!B$5","v":"Senior"},{"$f":"Race0712!B$4","v":"OC2"},{"$f":"Race0712!E$5","v":"Mixed"},{"$f":"Race0712!D$5","v":"Open"},{"$f":"Race0712!D$4","v":"Marathon"},{"$f":"Race0712!A$33","v":26},{"$f":"Race0712!D$33","v":0},{"$f":"Race0712!C$33","v":0},{"$f":"Race0712!F$33","v":1}]
[null,{"$f":"Race0712!B$5","v":"Senior"},{"$f":"Race0712!B$4","v":"OC2"},{"$f":"Race0712!E$5","v":"Mixed"},{"$f":"Race0712!D$5","v":"Open"},{"$f":"Race0712!D$4","v":"Marathon"},{"$f":"Race0712!A$34","v":27},{"$f":"Race0712!D$34","v":0},{"$f":"Race0712!C$34","v":0},{"$f":"Race0712!F$34","v":1}]
[null,{"$f":"Race0712!B$5","v":"Senior"},{"$f":"Race0712!B$4","v":"OC2"},{"$f":"Race0712!E$5","v":"Mixed"},{"$f":"Race0712!D$5","v":"Open"},{"$f":"Race0712!D$4","v":"Marathon"},{"$f":"Race0712!A$35","v":28},{"$f":"Race0712!D$35","v":0},{"$f":"Race0712!C$35","v":0},{"$f":"Race0712!F$35","v":1}]
[null,{"$f":"Race0712!B$5","v":"Senior"},{"$f":"Race0712!B$4","v":"OC2"},{"$f":"Race0712!E$5","v":"Mixed"},{"$f":"Race0712!D$5","v":"Open"},{"$f":"Race0712!D$4","v":"Marathon"},{"$f":"Race0712!A$36","v":29},{"$f":"Race0712!D$36","v":0},{"$f":"Race0712!C$36","v":0},{"$f":"Race0712!F$36","v":1}]
[null,{"$f":"Race0712!B$5","v":"Senior"},{"$f":"Race0712!B$4","v":"OC2"},{"$f":"Race0712!E$5","v":"Mixed"},{"$f":"Race0712!D$5","v":"Open"},{"$f":"Race0712!D$4","v":"Marathon"},{"$f":"Race0712!A$37","v":30},{"$f":"Race0712!D$37","v":0},{"$f":"Race0712!C$37","v":0},{"$f":"Race0712!F$37","v":1}]
[null,{"$f":"Race0712!B$5","v":"Senior"},{"$f":"Race0712!B$4","v":"OC2"},{"$f":"Race0712!E$5","v":"Mixed"},{"$f":"Race0712!D$5","v":"Open"},{"$f":"Race0712!D$4","v":"Marathon"},{"$f":"Race0712!A$38","v":31},{"$f":"Race0712!D$38","v":0},{"$f":"Race0712!C$38","v":0},{"$f":"Race0712!F$38","v":1}]
[null,{"$f":"Race0712!B$5","v":"Senior"},{"$f":"Race0712!B$4","v":"OC2"},{"$f":"Race0712!E$5","v":"Mixed"},{"$f":"Race0712!D$5","v":"Open"},{"$f":"Race0712!D$4","v":"Marathon"},{"$f":"Race0712!A$39","v":32},{"$f":"Race0712!D$39","v":0},{"$f":"Race0712!C$39","v":0},{"$f":"Race0712!F$39","v":1}]
[null,{"$f":"Race0712!B$5","v":"Senior"},{"$f":"Race0712!B$4","v":"OC2"},{"$f":"Race0712!E$5","v":"Mixed"},{"$f":"Race0712!D$5","v":"Open"},{"$f":"Race0712!D$4","v":"Marathon"},{"$f":"Race0712!A$40","v":33},{"$f":"Race0712!D$40","v":0},{"$f":"Race0712!C$40","v":0},{"$f":"Race0712!F$40","v":1}]
[null,{"$f":"Race0712!B$5","v":"Senior"},{"$f":"Race0712!B$4","v":"OC2"},{"$f":"Race0712!E$5","v":"Mixed"},{"$f":"Race0712!D$5","v":"Open"},{"$f":"Race0712!D$4","v":"Marathon"},{"$f":"Race0712!A$41","v":34},{"$f":"Race0712!D$41","v":0},{"$f":"Race0712!C$41","v":0},{"$f":"Race0712!F$41","v":1}]
[null,{"$f":"Race0712!B$5","v":"Senior"},{"$f":"Race0712!B$4","v":"OC2"},{"$f":"Race0712!E$5","v":"Mixed"},{"$f":"Race0712!D$5","v":"Open"},{"$f":"Race0712!D$4","v":"Marathon"},{"$f":"Race0712!A$42","v":35},{"$f":"Race0712!D$42","v":0},{"$f":"Race0712!C$42","v":0},{"$f":"Race0712!F$42","v":1}]
[null,{"$f":"Race0712!B$5","v":"Senior"},{"$f":"Race0712!B$4","v":"OC2"},{"$f":"Race0712!E$5","v":"Mixed"},{"$f":"Race0712!D$5","v":"Open"},{"$f":"Race0712!D$4","v":"Marathon"},{"$f":"Race0712!A$43","v":36},{"$f":"Race0712!D$43","v":0},{"$f":"Race0712!C$43","v":0},{"$f":"Race0712!F$43","v":1}]
[null,{"$f":"Race0712!B$5","v":"Senior"},{"$f":"Race0712!B$4","v":"OC2"},{"$f":"Race0712!E$5","v":"Mixed"},{"$f":"Race0712!D$5","v":"Open"},{"$f":"Race0712!D$4","v":"Marathon"},{"$f":"Race0712!A$44","v":37},{"$f":"Race0712!D$44","v":0},{"$f":"Race0712!C$44","v":0},{"$f":"Race0712!F$44","v":1}]
[null,{"$f":"Race0712!B$5","v":"Senior"},{"$f":"Race0712!B$4","v":"OC2"},{"$f":"Race0712!E$5","v":"Mixed"},{"$f":"Race0712!D$5","v":"Open"},{"$f":"Race0712!D$4","v":"Marathon"},{"$f":"Race0712!A$45","v":38},{"$f":"Race0712!D$45","v":0},{"$f":"Race0712!C$45","v":0},{"$f":"Race0712!F$45","v":1}]
[null,{"$f":"Race0712!B$5","v":"Senior"},{"$f":"Race0712!B$4","v":"OC2"},{"$f":"Race0712!E$5","v":"Mixed"},{"$f":"Race0712!D$5","v":"Open"},{"$f":"Race0712!D$4","v":"Marathon"},{"$f":"Race0712!A$46","v":39},{"$f":"Race0712!D$46","v":0},{"$f":"Race0712!C$46","v":0},{"$f":"Race0712!F$46","v":1}]
[null,{"$f":"Race0712!B$5","v":"Senior"},{"$f":"Race0712!B$4","v":"OC2"},{"$f":"Race0712!E$5","v":"Mixed"},{"$f":"Race0712!D$5","v":"Open"},{"$f":"Race0712!D$4","v":"Marathon"},{"$f":"Race0712!A$47","v":40},{"$f":"Race0712!D$47","v":0},{"$f":"Race0712!C$47","v":0},{"$f":"Race0712!F$47","v":1}]
[null,{"$f":"Race0712!B$5","v":"Senior"},{"$f":"Race0712!B$4","v":"OC2"},{"$f":"Race0712!E$5","v":"Mixed"},{"$f":"Race0712!D$5","v":"Open"},{"$f":"Race0712!D$4","v":"Marathon"},{"$f":"Race0712!A$48","v":41},{"$f":"Race0712!D$48","v":0},{"$f":"Race0712!C$48","v":0},{"$f":"Race0712!F$48","v":1}]
[null,{"$f":"Race0712!B$5","v":"Senior"},{"$f":"Race0712!B$4","v":"OC2"},{"$f":"Race0712!E$5","v":"Mixed"},{"$f":"Race0712!D$5","v":"Open"},{"$f":"Race0712!D$4","v":"Marathon"},{"$f":"Race0712!A$49","v":42},{"$f":"Race0712!D$49","v":0},{"$f":"Race0712!C$49","v":0},{"$f":"Race0712!F$49","v":1}]
[null,{"$f":"Race0712!B$5","v":"Senior"},{"$f":"Race0712!B$4","v":"OC2"},{"$f":"Race0712!E$5","v":"Mixed"},{"$f":"Race0712!D$5","v":"Open"},{"$f":"Race0712!D$4","v":"Marathon"},{"$f":"Race0712!A$50","v":43},{"$f":"Race0712!D$50","v":0},{"$f":"Race0712!C$50","v":0},{"$f":"Race0712!F$50","v":1}]
[null,{"$f":"Race0712!B$5","v":"Senior"},{"$f":"Race0712!B$4","v":"OC2"},{"$f":"Race0712!E$5","v":"Mixed"},{"$f":"Race0712!D$5","v":"Open"},{"$f":"Race0712!D$4","v":"Marathon"},{"$f":"Race0712!A$51","v":44},{"$f":"Race0712!D$51","v":0},{"$f":"Race0712!C$51","v":0},{"$f":"Race0712!F$51","v":1}]
[null,{"$f":"Race0712!B$5","v":"Senior"},{"$f":"Race0712!B$4","v":"OC2"},{"$f":"Race0712!E$5","v":"Mixed"},{"$f":"Race0712!D$5","v":"Open"},{"$f":"Race0712!D$4","v":"Marathon"},{"$f":"Race0712!A$52","v":45},{"$f":"Race0712!D$52","v":0},{"$f":"Race0712!C$52","v":0},{"$f":"Race0712!F$52","v":1}]
[null,{"$f":"Race0712!B$5","v":"Senior"},{"$f":"Race0712!B$4","v":"OC2"},{"$f":"Race0712!E$5","v":"Mixed"},{"$f":"Race0712!D$5","v":"Open"},{"$f":"Race0712!D$4","v":"Marathon"},{"$f":"Race0712!A$53","v":46},{"$f":"Race0712!D$53","v":0},{"$f":"Race0712!C$53","v":0},{"$f":"Race0712!F$53","v":1}]
[null,{"$f":"Race0712!B$5","v":"Senior"},{"$f":"Race0712!B$4","v":"OC2"},{"$f":"Race0712!E$5","v":"Mixed"},{"$f":"Race0712!D$5","v":"Open"},{"$f":"Race0712!D$4","v":"Marathon"},{"$f":"Race0712!A$54","v":47},{"$f":"Race0712!D$54","v":0},{"$f":"Race0712!C$54","v":0},{"$f":"Race0712!F$54","v":1}]
[null,{"$f":"Race0712!B$5","v":"Senior"},{"$f":"Race0712!B$4","v":"OC2"},{"$f":"Race0712!E$5","v":"Mixed"},{"$f":"Race0712!D$5","v":"Open"},{"$f":"Race0712!D$4","v":"Marathon"},{"$f":"Race0712!A$55","v":48},{"$f":"Race0712!D$55","v":0},{"$f":"Race0712!C$55","v":0},{"$f":"Race0712!F$55","v":1}]
[null,{"$f":"Race0712!B$5","v":"Senior"},{"$f":"Race0712!B$4","v":"OC2"},{"$f":"Race0712!E$5","v":"Mixed"},{"$f":"Race0712!D$5","v":"Open"},{"$f":"Race0712!D$4","v":"Marathon"},{"$f":"Race0712!A$56","v":49},{"$f":"Race0712!D$56","v":0},{"$f":"Race0712!C$56","v":0},{"$f":"Race0712!F$56","v":1}]
[null,{"$f":"Race0712!B$5","v":"Senior"},{"$f":"Race0712!B$4","v":"OC2"},{"$f":"Race0712!E$5","v":"Mixed"},{"$f":"Race0712!D$5","v":"Open"},{"$f":"Race0712!D$4","v":"Marathon"},{"$f":"Race0712!A$57","v":50},{"$f":"Race0712!D$57","v":0},{"$f":"Race0712!C$57","v":0},{"$f":"Race0712!F$57","v":1}]
["Race0713",{"$f":"Race0713!B$5","v":"Senior"},{"$f":"Race0713!B$4","v":"OC2"},{"$f":"Race0713!E$5","v":"Mixed"},{"$f":"Race0713!D$5","v":"Masters"},{"$f":"Race0713!D$4","v":"Marathon"},{"$f":"Race0713!A$8","v":1},{"$f":"Race0713!D$8","v":0},{"$f":"Race0713!C$8","v":0},{"$f":"Race0713!F$8","v":9}]
[null,{"$f":"Race0713!B$5","v":"Senior"},{"$f":"Race0713!B$4","v":"OC2"},{"$f":"Race0713!E$5","v":"Mixed"},{"$f":"Race0713!D$5","v":"Masters"},{"$f":"Race0713!D$4","v":"Marathon"},{"$f":"Race0713!A$9","v":2},{"$f":"Race0713!D$9","v":0},{"$f":"Race0713!C$9","v":0},{"$f":"Race0713!F$9","v":7}]
[null,{"$f":"Race0713!B$5","v":"Senior"},{"$f":"Race0713!B$4","v":"OC2"},{"$f":"Race0713!E$5","v":"Mixed"},{"$f":"Race0713!D$5","v":"Masters"},{"$f":"Race0713!D$4","v":"Marathon"},{"$f":"Race0713!A$10","v":3},{"$f":"Race0713!D$10","v":0},{"$f":"Race0713!C$10","v":0},{"$f":"Race0713!F$10","v":5}]
[null,{"$f":"Race0713!B$5","v":"Senior"},{"$f":"Race0713!B$4","v":"OC2"},{"$f":"Race0713!E$5","v":"Mixed"},{"$f":"Race0713!D$5","v":"Masters"},{"$f":"Race0713!D$4","v":"Marathon"},{"$f":"Race0713!A$11","v":4},{"$f":"Race0713!D$11","v":0},{"$f":"Race0713!C$11","v":0},{"$f":"Race0713!F$11","v":3}]
[null,{"$f":"Race0713!B$5","v":"Senior"},{"$f":"Race0713!B$4","v":"OC2"},{"$f":"Race0713!E$5","v":"Mixed"},{"$f":"Race0713!D$5","v":"Masters"},{"$f":"Race0713!D$4","v":"Marathon"},{"$f":"Race0713!A$12","v":5},{"$f":"Race0713!D$12","v":0},{"$f":"Race0713!C$12","v":0},{"$f":"Race0713!F$12","v":2}]
[null,{"$f":"Race0713!B$5","v":"Senior"},{"$f":"Race0713!B$4","v":"OC2"},{"$f":"Race0713!E$5","v":"Mixed"},{"$f":"Race0713!D$5","v":"Masters"},{"$f":"Race0713!D$4","v":"Marathon"},{"$f":"Race0713!A$13","v":6},{"$f":"Race0713!D$13","v":0},{"$f":"Race0713!C$13","v":0},{"$f":"Race0713!F$13","v":1}]
[null,{"$f":"Race0713!B$5","v":"Senior"},{"$f":"Race0713!B$4","v":"OC2"},{"$f":"Race0713!E$5","v":"Mixed"},{"$f":"Race0713!D$5","v":"Masters"},{"$f":"Race0713!D$4","v":"Marathon"},{"$f":"Race0713!A$14","v":7},{"$f":"Race0713!D$14","v":0},{"$f":"Race0713!C$14","v":0},{"$f":"Race0713!F$14","v":1}]
[null,{"$f":"Race0713!B$5","v":"Senior"},{"$f":"Race0713!B$4","v":"OC2"},{"$f":"Race0713!E$5","v":"Mixed"},{"$f":"Race0713!D$5","v":"Masters"},{"$f":"Race0713!D$4","v":"Marathon"},{"$f":"Race0713!A$15","v":8},{"$f":"Race0713!D$15","v":0},{"$f":"Race0713!C$15","v":0},{"$f":"Race0713!F$15","v":1}]
[null,{"$f":"Race0713!B$5","v":"Senior"},{"$f":"Race0713!B$4","v":"OC2"},{"$f":"Race0713!E$5","v":"Mixed"},{"$f":"Race0713!D$5","v":"Masters"},{"$f":"Race0713!D$4","v":"Marathon"},{"$f":"Race0713!A$16","v":9},{"$f":"Race0713!D$16","v":0},{"$f":"Race0713!C$16","v":0},{"$f":"Race0713!F$16","v":1}]
[null,{"$f":"Race0713!B$5","v":"Senior"},{"$f":"Race0713!B$4","v":"OC2"},{"$f":"Race0713!E$5","v":"Mixed"},{"$f":"Race0713!D$5","v":"Masters"},{"$f":"Race0713!D$4","v":"Marathon"},{"$f":"Race0713!A$17","v":10},{"$f":"Race0713!D$17","v":0},{"$f":"Race0713!C$17","v":0},{"$f":"Race0713!F$17","v":1}]
[null,{"$f":"Race0713!B$5","v":"Senior"},{"$f":"Race0713!B$4","v":"OC2"},{"$f":"Race0713!E$5","v":"Mixed"},{"$f":"Race0713!D$5","v":"Masters"},{"$f":"Race0713!D$4","v":"Marathon"},{"$f":"Race0713!A$18","v":11},{"$f":"Race0713!D$18","v":0},{"$f":"Race0713!C$18","v":0},{"$f":"Race0713!F$18","v":1}]
[null,{"$f":"Race0713!B$5","v":"Senior"},{"$f":"Race0713!B$4","v":"OC2"},{"$f":"Race0713!E$5","v":"Mixed"},{"$f":"Race0713!D$5","v":"Masters"},{"$f":"Race0713!D$4","v":"Marathon"},{"$f":"Race0713!A$19","v":12},{"$f":"Race0713!D$19","v":0},{"$f":"Race0713!C$19","v":0},{"$f":"Race0713!F$19","v":1}]
[null,{"$f":"Race0713!B$5","v":"Senior"},{"$f":"Race0713!B$4","v":"OC2"},{"$f":"Race0713!E$5","v":"Mixed"},{"$f":"Race0713!D$5","v":"Masters"},{"$f":"Race0713!D$4","v":"Marathon"},{"$f":"Race0713!A$20","v":13},{"$f":"Race0713!D$20","v":0},{"$f":"Race0713!C$20","v":0},{"$f":"Race0713!F$20","v":1}]
[null,{"$f":"Race0713!B$5","v":"Senior"},{"$f":"Race0713!B$4","v":"OC2"},{"$f":"Race0713!E$5","v":"Mixed"},{"$f":"Race0713!D$5","v":"Masters"},{"$f":"Race0713!D$4","v":"Marathon"},{"$f":"Race0713!A$21","v":14},{"$f":"Race0713!D$21","v":0},{"$f":"Race0713!C$21","v":0},{"$f":"Race0713!F$21","v":1}]
[null,{"$f":"Race0713!B$5","v":"Senior"},{"$f":"Race0713!B$4","v":"OC2"},{"$f":"Race0713!E$5","v":"Mixed"},{"$f":"Race0713!D$5","v":"Masters"},{"$f":"Race0713!D$4","v":"Marathon"},{"$f":"Race0713!A$22","v":15},{"$f":"Race0713!D$22","v":0},{"$f":"Race0713!C$22","v":0},{"$f":"Race0713!F$22","v":1}]
[null,{"$f":"Race0713!B$5","v":"Senior"},{"$f":"Race0713!B$4","v":"OC2"},{"$f":"Race0713!E$5","v":"Mixed"},{"$f":"Race0713!D$5","v":"Masters"},{"$f":"Race0713!D$4","v":"Marathon"},{"$f":"Race0713!A$23","v":16},{"$f":"Race0713!D$23","v":0},{"$f":"Race0713!C$23","v":0},{"$f":"Race0713!F$23","v":1}]
[null,{"$f":"Race0713!B$5","v":"Senior"},{"$f":"Race0713!B$4","v":"OC2"},{"$f":"Race0713!E$5","v":"Mixed"},{"$f":"Race0713!D$5","v":"Masters"},{"$f":"Race0713!D$4","v":"Marathon"},{"$f":"Race0713!A$24","v":17},{"$f":"Race0713!D$24","v":0},{"$f":"Race0713!C$24","v":0},{"$f":"Race0713!F$24","v":1}]
[null,{"$f":"Race0713!B$5","v":"Senior"},{"$f":"Race0713!B$4","v":"OC2"},{"$f":"Race0713!E$5","v":"Mixed"},{"$f":"Race0713!D$5","v":"Masters"},{"$f":"Race0713!D$4","v":"Marathon"},{"$f":"Race0713!A$25","v":18},{"$f":"Race0713!D$25","v":0},{"$f":"Race0713!C$25","v":0},{"$f":"Race0713!F$25","v":1}]
[null,{"$f":"Race0713!B$5","v":"Senior"},{"$f":"Race0713!B$4","v":"OC2"},{"$f":"Race0713!E$5","v":"Mixed"},{"$f":"Race0713!D$5","v":"Masters"},{"$f":"Race0713!D$4","v":"Marathon"},{"$f":"Race0713!A$26","v":19},{"$f":"Race0713!D$26","v":0},{"$f":"Race0713!C$26","v":0},{"$f":"Race0713!F$26","v":1}]
[null,{"$f":"Race0713!B$5","v":"Senior"},{"$f":"Race0713!B$4","v":"OC2"},{"$f":"Race0713!E$5","v":"Mixed"},{"$f":"Race0713!D$5","v":"Masters"},{"$f":"Race0713!D$4","v":"Marathon"},{"$f":"Race0713!A$27","v":20},{"$f":"Race0713!D$27","v":0},{"$f":"Race0713!C$27","v":0},{"$f":"Race0713!F$27","v":1}]
[null,{"$f":"Race0713!B$5","v":"Senior"},{"$f":"Race0713!B$4","v":"OC2"},{"$f":"Race0713!E$5","v":"Mixed"},{"$f":"Race0713!D$5","v":"Masters"},{"$f":"Race0713!D$4","v":"Marathon"},{"$f":"Race0713!A$28","v":21},{"$f":"Race0713!D$28","v":0},{"$f":"Race0713!C$28","v":0},{"$f":"Race0713!F$28","v":1}]
[null,{"$f":"Race0713!B$5","v":"Senior"},{"$f":"Race0713!B$4","v":"OC2"},{"$f":"Race0713!E$5","v":"Mixed"},{"$f":"Race0713!D$5","v":"Masters"},{"$f":"Race0713!D$4","v":"Marathon"},{"$f":"Race0713!A$29","v":22},{"$f":"Race0713!D$29","v":0},{"$f":"Race0713!C$29","v":0},{"$f":"Race0713!F$29","v":1}]
[null,{"$f":"Race0713!B$5","v":"Senior"},{"$f":"Race0713!B$4","v":"OC2"},{"$f":"Race0713!E$5","v":"Mixed"},{"$f":"Race0713!D$5","v":"Masters"},{"$f":"Race0713!D$4","v":"Marathon"},{"$f":"Race0713!A$30","v":23},{"$f":"Race0713!D$30","v":0},{"$f":"Race0713!C$30","v":0},{"$f":"Race0713!F$30","v":1}]
[null,{"$f":"Race0713!B$5","v":"Senior"},{"$f":"Race0713!B$4","v":"OC2"},{"$f":"Race0713!E$5","v":"Mixed"},{"$f":"Race0713!D$5","v":"Masters"},{"$f":"Race0713!D$4","v":"Marathon"},{"$f":"Race0713!A$31","v":24},{"$f":"Race0713!D$31","v":0},{"$f":"Race0713!C$31","v":0},{"$f":"Race0713!F$31","v":1}]
[null,{"$f":"Race0713!B$5","v":"Senior"},{"$f":"Race0713!B$4","v":"OC2"},{"$f":"Race0713!E$5","v":"Mixed"},{"$f":"Race0713!D$5","v":"Masters"},{"$f":"Race0713!D$4","v":"Marathon"},{"$f":"Race0713!A$32","v":25},{"$f":"Race0713!D$32","v":0},{"$f":"Race0713!C$32","v":0},{"$f":"Race0713!F$32","v":1}]
[null,{"$f":"Race0713!B$5","v":"Senior"},{"$f":"Race0713!B$4","v":"OC2"},{"$f":"Race0713!E$5","v":"Mixed"},{"$f":"Race0713!D$5","v":"Masters"},{"$f":"Race0713!D$4","v":"Marathon"},{"$f":"Race0713!A$33","v":26},{"$f":"Race0713!D$33","v":0},{"$f":"Race0713!C$33","v":0},{"$f":"Race0713!F$33","v":1}]
[null,{"$f":"Race0713!B$5","v":"Senior"},{"$f":"Race0713!B$4","v":"OC2"},{"$f":"Race0713!E$5","v":"Mixed"},{"$f":"Race0713!D$5","v":"Masters"},{"$f":"Race0713!D$4","v":"Marathon"},{"$f":"Race0713!A$34","v":27},{"$f":"Race0713!D$34","v":0},{"$f":"Race0713!C$34","v":0},{"$f":"Race0713!F$34","v":1}]
[null,{"$f":"Race0713!B$5","v":"Senior"},{"$f":"Race0713!B$4","v":"OC2"},{"$f":"Race0713!E$5","v":"Mixed"},{"$f":"Race0713!D$5","v":"Masters"},{"$f":"Race0713!D$4","v":"Marathon"},{"$f":"Race0713!A$35","v":28},{"$f":"Race0713!D$35","v":0},{"$f":"Race0713!C$35","v":0},{"$f":"Race0713!F$35","v":1}]
[null,{"$f":"Race0713!B$5","v":"Senior"},{"$f":"Race0713!B$4","v":"OC2"},{"$f":"Race0713!E$5","v":"Mixed"},{"$f":"Race0713!D$5","v":"Masters"},{"$f":"Race0713!D$4","v":"Marathon"},{"$f":"Race0713!A$36","v":29},{"$f":"Race0713!D$36","v":0},{"$f":"Race0713!C$36","v":0},{"$f":"Race0713!F$36","v":1}]
[null,{"$f":"Race0713!B$5","v":"Senior"},{"$f":"Race0713!B$4","v":"OC2"},{"$f":"Race0713!E$5","v":"Mixed"},{"$f":"Race0713!D$5","v":"Masters"},{"$f":"Race0713!D$4","v":"Marathon"},{"$f":"Race0713!A$37","v":30},{"$f":"Race0713!D$37","v":0},{"$f":"Race0713!C$37","v":0},{"$f":"Race0713!F$37","v":1}]
[null,{"$f":"Race0713!B$5","v":"Senior"},{"$f":"Race0713!B$4","v":"OC2"},{"$f":"Race0713!E$5","v":"Mixed"},{"$f":"Race0713!D$5","v":"Masters"},{"$f":"Race0713!D$4","v":"Marathon"},{"$f":"Race0713!A$38","v":31},{"$f":"Race0713!D$38","v":0},{"$f":"Race0713!C$38","v":0},{"$f":"Race0713!F$38","v":1}]
[null,{"$f":"Race0713!B$5","v":"Senior"},{"$f":"Race0713!B$4","v":"OC2"},{"$f":"Race0713!E$5","v":"Mixed"},{"$f":"Race0713!D$5","v":"Masters"},{"$f":"Race0713!D$4","v":"Marathon"},{"$f":"Race0713!A$39","v":32},{"$f":"Race0713!D$39","v":0},{"$f":"Race0713!C$39","v":0},{"$f":"Race0713!F$39","v":1}]
[null,{"$f":"Race0713!B$5","v":"Senior"},{"$f":"Race0713!B$4","v":"OC2"},{"$f":"Race0713!E$5","v":"Mixed"},{"$f":"Race0713!D$5","v":"Masters"},{"$f":"Race0713!D$4","v":"Marathon"},{"$f":"Race0713!A$40","v":33},{"$f":"Race0713!D$40","v":0},{"$f":"Race0713!C$40","v":0},{"$f":"Race0713!F$40","v":1}]
[null,{"$f":"Race0713!B$5","v":"Senior"},{"$f":"Race0713!B$4","v":"OC2"},{"$f":"Race0713!E$5","v":"Mixed"},{"$f":"Race0713!D$5","v":"Masters"},{"$f":"Race0713!D$4","v":"Marathon"},{"$f":"Race0713!A$41","v":34},{"$f":"Race0713!D$41","v":0},{"$f":"Race0713!C$41","v":0},{"$f":"Race0713!F$41","v":1}]
[null,{"$f":"Race0713!B$5","v":"Senior"},{"$f":"Race0713!B$4","v":"OC2"},{"$f":"Race0713!E$5","v":"Mixed"},{"$f":"Race0713!D$5","v":"Masters"},{"$f":"Race0713!D$4","v":"Marathon"},{"$f":"Race0713!A$42","v":35},{"$f":"Race0713!D$42","v":0},{"$f":"Race0713!C$42","v":0},{"$f":"Race0713!F$42","v":1}]
[null,{"$f":"Race0713!B$5","v":"Senior"},{"$f":"Race0713!B$4","v":"OC2"},{"$f":"Race0713!E$5","v":"Mixed"},{"$f":"Race0713!D$5","v":"Masters"},{"$f":"Race0713!D$4","v":"Marathon"},{"$f":"Race0713!A$43","v":36},{"$f":"Race0713!D$43","v":0},{"$f":"Race0713!C$43","v":0},{"$f":"Race0713!F$43","v":1}]
[null,{"$f":"Race0713!B$5","v":"Senior"},{"$f":"Race0713!B$4","v":"OC2"},{"$f":"Race0713!E$5","v":"Mixed"},{"$f":"Race0713!D$5","v":"Masters"},{"$f":"Race0713!D$4","v":"Marathon"},{"$f":"Race0713!A$44","v":37},{"$f":"Race0713!D$44","v":0},{"$f":"Race0713!C$44","v":0},{"$f":"Race0713!F$44","v":1}]
[null,{"$f":"Race0713!B$5","v":"Senior"},{"$f":"Race0713!B$4","v":"OC2"},{"$f":"Race0713!E$5","v":"Mixed"},{"$f":"Race0713!D$5","v":"Masters"},{"$f":"Race0713!D$4","v":"Marathon"},{"$f":"Race0713!A$45","v":38},{"$f":"Race0713!D$45","v":0},{"$f":"Race0713!C$45","v":0},{"$f":"Race0713!F$45","v":1}]
[null,{"$f":"Race0713!B$5","v":"Senior"},{"$f":"Race0713!B$4","v":"OC2"},{"$f":"Race0713!E$5","v":"Mixed"},{"$f":"Race0713!D$5","v":"Masters"},{"$f":"Race0713!D$4","v":"Marathon"},{"$f":"Race0713!A$46","v":39},{"$f":"Race0713!D$46","v":0},{"$f":"Race0713!C$46","v":0},{"$f":"Race0713!F$46","v":1}]
[null,{"$f":"Race0713!B$5","v":"Senior"},{"$f":"Race0713!B$4","v":"OC2"},{"$f":"Race0713!E$5","v":"Mixed"},{"$f":"Race0713!D$5","v":"Masters"},{"$f":"Race0713!D$4","v":"Marathon"},{"$f":"Race0713!A$47","v":40},{"$f":"Race0713!D$47","v":0},{"$f":"Race0713!C$47","v":0},{"$f":"Race0713!F$47","v":1}]
[null,{"$f":"Race0713!B$5","v":"Senior"},{"$f":"Race0713!B$4","v":"OC2"},{"$f":"Race0713!E$5","v":"Mixed"},{"$f":"Race0713!D$5","v":"Masters"},{"$f":"Race0713!D$4","v":"Marathon"},{"$f":"Race0713!A$48","v":41},{"$f":"Race0713!D$48","v":0},{"$f":"Race0713!C$48","v":0},{"$f":"Race0713!F$48","v":1}]
[null,{"$f":"Race0713!B$5","v":"Senior"},{"$f":"Race0713!B$4","v":"OC2"},{"$f":"Race0713!E$5","v":"Mixed"},{"$f":"Race0713!D$5","v":"Masters"},{"$f":"Race0713!D$4","v":"Marathon"},{"$f":"Race0713!A$49","v":42},{"$f":"Race0713!D$49","v":0},{"$f":"Race0713!C$49","v":0},{"$f":"Race0713!F$49","v":1}]
[null,{"$f":"Race0713!B$5","v":"Senior"},{"$f":"Race0713!B$4","v":"OC2"},{"$f":"Race0713!E$5","v":"Mixed"},{"$f":"Race0713!D$5","v":"Masters"},{"$f":"Race0713!D$4","v":"Marathon"},{"$f":"Race0713!A$50","v":43},{"$f":"Race0713!D$50","v":0},{"$f":"Race0713!C$50","v":0},{"$f":"Race0713!F$50","v":1}]
[null,{"$f":"Race0713!B$5","v":"Senior"},{"$f":"Race0713!B$4","v":"OC2"},{"$f":"Race0713!E$5","v":"Mixed"},{"$f":"Race0713!D$5","v":"Masters"},{"$f":"Race0713!D$4","v":"Marathon"},{"$f":"Race0713!A$51","v":44},{"$f":"Race0713!D$51","v":0},{"$f":"Race0713!C$51","v":0},{"$f":"Race0713!F$51","v":1}]
[null,{"$f":"Race0713!B$5","v":"Senior"},{"$f":"Race0713!B$4","v":"OC2"},{"$f":"Race0713!E$5","v":"Mixed"},{"$f":"Race0713!D$5","v":"Masters"},{"$f":"Race0713!D$4","v":"Marathon"},{"$f":"Race0713!A$52","v":45},{"$f":"Race0713!D$52","v":0},{"$f":"Race0713!C$52","v":0},{"$f":"Race0713!F$52","v":1}]
[null,{"$f":"Race0713!B$5","v":"Senior"},{"$f":"Race0713!B$4","v":"OC2"},{"$f":"Race0713!E$5","v":"Mixed"},{"$f":"Race0713!D$5","v":"Masters"},{"$f":"Race0713!D$4","v":"Marathon"},{"$f":"Race0713!A$53","v":46},{"$f":"Race0713!D$53","v":0},{"$f":"Race0713!C$53","v":0},{"$f":"Race0713!F$53","v":1}]
[null,{"$f":"Race0713!B$5","v":"Senior"},{"$f":"Race0713!B$4","v":"OC2"},{"$f":"Race0713!E$5","v":"Mixed"},{"$f":"Race0713!D$5","v":"Masters"},{"$f":"Race0713!D$4","v":"Marathon"},{"$f":"Race0713!A$54","v":47},{"$f":"Race0713!D$54","v":0},{"$f":"Race0713!C$54","v":0},{"$f":"Race0713!F$54","v":1}]
[null,{"$f":"Race0713!B$5","v":"Senior"},{"$f":"Race0713!B$4","v":"OC2"},{"$f":"Race0713!E$5","v":"Mixed"},{"$f":"Race0713!D$5","v":"Masters"},{"$f":"Race0713!D$4","v":"Marathon"},{"$f":"Race0713!A$55","v":48},{"$f":"Race0713!D$55","v":0},{"$f":"Race0713!C$55","v":0},{"$f":"Race0713!F$55","v":1}]
[null,{"$f":"Race0713!B$5","v":"Senior"},{"$f":"Race0713!B$4","v":"OC2"},{"$f":"Race0713!E$5","v":"Mixed"},{"$f":"Race0713!D$5","v":"Masters"},{"$f":"Race0713!D$4","v":"Marathon"},{"$f":"Race0713!A$56","v":49},{"$f":"Race0713!D$56","v":0},{"$f":"Race0713!C$56","v":0},{"$f":"Race0713!F$56","v":1}]
[null,{"$f":"Race0713!B$5","v":"Senior"},{"$f":"Race0713!B$4","v":"OC2"},{"$f":"Race0713!E$5","v":"Mixed"},{"$f":"Race0713!D$5","v":"Masters"},{"$f":"Race0713!D$4","v":"Marathon"},{"$f":"Race0713!A$57","v":50},{"$f":"Race0713!D$57","v":0},{"$f":"Race0713!C$57","v":0},{"$f":"Race0713!F$57","v":1}]
["Race0714",{"$f":"Race0714!B$5","v":"Senior"},{"$f":"Race0714!B$4","v":"OC2"},{"$f":"Race0714!E$5","v":"Mixed"},{"$f":"Race0714!D$5","v":"Senior Masters"},{"$f":"Race0714!D$4","v":"Marathon"},{"$f":"Race0714!A$8","v":1},{"$f":"Race0714!D$8","v":0},{"$f":"Race0714!C$8","v":0},{"$f":"Race0714!F$8","v":9}]
[null,{"$f":"Race0714!B$5","v":"Senior"},{"$f":"Race0714!B$4","v":"OC2"},{"$f":"Race0714!E$5","v":"Mixed"},{"$f":"Race0714!D$5","v":"Senior Masters"},{"$f":"Race0714!D$4","v":"Marathon"},{"$f":"Race0714!A$9","v":2},{"$f":"Race0714!D$9","v":0},{"$f":"Race0714!C$9","v":0},{"$f":"Race0714!F$9","v":7}]
[null,{"$f":"Race0714!B$5","v":"Senior"},{"$f":"Race0714!B$4","v":"OC2"},{"$f":"Race0714!E$5","v":"Mixed"},{"$f":"Race0714!D$5","v":"Senior Masters"},{"$f":"Race0714!D$4","v":"Marathon"},{"$f":"Race0714!A$10","v":3},{"$f":"Race0714!D$10","v":0},{"$f":"Race0714!C$10","v":0},{"$f":"Race0714!F$10","v":5}]
[null,{"$f":"Race0714!B$5","v":"Senior"},{"$f":"Race0714!B$4","v":"OC2"},{"$f":"Race0714!E$5","v":"Mixed"},{"$f":"Race0714!D$5","v":"Senior Masters"},{"$f":"Race0714!D$4","v":"Marathon"},{"$f":"Race0714!A$11","v":4},{"$f":"Race0714!D$11","v":0},{"$f":"Race0714!C$11","v":0},{"$f":"Race0714!F$11","v":3}]
[null,{"$f":"Race0714!B$5","v":"Senior"},{"$f":"Race0714!B$4","v":"OC2"},{"$f":"Race0714!E$5","v":"Mixed"},{"$f":"Race0714!D$5","v":"Senior Masters"},{"$f":"Race0714!D$4","v":"Marathon"},{"$f":"Race0714!A$12","v":5},{"$f":"Race0714!D$12","v":0},{"$f":"Race0714!C$12","v":0},{"$f":"Race0714!F$12","v":2}]
[null,{"$f":"Race0714!B$5","v":"Senior"},{"$f":"Race0714!B$4","v":"OC2"},{"$f":"Race0714!E$5","v":"Mixed"},{"$f":"Race0714!D$5","v":"Senior Masters"},{"$f":"Race0714!D$4","v":"Marathon"},{"$f":"Race0714!A$13","v":6},{"$f":"Race0714!D$13","v":0},{"$f":"Race0714!C$13","v":0},{"$f":"Race0714!F$13","v":1}]
[null,{"$f":"Race0714!B$5","v":"Senior"},{"$f":"Race0714!B$4","v":"OC2"},{"$f":"Race0714!E$5","v":"Mixed"},{"$f":"Race0714!D$5","v":"Senior Masters"},{"$f":"Race0714!D$4","v":"Marathon"},{"$f":"Race0714!A$14","v":7},{"$f":"Race0714!D$14","v":0},{"$f":"Race0714!C$14","v":0},{"$f":"Race0714!F$14","v":1}]
[null,{"$f":"Race0714!B$5","v":"Senior"},{"$f":"Race0714!B$4","v":"OC2"},{"$f":"Race0714!E$5","v":"Mixed"},{"$f":"Race0714!D$5","v":"Senior Masters"},{"$f":"Race0714!D$4","v":"Marathon"},{"$f":"Race0714!A$15","v":8},{"$f":"Race0714!D$15","v":0},{"$f":"Race0714!C$15","v":0},{"$f":"Race0714!F$15","v":1}]
[null,{"$f":"Race0714!B$5","v":"Senior"},{"$f":"Race0714!B$4","v":"OC2"},{"$f":"Race0714!E$5","v":"Mixed"},{"$f":"Race0714!D$5","v":"Senior Masters"},{"$f":"Race0714!D$4","v":"Marathon"},{"$f":"Race0714!A$16","v":9},{"$f":"Race0714!D$16","v":0},{"$f":"Race0714!C$16","v":0},{"$f":"Race0714!F$16","v":1}]
[null,{"$f":"Race0714!B$5","v":"Senior"},{"$f":"Race0714!B$4","v":"OC2"},{"$f":"Race0714!E$5","v":"Mixed"},{"$f":"Race0714!D$5","v":"Senior Masters"},{"$f":"Race0714!D$4","v":"Marathon"},{"$f":"Race0714!A$17","v":10},{"$f":"Race0714!D$17","v":0},{"$f":"Race0714!C$17","v":0},{"$f":"Race0714!F$17","v":1}]
[null,{"$f":"Race0714!B$5","v":"Senior"},{"$f":"Race0714!B$4","v":"OC2"},{"$f":"Race0714!E$5","v":"Mixed"},{"$f":"Race0714!D$5","v":"Senior Masters"},{"$f":"Race0714!D$4","v":"Marathon"},{"$f":"Race0714!A$18","v":11},{"$f":"Race0714!D$18","v":0},{"$f":"Race0714!C$18","v":0},{"$f":"Race0714!F$18","v":1}]
[null,{"$f":"Race0714!B$5","v":"Senior"},{"$f":"Race0714!B$4","v":"OC2"},{"$f":"Race0714!E$5","v":"Mixed"},{"$f":"Race0714!D$5","v":"Senior Masters"},{"$f":"Race0714!D$4","v":"Marathon"},{"$f":"Race0714!A$19","v":12},{"$f":"Race0714!D$19","v":0},{"$f":"Race0714!C$19","v":0},{"$f":"Race0714!F$19","v":1}]
[null,{"$f":"Race0714!B$5","v":"Senior"},{"$f":"Race0714!B$4","v":"OC2"},{"$f":"Race0714!E$5","v":"Mixed"},{"$f":"Race0714!D$5","v":"Senior Masters"},{"$f":"Race0714!D$4","v":"Marathon"},{"$f":"Race0714!A$20","v":13},{"$f":"Race0714!D$20","v":0},{"$f":"Race0714!C$20","v":0},{"$f":"Race0714!F$20","v":1}]
[null,{"$f":"Race0714!B$5","v":"Senior"},{"$f":"Race0714!B$4","v":"OC2"},{"$f":"Race0714!E$5","v":"Mixed"},{"$f":"Race0714!D$5","v":"Senior Masters"},{"$f":"Race0714!D$4","v":"Marathon"},{"$f":"Race0714!A$21","v":14},{"$f":"Race0714!D$21","v":0},{"$f":"Race0714!C$21","v":0},{"$f":"Race0714!F$21","v":1}]
[null,{"$f":"Race0714!B$5","v":"Senior"},{"$f":"Race0714!B$4","v":"OC2"},{"$f":"Race0714!E$5","v":"Mixed"},{"$f":"Race0714!D$5","v":"Senior Masters"},{"$f":"Race0714!D$4","v":"Marathon"},{"$f":"Race0714!A$22","v":15},{"$f":"Race0714!D$22","v":0},{"$f":"Race0714!C$22","v":0},{"$f":"Race0714!F$22","v":1}]
[null,{"$f":"Race0714!B$5","v":"Senior"},{"$f":"Race0714!B$4","v":"OC2"},{"$f":"Race0714!E$5","v":"Mixed"},{"$f":"Race0714!D$5","v":"Senior Masters"},{"$f":"Race0714!D$4","v":"Marathon"},{"$f":"Race0714!A$23","v":16},{"$f":"Race0714!D$23","v":0},{"$f":"Race0714!C$23","v":0},{"$f":"Race0714!F$23","v":1}]
[null,{"$f":"Race0714!B$5","v":"Senior"},{"$f":"Race0714!B$4","v":"OC2"},{"$f":"Race0714!E$5","v":"Mixed"},{"$f":"Race0714!D$5","v":"Senior Masters"},{"$f":"Race0714!D$4","v":"Marathon"},{"$f":"Race0714!A$24","v":17},{"$f":"Race0714!D$24","v":0},{"$f":"Race0714!C$24","v":0},{"$f":"Race0714!F$24","v":1}]
[null,{"$f":"Race0714!B$5","v":"Senior"},{"$f":"Race0714!B$4","v":"OC2"},{"$f":"Race0714!E$5","v":"Mixed"},{"$f":"Race0714!D$5","v":"Senior Masters"},{"$f":"Race0714!D$4","v":"Marathon"},{"$f":"Race0714!A$25","v":18},{"$f":"Race0714!D$25","v":0},{"$f":"Race0714!C$25","v":0},{"$f":"Race0714!F$25","v":1}]
[null,{"$f":"Race0714!B$5","v":"Senior"},{"$f":"Race0714!B$4","v":"OC2"},{"$f":"Race0714!E$5","v":"Mixed"},{"$f":"Race0714!D$5","v":"Senior Masters"},{"$f":"Race0714!D$4","v":"Marathon"},{"$f":"Race0714!A$26","v":19},{"$f":"Race0714!D$26","v":0},{"$f":"Race0714!C$26","v":0},{"$f":"Race0714!F$26","v":1}]
[null,{"$f":"Race0714!B$5","v":"Senior"},{"$f":"Race0714!B$4","v":"OC2"},{"$f":"Race0714!E$5","v":"Mixed"},{"$f":"Race0714!D$5","v":"Senior Masters"},{"$f":"Race0714!D$4","v":"Marathon"},{"$f":"Race0714!A$27","v":20},{"$f":"Race0714!D$27","v":0},{"$f":"Race0714!C$27","v":0},{"$f":"Race0714!F$27","v":1}]
[null,{"$f":"Race0714!B$5","v":"Senior"},{"$f":"Race0714!B$4","v":"OC2"},{"$f":"Race0714!E$5","v":"Mixed"},{"$f":"Race0714!D$5","v":"Senior Masters"},{"$f":"Race0714!D$4","v":"Marathon"},{"$f":"Race0714!A$28","v":21},{"$f":"Race0714!D$28","v":0},{"$f":"Race0714!C$28","v":0},{"$f":"Race0714!F$28","v":1}]
[null,{"$f":"Race0714!B$5","v":"Senior"},{"$f":"Race0714!B$4","v":"OC2"},{"$f":"Race0714!E$5","v":"Mixed"},{"$f":"Race0714!D$5","v":"Senior Masters"},{"$f":"Race0714!D$4","v":"Marathon"},{"$f":"Race0714!A$29","v":22},{"$f":"Race0714!D$29","v":0},{"$f":"Race0714!C$29","v":0},{"$f":"Race0714!F$29","v":1}]
[null,{"$f":"Race0714!B$5","v":"Senior"},{"$f":"Race0714!B$4","v":"OC2"},{"$f":"Race0714!E$5","v":"Mixed"},{"$f":"Race0714!D$5","v":"Senior Masters"},{"$f":"Race0714!D$4","v":"Marathon"},{"$f":"Race0714!A$30","v":23},{"$f":"Race0714!D$30","v":0},{"$f":"Race0714!C$30","v":0},{"$f":"Race0714!F$30","v":1}]
[null,{"$f":"Race0714!B$5","v":"Senior"},{"$f":"Race0714!B$4","v":"OC2"},{"$f":"Race0714!E$5","v":"Mixed"},{"$f":"Race0714!D$5","v":"Senior Masters"},{"$f":"Race0714!D$4","v":"Marathon"},{"$f":"Race0714!A$31","v":24},{"$f":"Race0714!D$31","v":0},{"$f":"Race0714!C$31","v":0},{"$f":"Race0714!F$31","v":1}]
[null,{"$f":"Race0714!B$5","v":"Senior"},{"$f":"Race0714!B$4","v":"OC2"},{"$f":"Race0714!E$5","v":"Mixed"},{"$f":"Race0714!D$5","v":"Senior Masters"},{"$f":"Race0714!D$4","v":"Marathon"},{"$f":"Race0714!A$32","v":25},{"$f":"Race0714!D$32","v":0},{"$f":"Race0714!C$32","v":0},{"$f":"Race0714!F$32","v":1}]
[null,{"$f":"Race0714!B$5","v":"Senior"},{"$f":"Race0714!B$4","v":"OC2"},{"$f":"Race0714!E$5","v":"Mixed"},{"$f":"Race0714!D$5","v":"Senior Masters"},{"$f":"Race0714!D$4","v":"Marathon"},{"$f":"Race0714!A$33","v":26},{"$f":"Race0714!D$33","v":0},{"$f":"Race0714!C$33","v":0},{"$f":"Race0714!F$33","v":1}]
[null,{"$f":"Race0714!B$5","v":"Senior"},{"$f":"Race0714!B$4","v":"OC2"},{"$f":"Race0714!E$5","v":"Mixed"},{"$f":"Race0714!D$5","v":"Senior Masters"},{"$f":"Race0714!D$4","v":"Marathon"},{"$f":"Race0714!A$34","v":27},{"$f":"Race0714!D$34","v":0},{"$f":"Race0714!C$34","v":0},{"$f":"Race0714!F$34","v":1}]
[null,{"$f":"Race0714!B$5","v":"Senior"},{"$f":"Race0714!B$4","v":"OC2"},{"$f":"Race0714!E$5","v":"Mixed"},{"$f":"Race0714!D$5","v":"Senior Masters"},{"$f":"Race0714!D$4","v":"Marathon"},{"$f":"Race0714!A$35","v":28},{"$f":"Race0714!D$35","v":0},{"$f":"Race0714!C$35","v":0},{"$f":"Race0714!F$35","v":1}]
[null,{"$f":"Race0714!B$5","v":"Senior"},{"$f":"Race0714!B$4","v":"OC2"},{"$f":"Race0714!E$5","v":"Mixed"},{"$f":"Race0714!D$5","v":"Senior Masters"},{"$f":"Race0714!D$4","v":"Marathon"},{"$f":"Race0714!A$36","v":29},{"$f":"Race0714!D$36","v":0},{"$f":"Race0714!C$36","v":0},{"$f":"Race0714!F$36","v":1}]
[null,{"$f":"Race0714!B$5","v":"Senior"},{"$f":"Race0714!B$4","v":"OC2"},{"$f":"Race0714!E$5","v":"Mixed"},{"$f":"Race0714!D$5","v":"Senior Masters"},{"$f":"Race0714!D$4","v":"Marathon"},{"$f":"Race0714!A$37","v":30},{"$f":"Race0714!D$37","v":0},{"$f":"Race0714!C$37","v":0},{"$f":"Race0714!F$37","v":1}]
[null,{"$f":"Race0714!B$5","v":"Senior"},{"$f":"Race0714!B$4","v":"OC2"},{"$f":"Race0714!E$5","v":"Mixed"},{"$f":"Race0714!D$5","v":"Senior Masters"},{"$f":"Race0714!D$4","v":"Marathon"},{"$f":"Race0714!A$38","v":31},{"$f":"Race0714!D$38","v":0},{"$f":"Race0714!C$38","v":0},{"$f":"Race0714!F$38","v":1}]
[null,{"$f":"Race0714!B$5","v":"Senior"},{"$f":"Race0714!B$4","v":"OC2"},{"$f":"Race0714!E$5","v":"Mixed"},{"$f":"Race0714!D$5","v":"Senior Masters"},{"$f":"Race0714!D$4","v":"Marathon"},{"$f":"Race0714!A$39","v":32},{"$f":"Race0714!D$39","v":0},{"$f":"Race0714!C$39","v":0},{"$f":"Race0714!F$39","v":1}]
[null,{"$f":"Race0714!B$5","v":"Senior"},{"$f":"Race0714!B$4","v":"OC2"},{"$f":"Race0714!E$5","v":"Mixed"},{"$f":"Race0714!D$5","v":"Senior Masters"},{"$f":"Race0714!D$4","v":"Marathon"},{"$f":"Race0714!A$40","v":33},{"$f":"Race0714!D$40","v":0},{"$f":"Race0714!C$40","v":0},{"$f":"Race0714!F$40","v":1}]
[null,{"$f":"Race0714!B$5","v":"Senior"},{"$f":"Race0714!B$4","v":"OC2"},{"$f":"Race0714!E$5","v":"Mixed"},{"$f":"Race0714!D$5","v":"Senior Masters"},{"$f":"Race0714!D$4","v":"Marathon"},{"$f":"Race0714!A$41","v":34},{"$f":"Race0714!D$41","v":0},{"$f":"Race0714!C$41","v":0},{"$f":"Race0714!F$41","v":1}]
[null,{"$f":"Race0714!B$5","v":"Senior"},{"$f":"Race0714!B$4","v":"OC2"},{"$f":"Race0714!E$5","v":"Mixed"},{"$f":"Race0714!D$5","v":"Senior Masters"},{"$f":"Race0714!D$4","v":"Marathon"},{"$f":"Race0714!A$42","v":35},{"$f":"Race0714!D$42","v":0},{"$f":"Race0714!C$42","v":0},{"$f":"Race0714!F$42","v":1}]
[null,{"$f":"Race0714!B$5","v":"Senior"},{"$f":"Race0714!B$4","v":"OC2"},{"$f":"Race0714!E$5","v":"Mixed"},{"$f":"Race0714!D$5","v":"Senior Masters"},{"$f":"Race0714!D$4","v":"Marathon"},{"$f":"Race0714!A$43","v":36},{"$f":"Race0714!D$43","v":0},{"$f":"Race0714!C$43","v":0},{"$f":"Race0714!F$43","v":1}]
[null,{"$f":"Race0714!B$5","v":"Senior"},{"$f":"Race0714!B$4","v":"OC2"},{"$f":"Race0714!E$5","v":"Mixed"},{"$f":"Race0714!D$5","v":"Senior Masters"},{"$f":"Race0714!D$4","v":"Marathon"},{"$f":"Race0714!A$44","v":37},{"$f":"Race0714!D$44","v":0},{"$f":"Race0714!C$44","v":0},{"$f":"Race0714!F$44","v":1}]
[null,{"$f":"Race0714!B$5","v":"Senior"},{"$f":"Race0714!B$4","v":"OC2"},{"$f":"Race0714!E$5","v":"Mixed"},{"$f":"Race0714!D$5","v":"Senior Masters"},{"$f":"Race0714!D$4","v":"Marathon"},{"$f":"Race0714!A$45","v":38},{"$f":"Race0714!D$45","v":0},{"$f":"Race0714!C$45","v":0},{"$f":"Race0714!F$45","v":1}]
[null,{"$f":"Race0714!B$5","v":"Senior"},{"$f":"Race0714!B$4","v":"OC2"},{"$f":"Race0714!E$5","v":"Mixed"},{"$f":"Race0714!D$5","v":"Senior Masters"},{"$f":"Race0714!D$4","v":"Marathon"},{"$f":"Race0714!A$46","v":39},{"$f":"Race0714!D$46","v":0},{"$f":"Race0714!C$46","v":0},{"$f":"Race0714!F$46","v":1}]
[null,{"$f":"Race0714!B$5","v":"Senior"},{"$f":"Race0714!B$4","v":"OC2"},{"$f":"Race0714!E$5","v":"Mixed"},{"$f":"Race0714!D$5","v":"Senior Masters"},{"$f":"Race0714!D$4","v":"Marathon"},{"$f":"Race0714!A$47","v":40},{"$f":"Race0714!D$47","v":0},{"$f":"Race0714!C$47","v":0},{"$f":"Race0714!F$47","v":1}]
[null,{"$f":"Race0714!B$5","v":"Senior"},{"$f":"Race0714!B$4","v":"OC2"},{"$f":"Race0714!E$5","v":"Mixed"},{"$f":"Race0714!D$5","v":"Senior Masters"},{"$f":"Race0714!D$4","v":"Marathon"},{"$f":"Race0714!A$48","v":41},{"$f":"Race0714!D$48","v":0},{"$f":"Race0714!C$48","v":0},{"$f":"Race0714!F$48","v":1}]
[null,{"$f":"Race0714!B$5","v":"Senior"},{"$f":"Race0714!B$4","v":"OC2"},{"$f":"Race0714!E$5","v":"Mixed"},{"$f":"Race0714!D$5","v":"Senior Masters"},{"$f":"Race0714!D$4","v":"Marathon"},{"$f":"Race0714!A$49","v":42},{"$f":"Race0714!D$49","v":0},{"$f":"Race0714!C$49","v":0},{"$f":"Race0714!F$49","v":1}]
[null,{"$f":"Race0714!B$5","v":"Senior"},{"$f":"Race0714!B$4","v":"OC2"},{"$f":"Race0714!E$5","v":"Mixed"},{"$f":"Race0714!D$5","v":"Senior Masters"},{"$f":"Race0714!D$4","v":"Marathon"},{"$f":"Race0714!A$50","v":43},{"$f":"Race0714!D$50","v":0},{"$f":"Race0714!C$50","v":0},{"$f":"Race0714!F$50","v":1}]
[null,{"$f":"Race0714!B$5","v":"Senior"},{"$f":"Race0714!B$4","v":"OC2"},{"$f":"Race0714!E$5","v":"Mixed"},{"$f":"Race0714!D$5","v":"Senior Masters"},{"$f":"Race0714!D$4","v":"Marathon"},{"$f":"Race0714!A$51","v":44},{"$f":"Race0714!D$51","v":0},{"$f":"Race0714!C$51","v":0},{"$f":"Race0714!F$51","v":1}]
[null,{"$f":"Race0714!B$5","v":"Senior"},{"$f":"Race0714!B$4","v":"OC2"},{"$f":"Race0714!E$5","v":"Mixed"},{"$f":"Race0714!D$5","v":"Senior Masters"},{"$f":"Race0714!D$4","v":"Marathon"},{"$f":"Race0714!A$52","v":45},{"$f":"Race0714!D$52","v":0},{"$f":"Race0714!C$52","v":0},{"$f":"Race0714!F$52","v":1}]
[null,{"$f":"Race0714!B$5","v":"Senior"},{"$f":"Race0714!B$4","v":"OC2"},{"$f":"Race0714!E$5","v":"Mixed"},{"$f":"Race0714!D$5","v":"Senior Masters"},{"$f":"Race0714!D$4","v":"Marathon"},{"$f":"Race0714!A$53","v":46},{"$f":"Race0714!D$53","v":0},{"$f":"Race0714!C$53","v":0},{"$f":"Race0714!F$53","v":1}]
[null,{"$f":"Race0714!B$5","v":"Senior"},{"$f":"Race0714!B$4","v":"OC2"},{"$f":"Race0714!E$5","v":"Mixed"},{"$f":"Race0714!D$5","v":"Senior Masters"},{"$f":"Race0714!D$4","v":"Marathon"},{"$f":"Race0714!A$54","v":47},{"$f":"Race0714!D$54","v":0},{"$f":"Race0714!C$54","v":0},{"$f":"Race0714!F$54","v":1}]
[null,{"$f":"Race0714!B$5","v":"Senior"},{"$f":"Race0714!B$4","v":"OC2"},{"$f":"Race0714!E$5","v":"Mixed"},{"$f":"Race0714!D$5","v":"Senior Masters"},{"$f":"Race0714!D$4","v":"Marathon"},{"$f":"Race0714!A$55","v":48},{"$f":"Race0714!D$55","v":0},{"$f":"Race0714!C$55","v":0},{"$f":"Race0714!F$55","v":1}]
[null,{"$f":"Race0714!B$5","v":"Senior"},{"$f":"Race0714!B$4","v":"OC2"},{"$f":"Race0714!E$5","v":"Mixed"},{"$f":"Race0714!D$5","v":"Senior Masters"},{"$f":"Race0714!D$4","v":"Marathon"},{"$f":"Race0714!A$56","v":49},{"$f":"Race0714!D$56","v":0},{"$f":"Race0714!C$56","v":0},{"$f":"Race0714!F$56","v":1}]
[null,{"$f":"Race0714!B$5","v":"Senior"},{"$f":"Race0714!B$4","v":"OC2"},{"$f":"Race0714!E$5","v":"Mixed"},{"$f":"Race0714!D$5","v":"Senior Masters"},{"$f":"Race0714!D$4","v":"Marathon"},{"$f":"Race0714!A$57","v":50},{"$f":"Race0714!D$57","v":0},{"$f":"Race0714!C$57","v":0},{"$f":"Race0714!F$57","v":1}]
["Race0715",{"$f":"Race0715!B$5","v":"Senior"},{"$f":"Race0715!B$4","v":"OC2"},{"$f":"Race0715!E$5","v":"Mixed"},{"$f":"Race0715!D$5","v":"Golden Masters"},{"$f":"Race0715!D$4","v":"Marathon"},{"$f":"Race0715!A$8","v":1},{"$f":"Race0715!D$8","v":0},{"$f":"Race0715!C$8","v":0},{"$f":"Race0715!F$8","v":9}]
[null,{"$f":"Race0715!B$5","v":"Senior"},{"$f":"Race0715!B$4","v":"OC2"},{"$f":"Race0715!E$5","v":"Mixed"},{"$f":"Race0715!D$5","v":"Golden Masters"},{"$f":"Race0715!D$4","v":"Marathon"},{"$f":"Race0715!A$9","v":2},{"$f":"Race0715!D$9","v":0},{"$f":"Race0715!C$9","v":0},{"$f":"Race0715!F$9","v":7}]
[null,{"$f":"Race0715!B$5","v":"Senior"},{"$f":"Race0715!B$4","v":"OC2"},{"$f":"Race0715!E$5","v":"Mixed"},{"$f":"Race0715!D$5","v":"Golden Masters"},{"$f":"Race0715!D$4","v":"Marathon"},{"$f":"Race0715!A$10","v":3},{"$f":"Race0715!D$10","v":0},{"$f":"Race0715!C$10","v":0},{"$f":"Race0715!F$10","v":5}]
[null,{"$f":"Race0715!B$5","v":"Senior"},{"$f":"Race0715!B$4","v":"OC2"},{"$f":"Race0715!E$5","v":"Mixed"},{"$f":"Race0715!D$5","v":"Golden Masters"},{"$f":"Race0715!D$4","v":"Marathon"},{"$f":"Race0715!A$11","v":4},{"$f":"Race0715!D$11","v":0},{"$f":"Race0715!C$11","v":0},{"$f":"Race0715!F$11","v":3}]
[null,{"$f":"Race0715!B$5","v":"Senior"},{"$f":"Race0715!B$4","v":"OC2"},{"$f":"Race0715!E$5","v":"Mixed"},{"$f":"Race0715!D$5","v":"Golden Masters"},{"$f":"Race0715!D$4","v":"Marathon"},{"$f":"Race0715!A$12","v":5},{"$f":"Race0715!D$12","v":0},{"$f":"Race0715!C$12","v":0},{"$f":"Race0715!F$12","v":2}]
[null,{"$f":"Race0715!B$5","v":"Senior"},{"$f":"Race0715!B$4","v":"OC2"},{"$f":"Race0715!E$5","v":"Mixed"},{"$f":"Race0715!D$5","v":"Golden Masters"},{"$f":"Race0715!D$4","v":"Marathon"},{"$f":"Race0715!A$13","v":6},{"$f":"Race0715!D$13","v":0},{"$f":"Race0715!C$13","v":0},{"$f":"Race0715!F$13","v":1}]
[null,{"$f":"Race0715!B$5","v":"Senior"},{"$f":"Race0715!B$4","v":"OC2"},{"$f":"Race0715!E$5","v":"Mixed"},{"$f":"Race0715!D$5","v":"Golden Masters"},{"$f":"Race0715!D$4","v":"Marathon"},{"$f":"Race0715!A$14","v":7},{"$f":"Race0715!D$14","v":0},{"$f":"Race0715!C$14","v":0},{"$f":"Race0715!F$14","v":1}]
[null,{"$f":"Race0715!B$5","v":"Senior"},{"$f":"Race0715!B$4","v":"OC2"},{"$f":"Race0715!E$5","v":"Mixed"},{"$f":"Race0715!D$5","v":"Golden Masters"},{"$f":"Race0715!D$4","v":"Marathon"},{"$f":"Race0715!A$15","v":8},{"$f":"Race0715!D$15","v":0},{"$f":"Race0715!C$15","v":0},{"$f":"Race0715!F$15","v":1}]
[null,{"$f":"Race0715!B$5","v":"Senior"},{"$f":"Race0715!B$4","v":"OC2"},{"$f":"Race0715!E$5","v":"Mixed"},{"$f":"Race0715!D$5","v":"Golden Masters"},{"$f":"Race0715!D$4","v":"Marathon"},{"$f":"Race0715!A$16","v":9},{"$f":"Race0715!D$16","v":0},{"$f":"Race0715!C$16","v":0},{"$f":"Race0715!F$16","v":1}]
[null,{"$f":"Race0715!B$5","v":"Senior"},{"$f":"Race0715!B$4","v":"OC2"},{"$f":"Race0715!E$5","v":"Mixed"},{"$f":"Race0715!D$5","v":"Golden Masters"},{"$f":"Race0715!D$4","v":"Marathon"},{"$f":"Race0715!A$17","v":10},{"$f":"Race0715!D$17","v":0},{"$f":"Race0715!C$17","v":0},{"$f":"Race0715!F$17","v":1}]
[null,{"$f":"Race0715!B$5","v":"Senior"},{"$f":"Race0715!B$4","v":"OC2"},{"$f":"Race0715!E$5","v":"Mixed"},{"$f":"Race0715!D$5","v":"Golden Masters"},{"$f":"Race0715!D$4","v":"Marathon"},{"$f":"Race0715!A$18","v":11},{"$f":"Race0715!D$18","v":0},{"$f":"Race0715!C$18","v":0},{"$f":"Race0715!F$18","v":1}]
[null,{"$f":"Race0715!B$5","v":"Senior"},{"$f":"Race0715!B$4","v":"OC2"},{"$f":"Race0715!E$5","v":"Mixed"},{"$f":"Race0715!D$5","v":"Golden Masters"},{"$f":"Race0715!D$4","v":"Marathon"},{"$f":"Race0715!A$19","v":12},{"$f":"Race0715!D$19","v":0},{"$f":"Race0715!C$19","v":0},{"$f":"Race0715!F$19","v":1}]
[null,{"$f":"Race0715!B$5","v":"Senior"},{"$f":"Race0715!B$4","v":"OC2"},{"$f":"Race0715!E$5","v":"Mixed"},{"$f":"Race0715!D$5","v":"Golden Masters"},{"$f":"Race0715!D$4","v":"Marathon"},{"$f":"Race0715!A$20","v":13},{"$f":"Race0715!D$20","v":0},{"$f":"Race0715!C$20","v":0},{"$f":"Race0715!F$20","v":1}]
[null,{"$f":"Race0715!B$5","v":"Senior"},{"$f":"Race0715!B$4","v":"OC2"},{"$f":"Race0715!E$5","v":"Mixed"},{"$f":"Race0715!D$5","v":"Golden Masters"},{"$f":"Race0715!D$4","v":"Marathon"},{"$f":"Race0715!A$21","v":14},{"$f":"Race0715!D$21","v":0},{"$f":"Race0715!C$21","v":0},{"$f":"Race0715!F$21","v":1}]
[null,{"$f":"Race0715!B$5","v":"Senior"},{"$f":"Race0715!B$4","v":"OC2"},{"$f":"Race0715!E$5","v":"Mixed"},{"$f":"Race0715!D$5","v":"Golden Masters"},{"$f":"Race0715!D$4","v":"Marathon"},{"$f":"Race0715!A$22","v":15},{"$f":"Race0715!D$22","v":0},{"$f":"Race0715!C$22","v":0},{"$f":"Race0715!F$22","v":1}]
[null,{"$f":"Race0715!B$5","v":"Senior"},{"$f":"Race0715!B$4","v":"OC2"},{"$f":"Race0715!E$5","v":"Mixed"},{"$f":"Race0715!D$5","v":"Golden Masters"},{"$f":"Race0715!D$4","v":"Marathon"},{"$f":"Race0715!A$23","v":16},{"$f":"Race0715!D$23","v":0},{"$f":"Race0715!C$23","v":0},{"$f":"Race0715!F$23","v":1}]
[null,{"$f":"Race0715!B$5","v":"Senior"},{"$f":"Race0715!B$4","v":"OC2"},{"$f":"Race0715!E$5","v":"Mixed"},{"$f":"Race0715!D$5","v":"Golden Masters"},{"$f":"Race0715!D$4","v":"Marathon"},{"$f":"Race0715!A$24","v":17},{"$f":"Race0715!D$24","v":0},{"$f":"Race0715!C$24","v":0},{"$f":"Race0715!F$24","v":1}]
[null,{"$f":"Race0715!B$5","v":"Senior"},{"$f":"Race0715!B$4","v":"OC2"},{"$f":"Race0715!E$5","v":"Mixed"},{"$f":"Race0715!D$5","v":"Golden Masters"},{"$f":"Race0715!D$4","v":"Marathon"},{"$f":"Race0715!A$25","v":18},{"$f":"Race0715!D$25","v":0},{"$f":"Race0715!C$25","v":0},{"$f":"Race0715!F$25","v":1}]
[null,{"$f":"Race0715!B$5","v":"Senior"},{"$f":"Race0715!B$4","v":"OC2"},{"$f":"Race0715!E$5","v":"Mixed"},{"$f":"Race0715!D$5","v":"Golden Masters"},{"$f":"Race0715!D$4","v":"Marathon"},{"$f":"Race0715!A$26","v":19},{"$f":"Race0715!D$26","v":0},{"$f":"Race0715!C$26","v":0},{"$f":"Race0715!F$26","v":1}]
[null,{"$f":"Race0715!B$5","v":"Senior"},{"$f":"Race0715!B$4","v":"OC2"},{"$f":"Race0715!E$5","v":"Mixed"},{"$f":"Race0715!D$5","v":"Golden Masters"},{"$f":"Race0715!D$4","v":"Marathon"},{"$f":"Race0715!A$27","v":20},{"$f":"Race0715!D$27","v":0},{"$f":"Race0715!C$27","v":0},{"$f":"Race0715!F$27","v":1}]
[null,{"$f":"Race0715!B$5","v":"Senior"},{"$f":"Race0715!B$4","v":"OC2"},{"$f":"Race0715!E$5","v":"Mixed"},{"$f":"Race0715!D$5","v":"Golden Masters"},{"$f":"Race0715!D$4","v":"Marathon"},{"$f":"Race0715!A$28","v":21},{"$f":"Race0715!D$28","v":0},{"$f":"Race0715!C$28","v":0},{"$f":"Race0715!F$28","v":1}]
[null,{"$f":"Race0715!B$5","v":"Senior"},{"$f":"Race0715!B$4","v":"OC2"},{"$f":"Race0715!E$5","v":"Mixed"},{"$f":"Race0715!D$5","v":"Golden Masters"},{"$f":"Race0715!D$4","v":"Marathon"},{"$f":"Race0715!A$29","v":22},{"$f":"Race0715!D$29","v":0},{"$f":"Race0715!C$29","v":0},{"$f":"Race0715!F$29","v":1}]
[null,{"$f":"Race0715!B$5","v":"Senior"},{"$f":"Race0715!B$4","v":"OC2"},{"$f":"Race0715!E$5","v":"Mixed"},{"$f":"Race0715!D$5","v":"Golden Masters"},{"$f":"Race0715!D$4","v":"Marathon"},{"$f":"Race0715!A$30","v":23},{"$f":"Race0715!D$30","v":0},{"$f":"Race0715!C$30","v":0},{"$f":"Race0715!F$30","v":1}]
[null,{"$f":"Race0715!B$5","v":"Senior"},{"$f":"Race0715!B$4","v":"OC2"},{"$f":"Race0715!E$5","v":"Mixed"},{"$f":"Race0715!D$5","v":"Golden Masters"},{"$f":"Race0715!D$4","v":"Marathon"},{"$f":"Race0715!A$31","v":24},{"$f":"Race0715!D$31","v":0},{"$f":"Race0715!C$31","v":0},{"$f":"Race0715!F$31","v":1}]
[null,{"$f":"Race0715!B$5","v":"Senior"},{"$f":"Race0715!B$4","v":"OC2"},{"$f":"Race0715!E$5","v":"Mixed"},{"$f":"Race0715!D$5","v":"Golden Masters"},{"$f":"Race0715!D$4","v":"Marathon"},{"$f":"Race0715!A$32","v":25},{"$f":"Race0715!D$32","v":0},{"$f":"Race0715!C$32","v":0},{"$f":"Race0715!F$32","v":1}]
[null,{"$f":"Race0715!B$5","v":"Senior"},{"$f":"Race0715!B$4","v":"OC2"},{"$f":"Race0715!E$5","v":"Mixed"},{"$f":"Race0715!D$5","v":"Golden Masters"},{"$f":"Race0715!D$4","v":"Marathon"},{"$f":"Race0715!A$33","v":26},{"$f":"Race0715!D$33","v":0},{"$f":"Race0715!C$33","v":0},{"$f":"Race0715!F$33","v":1}]
[null,{"$f":"Race0715!B$5","v":"Senior"},{"$f":"Race0715!B$4","v":"OC2"},{"$f":"Race0715!E$5","v":"Mixed"},{"$f":"Race0715!D$5","v":"Golden Masters"},{"$f":"Race0715!D$4","v":"Marathon"},{"$f":"Race0715!A$34","v":27},{"$f":"Race0715!D$34","v":0},{"$f":"Race0715!C$34","v":0},{"$f":"Race0715!F$34","v":1}]
[null,{"$f":"Race0715!B$5","v":"Senior"},{"$f":"Race0715!B$4","v":"OC2"},{"$f":"Race0715!E$5","v":"Mixed"},{"$f":"Race0715!D$5","v":"Golden Masters"},{"$f":"Race0715!D$4","v":"Marathon"},{"$f":"Race0715!A$35","v":28},{"$f":"Race0715!D$35","v":0},{"$f":"Race0715!C$35","v":0},{"$f":"Race0715!F$35","v":1}]
[null,{"$f":"Race0715!B$5","v":"Senior"},{"$f":"Race0715!B$4","v":"OC2"},{"$f":"Race0715!E$5","v":"Mixed"},{"$f":"Race0715!D$5","v":"Golden Masters"},{"$f":"Race0715!D$4","v":"Marathon"},{"$f":"Race0715!A$36","v":29},{"$f":"Race0715!D$36","v":0},{"$f":"Race0715!C$36","v":0},{"$f":"Race0715!F$36","v":1}]
[null,{"$f":"Race0715!B$5","v":"Senior"},{"$f":"Race0715!B$4","v":"OC2"},{"$f":"Race0715!E$5","v":"Mixed"},{"$f":"Race0715!D$5","v":"Golden Masters"},{"$f":"Race0715!D$4","v":"Marathon"},{"$f":"Race0715!A$37","v":30},{"$f":"Race0715!D$37","v":0},{"$f":"Race0715!C$37","v":0},{"$f":"Race0715!F$37","v":1}]
[null,{"$f":"Race0715!B$5","v":"Senior"},{"$f":"Race0715!B$4","v":"OC2"},{"$f":"Race0715!E$5","v":"Mixed"},{"$f":"Race0715!D$5","v":"Golden Masters"},{"$f":"Race0715!D$4","v":"Marathon"},{"$f":"Race0715!A$38","v":31},{"$f":"Race0715!D$38","v":0},{"$f":"Race0715!C$38","v":0},{"$f":"Race0715!F$38","v":1}]
[null,{"$f":"Race0715!B$5","v":"Senior"},{"$f":"Race0715!B$4","v":"OC2"},{"$f":"Race0715!E$5","v":"Mixed"},{"$f":"Race0715!D$5","v":"Golden Masters"},{"$f":"Race0715!D$4","v":"Marathon"},{"$f":"Race0715!A$39","v":32},{"$f":"Race0715!D$39","v":0},{"$f":"Race0715!C$39","v":0},{"$f":"Race0715!F$39","v":1}]
[null,{"$f":"Race0715!B$5","v":"Senior"},{"$f":"Race0715!B$4","v":"OC2"},{"$f":"Race0715!E$5","v":"Mixed"},{"$f":"Race0715!D$5","v":"Golden Masters"},{"$f":"Race0715!D$4","v":"Marathon"},{"$f":"Race0715!A$40","v":33},{"$f":"Race0715!D$40","v":0},{"$f":"Race0715!C$40","v":0},{"$f":"Race0715!F$40","v":1}]
[null,{"$f":"Race0715!B$5","v":"Senior"},{"$f":"Race0715!B$4","v":"OC2"},{"$f":"Race0715!E$5","v":"Mixed"},{"$f":"Race0715!D$5","v":"Golden Masters"},{"$f":"Race0715!D$4","v":"Marathon"},{"$f":"Race0715!A$41","v":34},{"$f":"Race0715!D$41","v":0},{"$f":"Race0715!C$41","v":0},{"$f":"Race0715!F$41","v":1}]
[null,{"$f":"Race0715!B$5","v":"Senior"},{"$f":"Race0715!B$4","v":"OC2"},{"$f":"Race0715!E$5","v":"Mixed"},{"$f":"Race0715!D$5","v":"Golden Masters"},{"$f":"Race0715!D$4","v":"Marathon"},{"$f":"Race0715!A$42","v":35},{"$f":"Race0715!D$42","v":0},{"$f":"Race0715!C$42","v":0},{"$f":"Race0715!F$42","v":1}]
[null,{"$f":"Race0715!B$5","v":"Senior"},{"$f":"Race0715!B$4","v":"OC2"},{"$f":"Race0715!E$5","v":"Mixed"},{"$f":"Race0715!D$5","v":"Golden Masters"},{"$f":"Race0715!D$4","v":"Marathon"},{"$f":"Race0715!A$43","v":36},{"$f":"Race0715!D$43","v":0},{"$f":"Race0715!C$43","v":0},{"$f":"Race0715!F$43","v":1}]
[null,{"$f":"Race0715!B$5","v":"Senior"},{"$f":"Race0715!B$4","v":"OC2"},{"$f":"Race0715!E$5","v":"Mixed"},{"$f":"Race0715!D$5","v":"Golden Masters"},{"$f":"Race0715!D$4","v":"Marathon"},{"$f":"Race0715!A$44","v":37},{"$f":"Race0715!D$44","v":0},{"$f":"Race0715!C$44","v":0},{"$f":"Race0715!F$44","v":1}]
[null,{"$f":"Race0715!B$5","v":"Senior"},{"$f":"Race0715!B$4","v":"OC2"},{"$f":"Race0715!E$5","v":"Mixed"},{"$f":"Race0715!D$5","v":"Golden Masters"},{"$f":"Race0715!D$4","v":"Marathon"},{"$f":"Race0715!A$45","v":38},{"$f":"Race0715!D$45","v":0},{"$f":"Race0715!C$45","v":0},{"$f":"Race0715!F$45","v":1}]
[null,{"$f":"Race0715!B$5","v":"Senior"},{"$f":"Race0715!B$4","v":"OC2"},{"$f":"Race0715!E$5","v":"Mixed"},{"$f":"Race0715!D$5","v":"Golden Masters"},{"$f":"Race0715!D$4","v":"Marathon"},{"$f":"Race0715!A$46","v":39},{"$f":"Race0715!D$46","v":0},{"$f":"Race0715!C$46","v":0},{"$f":"Race0715!F$46","v":1}]
[null,{"$f":"Race0715!B$5","v":"Senior"},{"$f":"Race0715!B$4","v":"OC2"},{"$f":"Race0715!E$5","v":"Mixed"},{"$f":"Race0715!D$5","v":"Golden Masters"},{"$f":"Race0715!D$4","v":"Marathon"},{"$f":"Race0715!A$47","v":40},{"$f":"Race0715!D$47","v":0},{"$f":"Race0715!C$47","v":0},{"$f":"Race0715!F$47","v":1}]
[null,{"$f":"Race0715!B$5","v":"Senior"},{"$f":"Race0715!B$4","v":"OC2"},{"$f":"Race0715!E$5","v":"Mixed"},{"$f":"Race0715!D$5","v":"Golden Masters"},{"$f":"Race0715!D$4","v":"Marathon"},{"$f":"Race0715!A$48","v":41},{"$f":"Race0715!D$48","v":0},{"$f":"Race0715!C$48","v":0},{"$f":"Race0715!F$48","v":1}]
[null,{"$f":"Race0715!B$5","v":"Senior"},{"$f":"Race0715!B$4","v":"OC2"},{"$f":"Race0715!E$5","v":"Mixed"},{"$f":"Race0715!D$5","v":"Golden Masters"},{"$f":"Race0715!D$4","v":"Marathon"},{"$f":"Race0715!A$49","v":42},{"$f":"Race0715!D$49","v":0},{"$f":"Race0715!C$49","v":0},{"$f":"Race0715!F$49","v":1}]
[null,{"$f":"Race0715!B$5","v":"Senior"},{"$f":"Race0715!B$4","v":"OC2"},{"$f":"Race0715!E$5","v":"Mixed"},{"$f":"Race0715!D$5","v":"Golden Masters"},{"$f":"Race0715!D$4","v":"Marathon"},{"$f":"Race0715!A$50","v":43},{"$f":"Race0715!D$50","v":0},{"$f":"Race0715!C$50","v":0},{"$f":"Race0715!F$50","v":1}]
[null,{"$f":"Race0715!B$5","v":"Senior"},{"$f":"Race0715!B$4","v":"OC2"},{"$f":"Race0715!E$5","v":"Mixed"},{"$f":"Race0715!D$5","v":"Golden Masters"},{"$f":"Race0715!D$4","v":"Marathon"},{"$f":"Race0715!A$51","v":44},{"$f":"Race0715!D$51","v":0},{"$f":"Race0715!C$51","v":0},{"$f":"Race0715!F$51","v":1}]
[null,{"$f":"Race0715!B$5","v":"Senior"},{"$f":"Race0715!B$4","v":"OC2"},{"$f":"Race0715!E$5","v":"Mixed"},{"$f":"Race0715!D$5","v":"Golden Masters"},{"$f":"Race0715!D$4","v":"Marathon"},{"$f":"Race0715!A$52","v":45},{"$f":"Race0715!D$52","v":0},{"$f":"Race0715!C$52","v":0},{"$f":"Race0715!F$52","v":1}]
[null,{"$f":"Race0715!B$5","v":"Senior"},{"$f":"Race0715!B$4","v":"OC2"},{"$f":"Race0715!E$5","v":"Mixed"},{"$f":"Race0715!D$5","v":"Golden Masters"},{"$f":"Race0715!D$4","v":"Marathon"},{"$f":"Race0715!A$53","v":46},{"$f":"Race0715!D$53","v":0},{"$f":"Race0715!C$53","v":0},{"$f":"Race0715!F$53","v":1}]
[null,{"$f":"Race0715!B$5","v":"Senior"},{"$f":"Race0715!B$4","v":"OC2"},{"$f":"Race0715!E$5","v":"Mixed"},{"$f":"Race0715!D$5","v":"Golden Masters"},{"$f":"Race0715!D$4","v":"Marathon"},{"$f":"Race0715!A$54","v":47},{"$f":"Race0715!D$54","v":0},{"$f":"Race0715!C$54","v":0},{"$f":"Race0715!F$54","v":1}]
[null,{"$f":"Race0715!B$5","v":"Senior"},{"$f":"Race0715!B$4","v":"OC2"},{"$f":"Race0715!E$5","v":"Mixed"},{"$f":"Race0715!D$5","v":"Golden Masters"},{"$f":"Race0715!D$4","v":"Marathon"},{"$f":"Race0715!A$55","v":48},{"$f":"Race0715!D$55","v":0},{"$f":"Race0715!C$55","v":0},{"$f":"Race0715!F$55","v":1}]
[null,{"$f":"Race0715!B$5","v":"Senior"},{"$f":"Race0715!B$4","v":"OC2"},{"$f":"Race0715!E$5","v":"Mixed"},{"$f":"Race0715!D$5","v":"Golden Masters"},{"$f":"Race0715!D$4","v":"Marathon"},{"$f":"Race0715!A$56","v":49},{"$f":"Race0715!D$56","v":0},{"$f":"Race0715!C$56","v":0},{"$f":"Race0715!F$56","v":1}]
[null,{"$f":"Race0715!B$5","v":"Senior"},{"$f":"Race0715!B$4","v":"OC2"},{"$f":"Race0715!E$5","v":"Mixed"},{"$f":"Race0715!D$5","v":"Golden Masters"},{"$f":"Race0715!D$4","v":"Marathon"},{"$f":"Race0715!A$57","v":50},{"$f":"Race0715!D$57","v":0},{"$f":"Race0715!C$57","v":0},{"$f":"Race0715!F$57","v":1}]
["Race1301",{"$f":"Race1301!B$5","v":"Senior"},{"$f":"Race1301!B$4","v":"OC1"},{"$f":"Race1301!E$5","v":"Men"},{"$f":"Race1301!D$5","v":"21 & Under"},{"$f":"Race1301!D$4","v":"Marathon"},{"$f":"Race1301!A$8","v":1},{"$f":"Race1301!D$8","v":0},{"$f":"Race1301!C$8","v":0},{"$f":"Race1301!F$8","v":9}]
[null,{"$f":"Race1301!B$5","v":"Senior"},{"$f":"Race1301!B$4","v":"OC1"},{"$f":"Race1301!E$5","v":"Men"},{"$f":"Race1301!D$5","v":"21 & Under"},{"$f":"Race1301!D$4","v":"Marathon"},{"$f":"Race1301!A$9","v":2},{"$f":"Race1301!D$9","v":0},{"$f":"Race1301!C$9","v":0},{"$f":"Race1301!F$9","v":7}]
[null,{"$f":"Race1301!B$5","v":"Senior"},{"$f":"Race1301!B$4","v":"OC1"},{"$f":"Race1301!E$5","v":"Men"},{"$f":"Race1301!D$5","v":"21 & Under"},{"$f":"Race1301!D$4","v":"Marathon"},{"$f":"Race1301!A$10","v":3},{"$f":"Race1301!D$10","v":0},{"$f":"Race1301!C$10","v":0},{"$f":"Race1301!F$10","v":5}]
[null,{"$f":"Race1301!B$5","v":"Senior"},{"$f":"Race1301!B$4","v":"OC1"},{"$f":"Race1301!E$5","v":"Men"},{"$f":"Race1301!D$5","v":"21 & Under"},{"$f":"Race1301!D$4","v":"Marathon"},{"$f":"Race1301!A$11","v":4},{"$f":"Race1301!D$11","v":0},{"$f":"Race1301!C$11","v":0},{"$f":"Race1301!F$11","v":3}]
[null,{"$f":"Race1301!B$5","v":"Senior"},{"$f":"Race1301!B$4","v":"OC1"},{"$f":"Race1301!E$5","v":"Men"},{"$f":"Race1301!D$5","v":"21 & Under"},{"$f":"Race1301!D$4","v":"Marathon"},{"$f":"Race1301!A$12","v":5},{"$f":"Race1301!D$12","v":0},{"$f":"Race1301!C$12","v":0},{"$f":"Race1301!F$12","v":2}]
[null,{"$f":"Race1301!B$5","v":"Senior"},{"$f":"Race1301!B$4","v":"OC1"},{"$f":"Race1301!E$5","v":"Men"},{"$f":"Race1301!D$5","v":"21 & Under"},{"$f":"Race1301!D$4","v":"Marathon"},{"$f":"Race1301!A$13","v":6},{"$f":"Race1301!D$13","v":0},{"$f":"Race1301!C$13","v":0},{"$f":"Race1301!F$13","v":1}]
[null,{"$f":"Race1301!B$5","v":"Senior"},{"$f":"Race1301!B$4","v":"OC1"},{"$f":"Race1301!E$5","v":"Men"},{"$f":"Race1301!D$5","v":"21 & Under"},{"$f":"Race1301!D$4","v":"Marathon"},{"$f":"Race1301!A$14","v":7},{"$f":"Race1301!D$14","v":0},{"$f":"Race1301!C$14","v":0},{"$f":"Race1301!F$14","v":1}]
[null,{"$f":"Race1301!B$5","v":"Senior"},{"$f":"Race1301!B$4","v":"OC1"},{"$f":"Race1301!E$5","v":"Men"},{"$f":"Race1301!D$5","v":"21 & Under"},{"$f":"Race1301!D$4","v":"Marathon"},{"$f":"Race1301!A$15","v":8},{"$f":"Race1301!D$15","v":0},{"$f":"Race1301!C$15","v":0},{"$f":"Race1301!F$15","v":1}]
[null,{"$f":"Race1301!B$5","v":"Senior"},{"$f":"Race1301!B$4","v":"OC1"},{"$f":"Race1301!E$5","v":"Men"},{"$f":"Race1301!D$5","v":"21 & Under"},{"$f":"Race1301!D$4","v":"Marathon"},{"$f":"Race1301!A$16","v":9},{"$f":"Race1301!D$16","v":0},{"$f":"Race1301!C$16","v":0},{"$f":"Race1301!F$16","v":1}]
[null,{"$f":"Race1301!B$5","v":"Senior"},{"$f":"Race1301!B$4","v":"OC1"},{"$f":"Race1301!E$5","v":"Men"},{"$f":"Race1301!D$5","v":"21 & Under"},{"$f":"Race1301!D$4","v":"Marathon"},{"$f":"Race1301!A$17","v":10},{"$f":"Race1301!D$17","v":0},{"$f":"Race1301!C$17","v":0},{"$f":"Race1301!F$17","v":1}]
[null,{"$f":"Race1301!B$5","v":"Senior"},{"$f":"Race1301!B$4","v":"OC1"},{"$f":"Race1301!E$5","v":"Men"},{"$f":"Race1301!D$5","v":"21 & Under"},{"$f":"Race1301!D$4","v":"Marathon"},{"$f":"Race1301!A$18","v":11},{"$f":"Race1301!D$18","v":0},{"$f":"Race1301!C$18","v":0},{"$f":"Race1301!F$18","v":1}]
[null,{"$f":"Race1301!B$5","v":"Senior"},{"$f":"Race1301!B$4","v":"OC1"},{"$f":"Race1301!E$5","v":"Men"},{"$f":"Race1301!D$5","v":"21 & Under"},{"$f":"Race1301!D$4","v":"Marathon"},{"$f":"Race1301!A$19","v":12},{"$f":"Race1301!D$19","v":0},{"$f":"Race1301!C$19","v":0},{"$f":"Race1301!F$19","v":1}]
[null,{"$f":"Race1301!B$5","v":"Senior"},{"$f":"Race1301!B$4","v":"OC1"},{"$f":"Race1301!E$5","v":"Men"},{"$f":"Race1301!D$5","v":"21 & Under"},{"$f":"Race1301!D$4","v":"Marathon"},{"$f":"Race1301!A$20","v":13},{"$f":"Race1301!D$20","v":0},{"$f":"Race1301!C$20","v":0},{"$f":"Race1301!F$20","v":1}]
[null,{"$f":"Race1301!B$5","v":"Senior"},{"$f":"Race1301!B$4","v":"OC1"},{"$f":"Race1301!E$5","v":"Men"},{"$f":"Race1301!D$5","v":"21 & Under"},{"$f":"Race1301!D$4","v":"Marathon"},{"$f":"Race1301!A$21","v":14},{"$f":"Race1301!D$21","v":0},{"$f":"Race1301!C$21","v":0},{"$f":"Race1301!F$21","v":1}]
[null,{"$f":"Race1301!B$5","v":"Senior"},{"$f":"Race1301!B$4","v":"OC1"},{"$f":"Race1301!E$5","v":"Men"},{"$f":"Race1301!D$5","v":"21 & Under"},{"$f":"Race1301!D$4","v":"Marathon"},{"$f":"Race1301!A$22","v":15},{"$f":"Race1301!D$22","v":0},{"$f":"Race1301!C$22","v":0},{"$f":"Race1301!F$22","v":1}]
[null,{"$f":"Race1301!B$5","v":"Senior"},{"$f":"Race1301!B$4","v":"OC1"},{"$f":"Race1301!E$5","v":"Men"},{"$f":"Race1301!D$5","v":"21 & Under"},{"$f":"Race1301!D$4","v":"Marathon"},{"$f":"Race1301!A$23","v":16},{"$f":"Race1301!D$23","v":0},{"$f":"Race1301!C$23","v":0},{"$f":"Race1301!F$23","v":1}]
[null,{"$f":"Race1301!B$5","v":"Senior"},{"$f":"Race1301!B$4","v":"OC1"},{"$f":"Race1301!E$5","v":"Men"},{"$f":"Race1301!D$5","v":"21 & Under"},{"$f":"Race1301!D$4","v":"Marathon"},{"$f":"Race1301!A$24","v":17},{"$f":"Race1301!D$24","v":0},{"$f":"Race1301!C$24","v":0},{"$f":"Race1301!F$24","v":1}]
[null,{"$f":"Race1301!B$5","v":"Senior"},{"$f":"Race1301!B$4","v":"OC1"},{"$f":"Race1301!E$5","v":"Men"},{"$f":"Race1301!D$5","v":"21 & Under"},{"$f":"Race1301!D$4","v":"Marathon"},{"$f":"Race1301!A$25","v":18},{"$f":"Race1301!D$25","v":0},{"$f":"Race1301!C$25","v":0},{"$f":"Race1301!F$25","v":1}]
[null,{"$f":"Race1301!B$5","v":"Senior"},{"$f":"Race1301!B$4","v":"OC1"},{"$f":"Race1301!E$5","v":"Men"},{"$f":"Race1301!D$5","v":"21 & Under"},{"$f":"Race1301!D$4","v":"Marathon"},{"$f":"Race1301!A$26","v":19},{"$f":"Race1301!D$26","v":0},{"$f":"Race1301!C$26","v":0},{"$f":"Race1301!F$26","v":1}]
[null,{"$f":"Race1301!B$5","v":"Senior"},{"$f":"Race1301!B$4","v":"OC1"},{"$f":"Race1301!E$5","v":"Men"},{"$f":"Race1301!D$5","v":"21 & Under"},{"$f":"Race1301!D$4","v":"Marathon"},{"$f":"Race1301!A$27","v":20},{"$f":"Race1301!D$27","v":0},{"$f":"Race1301!C$27","v":0},{"$f":"Race1301!F$27","v":1}]
[null,{"$f":"Race1301!B$5","v":"Senior"},{"$f":"Race1301!B$4","v":"OC1"},{"$f":"Race1301!E$5","v":"Men"},{"$f":"Race1301!D$5","v":"21 & Under"},{"$f":"Race1301!D$4","v":"Marathon"},{"$f":"Race1301!A$28","v":21},{"$f":"Race1301!D$28","v":0},{"$f":"Race1301!C$28","v":0},{"$f":"Race1301!F$28","v":1}]
[null,{"$f":"Race1301!B$5","v":"Senior"},{"$f":"Race1301!B$4","v":"OC1"},{"$f":"Race1301!E$5","v":"Men"},{"$f":"Race1301!D$5","v":"21 & Under"},{"$f":"Race1301!D$4","v":"Marathon"},{"$f":"Race1301!A$29","v":22},{"$f":"Race1301!D$29","v":0},{"$f":"Race1301!C$29","v":0},{"$f":"Race1301!F$29","v":1}]
[null,{"$f":"Race1301!B$5","v":"Senior"},{"$f":"Race1301!B$4","v":"OC1"},{"$f":"Race1301!E$5","v":"Men"},{"$f":"Race1301!D$5","v":"21 & Under"},{"$f":"Race1301!D$4","v":"Marathon"},{"$f":"Race1301!A$30","v":23},{"$f":"Race1301!D$30","v":0},{"$f":"Race1301!C$30","v":0},{"$f":"Race1301!F$30","v":1}]
[null,{"$f":"Race1301!B$5","v":"Senior"},{"$f":"Race1301!B$4","v":"OC1"},{"$f":"Race1301!E$5","v":"Men"},{"$f":"Race1301!D$5","v":"21 & Under"},{"$f":"Race1301!D$4","v":"Marathon"},{"$f":"Race1301!A$31","v":24},{"$f":"Race1301!D$31","v":0},{"$f":"Race1301!C$31","v":0},{"$f":"Race1301!F$31","v":1}]
[null,{"$f":"Race1301!B$5","v":"Senior"},{"$f":"Race1301!B$4","v":"OC1"},{"$f":"Race1301!E$5","v":"Men"},{"$f":"Race1301!D$5","v":"21 & Under"},{"$f":"Race1301!D$4","v":"Marathon"},{"$f":"Race1301!A$32","v":25},{"$f":"Race1301!D$32","v":0},{"$f":"Race1301!C$32","v":0},{"$f":"Race1301!F$32","v":1}]
[null,{"$f":"Race1301!B$5","v":"Senior"},{"$f":"Race1301!B$4","v":"OC1"},{"$f":"Race1301!E$5","v":"Men"},{"$f":"Race1301!D$5","v":"21 & Under"},{"$f":"Race1301!D$4","v":"Marathon"},{"$f":"Race1301!A$33","v":26},{"$f":"Race1301!D$33","v":0},{"$f":"Race1301!C$33","v":0},{"$f":"Race1301!F$33","v":1}]
[null,{"$f":"Race1301!B$5","v":"Senior"},{"$f":"Race1301!B$4","v":"OC1"},{"$f":"Race1301!E$5","v":"Men"},{"$f":"Race1301!D$5","v":"21 & Under"},{"$f":"Race1301!D$4","v":"Marathon"},{"$f":"Race1301!A$34","v":27},{"$f":"Race1301!D$34","v":0},{"$f":"Race1301!C$34","v":0},{"$f":"Race1301!F$34","v":1}]
[null,{"$f":"Race1301!B$5","v":"Senior"},{"$f":"Race1301!B$4","v":"OC1"},{"$f":"Race1301!E$5","v":"Men"},{"$f":"Race1301!D$5","v":"21 & Under"},{"$f":"Race1301!D$4","v":"Marathon"},{"$f":"Race1301!A$35","v":28},{"$f":"Race1301!D$35","v":0},{"$f":"Race1301!C$35","v":0},{"$f":"Race1301!F$35","v":1}]
[null,{"$f":"Race1301!B$5","v":"Senior"},{"$f":"Race1301!B$4","v":"OC1"},{"$f":"Race1301!E$5","v":"Men"},{"$f":"Race1301!D$5","v":"21 & Under"},{"$f":"Race1301!D$4","v":"Marathon"},{"$f":"Race1301!A$36","v":29},{"$f":"Race1301!D$36","v":0},{"$f":"Race1301!C$36","v":0},{"$f":"Race1301!F$36","v":1}]
[null,{"$f":"Race1301!B$5","v":"Senior"},{"$f":"Race1301!B$4","v":"OC1"},{"$f":"Race1301!E$5","v":"Men"},{"$f":"Race1301!D$5","v":"21 & Under"},{"$f":"Race1301!D$4","v":"Marathon"},{"$f":"Race1301!A$37","v":30},{"$f":"Race1301!D$37","v":0},{"$f":"Race1301!C$37","v":0},{"$f":"Race1301!F$37","v":1}]
[null,{"$f":"Race1301!B$5","v":"Senior"},{"$f":"Race1301!B$4","v":"OC1"},{"$f":"Race1301!E$5","v":"Men"},{"$f":"Race1301!D$5","v":"21 & Under"},{"$f":"Race1301!D$4","v":"Marathon"},{"$f":"Race1301!A$38","v":31},{"$f":"Race1301!D$38","v":0},{"$f":"Race1301!C$38","v":0},{"$f":"Race1301!F$38","v":1}]
[null,{"$f":"Race1301!B$5","v":"Senior"},{"$f":"Race1301!B$4","v":"OC1"},{"$f":"Race1301!E$5","v":"Men"},{"$f":"Race1301!D$5","v":"21 & Under"},{"$f":"Race1301!D$4","v":"Marathon"},{"$f":"Race1301!A$39","v":32},{"$f":"Race1301!D$39","v":0},{"$f":"Race1301!C$39","v":0},{"$f":"Race1301!F$39","v":1}]
[null,{"$f":"Race1301!B$5","v":"Senior"},{"$f":"Race1301!B$4","v":"OC1"},{"$f":"Race1301!E$5","v":"Men"},{"$f":"Race1301!D$5","v":"21 & Under"},{"$f":"Race1301!D$4","v":"Marathon"},{"$f":"Race1301!A$40","v":33},{"$f":"Race1301!D$40","v":0},{"$f":"Race1301!C$40","v":0},{"$f":"Race1301!F$40","v":1}]
[null,{"$f":"Race1301!B$5","v":"Senior"},{"$f":"Race1301!B$4","v":"OC1"},{"$f":"Race1301!E$5","v":"Men"},{"$f":"Race1301!D$5","v":"21 & Under"},{"$f":"Race1301!D$4","v":"Marathon"},{"$f":"Race1301!A$41","v":34},{"$f":"Race1301!D$41","v":0},{"$f":"Race1301!C$41","v":0},{"$f":"Race1301!F$41","v":1}]
[null,{"$f":"Race1301!B$5","v":"Senior"},{"$f":"Race1301!B$4","v":"OC1"},{"$f":"Race1301!E$5","v":"Men"},{"$f":"Race1301!D$5","v":"21 & Under"},{"$f":"Race1301!D$4","v":"Marathon"},{"$f":"Race1301!A$42","v":35},{"$f":"Race1301!D$42","v":0},{"$f":"Race1301!C$42","v":0},{"$f":"Race1301!F$42","v":1}]
[null,{"$f":"Race1301!B$5","v":"Senior"},{"$f":"Race1301!B$4","v":"OC1"},{"$f":"Race1301!E$5","v":"Men"},{"$f":"Race1301!D$5","v":"21 & Under"},{"$f":"Race1301!D$4","v":"Marathon"},{"$f":"Race1301!A$43","v":36},{"$f":"Race1301!D$43","v":0},{"$f":"Race1301!C$43","v":0},{"$f":"Race1301!F$43","v":1}]
[null,{"$f":"Race1301!B$5","v":"Senior"},{"$f":"Race1301!B$4","v":"OC1"},{"$f":"Race1301!E$5","v":"Men"},{"$f":"Race1301!D$5","v":"21 & Under"},{"$f":"Race1301!D$4","v":"Marathon"},{"$f":"Race1301!A$44","v":37},{"$f":"Race1301!D$44","v":0},{"$f":"Race1301!C$44","v":0},{"$f":"Race1301!F$44","v":1}]
[null,{"$f":"Race1301!B$5","v":"Senior"},{"$f":"Race1301!B$4","v":"OC1"},{"$f":"Race1301!E$5","v":"Men"},{"$f":"Race1301!D$5","v":"21 & Under"},{"$f":"Race1301!D$4","v":"Marathon"},{"$f":"Race1301!A$45","v":38},{"$f":"Race1301!D$45","v":0},{"$f":"Race1301!C$45","v":0},{"$f":"Race1301!F$45","v":1}]
[null,{"$f":"Race1301!B$5","v":"Senior"},{"$f":"Race1301!B$4","v":"OC1"},{"$f":"Race1301!E$5","v":"Men"},{"$f":"Race1301!D$5","v":"21 & Under"},{"$f":"Race1301!D$4","v":"Marathon"},{"$f":"Race1301!A$46","v":39},{"$f":"Race1301!D$46","v":0},{"$f":"Race1301!C$46","v":0},{"$f":"Race1301!F$46","v":1}]
[null,{"$f":"Race1301!B$5","v":"Senior"},{"$f":"Race1301!B$4","v":"OC1"},{"$f":"Race1301!E$5","v":"Men"},{"$f":"Race1301!D$5","v":"21 & Under"},{"$f":"Race1301!D$4","v":"Marathon"},{"$f":"Race1301!A$47","v":40},{"$f":"Race1301!D$47","v":0},{"$f":"Race1301!C$47","v":0},{"$f":"Race1301!F$47","v":1}]
[null,{"$f":"Race1301!B$5","v":"Senior"},{"$f":"Race1301!B$4","v":"OC1"},{"$f":"Race1301!E$5","v":"Men"},{"$f":"Race1301!D$5","v":"21 & Under"},{"$f":"Race1301!D$4","v":"Marathon"},{"$f":"Race1301!A$48","v":41},{"$f":"Race1301!D$48","v":0},{"$f":"Race1301!C$48","v":0},{"$f":"Race1301!F$48","v":1}]
[null,{"$f":"Race1301!B$5","v":"Senior"},{"$f":"Race1301!B$4","v":"OC1"},{"$f":"Race1301!E$5","v":"Men"},{"$f":"Race1301!D$5","v":"21 & Under"},{"$f":"Race1301!D$4","v":"Marathon"},{"$f":"Race1301!A$49","v":42},{"$f":"Race1301!D$49","v":0},{"$f":"Race1301!C$49","v":0},{"$f":"Race1301!F$49","v":1}]
[null,{"$f":"Race1301!B$5","v":"Senior"},{"$f":"Race1301!B$4","v":"OC1"},{"$f":"Race1301!E$5","v":"Men"},{"$f":"Race1301!D$5","v":"21 & Under"},{"$f":"Race1301!D$4","v":"Marathon"},{"$f":"Race1301!A$50","v":43},{"$f":"Race1301!D$50","v":0},{"$f":"Race1301!C$50","v":0},{"$f":"Race1301!F$50","v":1}]
[null,{"$f":"Race1301!B$5","v":"Senior"},{"$f":"Race1301!B$4","v":"OC1"},{"$f":"Race1301!E$5","v":"Men"},{"$f":"Race1301!D$5","v":"21 & Under"},{"$f":"Race1301!D$4","v":"Marathon"},{"$f":"Race1301!A$51","v":44},{"$f":"Race1301!D$51","v":0},{"$f":"Race1301!C$51","v":0},{"$f":"Race1301!F$51","v":1}]
[null,{"$f":"Race1301!B$5","v":"Senior"},{"$f":"Race1301!B$4","v":"OC1"},{"$f":"Race1301!E$5","v":"Men"},{"$f":"Race1301!D$5","v":"21 & Under"},{"$f":"Race1301!D$4","v":"Marathon"},{"$f":"Race1301!A$52","v":45},{"$f":"Race1301!D$52","v":0},{"$f":"Race1301!C$52","v":0},{"$f":"Race1301!F$52","v":1}]
[null,{"$f":"Race1301!B$5","v":"Senior"},{"$f":"Race1301!B$4","v":"OC1"},{"$f":"Race1301!E$5","v":"Men"},{"$f":"Race1301!D$5","v":"21 & Under"},{"$f":"Race1301!D$4","v":"Marathon"},{"$f":"Race1301!A$53","v":46},{"$f":"Race1301!D$53","v":0},{"$f":"Race1301!C$53","v":0},{"$f":"Race1301!F$53","v":1}]
[null,{"$f":"Race1301!B$5","v":"Senior"},{"$f":"Race1301!B$4","v":"OC1"},{"$f":"Race1301!E$5","v":"Men"},{"$f":"Race1301!D$5","v":"21 & Under"},{"$f":"Race1301!D$4","v":"Marathon"},{"$f":"Race1301!A$54","v":47},{"$f":"Race1301!D$54","v":0},{"$f":"Race1301!C$54","v":0},{"$f":"Race1301!F$54","v":1}]
[null,{"$f":"Race1301!B$5","v":"Senior"},{"$f":"Race1301!B$4","v":"OC1"},{"$f":"Race1301!E$5","v":"Men"},{"$f":"Race1301!D$5","v":"21 & Under"},{"$f":"Race1301!D$4","v":"Marathon"},{"$f":"Race1301!A$55","v":48},{"$f":"Race1301!D$55","v":0},{"$f":"Race1301!C$55","v":0},{"$f":"Race1301!F$55","v":1}]
[null,{"$f":"Race1301!B$5","v":"Senior"},{"$f":"Race1301!B$4","v":"OC1"},{"$f":"Race1301!E$5","v":"Men"},{"$f":"Race1301!D$5","v":"21 & Under"},{"$f":"Race1301!D$4","v":"Marathon"},{"$f":"Race1301!A$56","v":49},{"$f":"Race1301!D$56","v":0},{"$f":"Race1301!C$56","v":0},{"$f":"Race1301!F$56","v":1}]
[null,{"$f":"Race1301!B$5","v":"Senior"},{"$f":"Race1301!B$4","v":"OC1"},{"$f":"Race1301!E$5","v":"Men"},{"$f":"Race1301!D$5","v":"21 & Under"},{"$f":"Race1301!D$4","v":"Marathon"},{"$f":"Race1301!A$57","v":50},{"$f":"Race1301!D$57","v":0},{"$f":"Race1301!C$57","v":0},{"$f":"Race1301!F$57","v":1}]
["Race1302",{"$f":"Race1302!B$5","v":"Senior"},{"$f":"Race1302!B$4","v":"OC1"},{"$f":"Race1302!E$5","v":"Men"},{"$f":"Race1302!D$5","v":"Open"},{"$f":"Race1302!D$4","v":"Marathon"},{"$f":"Race1302!A$8","v":1},{"$f":"Race1302!D$8","v":0},{"$f":"Race1302!C$8","v":0},{"$f":"Race1302!F$8","v":9}]
[null,{"$f":"Race1302!B$5","v":"Senior"},{"$f":"Race1302!B$4","v":"OC1"},{"$f":"Race1302!E$5","v":"Men"},{"$f":"Race1302!D$5","v":"Open"},{"$f":"Race1302!D$4","v":"Marathon"},{"$f":"Race1302!A$9","v":2},{"$f":"Race1302!D$9","v":0},{"$f":"Race1302!C$9","v":0},{"$f":"Race1302!F$9","v":7}]
[null,{"$f":"Race1302!B$5","v":"Senior"},{"$f":"Race1302!B$4","v":"OC1"},{"$f":"Race1302!E$5","v":"Men"},{"$f":"Race1302!D$5","v":"Open"},{"$f":"Race1302!D$4","v":"Marathon"},{"$f":"Race1302!A$10","v":3},{"$f":"Race1302!D$10","v":0},{"$f":"Race1302!C$10","v":0},{"$f":"Race1302!F$10","v":5}]
[null,{"$f":"Race1302!B$5","v":"Senior"},{"$f":"Race1302!B$4","v":"OC1"},{"$f":"Race1302!E$5","v":"Men"},{"$f":"Race1302!D$5","v":"Open"},{"$f":"Race1302!D$4","v":"Marathon"},{"$f":"Race1302!A$11","v":4},{"$f":"Race1302!D$11","v":0},{"$f":"Race1302!C$11","v":0},{"$f":"Race1302!F$11","v":3}]
[null,{"$f":"Race1302!B$5","v":"Senior"},{"$f":"Race1302!B$4","v":"OC1"},{"$f":"Race1302!E$5","v":"Men"},{"$f":"Race1302!D$5","v":"Open"},{"$f":"Race1302!D$4","v":"Marathon"},{"$f":"Race1302!A$12","v":5},{"$f":"Race1302!D$12","v":0},{"$f":"Race1302!C$12","v":0},{"$f":"Race1302!F$12","v":2}]
[null,{"$f":"Race1302!B$5","v":"Senior"},{"$f":"Race1302!B$4","v":"OC1"},{"$f":"Race1302!E$5","v":"Men"},{"$f":"Race1302!D$5","v":"Open"},{"$f":"Race1302!D$4","v":"Marathon"},{"$f":"Race1302!A$13","v":6},{"$f":"Race1302!D$13","v":0},{"$f":"Race1302!C$13","v":0},{"$f":"Race1302!F$13","v":1}]
[null,{"$f":"Race1302!B$5","v":"Senior"},{"$f":"Race1302!B$4","v":"OC1"},{"$f":"Race1302!E$5","v":"Men"},{"$f":"Race1302!D$5","v":"Open"},{"$f":"Race1302!D$4","v":"Marathon"},{"$f":"Race1302!A$14","v":7},{"$f":"Race1302!D$14","v":0},{"$f":"Race1302!C$14","v":0},{"$f":"Race1302!F$14","v":1}]
[null,{"$f":"Race1302!B$5","v":"Senior"},{"$f":"Race1302!B$4","v":"OC1"},{"$f":"Race1302!E$5","v":"Men"},{"$f":"Race1302!D$5","v":"Open"},{"$f":"Race1302!D$4","v":"Marathon"},{"$f":"Race1302!A$15","v":8},{"$f":"Race1302!D$15","v":0},{"$f":"Race1302!C$15","v":0},{"$f":"Race1302!F$15","v":1}]
[null,{"$f":"Race1302!B$5","v":"Senior"},{"$f":"Race1302!B$4","v":"OC1"},{"$f":"Race1302!E$5","v":"Men"},{"$f":"Race1302!D$5","v":"Open"},{"$f":"Race1302!D$4","v":"Marathon"},{"$f":"Race1302!A$16","v":9},{"$f":"Race1302!D$16","v":0},{"$f":"Race1302!C$16","v":0},{"$f":"Race1302!F$16","v":1}]
[null,{"$f":"Race1302!B$5","v":"Senior"},{"$f":"Race1302!B$4","v":"OC1"},{"$f":"Race1302!E$5","v":"Men"},{"$f":"Race1302!D$5","v":"Open"},{"$f":"Race1302!D$4","v":"Marathon"},{"$f":"Race1302!A$17","v":10},{"$f":"Race1302!D$17","v":0},{"$f":"Race1302!C$17","v":0},{"$f":"Race1302!F$17","v":1}]
[null,{"$f":"Race1302!B$5","v":"Senior"},{"$f":"Race1302!B$4","v":"OC1"},{"$f":"Race1302!E$5","v":"Men"},{"$f":"Race1302!D$5","v":"Open"},{"$f":"Race1302!D$4","v":"Marathon"},{"$f":"Race1302!A$18","v":11},{"$f":"Race1302!D$18","v":0},{"$f":"Race1302!C$18","v":0},{"$f":"Race1302!F$18","v":1}]
[null,{"$f":"Race1302!B$5","v":"Senior"},{"$f":"Race1302!B$4","v":"OC1"},{"$f":"Race1302!E$5","v":"Men"},{"$f":"Race1302!D$5","v":"Open"},{"$f":"Race1302!D$4","v":"Marathon"},{"$f":"Race1302!A$19","v":12},{"$f":"Race1302!D$19","v":0},{"$f":"Race1302!C$19","v":0},{"$f":"Race1302!F$19","v":1}]
[null,{"$f":"Race1302!B$5","v":"Senior"},{"$f":"Race1302!B$4","v":"OC1"},{"$f":"Race1302!E$5","v":"Men"},{"$f":"Race1302!D$5","v":"Open"},{"$f":"Race1302!D$4","v":"Marathon"},{"$f":"Race1302!A$20","v":13},{"$f":"Race1302!D$20","v":0},{"$f":"Race1302!C$20","v":0},{"$f":"Race1302!F$20","v":1}]
[null,{"$f":"Race1302!B$5","v":"Senior"},{"$f":"Race1302!B$4","v":"OC1"},{"$f":"Race1302!E$5","v":"Men"},{"$f":"Race1302!D$5","v":"Open"},{"$f":"Race1302!D$4","v":"Marathon"},{"$f":"Race1302!A$21","v":14},{"$f":"Race1302!D$21","v":0},{"$f":"Race1302!C$21","v":0},{"$f":"Race1302!F$21","v":1}]
[null,{"$f":"Race1302!B$5","v":"Senior"},{"$f":"Race1302!B$4","v":"OC1"},{"$f":"Race1302!E$5","v":"Men"},{"$f":"Race1302!D$5","v":"Open"},{"$f":"Race1302!D$4","v":"Marathon"},{"$f":"Race1302!A$22","v":15},{"$f":"Race1302!D$22","v":0},{"$f":"Race1302!C$22","v":0},{"$f":"Race1302!F$22","v":1}]
[null,{"$f":"Race1302!B$5","v":"Senior"},{"$f":"Race1302!B$4","v":"OC1"},{"$f":"Race1302!E$5","v":"Men"},{"$f":"Race1302!D$5","v":"Open"},{"$f":"Race1302!D$4","v":"Marathon"},{"$f":"Race1302!A$23","v":16},{"$f":"Race1302!D$23","v":0},{"$f":"Race1302!C$23","v":0},{"$f":"Race1302!F$23","v":1}]
[null,{"$f":"Race1302!B$5","v":"Senior"},{"$f":"Race1302!B$4","v":"OC1"},{"$f":"Race1302!E$5","v":"Men"},{"$f":"Race1302!D$5","v":"Open"},{"$f":"Race1302!D$4","v":"Marathon"},{"$f":"Race1302!A$24","v":17},{"$f":"Race1302!D$24","v":0},{"$f":"Race1302!C$24","v":0},{"$f":"Race1302!F$24","v":1}]
[null,{"$f":"Race1302!B$5","v":"Senior"},{"$f":"Race1302!B$4","v":"OC1"},{"$f":"Race1302!E$5","v":"Men"},{"$f":"Race1302!D$5","v":"Open"},{"$f":"Race1302!D$4","v":"Marathon"},{"$f":"Race1302!A$25","v":18},{"$f":"Race1302!D$25","v":0},{"$f":"Race1302!C$25","v":0},{"$f":"Race1302!F$25","v":1}]
[null,{"$f":"Race1302!B$5","v":"Senior"},{"$f":"Race1302!B$4","v":"OC1"},{"$f":"Race1302!E$5","v":"Men"},{"$f":"Race1302!D$5","v":"Open"},{"$f":"Race1302!D$4","v":"Marathon"},{"$f":"Race1302!A$26","v":19},{"$f":"Race1302!D$26","v":0},{"$f":"Race1302!C$26","v":0},{"$f":"Race1302!F$26","v":1}]
[null,{"$f":"Race1302!B$5","v":"Senior"},{"$f":"Race1302!B$4","v":"OC1"},{"$f":"Race1302!E$5","v":"Men"},{"$f":"Race1302!D$5","v":"Open"},{"$f":"Race1302!D$4","v":"Marathon"},{"$f":"Race1302!A$27","v":20},{"$f":"Race1302!D$27","v":0},{"$f":"Race1302!C$27","v":0},{"$f":"Race1302!F$27","v":1}]
[null,{"$f":"Race1302!B$5","v":"Senior"},{"$f":"Race1302!B$4","v":"OC1"},{"$f":"Race1302!E$5","v":"Men"},{"$f":"Race1302!D$5","v":"Open"},{"$f":"Race1302!D$4","v":"Marathon"},{"$f":"Race1302!A$28","v":21},{"$f":"Race1302!D$28","v":0},{"$f":"Race1302!C$28","v":0},{"$f":"Race1302!F$28","v":1}]
[null,{"$f":"Race1302!B$5","v":"Senior"},{"$f":"Race1302!B$4","v":"OC1"},{"$f":"Race1302!E$5","v":"Men"},{"$f":"Race1302!D$5","v":"Open"},{"$f":"Race1302!D$4","v":"Marathon"},{"$f":"Race1302!A$29","v":22},{"$f":"Race1302!D$29","v":0},{"$f":"Race1302!C$29","v":0},{"$f":"Race1302!F$29","v":1}]
[null,{"$f":"Race1302!B$5","v":"Senior"},{"$f":"Race1302!B$4","v":"OC1"},{"$f":"Race1302!E$5","v":"Men"},{"$f":"Race1302!D$5","v":"Open"},{"$f":"Race1302!D$4","v":"Marathon"},{"$f":"Race1302!A$30","v":23},{"$f":"Race1302!D$30","v":0},{"$f":"Race1302!C$30","v":0},{"$f":"Race1302!F$30","v":1}]
[null,{"$f":"Race1302!B$5","v":"Senior"},{"$f":"Race1302!B$4","v":"OC1"},{"$f":"Race1302!E$5","v":"Men"},{"$f":"Race1302!D$5","v":"Open"},{"$f":"Race1302!D$4","v":"Marathon"},{"$f":"Race1302!A$31","v":24},{"$f":"Race1302!D$31","v":0},{"$f":"Race1302!C$31","v":0},{"$f":"Race1302!F$31","v":1}]
[null,{"$f":"Race1302!B$5","v":"Senior"},{"$f":"Race1302!B$4","v":"OC1"},{"$f":"Race1302!E$5","v":"Men"},{"$f":"Race1302!D$5","v":"Open"},{"$f":"Race1302!D$4","v":"Marathon"},{"$f":"Race1302!A$32","v":25},{"$f":"Race1302!D$32","v":0},{"$f":"Race1302!C$32","v":0},{"$f":"Race1302!F$32","v":1}]
[null,{"$f":"Race1302!B$5","v":"Senior"},{"$f":"Race1302!B$4","v":"OC1"},{"$f":"Race1302!E$5","v":"Men"},{"$f":"Race1302!D$5","v":"Open"},{"$f":"Race1302!D$4","v":"Marathon"},{"$f":"Race1302!A$33","v":26},{"$f":"Race1302!D$33","v":0},{"$f":"Race1302!C$33","v":0},{"$f":"Race1302!F$33","v":1}]
[null,{"$f":"Race1302!B$5","v":"Senior"},{"$f":"Race1302!B$4","v":"OC1"},{"$f":"Race1302!E$5","v":"Men"},{"$f":"Race1302!D$5","v":"Open"},{"$f":"Race1302!D$4","v":"Marathon"},{"$f":"Race1302!A$34","v":27},{"$f":"Race1302!D$34","v":0},{"$f":"Race1302!C$34","v":0},{"$f":"Race1302!F$34","v":1}]
[null,{"$f":"Race1302!B$5","v":"Senior"},{"$f":"Race1302!B$4","v":"OC1"},{"$f":"Race1302!E$5","v":"Men"},{"$f":"Race1302!D$5","v":"Open"},{"$f":"Race1302!D$4","v":"Marathon"},{"$f":"Race1302!A$35","v":28},{"$f":"Race1302!D$35","v":0},{"$f":"Race1302!C$35","v":0},{"$f":"Race1302!F$35","v":1}]
[null,{"$f":"Race1302!B$5","v":"Senior"},{"$f":"Race1302!B$4","v":"OC1"},{"$f":"Race1302!E$5","v":"Men"},{"$f":"Race1302!D$5","v":"Open"},{"$f":"Race1302!D$4","v":"Marathon"},{"$f":"Race1302!A$36","v":29},{"$f":"Race1302!D$36","v":0},{"$f":"Race1302!C$36","v":0},{"$f":"Race1302!F$36","v":1}]
[null,{"$f":"Race1302!B$5","v":"Senior"},{"$f":"Race1302!B$4","v":"OC1"},{"$f":"Race1302!E$5","v":"Men"},{"$f":"Race1302!D$5","v":"Open"},{"$f":"Race1302!D$4","v":"Marathon"},{"$f":"Race1302!A$37","v":30},{"$f":"Race1302!D$37","v":0},{"$f":"Race1302!C$37","v":0},{"$f":"Race1302!F$37","v":1}]
[null,{"$f":"Race1302!B$5","v":"Senior"},{"$f":"Race1302!B$4","v":"OC1"},{"$f":"Race1302!E$5","v":"Men"},{"$f":"Race1302!D$5","v":"Open"},{"$f":"Race1302!D$4","v":"Marathon"},{"$f":"Race1302!A$38","v":31},{"$f":"Race1302!D$38","v":0},{"$f":"Race1302!C$38","v":0},{"$f":"Race1302!F$38","v":1}]
[null,{"$f":"Race1302!B$5","v":"Senior"},{"$f":"Race1302!B$4","v":"OC1"},{"$f":"Race1302!E$5","v":"Men"},{"$f":"Race1302!D$5","v":"Open"},{"$f":"Race1302!D$4","v":"Marathon"},{"$f":"Race1302!A$39","v":32},{"$f":"Race1302!D$39","v":0},{"$f":"Race1302!C$39","v":0},{"$f":"Race1302!F$39","v":1}]
[null,{"$f":"Race1302!B$5","v":"Senior"},{"$f":"Race1302!B$4","v":"OC1"},{"$f":"Race1302!E$5","v":"Men"},{"$f":"Race1302!D$5","v":"Open"},{"$f":"Race1302!D$4","v":"Marathon"},{"$f":"Race1302!A$40","v":33},{"$f":"Race1302!D$40","v":0},{"$f":"Race1302!C$40","v":0},{"$f":"Race1302!F$40","v":1}]
[null,{"$f":"Race1302!B$5","v":"Senior"},{"$f":"Race1302!B$4","v":"OC1"},{"$f":"Race1302!E$5","v":"Men"},{"$f":"Race1302!D$5","v":"Open"},{"$f":"Race1302!D$4","v":"Marathon"},{"$f":"Race1302!A$41","v":34},{"$f":"Race1302!D$41","v":0},{"$f":"Race1302!C$41","v":0},{"$f":"Race1302!F$41","v":1}]
[null,{"$f":"Race1302!B$5","v":"Senior"},{"$f":"Race1302!B$4","v":"OC1"},{"$f":"Race1302!E$5","v":"Men"},{"$f":"Race1302!D$5","v":"Open"},{"$f":"Race1302!D$4","v":"Marathon"},{"$f":"Race1302!A$42","v":35},{"$f":"Race1302!D$42","v":0},{"$f":"Race1302!C$42","v":0},{"$f":"Race1302!F$42","v":1}]
[null,{"$f":"Race1302!B$5","v":"Senior"},{"$f":"Race1302!B$4","v":"OC1"},{"$f":"Race1302!E$5","v":"Men"},{"$f":"Race1302!D$5","v":"Open"},{"$f":"Race1302!D$4","v":"Marathon"},{"$f":"Race1302!A$43","v":36},{"$f":"Race1302!D$43","v":0},{"$f":"Race1302!C$43","v":0},{"$f":"Race1302!F$43","v":1}]
[null,{"$f":"Race1302!B$5","v":"Senior"},{"$f":"Race1302!B$4","v":"OC1"},{"$f":"Race1302!E$5","v":"Men"},{"$f":"Race1302!D$5","v":"Open"},{"$f":"Race1302!D$4","v":"Marathon"},{"$f":"Race1302!A$44","v":37},{"$f":"Race1302!D$44","v":0},{"$f":"Race1302!C$44","v":0},{"$f":"Race1302!F$44","v":1}]
[null,{"$f":"Race1302!B$5","v":"Senior"},{"$f":"Race1302!B$4","v":"OC1"},{"$f":"Race1302!E$5","v":"Men"},{"$f":"Race1302!D$5","v":"Open"},{"$f":"Race1302!D$4","v":"Marathon"},{"$f":"Race1302!A$45","v":38},{"$f":"Race1302!D$45","v":0},{"$f":"Race1302!C$45","v":0},{"$f":"Race1302!F$45","v":1}]
[null,{"$f":"Race1302!B$5","v":"Senior"},{"$f":"Race1302!B$4","v":"OC1"},{"$f":"Race1302!E$5","v":"Men"},{"$f":"Race1302!D$5","v":"Open"},{"$f":"Race1302!D$4","v":"Marathon"},{"$f":"Race1302!A$46","v":39},{"$f":"Race1302!D$46","v":0},{"$f":"Race1302!C$46","v":0},{"$f":"Race1302!F$46","v":1}]
[null,{"$f":"Race1302!B$5","v":"Senior"},{"$f":"Race1302!B$4","v":"OC1"},{"$f":"Race1302!E$5","v":"Men"},{"$f":"Race1302!D$5","v":"Open"},{"$f":"Race1302!D$4","v":"Marathon"},{"$f":"Race1302!A$47","v":40},{"$f":"Race1302!D$47","v":0},{"$f":"Race1302!C$47","v":0},{"$f":"Race1302!F$47","v":1}]
[null,{"$f":"Race1302!B$5","v":"Senior"},{"$f":"Race1302!B$4","v":"OC1"},{"$f":"Race1302!E$5","v":"Men"},{"$f":"Race1302!D$5","v":"Open"},{"$f":"Race1302!D$4","v":"Marathon"},{"$f":"Race1302!A$48","v":41},{"$f":"Race1302!D$48","v":0},{"$f":"Race1302!C$48","v":0},{"$f":"Race1302!F$48","v":1}]
[null,{"$f":"Race1302!B$5","v":"Senior"},{"$f":"Race1302!B$4","v":"OC1"},{"$f":"Race1302!E$5","v":"Men"},{"$f":"Race1302!D$5","v":"Open"},{"$f":"Race1302!D$4","v":"Marathon"},{"$f":"Race1302!A$49","v":42},{"$f":"Race1302!D$49","v":0},{"$f":"Race1302!C$49","v":0},{"$f":"Race1302!F$49","v":1}]
[null,{"$f":"Race1302!B$5","v":"Senior"},{"$f":"Race1302!B$4","v":"OC1"},{"$f":"Race1302!E$5","v":"Men"},{"$f":"Race1302!D$5","v":"Open"},{"$f":"Race1302!D$4","v":"Marathon"},{"$f":"Race1302!A$50","v":43},{"$f":"Race1302!D$50","v":0},{"$f":"Race1302!C$50","v":0},{"$f":"Race1302!F$50","v":1}]
[null,{"$f":"Race1302!B$5","v":"Senior"},{"$f":"Race1302!B$4","v":"OC1"},{"$f":"Race1302!E$5","v":"Men"},{"$f":"Race1302!D$5","v":"Open"},{"$f":"Race1302!D$4","v":"Marathon"},{"$f":"Race1302!A$51","v":44},{"$f":"Race1302!D$51","v":0},{"$f":"Race1302!C$51","v":0},{"$f":"Race1302!F$51","v":1}]
[null,{"$f":"Race1302!B$5","v":"Senior"},{"$f":"Race1302!B$4","v":"OC1"},{"$f":"Race1302!E$5","v":"Men"},{"$f":"Race1302!D$5","v":"Open"},{"$f":"Race1302!D$4","v":"Marathon"},{"$f":"Race1302!A$52","v":45},{"$f":"Race1302!D$52","v":0},{"$f":"Race1302!C$52","v":0},{"$f":"Race1302!F$52","v":1}]
[null,{"$f":"Race1302!B$5","v":"Senior"},{"$f":"Race1302!B$4","v":"OC1"},{"$f":"Race1302!E$5","v":"Men"},{"$f":"Race1302!D$5","v":"Open"},{"$f":"Race1302!D$4","v":"Marathon"},{"$f":"Race1302!A$53","v":46},{"$f":"Race1302!D$53","v":0},{"$f":"Race1302!C$53","v":0},{"$f":"Race1302!F$53","v":1}]
[null,{"$f":"Race1302!B$5","v":"Senior"},{"$f":"Race1302!B$4","v":"OC1"},{"$f":"Race1302!E$5","v":"Men"},{"$f":"Race1302!D$5","v":"Open"},{"$f":"Race1302!D$4","v":"Marathon"},{"$f":"Race1302!A$54","v":47},{"$f":"Race1302!D$54","v":0},{"$f":"Race1302!C$54","v":0},{"$f":"Race1302!F$54","v":1}]
[null,{"$f":"Race1302!B$5","v":"Senior"},{"$f":"Race1302!B$4","v":"OC1"},{"$f":"Race1302!E$5","v":"Men"},{"$f":"Race1302!D$5","v":"Open"},{"$f":"Race1302!D$4","v":"Marathon"},{"$f":"Race1302!A$55","v":48},{"$f":"Race1302!D$55","v":0},{"$f":"Race1302!C$55","v":0},{"$f":"Race1302!F$55","v":1}]
[null,{"$f":"Race1302!B$5","v":"Senior"},{"$f":"Race1302!B$4","v":"OC1"},{"$f":"Race1302!E$5","v":"Men"},{"$f":"Race1302!D$5","v":"Open"},{"$f":"Race1302!D$4","v":"Marathon"},{"$f":"Race1302!A$56","v":49},{"$f":"Race1302!D$56","v":0},{"$f":"Race1302!C$56","v":0},{"$f":"Race1302!F$56","v":1}]
[null,{"$f":"Race1302!B$5","v":"Senior"},{"$f":"Race1302!B$4","v":"OC1"},{"$f":"Race1302!E$5","v":"Men"},{"$f":"Race1302!D$5","v":"Open"},{"$f":"Race1302!D$4","v":"Marathon"},{"$f":"Race1302!A$57","v":50},{"$f":"Race1302!D$57","v":0},{"$f":"Race1302!C$57","v":0},{"$f":"Race1302!F$57","v":1}]
["Race1303",{"$f":"Race1303!B$5","v":"Senior"},{"$f":"Race1303!B$4","v":"OC1"},{"$f":"Race1303!E$5","v":"Men"},{"$f":"Race1303!D$5","v":"Masters"},{"$f":"Race1303!D$4","v":"Marathon"},{"$f":"Race1303!A$8","v":1},{"$f":"Race1303!D$8","v":0},{"$f":"Race1303!C$8","v":0},{"$f":"Race1303!F$8","v":9}]
[null,{"$f":"Race1303!B$5","v":"Senior"},{"$f":"Race1303!B$4","v":"OC1"},{"$f":"Race1303!E$5","v":"Men"},{"$f":"Race1303!D$5","v":"Masters"},{"$f":"Race1303!D$4","v":"Marathon"},{"$f":"Race1303!A$9","v":2},{"$f":"Race1303!D$9","v":0},{"$f":"Race1303!C$9","v":0},{"$f":"Race1303!F$9","v":7}]
[null,{"$f":"Race1303!B$5","v":"Senior"},{"$f":"Race1303!B$4","v":"OC1"},{"$f":"Race1303!E$5","v":"Men"},{"$f":"Race1303!D$5","v":"Masters"},{"$f":"Race1303!D$4","v":"Marathon"},{"$f":"Race1303!A$10","v":3},{"$f":"Race1303!D$10","v":0},{"$f":"Race1303!C$10","v":0},{"$f":"Race1303!F$10","v":5}]
[null,{"$f":"Race1303!B$5","v":"Senior"},{"$f":"Race1303!B$4","v":"OC1"},{"$f":"Race1303!E$5","v":"Men"},{"$f":"Race1303!D$5","v":"Masters"},{"$f":"Race1303!D$4","v":"Marathon"},{"$f":"Race1303!A$11","v":4},{"$f":"Race1303!D$11","v":0},{"$f":"Race1303!C$11","v":0},{"$f":"Race1303!F$11","v":3}]
[null,{"$f":"Race1303!B$5","v":"Senior"},{"$f":"Race1303!B$4","v":"OC1"},{"$f":"Race1303!E$5","v":"Men"},{"$f":"Race1303!D$5","v":"Masters"},{"$f":"Race1303!D$4","v":"Marathon"},{"$f":"Race1303!A$12","v":5},{"$f":"Race1303!D$12","v":0},{"$f":"Race1303!C$12","v":0},{"$f":"Race1303!F$12","v":2}]
[null,{"$f":"Race1303!B$5","v":"Senior"},{"$f":"Race1303!B$4","v":"OC1"},{"$f":"Race1303!E$5","v":"Men"},{"$f":"Race1303!D$5","v":"Masters"},{"$f":"Race1303!D$4","v":"Marathon"},{"$f":"Race1303!A$13","v":6},{"$f":"Race1303!D$13","v":0},{"$f":"Race1303!C$13","v":0},{"$f":"Race1303!F$13","v":1}]
[null,{"$f":"Race1303!B$5","v":"Senior"},{"$f":"Race1303!B$4","v":"OC1"},{"$f":"Race1303!E$5","v":"Men"},{"$f":"Race1303!D$5","v":"Masters"},{"$f":"Race1303!D$4","v":"Marathon"},{"$f":"Race1303!A$14","v":7},{"$f":"Race1303!D$14","v":0},{"$f":"Race1303!C$14","v":0},{"$f":"Race1303!F$14","v":1}]
[null,{"$f":"Race1303!B$5","v":"Senior"},{"$f":"Race1303!B$4","v":"OC1"},{"$f":"Race1303!E$5","v":"Men"},{"$f":"Race1303!D$5","v":"Masters"},{"$f":"Race1303!D$4","v":"Marathon"},{"$f":"Race1303!A$15","v":8},{"$f":"Race1303!D$15","v":0},{"$f":"Race1303!C$15","v":0},{"$f":"Race1303!F$15","v":1}]
[null,{"$f":"Race1303!B$5","v":"Senior"},{"$f":"Race1303!B$4","v":"OC1"},{"$f":"Race1303!E$5","v":"Men"},{"$f":"Race1303!D$5","v":"Masters"},{"$f":"Race1303!D$4","v":"Marathon"},{"$f":"Race1303!A$16","v":9},{"$f":"Race1303!D$16","v":0},{"$f":"Race1303!C$16","v":0},{"$f":"Race1303!F$16","v":1}]
[null,{"$f":"Race1303!B$5","v":"Senior"},{"$f":"Race1303!B$4","v":"OC1"},{"$f":"Race1303!E$5","v":"Men"},{"$f":"Race1303!D$5","v":"Masters"},{"$f":"Race1303!D$4","v":"Marathon"},{"$f":"Race1303!A$17","v":10},{"$f":"Race1303!D$17","v":0},{"$f":"Race1303!C$17","v":0},{"$f":"Race1303!F$17","v":1}]
[null,{"$f":"Race1303!B$5","v":"Senior"},{"$f":"Race1303!B$4","v":"OC1"},{"$f":"Race1303!E$5","v":"Men"},{"$f":"Race1303!D$5","v":"Masters"},{"$f":"Race1303!D$4","v":"Marathon"},{"$f":"Race1303!A$18","v":11},{"$f":"Race1303!D$18","v":0},{"$f":"Race1303!C$18","v":0},{"$f":"Race1303!F$18","v":1}]
[null,{"$f":"Race1303!B$5","v":"Senior"},{"$f":"Race1303!B$4","v":"OC1"},{"$f":"Race1303!E$5","v":"Men"},{"$f":"Race1303!D$5","v":"Masters"},{"$f":"Race1303!D$4","v":"Marathon"},{"$f":"Race1303!A$19","v":12},{"$f":"Race1303!D$19","v":0},{"$f":"Race1303!C$19","v":0},{"$f":"Race1303!F$19","v":1}]
[null,{"$f":"Race1303!B$5","v":"Senior"},{"$f":"Race1303!B$4","v":"OC1"},{"$f":"Race1303!E$5","v":"Men"},{"$f":"Race1303!D$5","v":"Masters"},{"$f":"Race1303!D$4","v":"Marathon"},{"$f":"Race1303!A$20","v":13},{"$f":"Race1303!D$20","v":0},{"$f":"Race1303!C$20","v":0},{"$f":"Race1303!F$20","v":1}]
[null,{"$f":"Race1303!B$5","v":"Senior"},{"$f":"Race1303!B$4","v":"OC1"},{"$f":"Race1303!E$5","v":"Men"},{"$f":"Race1303!D$5","v":"Masters"},{"$f":"Race1303!D$4","v":"Marathon"},{"$f":"Race1303!A$21","v":14},{"$f":"Race1303!D$21","v":0},{"$f":"Race1303!C$21","v":0},{"$f":"Race1303!F$21","v":1}]
[null,{"$f":"Race1303!B$5","v":"Senior"},{"$f":"Race1303!B$4","v":"OC1"},{"$f":"Race1303!E$5","v":"Men"},{"$f":"Race1303!D$5","v":"Masters"},{"$f":"Race1303!D$4","v":"Marathon"},{"$f":"Race1303!A$22","v":15},{"$f":"Race1303!D$22","v":0},{"$f":"Race1303!C$22","v":0},{"$f":"Race1303!F$22","v":1}]
[null,{"$f":"Race1303!B$5","v":"Senior"},{"$f":"Race1303!B$4","v":"OC1"},{"$f":"Race1303!E$5","v":"Men"},{"$f":"Race1303!D$5","v":"Masters"},{"$f":"Race1303!D$4","v":"Marathon"},{"$f":"Race1303!A$23","v":16},{"$f":"Race1303!D$23","v":0},{"$f":"Race1303!C$23","v":0},{"$f":"Race1303!F$23","v":1}]
[null,{"$f":"Race1303!B$5","v":"Senior"},{"$f":"Race1303!B$4","v":"OC1"},{"$f":"Race1303!E$5","v":"Men"},{"$f":"Race1303!D$5","v":"Masters"},{"$f":"Race1303!D$4","v":"Marathon"},{"$f":"Race1303!A$24","v":17},{"$f":"Race1303!D$24","v":0},{"$f":"Race1303!C$24","v":0},{"$f":"Race1303!F$24","v":1}]
[null,{"$f":"Race1303!B$5","v":"Senior"},{"$f":"Race1303!B$4","v":"OC1"},{"$f":"Race1303!E$5","v":"Men"},{"$f":"Race1303!D$5","v":"Masters"},{"$f":"Race1303!D$4","v":"Marathon"},{"$f":"Race1303!A$25","v":18},{"$f":"Race1303!D$25","v":0},{"$f":"Race1303!C$25","v":0},{"$f":"Race1303!F$25","v":1}]
[null,{"$f":"Race1303!B$5","v":"Senior"},{"$f":"Race1303!B$4","v":"OC1"},{"$f":"Race1303!E$5","v":"Men"},{"$f":"Race1303!D$5","v":"Masters"},{"$f":"Race1303!D$4","v":"Marathon"},{"$f":"Race1303!A$26","v":19},{"$f":"Race1303!D$26","v":0},{"$f":"Race1303!C$26","v":0},{"$f":"Race1303!F$26","v":1}]
[null,{"$f":"Race1303!B$5","v":"Senior"},{"$f":"Race1303!B$4","v":"OC1"},{"$f":"Race1303!E$5","v":"Men"},{"$f":"Race1303!D$5","v":"Masters"},{"$f":"Race1303!D$4","v":"Marathon"},{"$f":"Race1303!A$27","v":20},{"$f":"Race1303!D$27","v":0},{"$f":"Race1303!C$27","v":0},{"$f":"Race1303!F$27","v":1}]
[null,{"$f":"Race1303!B$5","v":"Senior"},{"$f":"Race1303!B$4","v":"OC1"},{"$f":"Race1303!E$5","v":"Men"},{"$f":"Race1303!D$5","v":"Masters"},{"$f":"Race1303!D$4","v":"Marathon"},{"$f":"Race1303!A$28","v":21},{"$f":"Race1303!D$28","v":0},{"$f":"Race1303!C$28","v":0},{"$f":"Race1303!F$28","v":1}]
[null,{"$f":"Race1303!B$5","v":"Senior"},{"$f":"Race1303!B$4","v":"OC1"},{"$f":"Race1303!E$5","v":"Men"},{"$f":"Race1303!D$5","v":"Masters"},{"$f":"Race1303!D$4","v":"Marathon"},{"$f":"Race1303!A$29","v":22},{"$f":"Race1303!D$29","v":0},{"$f":"Race1303!C$29","v":0},{"$f":"Race1303!F$29","v":1}]
[null,{"$f":"Race1303!B$5","v":"Senior"},{"$f":"Race1303!B$4","v":"OC1"},{"$f":"Race1303!E$5","v":"Men"},{"$f":"Race1303!D$5","v":"Masters"},{"$f":"Race1303!D$4","v":"Marathon"},{"$f":"Race1303!A$30","v":23},{"$f":"Race1303!D$30","v":0},{"$f":"Race1303!C$30","v":0},{"$f":"Race1303!F$30","v":1}]
[null,{"$f":"Race1303!B$5","v":"Senior"},{"$f":"Race1303!B$4","v":"OC1"},{"$f":"Race1303!E$5","v":"Men"},{"$f":"Race1303!D$5","v":"Masters"},{"$f":"Race1303!D$4","v":"Marathon"},{"$f":"Race1303!A$31","v":24},{"$f":"Race1303!D$31","v":0},{"$f":"Race1303!C$31","v":0},{"$f":"Race1303!F$31","v":1}]
[null,{"$f":"Race1303!B$5","v":"Senior"},{"$f":"Race1303!B$4","v":"OC1"},{"$f":"Race1303!E$5","v":"Men"},{"$f":"Race1303!D$5","v":"Masters"},{"$f":"Race1303!D$4","v":"Marathon"},{"$f":"Race1303!A$32","v":25},{"$f":"Race1303!D$32","v":0},{"$f":"Race1303!C$32","v":0},{"$f":"Race1303!F$32","v":1}]
[null,{"$f":"Race1303!B$5","v":"Senior"},{"$f":"Race1303!B$4","v":"OC1"},{"$f":"Race1303!E$5","v":"Men"},{"$f":"Race1303!D$5","v":"Masters"},{"$f":"Race1303!D$4","v":"Marathon"},{"$f":"Race1303!A$33","v":26},{"$f":"Race1303!D$33","v":0},{"$f":"Race1303!C$33","v":0},{"$f":"Race1303!F$33","v":1}]
[null,{"$f":"Race1303!B$5","v":"Senior"},{"$f":"Race1303!B$4","v":"OC1"},{"$f":"Race1303!E$5","v":"Men"},{"$f":"Race1303!D$5","v":"Masters"},{"$f":"Race1303!D$4","v":"Marathon"},{"$f":"Race1303!A$34","v":27},{"$f":"Race1303!D$34","v":0},{"$f":"Race1303!C$34","v":0},{"$f":"Race1303!F$34","v":1}]
[null,{"$f":"Race1303!B$5","v":"Senior"},{"$f":"Race1303!B$4","v":"OC1"},{"$f":"Race1303!E$5","v":"Men"},{"$f":"Race1303!D$5","v":"Masters"},{"$f":"Race1303!D$4","v":"Marathon"},{"$f":"Race1303!A$35","v":28},{"$f":"Race1303!D$35","v":0},{"$f":"Race1303!C$35","v":0},{"$f":"Race1303!F$35","v":1}]
[null,{"$f":"Race1303!B$5","v":"Senior"},{"$f":"Race1303!B$4","v":"OC1"},{"$f":"Race1303!E$5","v":"Men"},{"$f":"Race1303!D$5","v":"Masters"},{"$f":"Race1303!D$4","v":"Marathon"},{"$f":"Race1303!A$36","v":29},{"$f":"Race1303!D$36","v":0},{"$f":"Race1303!C$36","v":0},{"$f":"Race1303!F$36","v":1}]
[null,{"$f":"Race1303!B$5","v":"Senior"},{"$f":"Race1303!B$4","v":"OC1"},{"$f":"Race1303!E$5","v":"Men"},{"$f":"Race1303!D$5","v":"Masters"},{"$f":"Race1303!D$4","v":"Marathon"},{"$f":"Race1303!A$37","v":30},{"$f":"Race1303!D$37","v":0},{"$f":"Race1303!C$37","v":0},{"$f":"Race1303!F$37","v":1}]
[null,{"$f":"Race1303!B$5","v":"Senior"},{"$f":"Race1303!B$4","v":"OC1"},{"$f":"Race1303!E$5","v":"Men"},{"$f":"Race1303!D$5","v":"Masters"},{"$f":"Race1303!D$4","v":"Marathon"},{"$f":"Race1303!A$38","v":31},{"$f":"Race1303!D$38","v":0},{"$f":"Race1303!C$38","v":0},{"$f":"Race1303!F$38","v":1}]
[null,{"$f":"Race1303!B$5","v":"Senior"},{"$f":"Race1303!B$4","v":"OC1"},{"$f":"Race1303!E$5","v":"Men"},{"$f":"Race1303!D$5","v":"Masters"},{"$f":"Race1303!D$4","v":"Marathon"},{"$f":"Race1303!A$39","v":32},{"$f":"Race1303!D$39","v":0},{"$f":"Race1303!C$39","v":0},{"$f":"Race1303!F$39","v":1}]
[null,{"$f":"Race1303!B$5","v":"Senior"},{"$f":"Race1303!B$4","v":"OC1"},{"$f":"Race1303!E$5","v":"Men"},{"$f":"Race1303!D$5","v":"Masters"},{"$f":"Race1303!D$4","v":"Marathon"},{"$f":"Race1303!A$40","v":33},{"$f":"Race1303!D$40","v":0},{"$f":"Race1303!C$40","v":0},{"$f":"Race1303!F$40","v":1}]
[null,{"$f":"Race1303!B$5","v":"Senior"},{"$f":"Race1303!B$4","v":"OC1"},{"$f":"Race1303!E$5","v":"Men"},{"$f":"Race1303!D$5","v":"Masters"},{"$f":"Race1303!D$4","v":"Marathon"},{"$f":"Race1303!A$41","v":34},{"$f":"Race1303!D$41","v":0},{"$f":"Race1303!C$41","v":0},{"$f":"Race1303!F$41","v":1}]
[null,{"$f":"Race1303!B$5","v":"Senior"},{"$f":"Race1303!B$4","v":"OC1"},{"$f":"Race1303!E$5","v":"Men"},{"$f":"Race1303!D$5","v":"Masters"},{"$f":"Race1303!D$4","v":"Marathon"},{"$f":"Race1303!A$42","v":35},{"$f":"Race1303!D$42","v":0},{"$f":"Race1303!C$42","v":0},{"$f":"Race1303!F$42","v":1}]
[null,{"$f":"Race1303!B$5","v":"Senior"},{"$f":"Race1303!B$4","v":"OC1"},{"$f":"Race1303!E$5","v":"Men"},{"$f":"Race1303!D$5","v":"Masters"},{"$f":"Race1303!D$4","v":"Marathon"},{"$f":"Race1303!A$43","v":36},{"$f":"Race1303!D$43","v":0},{"$f":"Race1303!C$43","v":0},{"$f":"Race1303!F$43","v":1}]
[null,{"$f":"Race1303!B$5","v":"Senior"},{"$f":"Race1303!B$4","v":"OC1"},{"$f":"Race1303!E$5","v":"Men"},{"$f":"Race1303!D$5","v":"Masters"},{"$f":"Race1303!D$4","v":"Marathon"},{"$f":"Race1303!A$44","v":37},{"$f":"Race1303!D$44","v":0},{"$f":"Race1303!C$44","v":0},{"$f":"Race1303!F$44","v":1}]
[null,{"$f":"Race1303!B$5","v":"Senior"},{"$f":"Race1303!B$4","v":"OC1"},{"$f":"Race1303!E$5","v":"Men"},{"$f":"Race1303!D$5","v":"Masters"},{"$f":"Race1303!D$4","v":"Marathon"},{"$f":"Race1303!A$45","v":38},{"$f":"Race1303!D$45","v":0},{"$f":"Race1303!C$45","v":0},{"$f":"Race1303!F$45","v":1}]
[null,{"$f":"Race1303!B$5","v":"Senior"},{"$f":"Race1303!B$4","v":"OC1"},{"$f":"Race1303!E$5","v":"Men"},{"$f":"Race1303!D$5","v":"Masters"},{"$f":"Race1303!D$4","v":"Marathon"},{"$f":"Race1303!A$46","v":39},{"$f":"Race1303!D$46","v":0},{"$f":"Race1303!C$46","v":0},{"$f":"Race1303!F$46","v":1}]
[null,{"$f":"Race1303!B$5","v":"Senior"},{"$f":"Race1303!B$4","v":"OC1"},{"$f":"Race1303!E$5","v":"Men"},{"$f":"Race1303!D$5","v":"Masters"},{"$f":"Race1303!D$4","v":"Marathon"},{"$f":"Race1303!A$47","v":40},{"$f":"Race1303!D$47","v":0},{"$f":"Race1303!C$47","v":0},{"$f":"Race1303!F$47","v":1}]
[null,{"$f":"Race1303!B$5","v":"Senior"},{"$f":"Race1303!B$4","v":"OC1"},{"$f":"Race1303!E$5","v":"Men"},{"$f":"Race1303!D$5","v":"Masters"},{"$f":"Race1303!D$4","v":"Marathon"},{"$f":"Race1303!A$48","v":41},{"$f":"Race1303!D$48","v":0},{"$f":"Race1303!C$48","v":0},{"$f":"Race1303!F$48","v":1}]
[null,{"$f":"Race1303!B$5","v":"Senior"},{"$f":"Race1303!B$4","v":"OC1"},{"$f":"Race1303!E$5","v":"Men"},{"$f":"Race1303!D$5","v":"Masters"},{"$f":"Race1303!D$4","v":"Marathon"},{"$f":"Race1303!A$49","v":42},{"$f":"Race1303!D$49","v":0},{"$f":"Race1303!C$49","v":0},{"$f":"Race1303!F$49","v":1}]
[null,{"$f":"Race1303!B$5","v":"Senior"},{"$f":"Race1303!B$4","v":"OC1"},{"$f":"Race1303!E$5","v":"Men"},{"$f":"Race1303!D$5","v":"Masters"},{"$f":"Race1303!D$4","v":"Marathon"},{"$f":"Race1303!A$50","v":43},{"$f":"Race1303!D$50","v":0},{"$f":"Race1303!C$50","v":0},{"$f":"Race1303!F$50","v":1}]
[null,{"$f":"Race1303!B$5","v":"Senior"},{"$f":"Race1303!B$4","v":"OC1"},{"$f":"Race1303!E$5","v":"Men"},{"$f":"Race1303!D$5","v":"Masters"},{"$f":"Race1303!D$4","v":"Marathon"},{"$f":"Race1303!A$51","v":44},{"$f":"Race1303!D$51","v":0},{"$f":"Race1303!C$51","v":0},{"$f":"Race1303!F$51","v":1}]
[null,{"$f":"Race1303!B$5","v":"Senior"},{"$f":"Race1303!B$4","v":"OC1"},{"$f":"Race1303!E$5","v":"Men"},{"$f":"Race1303!D$5","v":"Masters"},{"$f":"Race1303!D$4","v":"Marathon"},{"$f":"Race1303!A$52","v":45},{"$f":"Race1303!D$52","v":0},{"$f":"Race1303!C$52","v":0},{"$f":"Race1303!F$52","v":1}]
[null,{"$f":"Race1303!B$5","v":"Senior"},{"$f":"Race1303!B$4","v":"OC1"},{"$f":"Race1303!E$5","v":"Men"},{"$f":"Race1303!D$5","v":"Masters"},{"$f":"Race1303!D$4","v":"Marathon"},{"$f":"Race1303!A$53","v":46},{"$f":"Race1303!D$53","v":0},{"$f":"Race1303!C$53","v":0},{"$f":"Race1303!F$53","v":1}]
[null,{"$f":"Race1303!B$5","v":"Senior"},{"$f":"Race1303!B$4","v":"OC1"},{"$f":"Race1303!E$5","v":"Men"},{"$f":"Race1303!D$5","v":"Masters"},{"$f":"Race1303!D$4","v":"Marathon"},{"$f":"Race1303!A$54","v":47},{"$f":"Race1303!D$54","v":0},{"$f":"Race1303!C$54","v":0},{"$f":"Race1303!F$54","v":1}]
[null,{"$f":"Race1303!B$5","v":"Senior"},{"$f":"Race1303!B$4","v":"OC1"},{"$f":"Race1303!E$5","v":"Men"},{"$f":"Race1303!D$5","v":"Masters"},{"$f":"Race1303!D$4","v":"Marathon"},{"$f":"Race1303!A$55","v":48},{"$f":"Race1303!D$55","v":0},{"$f":"Race1303!C$55","v":0},{"$f":"Race1303!F$55","v":1}]
[null,{"$f":"Race1303!B$5","v":"Senior"},{"$f":"Race1303!B$4","v":"OC1"},{"$f":"Race1303!E$5","v":"Men"},{"$f":"Race1303!D$5","v":"Masters"},{"$f":"Race1303!D$4","v":"Marathon"},{"$f":"Race1303!A$56","v":49},{"$f":"Race1303!D$56","v":0},{"$f":"Race1303!C$56","v":0},{"$f":"Race1303!F$56","v":1}]
[null,{"$f":"Race1303!B$5","v":"Senior"},{"$f":"Race1303!B$4","v":"OC1"},{"$f":"Race1303!E$5","v":"Men"},{"$f":"Race1303!D$5","v":"Masters"},{"$f":"Race1303!D$4","v":"Marathon"},{"$f":"Race1303!A$57","v":50},{"$f":"Race1303!D$57","v":0},{"$f":"Race1303!C$57","v":0},{"$f":"Race1303!F$57","v":1}]
["Race1304",{"$f":"Race1304!B$5","v":"Senior"},{"$f":"Race1304!B$4","v":"OC1"},{"$f":"Race1304!E$5","v":"Men"},{"$f":"Race1304!D$5","v":"Senior Masters"},{"$f":"Race1304!D$4","v":"Marathon"},{"$f":"Race1304!A$8","v":1},{"$f":"Race1304!D$8","v":0},{"$f":"Race1304!C$8","v":0},{"$f":"Race1304!F$8","v":9}]
[null,{"$f":"Race1304!B$5","v":"Senior"},{"$f":"Race1304!B$4","v":"OC1"},{"$f":"Race1304!E$5","v":"Men"},{"$f":"Race1304!D$5","v":"Senior Masters"},{"$f":"Race1304!D$4","v":"Marathon"},{"$f":"Race1304!A$9","v":2},{"$f":"Race1304!D$9","v":0},{"$f":"Race1304!C$9","v":0},{"$f":"Race1304!F$9","v":7}]
[null,{"$f":"Race1304!B$5","v":"Senior"},{"$f":"Race1304!B$4","v":"OC1"},{"$f":"Race1304!E$5","v":"Men"},{"$f":"Race1304!D$5","v":"Senior Masters"},{"$f":"Race1304!D$4","v":"Marathon"},{"$f":"Race1304!A$10","v":3},{"$f":"Race1304!D$10","v":0},{"$f":"Race1304!C$10","v":0},{"$f":"Race1304!F$10","v":5}]
[null,{"$f":"Race1304!B$5","v":"Senior"},{"$f":"Race1304!B$4","v":"OC1"},{"$f":"Race1304!E$5","v":"Men"},{"$f":"Race1304!D$5","v":"Senior Masters"},{"$f":"Race1304!D$4","v":"Marathon"},{"$f":"Race1304!A$11","v":4},{"$f":"Race1304!D$11","v":0},{"$f":"Race1304!C$11","v":0},{"$f":"Race1304!F$11","v":3}]
[null,{"$f":"Race1304!B$5","v":"Senior"},{"$f":"Race1304!B$4","v":"OC1"},{"$f":"Race1304!E$5","v":"Men"},{"$f":"Race1304!D$5","v":"Senior Masters"},{"$f":"Race1304!D$4","v":"Marathon"},{"$f":"Race1304!A$12","v":5},{"$f":"Race1304!D$12","v":0},{"$f":"Race1304!C$12","v":0},{"$f":"Race1304!F$12","v":2}]
[null,{"$f":"Race1304!B$5","v":"Senior"},{"$f":"Race1304!B$4","v":"OC1"},{"$f":"Race1304!E$5","v":"Men"},{"$f":"Race1304!D$5","v":"Senior Masters"},{"$f":"Race1304!D$4","v":"Marathon"},{"$f":"Race1304!A$13","v":6},{"$f":"Race1304!D$13","v":0},{"$f":"Race1304!C$13","v":0},{"$f":"Race1304!F$13","v":1}]
[null,{"$f":"Race1304!B$5","v":"Senior"},{"$f":"Race1304!B$4","v":"OC1"},{"$f":"Race1304!E$5","v":"Men"},{"$f":"Race1304!D$5","v":"Senior Masters"},{"$f":"Race1304!D$4","v":"Marathon"},{"$f":"Race1304!A$14","v":7},{"$f":"Race1304!D$14","v":0},{"$f":"Race1304!C$14","v":0},{"$f":"Race1304!F$14","v":1}]
[null,{"$f":"Race1304!B$5","v":"Senior"},{"$f":"Race1304!B$4","v":"OC1"},{"$f":"Race1304!E$5","v":"Men"},{"$f":"Race1304!D$5","v":"Senior Masters"},{"$f":"Race1304!D$4","v":"Marathon"},{"$f":"Race1304!A$15","v":8},{"$f":"Race1304!D$15","v":0},{"$f":"Race1304!C$15","v":0},{"$f":"Race1304!F$15","v":1}]
[null,{"$f":"Race1304!B$5","v":"Senior"},{"$f":"Race1304!B$4","v":"OC1"},{"$f":"Race1304!E$5","v":"Men"},{"$f":"Race1304!D$5","v":"Senior Masters"},{"$f":"Race1304!D$4","v":"Marathon"},{"$f":"Race1304!A$16","v":9},{"$f":"Race1304!D$16","v":0},{"$f":"Race1304!C$16","v":0},{"$f":"Race1304!F$16","v":1}]
[null,{"$f":"Race1304!B$5","v":"Senior"},{"$f":"Race1304!B$4","v":"OC1"},{"$f":"Race1304!E$5","v":"Men"},{"$f":"Race1304!D$5","v":"Senior Masters"},{"$f":"Race1304!D$4","v":"Marathon"},{"$f":"Race1304!A$17","v":10},{"$f":"Race1304!D$17","v":0},{"$f":"Race1304!C$17","v":0},{"$f":"Race1304!F$17","v":1}]
[null,{"$f":"Race1304!B$5","v":"Senior"},{"$f":"Race1304!B$4","v":"OC1"},{"$f":"Race1304!E$5","v":"Men"},{"$f":"Race1304!D$5","v":"Senior Masters"},{"$f":"Race1304!D$4","v":"Marathon"},{"$f":"Race1304!A$18","v":11},{"$f":"Race1304!D$18","v":0},{"$f":"Race1304!C$18","v":0},{"$f":"Race1304!F$18","v":1}]
[null,{"$f":"Race1304!B$5","v":"Senior"},{"$f":"Race1304!B$4","v":"OC1"},{"$f":"Race1304!E$5","v":"Men"},{"$f":"Race1304!D$5","v":"Senior Masters"},{"$f":"Race1304!D$4","v":"Marathon"},{"$f":"Race1304!A$19","v":12},{"$f":"Race1304!D$19","v":0},{"$f":"Race1304!C$19","v":0},{"$f":"Race1304!F$19","v":1}]
[null,{"$f":"Race1304!B$5","v":"Senior"},{"$f":"Race1304!B$4","v":"OC1"},{"$f":"Race1304!E$5","v":"Men"},{"$f":"Race1304!D$5","v":"Senior Masters"},{"$f":"Race1304!D$4","v":"Marathon"},{"$f":"Race1304!A$20","v":13},{"$f":"Race1304!D$20","v":0},{"$f":"Race1304!C$20","v":0},{"$f":"Race1304!F$20","v":1}]
[null,{"$f":"Race1304!B$5","v":"Senior"},{"$f":"Race1304!B$4","v":"OC1"},{"$f":"Race1304!E$5","v":"Men"},{"$f":"Race1304!D$5","v":"Senior Masters"},{"$f":"Race1304!D$4","v":"Marathon"},{"$f":"Race1304!A$21","v":14},{"$f":"Race1304!D$21","v":0},{"$f":"Race1304!C$21","v":0},{"$f":"Race1304!F$21","v":1}]
[null,{"$f":"Race1304!B$5","v":"Senior"},{"$f":"Race1304!B$4","v":"OC1"},{"$f":"Race1304!E$5","v":"Men"},{"$f":"Race1304!D$5","v":"Senior Masters"},{"$f":"Race1304!D$4","v":"Marathon"},{"$f":"Race1304!A$22","v":15},{"$f":"Race1304!D$22","v":0},{"$f":"Race1304!C$22","v":0},{"$f":"Race1304!F$22","v":1}]
[null,{"$f":"Race1304!B$5","v":"Senior"},{"$f":"Race1304!B$4","v":"OC1"},{"$f":"Race1304!E$5","v":"Men"},{"$f":"Race1304!D$5","v":"Senior Masters"},{"$f":"Race1304!D$4","v":"Marathon"},{"$f":"Race1304!A$23","v":16},{"$f":"Race1304!D$23","v":0},{"$f":"Race1304!C$23","v":0},{"$f":"Race1304!F$23","v":1}]
[null,{"$f":"Race1304!B$5","v":"Senior"},{"$f":"Race1304!B$4","v":"OC1"},{"$f":"Race1304!E$5","v":"Men"},{"$f":"Race1304!D$5","v":"Senior Masters"},{"$f":"Race1304!D$4","v":"Marathon"},{"$f":"Race1304!A$24","v":17},{"$f":"Race1304!D$24","v":0},{"$f":"Race1304!C$24","v":0},{"$f":"Race1304!F$24","v":1}]
[null,{"$f":"Race1304!B$5","v":"Senior"},{"$f":"Race1304!B$4","v":"OC1"},{"$f":"Race1304!E$5","v":"Men"},{"$f":"Race1304!D$5","v":"Senior Masters"},{"$f":"Race1304!D$4","v":"Marathon"},{"$f":"Race1304!A$25","v":18},{"$f":"Race1304!D$25","v":0},{"$f":"Race1304!C$25","v":0},{"$f":"Race1304!F$25","v":1}]
[null,{"$f":"Race1304!B$5","v":"Senior"},{"$f":"Race1304!B$4","v":"OC1"},{"$f":"Race1304!E$5","v":"Men"},{"$f":"Race1304!D$5","v":"Senior Masters"},{"$f":"Race1304!D$4","v":"Marathon"},{"$f":"Race1304!A$26","v":19},{"$f":"Race1304!D$26","v":0},{"$f":"Race1304!C$26","v":0},{"$f":"Race1304!F$26","v":1}]
[null,{"$f":"Race1304!B$5","v":"Senior"},{"$f":"Race1304!B$4","v":"OC1"},{"$f":"Race1304!E$5","v":"Men"},{"$f":"Race1304!D$5","v":"Senior Masters"},{"$f":"Race1304!D$4","v":"Marathon"},{"$f":"Race1304!A$27","v":20},{"$f":"Race1304!D$27","v":0},{"$f":"Race1304!C$27","v":0},{"$f":"Race1304!F$27","v":1}]
[null,{"$f":"Race1304!B$5","v":"Senior"},{"$f":"Race1304!B$4","v":"OC1"},{"$f":"Race1304!E$5","v":"Men"},{"$f":"Race1304!D$5","v":"Senior Masters"},{"$f":"Race1304!D$4","v":"Marathon"},{"$f":"Race1304!A$28","v":21},{"$f":"Race1304!D$28","v":0},{"$f":"Race1304!C$28","v":0},{"$f":"Race1304!F$28","v":1}]
[null,{"$f":"Race1304!B$5","v":"Senior"},{"$f":"Race1304!B$4","v":"OC1"},{"$f":"Race1304!E$5","v":"Men"},{"$f":"Race1304!D$5","v":"Senior Masters"},{"$f":"Race1304!D$4","v":"Marathon"},{"$f":"Race1304!A$29","v":22},{"$f":"Race1304!D$29","v":0},{"$f":"Race1304!C$29","v":0},{"$f":"Race1304!F$29","v":1}]
[null,{"$f":"Race1304!B$5","v":"Senior"},{"$f":"Race1304!B$4","v":"OC1"},{"$f":"Race1304!E$5","v":"Men"},{"$f":"Race1304!D$5","v":"Senior Masters"},{"$f":"Race1304!D$4","v":"Marathon"},{"$f":"Race1304!A$30","v":23},{"$f":"Race1304!D$30","v":0},{"$f":"Race1304!C$30","v":0},{"$f":"Race1304!F$30","v":1}]
[null,{"$f":"Race1304!B$5","v":"Senior"},{"$f":"Race1304!B$4","v":"OC1"},{"$f":"Race1304!E$5","v":"Men"},{"$f":"Race1304!D$5","v":"Senior Masters"},{"$f":"Race1304!D$4","v":"Marathon"},{"$f":"Race1304!A$31","v":24},{"$f":"Race1304!D$31","v":0},{"$f":"Race1304!C$31","v":0},{"$f":"Race1304!F$31","v":1}]
[null,{"$f":"Race1304!B$5","v":"Senior"},{"$f":"Race1304!B$4","v":"OC1"},{"$f":"Race1304!E$5","v":"Men"},{"$f":"Race1304!D$5","v":"Senior Masters"},{"$f":"Race1304!D$4","v":"Marathon"},{"$f":"Race1304!A$32","v":25},{"$f":"Race1304!D$32","v":0},{"$f":"Race1304!C$32","v":0},{"$f":"Race1304!F$32","v":1}]
[null,{"$f":"Race1304!B$5","v":"Senior"},{"$f":"Race1304!B$4","v":"OC1"},{"$f":"Race1304!E$5","v":"Men"},{"$f":"Race1304!D$5","v":"Senior Masters"},{"$f":"Race1304!D$4","v":"Marathon"},{"$f":"Race1304!A$33","v":26},{"$f":"Race1304!D$33","v":0},{"$f":"Race1304!C$33","v":0},{"$f":"Race1304!F$33","v":1}]
[null,{"$f":"Race1304!B$5","v":"Senior"},{"$f":"Race1304!B$4","v":"OC1"},{"$f":"Race1304!E$5","v":"Men"},{"$f":"Race1304!D$5","v":"Senior Masters"},{"$f":"Race1304!D$4","v":"Marathon"},{"$f":"Race1304!A$34","v":27},{"$f":"Race1304!D$34","v":0},{"$f":"Race1304!C$34","v":0},{"$f":"Race1304!F$34","v":1}]
[null,{"$f":"Race1304!B$5","v":"Senior"},{"$f":"Race1304!B$4","v":"OC1"},{"$f":"Race1304!E$5","v":"Men"},{"$f":"Race1304!D$5","v":"Senior Masters"},{"$f":"Race1304!D$4","v":"Marathon"},{"$f":"Race1304!A$35","v":28},{"$f":"Race1304!D$35","v":0},{"$f":"Race1304!C$35","v":0},{"$f":"Race1304!F$35","v":1}]
[null,{"$f":"Race1304!B$5","v":"Senior"},{"$f":"Race1304!B$4","v":"OC1"},{"$f":"Race1304!E$5","v":"Men"},{"$f":"Race1304!D$5","v":"Senior Masters"},{"$f":"Race1304!D$4","v":"Marathon"},{"$f":"Race1304!A$36","v":29},{"$f":"Race1304!D$36","v":0},{"$f":"Race1304!C$36","v":0},{"$f":"Race1304!F$36","v":1}]
[null,{"$f":"Race1304!B$5","v":"Senior"},{"$f":"Race1304!B$4","v":"OC1"},{"$f":"Race1304!E$5","v":"Men"},{"$f":"Race1304!D$5","v":"Senior Masters"},{"$f":"Race1304!D$4","v":"Marathon"},{"$f":"Race1304!A$37","v":30},{"$f":"Race1304!D$37","v":0},{"$f":"Race1304!C$37","v":0},{"$f":"Race1304!F$37","v":1}]
[null,{"$f":"Race1304!B$5","v":"Senior"},{"$f":"Race1304!B$4","v":"OC1"},{"$f":"Race1304!E$5","v":"Men"},{"$f":"Race1304!D$5","v":"Senior Masters"},{"$f":"Race1304!D$4","v":"Marathon"},{"$f":"Race1304!A$38","v":31},{"$f":"Race1304!D$38","v":0},{"$f":"Race1304!C$38","v":0},{"$f":"Race1304!F$38","v":1}]
[null,{"$f":"Race1304!B$5","v":"Senior"},{"$f":"Race1304!B$4","v":"OC1"},{"$f":"Race1304!E$5","v":"Men"},{"$f":"Race1304!D$5","v":"Senior Masters"},{"$f":"Race1304!D$4","v":"Marathon"},{"$f":"Race1304!A$39","v":32},{"$f":"Race1304!D$39","v":0},{"$f":"Race1304!C$39","v":0},{"$f":"Race1304!F$39","v":1}]
[null,{"$f":"Race1304!B$5","v":"Senior"},{"$f":"Race1304!B$4","v":"OC1"},{"$f":"Race1304!E$5","v":"Men"},{"$f":"Race1304!D$5","v":"Senior Masters"},{"$f":"Race1304!D$4","v":"Marathon"},{"$f":"Race1304!A$40","v":33},{"$f":"Race1304!D$40","v":0},{"$f":"Race1304!C$40","v":0},{"$f":"Race1304!F$40","v":1}]
[null,{"$f":"Race1304!B$5","v":"Senior"},{"$f":"Race1304!B$4","v":"OC1"},{"$f":"Race1304!E$5","v":"Men"},{"$f":"Race1304!D$5","v":"Senior Masters"},{"$f":"Race1304!D$4","v":"Marathon"},{"$f":"Race1304!A$41","v":34},{"$f":"Race1304!D$41","v":0},{"$f":"Race1304!C$41","v":0},{"$f":"Race1304!F$41","v":1}]
[null,{"$f":"Race1304!B$5","v":"Senior"},{"$f":"Race1304!B$4","v":"OC1"},{"$f":"Race1304!E$5","v":"Men"},{"$f":"Race1304!D$5","v":"Senior Masters"},{"$f":"Race1304!D$4","v":"Marathon"},{"$f":"Race1304!A$42","v":35},{"$f":"Race1304!D$42","v":0},{"$f":"Race1304!C$42","v":0},{"$f":"Race1304!F$42","v":1}]
[null,{"$f":"Race1304!B$5","v":"Senior"},{"$f":"Race1304!B$4","v":"OC1"},{"$f":"Race1304!E$5","v":"Men"},{"$f":"Race1304!D$5","v":"Senior Masters"},{"$f":"Race1304!D$4","v":"Marathon"},{"$f":"Race1304!A$43","v":36},{"$f":"Race1304!D$43","v":0},{"$f":"Race1304!C$43","v":0},{"$f":"Race1304!F$43","v":1}]
[null,{"$f":"Race1304!B$5","v":"Senior"},{"$f":"Race1304!B$4","v":"OC1"},{"$f":"Race1304!E$5","v":"Men"},{"$f":"Race1304!D$5","v":"Senior Masters"},{"$f":"Race1304!D$4","v":"Marathon"},{"$f":"Race1304!A$44","v":37},{"$f":"Race1304!D$44","v":0},{"$f":"Race1304!C$44","v":0},{"$f":"Race1304!F$44","v":1}]
[null,{"$f":"Race1304!B$5","v":"Senior"},{"$f":"Race1304!B$4","v":"OC1"},{"$f":"Race1304!E$5","v":"Men"},{"$f":"Race1304!D$5","v":"Senior Masters"},{"$f":"Race1304!D$4","v":"Marathon"},{"$f":"Race1304!A$45","v":38},{"$f":"Race1304!D$45","v":0},{"$f":"Race1304!C$45","v":0},{"$f":"Race1304!F$45","v":1}]
[null,{"$f":"Race1304!B$5","v":"Senior"},{"$f":"Race1304!B$4","v":"OC1"},{"$f":"Race1304!E$5","v":"Men"},{"$f":"Race1304!D$5","v":"Senior Masters"},{"$f":"Race1304!D$4","v":"Marathon"},{"$f":"Race1304!A$46","v":39},{"$f":"Race1304!D$46","v":0},{"$f":"Race1304!C$46","v":0},{"$f":"Race1304!F$46","v":1}]
[null,{"$f":"Race1304!B$5","v":"Senior"},{"$f":"Race1304!B$4","v":"OC1"},{"$f":"Race1304!E$5","v":"Men"},{"$f":"Race1304!D$5","v":"Senior Masters"},{"$f":"Race1304!D$4","v":"Marathon"},{"$f":"Race1304!A$47","v":40},{"$f":"Race1304!D$47","v":0},{"$f":"Race1304!C$47","v":0},{"$f":"Race1304!F$47","v":1}]
[null,{"$f":"Race1304!B$5","v":"Senior"},{"$f":"Race1304!B$4","v":"OC1"},{"$f":"Race1304!E$5","v":"Men"},{"$f":"Race1304!D$5","v":"Senior Masters"},{"$f":"Race1304!D$4","v":"Marathon"},{"$f":"Race1304!A$48","v":41},{"$f":"Race1304!D$48","v":0},{"$f":"Race1304!C$48","v":0},{"$f":"Race1304!F$48","v":1}]
[null,{"$f":"Race1304!B$5","v":"Senior"},{"$f":"Race1304!B$4","v":"OC1"},{"$f":"Race1304!E$5","v":"Men"},{"$f":"Race1304!D$5","v":"Senior Masters"},{"$f":"Race1304!D$4","v":"Marathon"},{"$f":"Race1304!A$49","v":42},{"$f":"Race1304!D$49","v":0},{"$f":"Race1304!C$49","v":0},{"$f":"Race1304!F$49","v":1}]
[null,{"$f":"Race1304!B$5","v":"Senior"},{"$f":"Race1304!B$4","v":"OC1"},{"$f":"Race1304!E$5","v":"Men"},{"$f":"Race1304!D$5","v":"Senior Masters"},{"$f":"Race1304!D$4","v":"Marathon"},{"$f":"Race1304!A$50","v":43},{"$f":"Race1304!D$50","v":0},{"$f":"Race1304!C$50","v":0},{"$f":"Race1304!F$50","v":1}]
[null,{"$f":"Race1304!B$5","v":"Senior"},{"$f":"Race1304!B$4","v":"OC1"},{"$f":"Race1304!E$5","v":"Men"},{"$f":"Race1304!D$5","v":"Senior Masters"},{"$f":"Race1304!D$4","v":"Marathon"},{"$f":"Race1304!A$51","v":44},{"$f":"Race1304!D$51","v":0},{"$f":"Race1304!C$51","v":0},{"$f":"Race1304!F$51","v":1}]
[null,{"$f":"Race1304!B$5","v":"Senior"},{"$f":"Race1304!B$4","v":"OC1"},{"$f":"Race1304!E$5","v":"Men"},{"$f":"Race1304!D$5","v":"Senior Masters"},{"$f":"Race1304!D$4","v":"Marathon"},{"$f":"Race1304!A$52","v":45},{"$f":"Race1304!D$52","v":0},{"$f":"Race1304!C$52","v":0},{"$f":"Race1304!F$52","v":1}]
[null,{"$f":"Race1304!B$5","v":"Senior"},{"$f":"Race1304!B$4","v":"OC1"},{"$f":"Race1304!E$5","v":"Men"},{"$f":"Race1304!D$5","v":"Senior Masters"},{"$f":"Race1304!D$4","v":"Marathon"},{"$f":"Race1304!A$53","v":46},{"$f":"Race1304!D$53","v":0},{"$f":"Race1304!C$53","v":0},{"$f":"Race1304!F$53","v":1}]
[null,{"$f":"Race1304!B$5","v":"Senior"},{"$f":"Race1304!B$4","v":"OC1"},{"$f":"Race1304!E$5","v":"Men"},{"$f":"Race1304!D$5","v":"Senior Masters"},{"$f":"Race1304!D$4","v":"Marathon"},{"$f":"Race1304!A$54","v":47},{"$f":"Race1304!D$54","v":0},{"$f":"Race1304!C$54","v":0},{"$f":"Race1304!F$54","v":1}]
[null,{"$f":"Race1304!B$5","v":"Senior"},{"$f":"Race1304!B$4","v":"OC1"},{"$f":"Race1304!E$5","v":"Men"},{"$f":"Race1304!D$5","v":"Senior Masters"},{"$f":"Race1304!D$4","v":"Marathon"},{"$f":"Race1304!A$55","v":48},{"$f":"Race1304!D$55","v":0},{"$f":"Race1304!C$55","v":0},{"$f":"Race1304!F$55","v":1}]
[null,{"$f":"Race1304!B$5","v":"Senior"},{"$f":"Race1304!B$4","v":"OC1"},{"$f":"Race1304!E$5","v":"Men"},{"$f":"Race1304!D$5","v":"Senior Masters"},{"$f":"Race1304!D$4","v":"Marathon"},{"$f":"Race1304!A$56","v":49},{"$f":"Race1304!D$56","v":0},{"$f":"Race1304!C$56","v":0},{"$f":"Race1304!F$56","v":1}]
[null,{"$f":"Race1304!B$5","v":"Senior"},{"$f":"Race1304!B$4","v":"OC1"},{"$f":"Race1304!E$5","v":"Men"},{"$f":"Race1304!D$5","v":"Senior Masters"},{"$f":"Race1304!D$4","v":"Marathon"},{"$f":"Race1304!A$57","v":50},{"$f":"Race1304!D$57","v":0},{"$f":"Race1304!C$57","v":0},{"$f":"Race1304!F$57","v":1}]
["Race1305",{"$f":"Race1305!B$5","v":"Senior"},{"$f":"Race1305!B$4","v":"OC1"},{"$f":"Race1305!E$5","v":"Men"},{"$f":"Race1305!D$5","v":"Golden Masters"},{"$f":"Race1305!D$4","v":"Marathon"},{"$f":"Race1305!A$8","v":1},{"$f":"Race1305!D$8","v":0},{"$f":"Race1305!C$8","v":0},{"$f":"Race1305!F$8","v":9}]
[null,{"$f":"Race1305!B$5","v":"Senior"},{"$f":"Race1305!B$4","v":"OC1"},{"$f":"Race1305!E$5","v":"Men"},{"$f":"Race1305!D$5","v":"Golden Masters"},{"$f":"Race1305!D$4","v":"Marathon"},{"$f":"Race1305!A$9","v":2},{"$f":"Race1305!D$9","v":0},{"$f":"Race1305!C$9","v":0},{"$f":"Race1305!F$9","v":7}]
[null,{"$f":"Race1305!B$5","v":"Senior"},{"$f":"Race1305!B$4","v":"OC1"},{"$f":"Race1305!E$5","v":"Men"},{"$f":"Race1305!D$5","v":"Golden Masters"},{"$f":"Race1305!D$4","v":"Marathon"},{"$f":"Race1305!A$10","v":3},{"$f":"Race1305!D$10","v":0},{"$f":"Race1305!C$10","v":0},{"$f":"Race1305!F$10","v":5}]
[null,{"$f":"Race1305!B$5","v":"Senior"},{"$f":"Race1305!B$4","v":"OC1"},{"$f":"Race1305!E$5","v":"Men"},{"$f":"Race1305!D$5","v":"Golden Masters"},{"$f":"Race1305!D$4","v":"Marathon"},{"$f":"Race1305!A$11","v":4},{"$f":"Race1305!D$11","v":0},{"$f":"Race1305!C$11","v":0},{"$f":"Race1305!F$11","v":3}]
[null,{"$f":"Race1305!B$5","v":"Senior"},{"$f":"Race1305!B$4","v":"OC1"},{"$f":"Race1305!E$5","v":"Men"},{"$f":"Race1305!D$5","v":"Golden Masters"},{"$f":"Race1305!D$4","v":"Marathon"},{"$f":"Race1305!A$12","v":5},{"$f":"Race1305!D$12","v":0},{"$f":"Race1305!C$12","v":0},{"$f":"Race1305!F$12","v":2}]
[null,{"$f":"Race1305!B$5","v":"Senior"},{"$f":"Race1305!B$4","v":"OC1"},{"$f":"Race1305!E$5","v":"Men"},{"$f":"Race1305!D$5","v":"Golden Masters"},{"$f":"Race1305!D$4","v":"Marathon"},{"$f":"Race1305!A$13","v":6},{"$f":"Race1305!D$13","v":0},{"$f":"Race1305!C$13","v":0},{"$f":"Race1305!F$13","v":1}]
[null,{"$f":"Race1305!B$5","v":"Senior"},{"$f":"Race1305!B$4","v":"OC1"},{"$f":"Race1305!E$5","v":"Men"},{"$f":"Race1305!D$5","v":"Golden Masters"},{"$f":"Race1305!D$4","v":"Marathon"},{"$f":"Race1305!A$14","v":7},{"$f":"Race1305!D$14","v":0},{"$f":"Race1305!C$14","v":0},{"$f":"Race1305!F$14","v":1}]
[null,{"$f":"Race1305!B$5","v":"Senior"},{"$f":"Race1305!B$4","v":"OC1"},{"$f":"Race1305!E$5","v":"Men"},{"$f":"Race1305!D$5","v":"Golden Masters"},{"$f":"Race1305!D$4","v":"Marathon"},{"$f":"Race1305!A$15","v":8},{"$f":"Race1305!D$15","v":0},{"$f":"Race1305!C$15","v":0},{"$f":"Race1305!F$15","v":1}]
[null,{"$f":"Race1305!B$5","v":"Senior"},{"$f":"Race1305!B$4","v":"OC1"},{"$f":"Race1305!E$5","v":"Men"},{"$f":"Race1305!D$5","v":"Golden Masters"},{"$f":"Race1305!D$4","v":"Marathon"},{"$f":"Race1305!A$16","v":9},{"$f":"Race1305!D$16","v":0},{"$f":"Race1305!C$16","v":0},{"$f":"Race1305!F$16","v":1}]
[null,{"$f":"Race1305!B$5","v":"Senior"},{"$f":"Race1305!B$4","v":"OC1"},{"$f":"Race1305!E$5","v":"Men"},{"$f":"Race1305!D$5","v":"Golden Masters"},{"$f":"Race1305!D$4","v":"Marathon"},{"$f":"Race1305!A$17","v":10},{"$f":"Race1305!D$17","v":0},{"$f":"Race1305!C$17","v":0},{"$f":"Race1305!F$17","v":1}]
[null,{"$f":"Race1305!B$5","v":"Senior"},{"$f":"Race1305!B$4","v":"OC1"},{"$f":"Race1305!E$5","v":"Men"},{"$f":"Race1305!D$5","v":"Golden Masters"},{"$f":"Race1305!D$4","v":"Marathon"},{"$f":"Race1305!A$18","v":11},{"$f":"Race1305!D$18","v":0},{"$f":"Race1305!C$18","v":0},{"$f":"Race1305!F$18","v":1}]
[null,{"$f":"Race1305!B$5","v":"Senior"},{"$f":"Race1305!B$4","v":"OC1"},{"$f":"Race1305!E$5","v":"Men"},{"$f":"Race1305!D$5","v":"Golden Masters"},{"$f":"Race1305!D$4","v":"Marathon"},{"$f":"Race1305!A$19","v":12},{"$f":"Race1305!D$19","v":0},{"$f":"Race1305!C$19","v":0},{"$f":"Race1305!F$19","v":1}]
[null,{"$f":"Race1305!B$5","v":"Senior"},{"$f":"Race1305!B$4","v":"OC1"},{"$f":"Race1305!E$5","v":"Men"},{"$f":"Race1305!D$5","v":"Golden Masters"},{"$f":"Race1305!D$4","v":"Marathon"},{"$f":"Race1305!A$20","v":13},{"$f":"Race1305!D$20","v":0},{"$f":"Race1305!C$20","v":0},{"$f":"Race1305!F$20","v":1}]
[null,{"$f":"Race1305!B$5","v":"Senior"},{"$f":"Race1305!B$4","v":"OC1"},{"$f":"Race1305!E$5","v":"Men"},{"$f":"Race1305!D$5","v":"Golden Masters"},{"$f":"Race1305!D$4","v":"Marathon"},{"$f":"Race1305!A$21","v":14},{"$f":"Race1305!D$21","v":0},{"$f":"Race1305!C$21","v":0},{"$f":"Race1305!F$21","v":1}]
[null,{"$f":"Race1305!B$5","v":"Senior"},{"$f":"Race1305!B$4","v":"OC1"},{"$f":"Race1305!E$5","v":"Men"},{"$f":"Race1305!D$5","v":"Golden Masters"},{"$f":"Race1305!D$4","v":"Marathon"},{"$f":"Race1305!A$22","v":15},{"$f":"Race1305!D$22","v":0},{"$f":"Race1305!C$22","v":0},{"$f":"Race1305!F$22","v":1}]
[null,{"$f":"Race1305!B$5","v":"Senior"},{"$f":"Race1305!B$4","v":"OC1"},{"$f":"Race1305!E$5","v":"Men"},{"$f":"Race1305!D$5","v":"Golden Masters"},{"$f":"Race1305!D$4","v":"Marathon"},{"$f":"Race1305!A$23","v":16},{"$f":"Race1305!D$23","v":0},{"$f":"Race1305!C$23","v":0},{"$f":"Race1305!F$23","v":1}]
[null,{"$f":"Race1305!B$5","v":"Senior"},{"$f":"Race1305!B$4","v":"OC1"},{"$f":"Race1305!E$5","v":"Men"},{"$f":"Race1305!D$5","v":"Golden Masters"},{"$f":"Race1305!D$4","v":"Marathon"},{"$f":"Race1305!A$24","v":17},{"$f":"Race1305!D$24","v":0},{"$f":"Race1305!C$24","v":0},{"$f":"Race1305!F$24","v":1}]
[null,{"$f":"Race1305!B$5","v":"Senior"},{"$f":"Race1305!B$4","v":"OC1"},{"$f":"Race1305!E$5","v":"Men"},{"$f":"Race1305!D$5","v":"Golden Masters"},{"$f":"Race1305!D$4","v":"Marathon"},{"$f":"Race1305!A$25","v":18},{"$f":"Race1305!D$25","v":0},{"$f":"Race1305!C$25","v":0},{"$f":"Race1305!F$25","v":1}]
[null,{"$f":"Race1305!B$5","v":"Senior"},{"$f":"Race1305!B$4","v":"OC1"},{"$f":"Race1305!E$5","v":"Men"},{"$f":"Race1305!D$5","v":"Golden Masters"},{"$f":"Race1305!D$4","v":"Marathon"},{"$f":"Race1305!A$26","v":19},{"$f":"Race1305!D$26","v":0},{"$f":"Race1305!C$26","v":0},{"$f":"Race1305!F$26","v":1}]
[null,{"$f":"Race1305!B$5","v":"Senior"},{"$f":"Race1305!B$4","v":"OC1"},{"$f":"Race1305!E$5","v":"Men"},{"$f":"Race1305!D$5","v":"Golden Masters"},{"$f":"Race1305!D$4","v":"Marathon"},{"$f":"Race1305!A$27","v":20},{"$f":"Race1305!D$27","v":0},{"$f":"Race1305!C$27","v":0},{"$f":"Race1305!F$27","v":1}]
[null,{"$f":"Race1305!B$5","v":"Senior"},{"$f":"Race1305!B$4","v":"OC1"},{"$f":"Race1305!E$5","v":"Men"},{"$f":"Race1305!D$5","v":"Golden Masters"},{"$f":"Race1305!D$4","v":"Marathon"},{"$f":"Race1305!A$28","v":21},{"$f":"Race1305!D$28","v":0},{"$f":"Race1305!C$28","v":0},{"$f":"Race1305!F$28","v":1}]
[null,{"$f":"Race1305!B$5","v":"Senior"},{"$f":"Race1305!B$4","v":"OC1"},{"$f":"Race1305!E$5","v":"Men"},{"$f":"Race1305!D$5","v":"Golden Masters"},{"$f":"Race1305!D$4","v":"Marathon"},{"$f":"Race1305!A$29","v":22},{"$f":"Race1305!D$29","v":0},{"$f":"Race1305!C$29","v":0},{"$f":"Race1305!F$29","v":1}]
[null,{"$f":"Race1305!B$5","v":"Senior"},{"$f":"Race1305!B$4","v":"OC1"},{"$f":"Race1305!E$5","v":"Men"},{"$f":"Race1305!D$5","v":"Golden Masters"},{"$f":"Race1305!D$4","v":"Marathon"},{"$f":"Race1305!A$30","v":23},{"$f":"Race1305!D$30","v":0},{"$f":"Race1305!C$30","v":0},{"$f":"Race1305!F$30","v":1}]
[null,{"$f":"Race1305!B$5","v":"Senior"},{"$f":"Race1305!B$4","v":"OC1"},{"$f":"Race1305!E$5","v":"Men"},{"$f":"Race1305!D$5","v":"Golden Masters"},{"$f":"Race1305!D$4","v":"Marathon"},{"$f":"Race1305!A$31","v":24},{"$f":"Race1305!D$31","v":0},{"$f":"Race1305!C$31","v":0},{"$f":"Race1305!F$31","v":1}]
[null,{"$f":"Race1305!B$5","v":"Senior"},{"$f":"Race1305!B$4","v":"OC1"},{"$f":"Race1305!E$5","v":"Men"},{"$f":"Race1305!D$5","v":"Golden Masters"},{"$f":"Race1305!D$4","v":"Marathon"},{"$f":"Race1305!A$32","v":25},{"$f":"Race1305!D$32","v":0},{"$f":"Race1305!C$32","v":0},{"$f":"Race1305!F$32","v":1}]
[null,{"$f":"Race1305!B$5","v":"Senior"},{"$f":"Race1305!B$4","v":"OC1"},{"$f":"Race1305!E$5","v":"Men"},{"$f":"Race1305!D$5","v":"Golden Masters"},{"$f":"Race1305!D$4","v":"Marathon"},{"$f":"Race1305!A$33","v":26},{"$f":"Race1305!D$33","v":0},{"$f":"Race1305!C$33","v":0},{"$f":"Race1305!F$33","v":1}]
[null,{"$f":"Race1305!B$5","v":"Senior"},{"$f":"Race1305!B$4","v":"OC1"},{"$f":"Race1305!E$5","v":"Men"},{"$f":"Race1305!D$5","v":"Golden Masters"},{"$f":"Race1305!D$4","v":"Marathon"},{"$f":"Race1305!A$34","v":27},{"$f":"Race1305!D$34","v":0},{"$f":"Race1305!C$34","v":0},{"$f":"Race1305!F$34","v":1}]
[null,{"$f":"Race1305!B$5","v":"Senior"},{"$f":"Race1305!B$4","v":"OC1"},{"$f":"Race1305!E$5","v":"Men"},{"$f":"Race1305!D$5","v":"Golden Masters"},{"$f":"Race1305!D$4","v":"Marathon"},{"$f":"Race1305!A$35","v":28},{"$f":"Race1305!D$35","v":0},{"$f":"Race1305!C$35","v":0},{"$f":"Race1305!F$35","v":1}]
[null,{"$f":"Race1305!B$5","v":"Senior"},{"$f":"Race1305!B$4","v":"OC1"},{"$f":"Race1305!E$5","v":"Men"},{"$f":"Race1305!D$5","v":"Golden Masters"},{"$f":"Race1305!D$4","v":"Marathon"},{"$f":"Race1305!A$36","v":29},{"$f":"Race1305!D$36","v":0},{"$f":"Race1305!C$36","v":0},{"$f":"Race1305!F$36","v":1}]
[null,{"$f":"Race1305!B$5","v":"Senior"},{"$f":"Race1305!B$4","v":"OC1"},{"$f":"Race1305!E$5","v":"Men"},{"$f":"Race1305!D$5","v":"Golden Masters"},{"$f":"Race1305!D$4","v":"Marathon"},{"$f":"Race1305!A$37","v":30},{"$f":"Race1305!D$37","v":0},{"$f":"Race1305!C$37","v":0},{"$f":"Race1305!F$37","v":1}]
[null,{"$f":"Race1305!B$5","v":"Senior"},{"$f":"Race1305!B$4","v":"OC1"},{"$f":"Race1305!E$5","v":"Men"},{"$f":"Race1305!D$5","v":"Golden Masters"},{"$f":"Race1305!D$4","v":"Marathon"},{"$f":"Race1305!A$38","v":31},{"$f":"Race1305!D$38","v":0},{"$f":"Race1305!C$38","v":0},{"$f":"Race1305!F$38","v":1}]
[null,{"$f":"Race1305!B$5","v":"Senior"},{"$f":"Race1305!B$4","v":"OC1"},{"$f":"Race1305!E$5","v":"Men"},{"$f":"Race1305!D$5","v":"Golden Masters"},{"$f":"Race1305!D$4","v":"Marathon"},{"$f":"Race1305!A$39","v":32},{"$f":"Race1305!D$39","v":0},{"$f":"Race1305!C$39","v":0},{"$f":"Race1305!F$39","v":1}]
[null,{"$f":"Race1305!B$5","v":"Senior"},{"$f":"Race1305!B$4","v":"OC1"},{"$f":"Race1305!E$5","v":"Men"},{"$f":"Race1305!D$5","v":"Golden Masters"},{"$f":"Race1305!D$4","v":"Marathon"},{"$f":"Race1305!A$40","v":33},{"$f":"Race1305!D$40","v":0},{"$f":"Race1305!C$40","v":0},{"$f":"Race1305!F$40","v":1}]
[null,{"$f":"Race1305!B$5","v":"Senior"},{"$f":"Race1305!B$4","v":"OC1"},{"$f":"Race1305!E$5","v":"Men"},{"$f":"Race1305!D$5","v":"Golden Masters"},{"$f":"Race1305!D$4","v":"Marathon"},{"$f":"Race1305!A$41","v":34},{"$f":"Race1305!D$41","v":0},{"$f":"Race1305!C$41","v":0},{"$f":"Race1305!F$41","v":1}]
[null,{"$f":"Race1305!B$5","v":"Senior"},{"$f":"Race1305!B$4","v":"OC1"},{"$f":"Race1305!E$5","v":"Men"},{"$f":"Race1305!D$5","v":"Golden Masters"},{"$f":"Race1305!D$4","v":"Marathon"},{"$f":"Race1305!A$42","v":35},{"$f":"Race1305!D$42","v":0},{"$f":"Race1305!C$42","v":0},{"$f":"Race1305!F$42","v":1}]
[null,{"$f":"Race1305!B$5","v":"Senior"},{"$f":"Race1305!B$4","v":"OC1"},{"$f":"Race1305!E$5","v":"Men"},{"$f":"Race1305!D$5","v":"Golden Masters"},{"$f":"Race1305!D$4","v":"Marathon"},{"$f":"Race1305!A$43","v":36},{"$f":"Race1305!D$43","v":0},{"$f":"Race1305!C$43","v":0},{"$f":"Race1305!F$43","v":1}]
[null,{"$f":"Race1305!B$5","v":"Senior"},{"$f":"Race1305!B$4","v":"OC1"},{"$f":"Race1305!E$5","v":"Men"},{"$f":"Race1305!D$5","v":"Golden Masters"},{"$f":"Race1305!D$4","v":"Marathon"},{"$f":"Race1305!A$44","v":37},{"$f":"Race1305!D$44","v":0},{"$f":"Race1305!C$44","v":0},{"$f":"Race1305!F$44","v":1}]
[null,{"$f":"Race1305!B$5","v":"Senior"},{"$f":"Race1305!B$4","v":"OC1"},{"$f":"Race1305!E$5","v":"Men"},{"$f":"Race1305!D$5","v":"Golden Masters"},{"$f":"Race1305!D$4","v":"Marathon"},{"$f":"Race1305!A$45","v":38},{"$f":"Race1305!D$45","v":0},{"$f":"Race1305!C$45","v":0},{"$f":"Race1305!F$45","v":1}]
[null,{"$f":"Race1305!B$5","v":"Senior"},{"$f":"Race1305!B$4","v":"OC1"},{"$f":"Race1305!E$5","v":"Men"},{"$f":"Race1305!D$5","v":"Golden Masters"},{"$f":"Race1305!D$4","v":"Marathon"},{"$f":"Race1305!A$46","v":39},{"$f":"Race1305!D$46","v":0},{"$f":"Race1305!C$46","v":0},{"$f":"Race1305!F$46","v":1}]
[null,{"$f":"Race1305!B$5","v":"Senior"},{"$f":"Race1305!B$4","v":"OC1"},{"$f":"Race1305!E$5","v":"Men"},{"$f":"Race1305!D$5","v":"Golden Masters"},{"$f":"Race1305!D$4","v":"Marathon"},{"$f":"Race1305!A$47","v":40},{"$f":"Race1305!D$47","v":0},{"$f":"Race1305!C$47","v":0},{"$f":"Race1305!F$47","v":1}]
[null,{"$f":"Race1305!B$5","v":"Senior"},{"$f":"Race1305!B$4","v":"OC1"},{"$f":"Race1305!E$5","v":"Men"},{"$f":"Race1305!D$5","v":"Golden Masters"},{"$f":"Race1305!D$4","v":"Marathon"},{"$f":"Race1305!A$48","v":41},{"$f":"Race1305!D$48","v":0},{"$f":"Race1305!C$48","v":0},{"$f":"Race1305!F$48","v":1}]
[null,{"$f":"Race1305!B$5","v":"Senior"},{"$f":"Race1305!B$4","v":"OC1"},{"$f":"Race1305!E$5","v":"Men"},{"$f":"Race1305!D$5","v":"Golden Masters"},{"$f":"Race1305!D$4","v":"Marathon"},{"$f":"Race1305!A$49","v":42},{"$f":"Race1305!D$49","v":0},{"$f":"Race1305!C$49","v":0},{"$f":"Race1305!F$49","v":1}]
[null,{"$f":"Race1305!B$5","v":"Senior"},{"$f":"Race1305!B$4","v":"OC1"},{"$f":"Race1305!E$5","v":"Men"},{"$f":"Race1305!D$5","v":"Golden Masters"},{"$f":"Race1305!D$4","v":"Marathon"},{"$f":"Race1305!A$50","v":43},{"$f":"Race1305!D$50","v":0},{"$f":"Race1305!C$50","v":0},{"$f":"Race1305!F$50","v":1}]
[null,{"$f":"Race1305!B$5","v":"Senior"},{"$f":"Race1305!B$4","v":"OC1"},{"$f":"Race1305!E$5","v":"Men"},{"$f":"Race1305!D$5","v":"Golden Masters"},{"$f":"Race1305!D$4","v":"Marathon"},{"$f":"Race1305!A$51","v":44},{"$f":"Race1305!D$51","v":0},{"$f":"Race1305!C$51","v":0},{"$f":"Race1305!F$51","v":1}]
[null,{"$f":"Race1305!B$5","v":"Senior"},{"$f":"Race1305!B$4","v":"OC1"},{"$f":"Race1305!E$5","v":"Men"},{"$f":"Race1305!D$5","v":"Golden Masters"},{"$f":"Race1305!D$4","v":"Marathon"},{"$f":"Race1305!A$52","v":45},{"$f":"Race1305!D$52","v":0},{"$f":"Race1305!C$52","v":0},{"$f":"Race1305!F$52","v":1}]
[null,{"$f":"Race1305!B$5","v":"Senior"},{"$f":"Race1305!B$4","v":"OC1"},{"$f":"Race1305!E$5","v":"Men"},{"$f":"Race1305!D$5","v":"Golden Masters"},{"$f":"Race1305!D$4","v":"Marathon"},{"$f":"Race1305!A$53","v":46},{"$f":"Race1305!D$53","v":0},{"$f":"Race1305!C$53","v":0},{"$f":"Race1305!F$53","v":1}]
[null,{"$f":"Race1305!B$5","v":"Senior"},{"$f":"Race1305!B$4","v":"OC1"},{"$f":"Race1305!E$5","v":"Men"},{"$f":"Race1305!D$5","v":"Golden Masters"},{"$f":"Race1305!D$4","v":"Marathon"},{"$f":"Race1305!A$54","v":47},{"$f":"Race1305!D$54","v":0},{"$f":"Race1305!C$54","v":0},{"$f":"Race1305!F$54","v":1}]
[null,{"$f":"Race1305!B$5","v":"Senior"},{"$f":"Race1305!B$4","v":"OC1"},{"$f":"Race1305!E$5","v":"Men"},{"$f":"Race1305!D$5","v":"Golden Masters"},{"$f":"Race1305!D$4","v":"Marathon"},{"$f":"Race1305!A$55","v":48},{"$f":"Race1305!D$55","v":0},{"$f":"Race1305!C$55","v":0},{"$f":"Race1305!F$55","v":1}]
[null,{"$f":"Race1305!B$5","v":"Senior"},{"$f":"Race1305!B$4","v":"OC1"},{"$f":"Race1305!E$5","v":"Men"},{"$f":"Race1305!D$5","v":"Golden Masters"},{"$f":"Race1305!D$4","v":"Marathon"},{"$f":"Race1305!A$56","v":49},{"$f":"Race1305!D$56","v":0},{"$f":"Race1305!C$56","v":0},{"$f":"Race1305!F$56","v":1}]
[null,{"$f":"Race1305!B$5","v":"Senior"},{"$f":"Race1305!B$4","v":"OC1"},{"$f":"Race1305!E$5","v":"Men"},{"$f":"Race1305!D$5","v":"Golden Masters"},{"$f":"Race1305!D$4","v":"Marathon"},{"$f":"Race1305!A$57","v":50},{"$f":"Race1305!D$57","v":0},{"$f":"Race1305!C$57","v":0},{"$f":"Race1305!F$57","v":1}]
["Race1306",{"$f":"Race1306!B$5","v":"Senior"},{"$f":"Race1306!B$4","v":"OC1"},{"$f":"Race1306!E$5","v":"Women"},{"$f":"Race1306!D$5","v":"21 & Under"},{"$f":"Race1306!D$4","v":"Marathon"},{"$f":"Race1306!A$8","v":1},{"$f":"Race1306!D$8","v":0},{"$f":"Race1306!C$8","v":0},{"$f":"Race1306!F$8","v":9}]
[null,{"$f":"Race1306!B$5","v":"Senior"},{"$f":"Race1306!B$4","v":"OC1"},{"$f":"Race1306!E$5","v":"Women"},{"$f":"Race1306!D$5","v":"21 & Under"},{"$f":"Race1306!D$4","v":"Marathon"},{"$f":"Race1306!A$9","v":2},{"$f":"Race1306!D$9","v":0},{"$f":"Race1306!C$9","v":0},{"$f":"Race1306!F$9","v":7}]
[null,{"$f":"Race1306!B$5","v":"Senior"},{"$f":"Race1306!B$4","v":"OC1"},{"$f":"Race1306!E$5","v":"Women"},{"$f":"Race1306!D$5","v":"21 & Under"},{"$f":"Race1306!D$4","v":"Marathon"},{"$f":"Race1306!A$10","v":3},{"$f":"Race1306!D$10","v":0},{"$f":"Race1306!C$10","v":0},{"$f":"Race1306!F$10","v":5}]
[null,{"$f":"Race1306!B$5","v":"Senior"},{"$f":"Race1306!B$4","v":"OC1"},{"$f":"Race1306!E$5","v":"Women"},{"$f":"Race1306!D$5","v":"21 & Under"},{"$f":"Race1306!D$4","v":"Marathon"},{"$f":"Race1306!A$11","v":4},{"$f":"Race1306!D$11","v":0},{"$f":"Race1306!C$11","v":0},{"$f":"Race1306!F$11","v":3}]
[null,{"$f":"Race1306!B$5","v":"Senior"},{"$f":"Race1306!B$4","v":"OC1"},{"$f":"Race1306!E$5","v":"Women"},{"$f":"Race1306!D$5","v":"21 & Under"},{"$f":"Race1306!D$4","v":"Marathon"},{"$f":"Race1306!A$12","v":5},{"$f":"Race1306!D$12","v":0},{"$f":"Race1306!C$12","v":0},{"$f":"Race1306!F$12","v":2}]
[null,{"$f":"Race1306!B$5","v":"Senior"},{"$f":"Race1306!B$4","v":"OC1"},{"$f":"Race1306!E$5","v":"Women"},{"$f":"Race1306!D$5","v":"21 & Under"},{"$f":"Race1306!D$4","v":"Marathon"},{"$f":"Race1306!A$13","v":6},{"$f":"Race1306!D$13","v":0},{"$f":"Race1306!C$13","v":0},{"$f":"Race1306!F$13","v":1}]
[null,{"$f":"Race1306!B$5","v":"Senior"},{"$f":"Race1306!B$4","v":"OC1"},{"$f":"Race1306!E$5","v":"Women"},{"$f":"Race1306!D$5","v":"21 & Under"},{"$f":"Race1306!D$4","v":"Marathon"},{"$f":"Race1306!A$14","v":7},{"$f":"Race1306!D$14","v":0},{"$f":"Race1306!C$14","v":0},{"$f":"Race1306!F$14","v":1}]
[null,{"$f":"Race1306!B$5","v":"Senior"},{"$f":"Race1306!B$4","v":"OC1"},{"$f":"Race1306!E$5","v":"Women"},{"$f":"Race1306!D$5","v":"21 & Under"},{"$f":"Race1306!D$4","v":"Marathon"},{"$f":"Race1306!A$15","v":8},{"$f":"Race1306!D$15","v":0},{"$f":"Race1306!C$15","v":0},{"$f":"Race1306!F$15","v":1}]
[null,{"$f":"Race1306!B$5","v":"Senior"},{"$f":"Race1306!B$4","v":"OC1"},{"$f":"Race1306!E$5","v":"Women"},{"$f":"Race1306!D$5","v":"21 & Under"},{"$f":"Race1306!D$4","v":"Marathon"},{"$f":"Race1306!A$16","v":9},{"$f":"Race1306!D$16","v":0},{"$f":"Race1306!C$16","v":0},{"$f":"Race1306!F$16","v":1}]
[null,{"$f":"Race1306!B$5","v":"Senior"},{"$f":"Race1306!B$4","v":"OC1"},{"$f":"Race1306!E$5","v":"Women"},{"$f":"Race1306!D$5","v":"21 & Under"},{"$f":"Race1306!D$4","v":"Marathon"},{"$f":"Race1306!A$17","v":10},{"$f":"Race1306!D$17","v":0},{"$f":"Race1306!C$17","v":0},{"$f":"Race1306!F$17","v":1}]
[null,{"$f":"Race1306!B$5","v":"Senior"},{"$f":"Race1306!B$4","v":"OC1"},{"$f":"Race1306!E$5","v":"Women"},{"$f":"Race1306!D$5","v":"21 & Under"},{"$f":"Race1306!D$4","v":"Marathon"},{"$f":"Race1306!A$18","v":11},{"$f":"Race1306!D$18","v":0},{"$f":"Race1306!C$18","v":0},{"$f":"Race1306!F$18","v":1}]
[null,{"$f":"Race1306!B$5","v":"Senior"},{"$f":"Race1306!B$4","v":"OC1"},{"$f":"Race1306!E$5","v":"Women"},{"$f":"Race1306!D$5","v":"21 & Under"},{"$f":"Race1306!D$4","v":"Marathon"},{"$f":"Race1306!A$19","v":12},{"$f":"Race1306!D$19","v":0},{"$f":"Race1306!C$19","v":0},{"$f":"Race1306!F$19","v":1}]
[null,{"$f":"Race1306!B$5","v":"Senior"},{"$f":"Race1306!B$4","v":"OC1"},{"$f":"Race1306!E$5","v":"Women"},{"$f":"Race1306!D$5","v":"21 & Under"},{"$f":"Race1306!D$4","v":"Marathon"},{"$f":"Race1306!A$20","v":13},{"$f":"Race1306!D$20","v":0},{"$f":"Race1306!C$20","v":0},{"$f":"Race1306!F$20","v":1}]
[null,{"$f":"Race1306!B$5","v":"Senior"},{"$f":"Race1306!B$4","v":"OC1"},{"$f":"Race1306!E$5","v":"Women"},{"$f":"Race1306!D$5","v":"21 & Under"},{"$f":"Race1306!D$4","v":"Marathon"},{"$f":"Race1306!A$21","v":14},{"$f":"Race1306!D$21","v":0},{"$f":"Race1306!C$21","v":0},{"$f":"Race1306!F$21","v":1}]
[null,{"$f":"Race1306!B$5","v":"Senior"},{"$f":"Race1306!B$4","v":"OC1"},{"$f":"Race1306!E$5","v":"Women"},{"$f":"Race1306!D$5","v":"21 & Under"},{"$f":"Race1306!D$4","v":"Marathon"},{"$f":"Race1306!A$22","v":15},{"$f":"Race1306!D$22","v":0},{"$f":"Race1306!C$22","v":0},{"$f":"Race1306!F$22","v":1}]
[null,{"$f":"Race1306!B$5","v":"Senior"},{"$f":"Race1306!B$4","v":"OC1"},{"$f":"Race1306!E$5","v":"Women"},{"$f":"Race1306!D$5","v":"21 & Under"},{"$f":"Race1306!D$4","v":"Marathon"},{"$f":"Race1306!A$23","v":16},{"$f":"Race1306!D$23","v":0},{"$f":"Race1306!C$23","v":0},{"$f":"Race1306!F$23","v":1}]
[null,{"$f":"Race1306!B$5","v":"Senior"},{"$f":"Race1306!B$4","v":"OC1"},{"$f":"Race1306!E$5","v":"Women"},{"$f":"Race1306!D$5","v":"21 & Under"},{"$f":"Race1306!D$4","v":"Marathon"},{"$f":"Race1306!A$24","v":17},{"$f":"Race1306!D$24","v":0},{"$f":"Race1306!C$24","v":0},{"$f":"Race1306!F$24","v":1}]
[null,{"$f":"Race1306!B$5","v":"Senior"},{"$f":"Race1306!B$4","v":"OC1"},{"$f":"Race1306!E$5","v":"Women"},{"$f":"Race1306!D$5","v":"21 & Under"},{"$f":"Race1306!D$4","v":"Marathon"},{"$f":"Race1306!A$25","v":18},{"$f":"Race1306!D$25","v":0},{"$f":"Race1306!C$25","v":0},{"$f":"Race1306!F$25","v":1}]
[null,{"$f":"Race1306!B$5","v":"Senior"},{"$f":"Race1306!B$4","v":"OC1"},{"$f":"Race1306!E$5","v":"Women"},{"$f":"Race1306!D$5","v":"21 & Under"},{"$f":"Race1306!D$4","v":"Marathon"},{"$f":"Race1306!A$26","v":19},{"$f":"Race1306!D$26","v":0},{"$f":"Race1306!C$26","v":0},{"$f":"Race1306!F$26","v":1}]
[null,{"$f":"Race1306!B$5","v":"Senior"},{"$f":"Race1306!B$4","v":"OC1"},{"$f":"Race1306!E$5","v":"Women"},{"$f":"Race1306!D$5","v":"21 & Under"},{"$f":"Race1306!D$4","v":"Marathon"},{"$f":"Race1306!A$27","v":20},{"$f":"Race1306!D$27","v":0},{"$f":"Race1306!C$27","v":0},{"$f":"Race1306!F$27","v":1}]
[null,{"$f":"Race1306!B$5","v":"Senior"},{"$f":"Race1306!B$4","v":"OC1"},{"$f":"Race1306!E$5","v":"Women"},{"$f":"Race1306!D$5","v":"21 & Under"},{"$f":"Race1306!D$4","v":"Marathon"},{"$f":"Race1306!A$28","v":21},{"$f":"Race1306!D$28","v":0},{"$f":"Race1306!C$28","v":0},{"$f":"Race1306!F$28","v":1}]
[null,{"$f":"Race1306!B$5","v":"Senior"},{"$f":"Race1306!B$4","v":"OC1"},{"$f":"Race1306!E$5","v":"Women"},{"$f":"Race1306!D$5","v":"21 & Under"},{"$f":"Race1306!D$4","v":"Marathon"},{"$f":"Race1306!A$29","v":22},{"$f":"Race1306!D$29","v":0},{"$f":"Race1306!C$29","v":0},{"$f":"Race1306!F$29","v":1}]
[null,{"$f":"Race1306!B$5","v":"Senior"},{"$f":"Race1306!B$4","v":"OC1"},{"$f":"Race1306!E$5","v":"Women"},{"$f":"Race1306!D$5","v":"21 & Under"},{"$f":"Race1306!D$4","v":"Marathon"},{"$f":"Race1306!A$30","v":23},{"$f":"Race1306!D$30","v":0},{"$f":"Race1306!C$30","v":0},{"$f":"Race1306!F$30","v":1}]
[null,{"$f":"Race1306!B$5","v":"Senior"},{"$f":"Race1306!B$4","v":"OC1"},{"$f":"Race1306!E$5","v":"Women"},{"$f":"Race1306!D$5","v":"21 & Under"},{"$f":"Race1306!D$4","v":"Marathon"},{"$f":"Race1306!A$31","v":24},{"$f":"Race1306!D$31","v":0},{"$f":"Race1306!C$31","v":0},{"$f":"Race1306!F$31","v":1}]
[null,{"$f":"Race1306!B$5","v":"Senior"},{"$f":"Race1306!B$4","v":"OC1"},{"$f":"Race1306!E$5","v":"Women"},{"$f":"Race1306!D$5","v":"21 & Under"},{"$f":"Race1306!D$4","v":"Marathon"},{"$f":"Race1306!A$32","v":25},{"$f":"Race1306!D$32","v":0},{"$f":"Race1306!C$32","v":0},{"$f":"Race1306!F$32","v":1}]
[null,{"$f":"Race1306!B$5","v":"Senior"},{"$f":"Race1306!B$4","v":"OC1"},{"$f":"Race1306!E$5","v":"Women"},{"$f":"Race1306!D$5","v":"21 & Under"},{"$f":"Race1306!D$4","v":"Marathon"},{"$f":"Race1306!A$33","v":26},{"$f":"Race1306!D$33","v":0},{"$f":"Race1306!C$33","v":0},{"$f":"Race1306!F$33","v":1}]
[null,{"$f":"Race1306!B$5","v":"Senior"},{"$f":"Race1306!B$4","v":"OC1"},{"$f":"Race1306!E$5","v":"Women"},{"$f":"Race1306!D$5","v":"21 & Under"},{"$f":"Race1306!D$4","v":"Marathon"},{"$f":"Race1306!A$34","v":27},{"$f":"Race1306!D$34","v":0},{"$f":"Race1306!C$34","v":0},{"$f":"Race1306!F$34","v":1}]
[null,{"$f":"Race1306!B$5","v":"Senior"},{"$f":"Race1306!B$4","v":"OC1"},{"$f":"Race1306!E$5","v":"Women"},{"$f":"Race1306!D$5","v":"21 & Under"},{"$f":"Race1306!D$4","v":"Marathon"},{"$f":"Race1306!A$35","v":28},{"$f":"Race1306!D$35","v":0},{"$f":"Race1306!C$35","v":0},{"$f":"Race1306!F$35","v":1}]
[null,{"$f":"Race1306!B$5","v":"Senior"},{"$f":"Race1306!B$4","v":"OC1"},{"$f":"Race1306!E$5","v":"Women"},{"$f":"Race1306!D$5","v":"21 & Under"},{"$f":"Race1306!D$4","v":"Marathon"},{"$f":"Race1306!A$36","v":29},{"$f":"Race1306!D$36","v":0},{"$f":"Race1306!C$36","v":0},{"$f":"Race1306!F$36","v":1}]
[null,{"$f":"Race1306!B$5","v":"Senior"},{"$f":"Race1306!B$4","v":"OC1"},{"$f":"Race1306!E$5","v":"Women"},{"$f":"Race1306!D$5","v":"21 & Under"},{"$f":"Race1306!D$4","v":"Marathon"},{"$f":"Race1306!A$37","v":30},{"$f":"Race1306!D$37","v":0},{"$f":"Race1306!C$37","v":0},{"$f":"Race1306!F$37","v":1}]
[null,{"$f":"Race1306!B$5","v":"Senior"},{"$f":"Race1306!B$4","v":"OC1"},{"$f":"Race1306!E$5","v":"Women"},{"$f":"Race1306!D$5","v":"21 & Under"},{"$f":"Race1306!D$4","v":"Marathon"},{"$f":"Race1306!A$38","v":31},{"$f":"Race1306!D$38","v":0},{"$f":"Race1306!C$38","v":0},{"$f":"Race1306!F$38","v":1}]
[null,{"$f":"Race1306!B$5","v":"Senior"},{"$f":"Race1306!B$4","v":"OC1"},{"$f":"Race1306!E$5","v":"Women"},{"$f":"Race1306!D$5","v":"21 & Under"},{"$f":"Race1306!D$4","v":"Marathon"},{"$f":"Race1306!A$39","v":32},{"$f":"Race1306!D$39","v":0},{"$f":"Race1306!C$39","v":0},{"$f":"Race1306!F$39","v":1}]
[null,{"$f":"Race1306!B$5","v":"Senior"},{"$f":"Race1306!B$4","v":"OC1"},{"$f":"Race1306!E$5","v":"Women"},{"$f":"Race1306!D$5","v":"21 & Under"},{"$f":"Race1306!D$4","v":"Marathon"},{"$f":"Race1306!A$40","v":33},{"$f":"Race1306!D$40","v":0},{"$f":"Race1306!C$40","v":0},{"$f":"Race1306!F$40","v":1}]
[null,{"$f":"Race1306!B$5","v":"Senior"},{"$f":"Race1306!B$4","v":"OC1"},{"$f":"Race1306!E$5","v":"Women"},{"$f":"Race1306!D$5","v":"21 & Under"},{"$f":"Race1306!D$4","v":"Marathon"},{"$f":"Race1306!A$41","v":34},{"$f":"Race1306!D$41","v":0},{"$f":"Race1306!C$41","v":0},{"$f":"Race1306!F$41","v":1}]
[null,{"$f":"Race1306!B$5","v":"Senior"},{"$f":"Race1306!B$4","v":"OC1"},{"$f":"Race1306!E$5","v":"Women"},{"$f":"Race1306!D$5","v":"21 & Under"},{"$f":"Race1306!D$4","v":"Marathon"},{"$f":"Race1306!A$42","v":35},{"$f":"Race1306!D$42","v":0},{"$f":"Race1306!C$42","v":0},{"$f":"Race1306!F$42","v":1}]
[null,{"$f":"Race1306!B$5","v":"Senior"},{"$f":"Race1306!B$4","v":"OC1"},{"$f":"Race1306!E$5","v":"Women"},{"$f":"Race1306!D$5","v":"21 & Under"},{"$f":"Race1306!D$4","v":"Marathon"},{"$f":"Race1306!A$43","v":36},{"$f":"Race1306!D$43","v":0},{"$f":"Race1306!C$43","v":0},{"$f":"Race1306!F$43","v":1}]
[null,{"$f":"Race1306!B$5","v":"Senior"},{"$f":"Race1306!B$4","v":"OC1"},{"$f":"Race1306!E$5","v":"Women"},{"$f":"Race1306!D$5","v":"21 & Under"},{"$f":"Race1306!D$4","v":"Marathon"},{"$f":"Race1306!A$44","v":37},{"$f":"Race1306!D$44","v":0},{"$f":"Race1306!C$44","v":0},{"$f":"Race1306!F$44","v":1}]
[null,{"$f":"Race1306!B$5","v":"Senior"},{"$f":"Race1306!B$4","v":"OC1"},{"$f":"Race1306!E$5","v":"Women"},{"$f":"Race1306!D$5","v":"21 & Under"},{"$f":"Race1306!D$4","v":"Marathon"},{"$f":"Race1306!A$45","v":38},{"$f":"Race1306!D$45","v":0},{"$f":"Race1306!C$45","v":0},{"$f":"Race1306!F$45","v":1}]
[null,{"$f":"Race1306!B$5","v":"Senior"},{"$f":"Race1306!B$4","v":"OC1"},{"$f":"Race1306!E$5","v":"Women"},{"$f":"Race1306!D$5","v":"21 & Under"},{"$f":"Race1306!D$4","v":"Marathon"},{"$f":"Race1306!A$46","v":39},{"$f":"Race1306!D$46","v":0},{"$f":"Race1306!C$46","v":0},{"$f":"Race1306!F$46","v":1}]
[null,{"$f":"Race1306!B$5","v":"Senior"},{"$f":"Race1306!B$4","v":"OC1"},{"$f":"Race1306!E$5","v":"Women"},{"$f":"Race1306!D$5","v":"21 & Under"},{"$f":"Race1306!D$4","v":"Marathon"},{"$f":"Race1306!A$47","v":40},{"$f":"Race1306!D$47","v":0},{"$f":"Race1306!C$47","v":0},{"$f":"Race1306!F$47","v":1}]
[null,{"$f":"Race1306!B$5","v":"Senior"},{"$f":"Race1306!B$4","v":"OC1"},{"$f":"Race1306!E$5","v":"Women"},{"$f":"Race1306!D$5","v":"21 & Under"},{"$f":"Race1306!D$4","v":"Marathon"},{"$f":"Race1306!A$48","v":41},{"$f":"Race1306!D$48","v":0},{"$f":"Race1306!C$48","v":0},{"$f":"Race1306!F$48","v":1}]
[null,{"$f":"Race1306!B$5","v":"Senior"},{"$f":"Race1306!B$4","v":"OC1"},{"$f":"Race1306!E$5","v":"Women"},{"$f":"Race1306!D$5","v":"21 & Under"},{"$f":"Race1306!D$4","v":"Marathon"},{"$f":"Race1306!A$49","v":42},{"$f":"Race1306!D$49","v":0},{"$f":"Race1306!C$49","v":0},{"$f":"Race1306!F$49","v":1}]
[null,{"$f":"Race1306!B$5","v":"Senior"},{"$f":"Race1306!B$4","v":"OC1"},{"$f":"Race1306!E$5","v":"Women"},{"$f":"Race1306!D$5","v":"21 & Under"},{"$f":"Race1306!D$4","v":"Marathon"},{"$f":"Race1306!A$50","v":43},{"$f":"Race1306!D$50","v":0},{"$f":"Race1306!C$50","v":0},{"$f":"Race1306!F$50","v":1}]
[null,{"$f":"Race1306!B$5","v":"Senior"},{"$f":"Race1306!B$4","v":"OC1"},{"$f":"Race1306!E$5","v":"Women"},{"$f":"Race1306!D$5","v":"21 & Under"},{"$f":"Race1306!D$4","v":"Marathon"},{"$f":"Race1306!A$51","v":44},{"$f":"Race1306!D$51","v":0},{"$f":"Race1306!C$51","v":0},{"$f":"Race1306!F$51","v":1}]
[null,{"$f":"Race1306!B$5","v":"Senior"},{"$f":"Race1306!B$4","v":"OC1"},{"$f":"Race1306!E$5","v":"Women"},{"$f":"Race1306!D$5","v":"21 & Under"},{"$f":"Race1306!D$4","v":"Marathon"},{"$f":"Race1306!A$52","v":45},{"$f":"Race1306!D$52","v":0},{"$f":"Race1306!C$52","v":0},{"$f":"Race1306!F$52","v":1}]
[null,{"$f":"Race1306!B$5","v":"Senior"},{"$f":"Race1306!B$4","v":"OC1"},{"$f":"Race1306!E$5","v":"Women"},{"$f":"Race1306!D$5","v":"21 & Under"},{"$f":"Race1306!D$4","v":"Marathon"},{"$f":"Race1306!A$53","v":46},{"$f":"Race1306!D$53","v":0},{"$f":"Race1306!C$53","v":0},{"$f":"Race1306!F$53","v":1}]
[null,{"$f":"Race1306!B$5","v":"Senior"},{"$f":"Race1306!B$4","v":"OC1"},{"$f":"Race1306!E$5","v":"Women"},{"$f":"Race1306!D$5","v":"21 & Under"},{"$f":"Race1306!D$4","v":"Marathon"},{"$f":"Race1306!A$54","v":47},{"$f":"Race1306!D$54","v":0},{"$f":"Race1306!C$54","v":0},{"$f":"Race1306!F$54","v":1}]
[null,{"$f":"Race1306!B$5","v":"Senior"},{"$f":"Race1306!B$4","v":"OC1"},{"$f":"Race1306!E$5","v":"Women"},{"$f":"Race1306!D$5","v":"21 & Under"},{"$f":"Race1306!D$4","v":"Marathon"},{"$f":"Race1306!A$55","v":48},{"$f":"Race1306!D$55","v":0},{"$f":"Race1306!C$55","v":0},{"$f":"Race1306!F$55","v":1}]
[null,{"$f":"Race1306!B$5","v":"Senior"},{"$f":"Race1306!B$4","v":"OC1"},{"$f":"Race1306!E$5","v":"Women"},{"$f":"Race1306!D$5","v":"21 & Under"},{"$f":"Race1306!D$4","v":"Marathon"},{"$f":"Race1306!A$56","v":49},{"$f":"Race1306!D$56","v":0},{"$f":"Race1306!C$56","v":0},{"$f":"Race1306!F$56","v":1}]
[null,{"$f":"Race1306!B$5","v":"Senior"},{"$f":"Race1306!B$4","v":"OC1"},{"$f":"Race1306!E$5","v":"Women"},{"$f":"Race1306!D$5","v":"21 & Under"},{"$f":"Race1306!D$4","v":"Marathon"},{"$f":"Race1306!A$57","v":50},{"$f":"Race1306!D$57","v":0},{"$f":"Race1306!C$57","v":0},{"$f":"Race1306!F$57","v":1}]
["Race1307",{"$f":"Race1307!B$5","v":"Senior"},{"$f":"Race1307!B$4","v":"OC1"},{"$f":"Race1307!E$5","v":"Women"},{"$f":"Race1307!D$5","v":"Open"},{"$f":"Race1307!D$4","v":"Marathon"},{"$f":"Race1307!A$8","v":1},{"$f":"Race1307!D$8","v":0},{"$f":"Race1307!C$8","v":0},{"$f":"Race1307!F$8","v":9}]
[null,{"$f":"Race1307!B$5","v":"Senior"},{"$f":"Race1307!B$4","v":"OC1"},{"$f":"Race1307!E$5","v":"Women"},{"$f":"Race1307!D$5","v":"Open"},{"$f":"Race1307!D$4","v":"Marathon"},{"$f":"Race1307!A$9","v":2},{"$f":"Race1307!D$9","v":0},{"$f":"Race1307!C$9","v":0},{"$f":"Race1307!F$9","v":7}]
[null,{"$f":"Race1307!B$5","v":"Senior"},{"$f":"Race1307!B$4","v":"OC1"},{"$f":"Race1307!E$5","v":"Women"},{"$f":"Race1307!D$5","v":"Open"},{"$f":"Race1307!D$4","v":"Marathon"},{"$f":"Race1307!A$10","v":3},{"$f":"Race1307!D$10","v":0},{"$f":"Race1307!C$10","v":0},{"$f":"Race1307!F$10","v":5}]
[null,{"$f":"Race1307!B$5","v":"Senior"},{"$f":"Race1307!B$4","v":"OC1"},{"$f":"Race1307!E$5","v":"Women"},{"$f":"Race1307!D$5","v":"Open"},{"$f":"Race1307!D$4","v":"Marathon"},{"$f":"Race1307!A$11","v":4},{"$f":"Race1307!D$11","v":0},{"$f":"Race1307!C$11","v":0},{"$f":"Race1307!F$11","v":3}]
[null,{"$f":"Race1307!B$5","v":"Senior"},{"$f":"Race1307!B$4","v":"OC1"},{"$f":"Race1307!E$5","v":"Women"},{"$f":"Race1307!D$5","v":"Open"},{"$f":"Race1307!D$4","v":"Marathon"},{"$f":"Race1307!A$12","v":5},{"$f":"Race1307!D$12","v":0},{"$f":"Race1307!C$12","v":0},{"$f":"Race1307!F$12","v":2}]
[null,{"$f":"Race1307!B$5","v":"Senior"},{"$f":"Race1307!B$4","v":"OC1"},{"$f":"Race1307!E$5","v":"Women"},{"$f":"Race1307!D$5","v":"Open"},{"$f":"Race1307!D$4","v":"Marathon"},{"$f":"Race1307!A$13","v":6},{"$f":"Race1307!D$13","v":0},{"$f":"Race1307!C$13","v":0},{"$f":"Race1307!F$13","v":1}]
[null,{"$f":"Race1307!B$5","v":"Senior"},{"$f":"Race1307!B$4","v":"OC1"},{"$f":"Race1307!E$5","v":"Women"},{"$f":"Race1307!D$5","v":"Open"},{"$f":"Race1307!D$4","v":"Marathon"},{"$f":"Race1307!A$14","v":7},{"$f":"Race1307!D$14","v":0},{"$f":"Race1307!C$14","v":0},{"$f":"Race1307!F$14","v":1}]
[null,{"$f":"Race1307!B$5","v":"Senior"},{"$f":"Race1307!B$4","v":"OC1"},{"$f":"Race1307!E$5","v":"Women"},{"$f":"Race1307!D$5","v":"Open"},{"$f":"Race1307!D$4","v":"Marathon"},{"$f":"Race1307!A$15","v":8},{"$f":"Race1307!D$15","v":0},{"$f":"Race1307!C$15","v":0},{"$f":"Race1307!F$15","v":1}]
[null,{"$f":"Race1307!B$5","v":"Senior"},{"$f":"Race1307!B$4","v":"OC1"},{"$f":"Race1307!E$5","v":"Women"},{"$f":"Race1307!D$5","v":"Open"},{"$f":"Race1307!D$4","v":"Marathon"},{"$f":"Race1307!A$16","v":9},{"$f":"Race1307!D$16","v":0},{"$f":"Race1307!C$16","v":0},{"$f":"Race1307!F$16","v":1}]
[null,{"$f":"Race1307!B$5","v":"Senior"},{"$f":"Race1307!B$4","v":"OC1"},{"$f":"Race1307!E$5","v":"Women"},{"$f":"Race1307!D$5","v":"Open"},{"$f":"Race1307!D$4","v":"Marathon"},{"$f":"Race1307!A$17","v":10},{"$f":"Race1307!D$17","v":0},{"$f":"Race1307!C$17","v":0},{"$f":"Race1307!F$17","v":1}]
[null,{"$f":"Race1307!B$5","v":"Senior"},{"$f":"Race1307!B$4","v":"OC1"},{"$f":"Race1307!E$5","v":"Women"},{"$f":"Race1307!D$5","v":"Open"},{"$f":"Race1307!D$4","v":"Marathon"},{"$f":"Race1307!A$18","v":11},{"$f":"Race1307!D$18","v":0},{"$f":"Race1307!C$18","v":0},{"$f":"Race1307!F$18","v":1}]
[null,{"$f":"Race1307!B$5","v":"Senior"},{"$f":"Race1307!B$4","v":"OC1"},{"$f":"Race1307!E$5","v":"Women"},{"$f":"Race1307!D$5","v":"Open"},{"$f":"Race1307!D$4","v":"Marathon"},{"$f":"Race1307!A$19","v":12},{"$f":"Race1307!D$19","v":0},{"$f":"Race1307!C$19","v":0},{"$f":"Race1307!F$19","v":1}]
[null,{"$f":"Race1307!B$5","v":"Senior"},{"$f":"Race1307!B$4","v":"OC1"},{"$f":"Race1307!E$5","v":"Women"},{"$f":"Race1307!D$5","v":"Open"},{"$f":"Race1307!D$4","v":"Marathon"},{"$f":"Race1307!A$20","v":13},{"$f":"Race1307!D$20","v":0},{"$f":"Race1307!C$20","v":0},{"$f":"Race1307!F$20","v":1}]
[null,{"$f":"Race1307!B$5","v":"Senior"},{"$f":"Race1307!B$4","v":"OC1"},{"$f":"Race1307!E$5","v":"Women"},{"$f":"Race1307!D$5","v":"Open"},{"$f":"Race1307!D$4","v":"Marathon"},{"$f":"Race1307!A$21","v":14},{"$f":"Race1307!D$21","v":0},{"$f":"Race1307!C$21","v":0},{"$f":"Race1307!F$21","v":1}]
[null,{"$f":"Race1307!B$5","v":"Senior"},{"$f":"Race1307!B$4","v":"OC1"},{"$f":"Race1307!E$5","v":"Women"},{"$f":"Race1307!D$5","v":"Open"},{"$f":"Race1307!D$4","v":"Marathon"},{"$f":"Race1307!A$22","v":15},{"$f":"Race1307!D$22","v":0},{"$f":"Race1307!C$22","v":0},{"$f":"Race1307!F$22","v":1}]
[null,{"$f":"Race1307!B$5","v":"Senior"},{"$f":"Race1307!B$4","v":"OC1"},{"$f":"Race1307!E$5","v":"Women"},{"$f":"Race1307!D$5","v":"Open"},{"$f":"Race1307!D$4","v":"Marathon"},{"$f":"Race1307!A$23","v":16},{"$f":"Race1307!D$23","v":0},{"$f":"Race1307!C$23","v":0},{"$f":"Race1307!F$23","v":1}]
[null,{"$f":"Race1307!B$5","v":"Senior"},{"$f":"Race1307!B$4","v":"OC1"},{"$f":"Race1307!E$5","v":"Women"},{"$f":"Race1307!D$5","v":"Open"},{"$f":"Race1307!D$4","v":"Marathon"},{"$f":"Race1307!A$24","v":17},{"$f":"Race1307!D$24","v":0},{"$f":"Race1307!C$24","v":0},{"$f":"Race1307!F$24","v":1}]
[null,{"$f":"Race1307!B$5","v":"Senior"},{"$f":"Race1307!B$4","v":"OC1"},{"$f":"Race1307!E$5","v":"Women"},{"$f":"Race1307!D$5","v":"Open"},{"$f":"Race1307!D$4","v":"Marathon"},{"$f":"Race1307!A$25","v":18},{"$f":"Race1307!D$25","v":0},{"$f":"Race1307!C$25","v":0},{"$f":"Race1307!F$25","v":1}]
[null,{"$f":"Race1307!B$5","v":"Senior"},{"$f":"Race1307!B$4","v":"OC1"},{"$f":"Race1307!E$5","v":"Women"},{"$f":"Race1307!D$5","v":"Open"},{"$f":"Race1307!D$4","v":"Marathon"},{"$f":"Race1307!A$26","v":19},{"$f":"Race1307!D$26","v":0},{"$f":"Race1307!C$26","v":0},{"$f":"Race1307!F$26","v":1}]
[null,{"$f":"Race1307!B$5","v":"Senior"},{"$f":"Race1307!B$4","v":"OC1"},{"$f":"Race1307!E$5","v":"Women"},{"$f":"Race1307!D$5","v":"Open"},{"$f":"Race1307!D$4","v":"Marathon"},{"$f":"Race1307!A$27","v":20},{"$f":"Race1307!D$27","v":0},{"$f":"Race1307!C$27","v":0},{"$f":"Race1307!F$27","v":1}]
[null,{"$f":"Race1307!B$5","v":"Senior"},{"$f":"Race1307!B$4","v":"OC1"},{"$f":"Race1307!E$5","v":"Women"},{"$f":"Race1307!D$5","v":"Open"},{"$f":"Race1307!D$4","v":"Marathon"},{"$f":"Race1307!A$28","v":21},{"$f":"Race1307!D$28","v":0},{"$f":"Race1307!C$28","v":0},{"$f":"Race1307!F$28","v":1}]
[null,{"$f":"Race1307!B$5","v":"Senior"},{"$f":"Race1307!B$4","v":"OC1"},{"$f":"Race1307!E$5","v":"Women"},{"$f":"Race1307!D$5","v":"Open"},{"$f":"Race1307!D$4","v":"Marathon"},{"$f":"Race1307!A$29","v":22},{"$f":"Race1307!D$29","v":0},{"$f":"Race1307!C$29","v":0},{"$f":"Race1307!F$29","v":1}]
[null,{"$f":"Race1307!B$5","v":"Senior"},{"$f":"Race1307!B$4","v":"OC1"},{"$f":"Race1307!E$5","v":"Women"},{"$f":"Race1307!D$5","v":"Open"},{"$f":"Race1307!D$4","v":"Marathon"},{"$f":"Race1307!A$30","v":23},{"$f":"Race1307!D$30","v":0},{"$f":"Race1307!C$30","v":0},{"$f":"Race1307!F$30","v":1}]
[null,{"$f":"Race1307!B$5","v":"Senior"},{"$f":"Race1307!B$4","v":"OC1"},{"$f":"Race1307!E$5","v":"Women"},{"$f":"Race1307!D$5","v":"Open"},{"$f":"Race1307!D$4","v":"Marathon"},{"$f":"Race1307!A$31","v":24},{"$f":"Race1307!D$31","v":0},{"$f":"Race1307!C$31","v":0},{"$f":"Race1307!F$31","v":1}]
[null,{"$f":"Race1307!B$5","v":"Senior"},{"$f":"Race1307!B$4","v":"OC1"},{"$f":"Race1307!E$5","v":"Women"},{"$f":"Race1307!D$5","v":"Open"},{"$f":"Race1307!D$4","v":"Marathon"},{"$f":"Race1307!A$32","v":25},{"$f":"Race1307!D$32","v":0},{"$f":"Race1307!C$32","v":0},{"$f":"Race1307!F$32","v":1}]
[null,{"$f":"Race1307!B$5","v":"Senior"},{"$f":"Race1307!B$4","v":"OC1"},{"$f":"Race1307!E$5","v":"Women"},{"$f":"Race1307!D$5","v":"Open"},{"$f":"Race1307!D$4","v":"Marathon"},{"$f":"Race1307!A$33","v":26},{"$f":"Race1307!D$33","v":0},{"$f":"Race1307!C$33","v":0},{"$f":"Race1307!F$33","v":1}]
[null,{"$f":"Race1307!B$5","v":"Senior"},{"$f":"Race1307!B$4","v":"OC1"},{"$f":"Race1307!E$5","v":"Women"},{"$f":"Race1307!D$5","v":"Open"},{"$f":"Race1307!D$4","v":"Marathon"},{"$f":"Race1307!A$34","v":27},{"$f":"Race1307!D$34","v":0},{"$f":"Race1307!C$34","v":0},{"$f":"Race1307!F$34","v":1}]
[null,{"$f":"Race1307!B$5","v":"Senior"},{"$f":"Race1307!B$4","v":"OC1"},{"$f":"Race1307!E$5","v":"Women"},{"$f":"Race1307!D$5","v":"Open"},{"$f":"Race1307!D$4","v":"Marathon"},{"$f":"Race1307!A$35","v":28},{"$f":"Race1307!D$35","v":0},{"$f":"Race1307!C$35","v":0},{"$f":"Race1307!F$35","v":1}]
[null,{"$f":"Race1307!B$5","v":"Senior"},{"$f":"Race1307!B$4","v":"OC1"},{"$f":"Race1307!E$5","v":"Women"},{"$f":"Race1307!D$5","v":"Open"},{"$f":"Race1307!D$4","v":"Marathon"},{"$f":"Race1307!A$36","v":29},{"$f":"Race1307!D$36","v":0},{"$f":"Race1307!C$36","v":0},{"$f":"Race1307!F$36","v":1}]
[null,{"$f":"Race1307!B$5","v":"Senior"},{"$f":"Race1307!B$4","v":"OC1"},{"$f":"Race1307!E$5","v":"Women"},{"$f":"Race1307!D$5","v":"Open"},{"$f":"Race1307!D$4","v":"Marathon"},{"$f":"Race1307!A$37","v":30},{"$f":"Race1307!D$37","v":0},{"$f":"Race1307!C$37","v":0},{"$f":"Race1307!F$37","v":1}]
[null,{"$f":"Race1307!B$5","v":"Senior"},{"$f":"Race1307!B$4","v":"OC1"},{"$f":"Race1307!E$5","v":"Women"},{"$f":"Race1307!D$5","v":"Open"},{"$f":"Race1307!D$4","v":"Marathon"},{"$f":"Race1307!A$38","v":31},{"$f":"Race1307!D$38","v":0},{"$f":"Race1307!C$38","v":0},{"$f":"Race1307!F$38","v":1}]
[null,{"$f":"Race1307!B$5","v":"Senior"},{"$f":"Race1307!B$4","v":"OC1"},{"$f":"Race1307!E$5","v":"Women"},{"$f":"Race1307!D$5","v":"Open"},{"$f":"Race1307!D$4","v":"Marathon"},{"$f":"Race1307!A$39","v":32},{"$f":"Race1307!D$39","v":0},{"$f":"Race1307!C$39","v":0},{"$f":"Race1307!F$39","v":1}]
[null,{"$f":"Race1307!B$5","v":"Senior"},{"$f":"Race1307!B$4","v":"OC1"},{"$f":"Race1307!E$5","v":"Women"},{"$f":"Race1307!D$5","v":"Open"},{"$f":"Race1307!D$4","v":"Marathon"},{"$f":"Race1307!A$40","v":33},{"$f":"Race1307!D$40","v":0},{"$f":"Race1307!C$40","v":0},{"$f":"Race1307!F$40","v":1}]
[null,{"$f":"Race1307!B$5","v":"Senior"},{"$f":"Race1307!B$4","v":"OC1"},{"$f":"Race1307!E$5","v":"Women"},{"$f":"Race1307!D$5","v":"Open"},{"$f":"Race1307!D$4","v":"Marathon"},{"$f":"Race1307!A$41","v":34},{"$f":"Race1307!D$41","v":0},{"$f":"Race1307!C$41","v":0},{"$f":"Race1307!F$41","v":1}]
[null,{"$f":"Race1307!B$5","v":"Senior"},{"$f":"Race1307!B$4","v":"OC1"},{"$f":"Race1307!E$5","v":"Women"},{"$f":"Race1307!D$5","v":"Open"},{"$f":"Race1307!D$4","v":"Marathon"},{"$f":"Race1307!A$42","v":35},{"$f":"Race1307!D$42","v":0},{"$f":"Race1307!C$42","v":0},{"$f":"Race1307!F$42","v":1}]
[null,{"$f":"Race1307!B$5","v":"Senior"},{"$f":"Race1307!B$4","v":"OC1"},{"$f":"Race1307!E$5","v":"Women"},{"$f":"Race1307!D$5","v":"Open"},{"$f":"Race1307!D$4","v":"Marathon"},{"$f":"Race1307!A$43","v":36},{"$f":"Race1307!D$43","v":0},{"$f":"Race1307!C$43","v":0},{"$f":"Race1307!F$43","v":1}]
[null,{"$f":"Race1307!B$5","v":"Senior"},{"$f":"Race1307!B$4","v":"OC1"},{"$f":"Race1307!E$5","v":"Women"},{"$f":"Race1307!D$5","v":"Open"},{"$f":"Race1307!D$4","v":"Marathon"},{"$f":"Race1307!A$44","v":37},{"$f":"Race1307!D$44","v":0},{"$f":"Race1307!C$44","v":0},{"$f":"Race1307!F$44","v":1}]
[null,{"$f":"Race1307!B$5","v":"Senior"},{"$f":"Race1307!B$4","v":"OC1"},{"$f":"Race1307!E$5","v":"Women"},{"$f":"Race1307!D$5","v":"Open"},{"$f":"Race1307!D$4","v":"Marathon"},{"$f":"Race1307!A$45","v":38},{"$f":"Race1307!D$45","v":0},{"$f":"Race1307!C$45","v":0},{"$f":"Race1307!F$45","v":1}]
[null,{"$f":"Race1307!B$5","v":"Senior"},{"$f":"Race1307!B$4","v":"OC1"},{"$f":"Race1307!E$5","v":"Women"},{"$f":"Race1307!D$5","v":"Open"},{"$f":"Race1307!D$4","v":"Marathon"},{"$f":"Race1307!A$46","v":39},{"$f":"Race1307!D$46","v":0},{"$f":"Race1307!C$46","v":0},{"$f":"Race1307!F$46","v":1}]
[null,{"$f":"Race1307!B$5","v":"Senior"},{"$f":"Race1307!B$4","v":"OC1"},{"$f":"Race1307!E$5","v":"Women"},{"$f":"Race1307!D$5","v":"Open"},{"$f":"Race1307!D$4","v":"Marathon"},{"$f":"Race1307!A$47","v":40},{"$f":"Race1307!D$47","v":0},{"$f":"Race1307!C$47","v":0},{"$f":"Race1307!F$47","v":1}]
[null,{"$f":"Race1307!B$5","v":"Senior"},{"$f":"Race1307!B$4","v":"OC1"},{"$f":"Race1307!E$5","v":"Women"},{"$f":"Race1307!D$5","v":"Open"},{"$f":"Race1307!D$4","v":"Marathon"},{"$f":"Race1307!A$48","v":41},{"$f":"Race1307!D$48","v":0},{"$f":"Race1307!C$48","v":0},{"$f":"Race1307!F$48","v":1}]
[null,{"$f":"Race1307!B$5","v":"Senior"},{"$f":"Race1307!B$4","v":"OC1"},{"$f":"Race1307!E$5","v":"Women"},{"$f":"Race1307!D$5","v":"Open"},{"$f":"Race1307!D$4","v":"Marathon"},{"$f":"Race1307!A$49","v":42},{"$f":"Race1307!D$49","v":0},{"$f":"Race1307!C$49","v":0},{"$f":"Race1307!F$49","v":1}]
[null,{"$f":"Race1307!B$5","v":"Senior"},{"$f":"Race1307!B$4","v":"OC1"},{"$f":"Race1307!E$5","v":"Women"},{"$f":"Race1307!D$5","v":"Open"},{"$f":"Race1307!D$4","v":"Marathon"},{"$f":"Race1307!A$50","v":43},{"$f":"Race1307!D$50","v":0},{"$f":"Race1307!C$50","v":0},{"$f":"Race1307!F$50","v":1}]
[null,{"$f":"Race1307!B$5","v":"Senior"},{"$f":"Race1307!B$4","v":"OC1"},{"$f":"Race1307!E$5","v":"Women"},{"$f":"Race1307!D$5","v":"Open"},{"$f":"Race1307!D$4","v":"Marathon"},{"$f":"Race1307!A$51","v":44},{"$f":"Race1307!D$51","v":0},{"$f":"Race1307!C$51","v":0},{"$f":"Race1307!F$51","v":1}]
[null,{"$f":"Race1307!B$5","v":"Senior"},{"$f":"Race1307!B$4","v":"OC1"},{"$f":"Race1307!E$5","v":"Women"},{"$f":"Race1307!D$5","v":"Open"},{"$f":"Race1307!D$4","v":"Marathon"},{"$f":"Race1307!A$52","v":45},{"$f":"Race1307!D$52","v":0},{"$f":"Race1307!C$52","v":0},{"$f":"Race1307!F$52","v":1}]
[null,{"$f":"Race1307!B$5","v":"Senior"},{"$f":"Race1307!B$4","v":"OC1"},{"$f":"Race1307!E$5","v":"Women"},{"$f":"Race1307!D$5","v":"Open"},{"$f":"Race1307!D$4","v":"Marathon"},{"$f":"Race1307!A$53","v":46},{"$f":"Race1307!D$53","v":0},{"$f":"Race1307!C$53","v":0},{"$f":"Race1307!F$53","v":1}]
[null,{"$f":"Race1307!B$5","v":"Senior"},{"$f":"Race1307!B$4","v":"OC1"},{"$f":"Race1307!E$5","v":"Women"},{"$f":"Race1307!D$5","v":"Open"},{"$f":"Race1307!D$4","v":"Marathon"},{"$f":"Race1307!A$54","v":47},{"$f":"Race1307!D$54","v":0},{"$f":"Race1307!C$54","v":0},{"$f":"Race1307!F$54","v":1}]
[null,{"$f":"Race1307!B$5","v":"Senior"},{"$f":"Race1307!B$4","v":"OC1"},{"$f":"Race1307!E$5","v":"Women"},{"$f":"Race1307!D$5","v":"Open"},{"$f":"Race1307!D$4","v":"Marathon"},{"$f":"Race1307!A$55","v":48},{"$f":"Race1307!D$55","v":0},{"$f":"Race1307!C$55","v":0},{"$f":"Race1307!F$55","v":1}]
[null,{"$f":"Race1307!B$5","v":"Senior"},{"$f":"Race1307!B$4","v":"OC1"},{"$f":"Race1307!E$5","v":"Women"},{"$f":"Race1307!D$5","v":"Open"},{"$f":"Race1307!D$4","v":"Marathon"},{"$f":"Race1307!A$56","v":49},{"$f":"Race1307!D$56","v":0},{"$f":"Race1307!C$56","v":0},{"$f":"Race1307!F$56","v":1}]
[null,{"$f":"Race1307!B$5","v":"Senior"},{"$f":"Race1307!B$4","v":"OC1"},{"$f":"Race1307!E$5","v":"Women"},{"$f":"Race1307!D$5","v":"Open"},{"$f":"Race1307!D$4","v":"Marathon"},{"$f":"Race1307!A$57","v":50},{"$f":"Race1307!D$57","v":0},{"$f":"Race1307!C$57","v":0},{"$f":"Race1307!F$57","v":1}]
["Race1308",{"$f":"Race1308!B$5","v":"Senior"},{"$f":"Race1308!B$4","v":"OC1"},{"$f":"Race1308!E$5","v":"Women"},{"$f":"Race1308!D$5","v":"Masters"},{"$f":"Race1308!D$4","v":"Marathon"},{"$f":"Race1308!A$8","v":1},{"$f":"Race1308!D$8","v":0},{"$f":"Race1308!C$8","v":0},{"$f":"Race1308!F$8","v":9}]
[null,{"$f":"Race1308!B$5","v":"Senior"},{"$f":"Race1308!B$4","v":"OC1"},{"$f":"Race1308!E$5","v":"Women"},{"$f":"Race1308!D$5","v":"Masters"},{"$f":"Race1308!D$4","v":"Marathon"},{"$f":"Race1308!A$9","v":2},{"$f":"Race1308!D$9","v":0},{"$f":"Race1308!C$9","v":0},{"$f":"Race1308!F$9","v":7}]
[null,{"$f":"Race1308!B$5","v":"Senior"},{"$f":"Race1308!B$4","v":"OC1"},{"$f":"Race1308!E$5","v":"Women"},{"$f":"Race1308!D$5","v":"Masters"},{"$f":"Race1308!D$4","v":"Marathon"},{"$f":"Race1308!A$10","v":3},{"$f":"Race1308!D$10","v":0},{"$f":"Race1308!C$10","v":0},{"$f":"Race1308!F$10","v":5}]
[null,{"$f":"Race1308!B$5","v":"Senior"},{"$f":"Race1308!B$4","v":"OC1"},{"$f":"Race1308!E$5","v":"Women"},{"$f":"Race1308!D$5","v":"Masters"},{"$f":"Race1308!D$4","v":"Marathon"},{"$f":"Race1308!A$11","v":4},{"$f":"Race1308!D$11","v":0},{"$f":"Race1308!C$11","v":0},{"$f":"Race1308!F$11","v":3}]
[null,{"$f":"Race1308!B$5","v":"Senior"},{"$f":"Race1308!B$4","v":"OC1"},{"$f":"Race1308!E$5","v":"Women"},{"$f":"Race1308!D$5","v":"Masters"},{"$f":"Race1308!D$4","v":"Marathon"},{"$f":"Race1308!A$12","v":5},{"$f":"Race1308!D$12","v":0},{"$f":"Race1308!C$12","v":0},{"$f":"Race1308!F$12","v":2}]
[null,{"$f":"Race1308!B$5","v":"Senior"},{"$f":"Race1308!B$4","v":"OC1"},{"$f":"Race1308!E$5","v":"Women"},{"$f":"Race1308!D$5","v":"Masters"},{"$f":"Race1308!D$4","v":"Marathon"},{"$f":"Race1308!A$13","v":6},{"$f":"Race1308!D$13","v":0},{"$f":"Race1308!C$13","v":0},{"$f":"Race1308!F$13","v":1}]
[null,{"$f":"Race1308!B$5","v":"Senior"},{"$f":"Race1308!B$4","v":"OC1"},{"$f":"Race1308!E$5","v":"Women"},{"$f":"Race1308!D$5","v":"Masters"},{"$f":"Race1308!D$4","v":"Marathon"},{"$f":"Race1308!A$14","v":7},{"$f":"Race1308!D$14","v":0},{"$f":"Race1308!C$14","v":0},{"$f":"Race1308!F$14","v":1}]
[null,{"$f":"Race1308!B$5","v":"Senior"},{"$f":"Race1308!B$4","v":"OC1"},{"$f":"Race1308!E$5","v":"Women"},{"$f":"Race1308!D$5","v":"Masters"},{"$f":"Race1308!D$4","v":"Marathon"},{"$f":"Race1308!A$15","v":8},{"$f":"Race1308!D$15","v":0},{"$f":"Race1308!C$15","v":0},{"$f":"Race1308!F$15","v":1}]
[null,{"$f":"Race1308!B$5","v":"Senior"},{"$f":"Race1308!B$4","v":"OC1"},{"$f":"Race1308!E$5","v":"Women"},{"$f":"Race1308!D$5","v":"Masters"},{"$f":"Race1308!D$4","v":"Marathon"},{"$f":"Race1308!A$16","v":9},{"$f":"Race1308!D$16","v":0},{"$f":"Race1308!C$16","v":0},{"$f":"Race1308!F$16","v":1}]
[null,{"$f":"Race1308!B$5","v":"Senior"},{"$f":"Race1308!B$4","v":"OC1"},{"$f":"Race1308!E$5","v":"Women"},{"$f":"Race1308!D$5","v":"Masters"},{"$f":"Race1308!D$4","v":"Marathon"},{"$f":"Race1308!A$17","v":10},{"$f":"Race1308!D$17","v":0},{"$f":"Race1308!C$17","v":0},{"$f":"Race1308!F$17","v":1}]
[null,{"$f":"Race1308!B$5","v":"Senior"},{"$f":"Race1308!B$4","v":"OC1"},{"$f":"Race1308!E$5","v":"Women"},{"$f":"Race1308!D$5","v":"Masters"},{"$f":"Race1308!D$4","v":"Marathon"},{"$f":"Race1308!A$18","v":11},{"$f":"Race1308!D$18","v":0},{"$f":"Race1308!C$18","v":0},{"$f":"Race1308!F$18","v":1}]
[null,{"$f":"Race1308!B$5","v":"Senior"},{"$f":"Race1308!B$4","v":"OC1"},{"$f":"Race1308!E$5","v":"Women"},{"$f":"Race1308!D$5","v":"Masters"},{"$f":"Race1308!D$4","v":"Marathon"},{"$f":"Race1308!A$19","v":12},{"$f":"Race1308!D$19","v":0},{"$f":"Race1308!C$19","v":0},{"$f":"Race1308!F$19","v":1}]
[null,{"$f":"Race1308!B$5","v":"Senior"},{"$f":"Race1308!B$4","v":"OC1"},{"$f":"Race1308!E$5","v":"Women"},{"$f":"Race1308!D$5","v":"Masters"},{"$f":"Race1308!D$4","v":"Marathon"},{"$f":"Race1308!A$20","v":13},{"$f":"Race1308!D$20","v":0},{"$f":"Race1308!C$20","v":0},{"$f":"Race1308!F$20","v":1}]
[null,{"$f":"Race1308!B$5","v":"Senior"},{"$f":"Race1308!B$4","v":"OC1"},{"$f":"Race1308!E$5","v":"Women"},{"$f":"Race1308!D$5","v":"Masters"},{"$f":"Race1308!D$4","v":"Marathon"},{"$f":"Race1308!A$21","v":14},{"$f":"Race1308!D$21","v":0},{"$f":"Race1308!C$21","v":0},{"$f":"Race1308!F$21","v":1}]
[null,{"$f":"Race1308!B$5","v":"Senior"},{"$f":"Race1308!B$4","v":"OC1"},{"$f":"Race1308!E$5","v":"Women"},{"$f":"Race1308!D$5","v":"Masters"},{"$f":"Race1308!D$4","v":"Marathon"},{"$f":"Race1308!A$22","v":15},{"$f":"Race1308!D$22","v":0},{"$f":"Race1308!C$22","v":0},{"$f":"Race1308!F$22","v":1}]
[null,{"$f":"Race1308!B$5","v":"Senior"},{"$f":"Race1308!B$4","v":"OC1"},{"$f":"Race1308!E$5","v":"Women"},{"$f":"Race1308!D$5","v":"Masters"},{"$f":"Race1308!D$4","v":"Marathon"},{"$f":"Race1308!A$23","v":16},{"$f":"Race1308!D$23","v":0},{"$f":"Race1308!C$23","v":0},{"$f":"Race1308!F$23","v":1}]
[null,{"$f":"Race1308!B$5","v":"Senior"},{"$f":"Race1308!B$4","v":"OC1"},{"$f":"Race1308!E$5","v":"Women"},{"$f":"Race1308!D$5","v":"Masters"},{"$f":"Race1308!D$4","v":"Marathon"},{"$f":"Race1308!A$24","v":17},{"$f":"Race1308!D$24","v":0},{"$f":"Race1308!C$24","v":0},{"$f":"Race1308!F$24","v":1}]
[null,{"$f":"Race1308!B$5","v":"Senior"},{"$f":"Race1308!B$4","v":"OC1"},{"$f":"Race1308!E$5","v":"Women"},{"$f":"Race1308!D$5","v":"Masters"},{"$f":"Race1308!D$4","v":"Marathon"},{"$f":"Race1308!A$25","v":18},{"$f":"Race1308!D$25","v":0},{"$f":"Race1308!C$25","v":0},{"$f":"Race1308!F$25","v":1}]
[null,{"$f":"Race1308!B$5","v":"Senior"},{"$f":"Race1308!B$4","v":"OC1"},{"$f":"Race1308!E$5","v":"Women"},{"$f":"Race1308!D$5","v":"Masters"},{"$f":"Race1308!D$4","v":"Marathon"},{"$f":"Race1308!A$26","v":19},{"$f":"Race1308!D$26","v":0},{"$f":"Race1308!C$26","v":0},{"$f":"Race1308!F$26","v":1}]
[null,{"$f":"Race1308!B$5","v":"Senior"},{"$f":"Race1308!B$4","v":"OC1"},{"$f":"Race1308!E$5","v":"Women"},{"$f":"Race1308!D$5","v":"Masters"},{"$f":"Race1308!D$4","v":"Marathon"},{"$f":"Race1308!A$27","v":20},{"$f":"Race1308!D$27","v":0},{"$f":"Race1308!C$27","v":0},{"$f":"Race1308!F$27","v":1}]
[null,{"$f":"Race1308!B$5","v":"Senior"},{"$f":"Race1308!B$4","v":"OC1"},{"$f":"Race1308!E$5","v":"Women"},{"$f":"Race1308!D$5","v":"Masters"},{"$f":"Race1308!D$4","v":"Marathon"},{"$f":"Race1308!A$28","v":21},{"$f":"Race1308!D$28","v":0},{"$f":"Race1308!C$28","v":0},{"$f":"Race1308!F$28","v":1}]
[null,{"$f":"Race1308!B$5","v":"Senior"},{"$f":"Race1308!B$4","v":"OC1"},{"$f":"Race1308!E$5","v":"Women"},{"$f":"Race1308!D$5","v":"Masters"},{"$f":"Race1308!D$4","v":"Marathon"},{"$f":"Race1308!A$29","v":22},{"$f":"Race1308!D$29","v":0},{"$f":"Race1308!C$29","v":0},{"$f":"Race1308!F$29","v":1}]
[null,{"$f":"Race1308!B$5","v":"Senior"},{"$f":"Race1308!B$4","v":"OC1"},{"$f":"Race1308!E$5","v":"Women"},{"$f":"Race1308!D$5","v":"Masters"},{"$f":"Race1308!D$4","v":"Marathon"},{"$f":"Race1308!A$30","v":23},{"$f":"Race1308!D$30","v":0},{"$f":"Race1308!C$30","v":0},{"$f":"Race1308!F$30","v":1}]
[null,{"$f":"Race1308!B$5","v":"Senior"},{"$f":"Race1308!B$4","v":"OC1"},{"$f":"Race1308!E$5","v":"Women"},{"$f":"Race1308!D$5","v":"Masters"},{"$f":"Race1308!D$4","v":"Marathon"},{"$f":"Race1308!A$31","v":24},{"$f":"Race1308!D$31","v":0},{"$f":"Race1308!C$31","v":0},{"$f":"Race1308!F$31","v":1}]
[null,{"$f":"Race1308!B$5","v":"Senior"},{"$f":"Race1308!B$4","v":"OC1"},{"$f":"Race1308!E$5","v":"Women"},{"$f":"Race1308!D$5","v":"Masters"},{"$f":"Race1308!D$4","v":"Marathon"},{"$f":"Race1308!A$32","v":25},{"$f":"Race1308!D$32","v":0},{"$f":"Race1308!C$32","v":0},{"$f":"Race1308!F$32","v":1}]
[null,{"$f":"Race1308!B$5","v":"Senior"},{"$f":"Race1308!B$4","v":"OC1"},{"$f":"Race1308!E$5","v":"Women"},{"$f":"Race1308!D$5","v":"Masters"},{"$f":"Race1308!D$4","v":"Marathon"},{"$f":"Race1308!A$33","v":26},{"$f":"Race1308!D$33","v":0},{"$f":"Race1308!C$33","v":0},{"$f":"Race1308!F$33","v":1}]
[null,{"$f":"Race1308!B$5","v":"Senior"},{"$f":"Race1308!B$4","v":"OC1"},{"$f":"Race1308!E$5","v":"Women"},{"$f":"Race1308!D$5","v":"Masters"},{"$f":"Race1308!D$4","v":"Marathon"},{"$f":"Race1308!A$34","v":27},{"$f":"Race1308!D$34","v":0},{"$f":"Race1308!C$34","v":0},{"$f":"Race1308!F$34","v":1}]
[null,{"$f":"Race1308!B$5","v":"Senior"},{"$f":"Race1308!B$4","v":"OC1"},{"$f":"Race1308!E$5","v":"Women"},{"$f":"Race1308!D$5","v":"Masters"},{"$f":"Race1308!D$4","v":"Marathon"},{"$f":"Race1308!A$35","v":28},{"$f":"Race1308!D$35","v":0},{"$f":"Race1308!C$35","v":0},{"$f":"Race1308!F$35","v":1}]
[null,{"$f":"Race1308!B$5","v":"Senior"},{"$f":"Race1308!B$4","v":"OC1"},{"$f":"Race1308!E$5","v":"Women"},{"$f":"Race1308!D$5","v":"Masters"},{"$f":"Race1308!D$4","v":"Marathon"},{"$f":"Race1308!A$36","v":29},{"$f":"Race1308!D$36","v":0},{"$f":"Race1308!C$36","v":0},{"$f":"Race1308!F$36","v":1}]
[null,{"$f":"Race1308!B$5","v":"Senior"},{"$f":"Race1308!B$4","v":"OC1"},{"$f":"Race1308!E$5","v":"Women"},{"$f":"Race1308!D$5","v":"Masters"},{"$f":"Race1308!D$4","v":"Marathon"},{"$f":"Race1308!A$37","v":30},{"$f":"Race1308!D$37","v":0},{"$f":"Race1308!C$37","v":0},{"$f":"Race1308!F$37","v":1}]
[null,{"$f":"Race1308!B$5","v":"Senior"},{"$f":"Race1308!B$4","v":"OC1"},{"$f":"Race1308!E$5","v":"Women"},{"$f":"Race1308!D$5","v":"Masters"},{"$f":"Race1308!D$4","v":"Marathon"},{"$f":"Race1308!A$38","v":31},{"$f":"Race1308!D$38","v":0},{"$f":"Race1308!C$38","v":0},{"$f":"Race1308!F$38","v":1}]
[null,{"$f":"Race1308!B$5","v":"Senior"},{"$f":"Race1308!B$4","v":"OC1"},{"$f":"Race1308!E$5","v":"Women"},{"$f":"Race1308!D$5","v":"Masters"},{"$f":"Race1308!D$4","v":"Marathon"},{"$f":"Race1308!A$39","v":32},{"$f":"Race1308!D$39","v":0},{"$f":"Race1308!C$39","v":0},{"$f":"Race1308!F$39","v":1}]
[null,{"$f":"Race1308!B$5","v":"Senior"},{"$f":"Race1308!B$4","v":"OC1"},{"$f":"Race1308!E$5","v":"Women"},{"$f":"Race1308!D$5","v":"Masters"},{"$f":"Race1308!D$4","v":"Marathon"},{"$f":"Race1308!A$40","v":33},{"$f":"Race1308!D$40","v":0},{"$f":"Race1308!C$40","v":0},{"$f":"Race1308!F$40","v":1}]
[null,{"$f":"Race1308!B$5","v":"Senior"},{"$f":"Race1308!B$4","v":"OC1"},{"$f":"Race1308!E$5","v":"Women"},{"$f":"Race1308!D$5","v":"Masters"},{"$f":"Race1308!D$4","v":"Marathon"},{"$f":"Race1308!A$41","v":34},{"$f":"Race1308!D$41","v":0},{"$f":"Race1308!C$41","v":0},{"$f":"Race1308!F$41","v":1}]
[null,{"$f":"Race1308!B$5","v":"Senior"},{"$f":"Race1308!B$4","v":"OC1"},{"$f":"Race1308!E$5","v":"Women"},{"$f":"Race1308!D$5","v":"Masters"},{"$f":"Race1308!D$4","v":"Marathon"},{"$f":"Race1308!A$42","v":35},{"$f":"Race1308!D$42","v":0},{"$f":"Race1308!C$42","v":0},{"$f":"Race1308!F$42","v":1}]
[null,{"$f":"Race1308!B$5","v":"Senior"},{"$f":"Race1308!B$4","v":"OC1"},{"$f":"Race1308!E$5","v":"Women"},{"$f":"Race1308!D$5","v":"Masters"},{"$f":"Race1308!D$4","v":"Marathon"},{"$f":"Race1308!A$43","v":36},{"$f":"Race1308!D$43","v":0},{"$f":"Race1308!C$43","v":0},{"$f":"Race1308!F$43","v":1}]
[null,{"$f":"Race1308!B$5","v":"Senior"},{"$f":"Race1308!B$4","v":"OC1"},{"$f":"Race1308!E$5","v":"Women"},{"$f":"Race1308!D$5","v":"Masters"},{"$f":"Race1308!D$4","v":"Marathon"},{"$f":"Race1308!A$44","v":37},{"$f":"Race1308!D$44","v":0},{"$f":"Race1308!C$44","v":0},{"$f":"Race1308!F$44","v":1}]
[null,{"$f":"Race1308!B$5","v":"Senior"},{"$f":"Race1308!B$4","v":"OC1"},{"$f":"Race1308!E$5","v":"Women"},{"$f":"Race1308!D$5","v":"Masters"},{"$f":"Race1308!D$4","v":"Marathon"},{"$f":"Race1308!A$45","v":38},{"$f":"Race1308!D$45","v":0},{"$f":"Race1308!C$45","v":0},{"$f":"Race1308!F$45","v":1}]
[null,{"$f":"Race1308!B$5","v":"Senior"},{"$f":"Race1308!B$4","v":"OC1"},{"$f":"Race1308!E$5","v":"Women"},{"$f":"Race1308!D$5","v":"Masters"},{"$f":"Race1308!D$4","v":"Marathon"},{"$f":"Race1308!A$46","v":39},{"$f":"Race1308!D$46","v":0},{"$f":"Race1308!C$46","v":0},{"$f":"Race1308!F$46","v":1}]
[null,{"$f":"Race1308!B$5","v":"Senior"},{"$f":"Race1308!B$4","v":"OC1"},{"$f":"Race1308!E$5","v":"Women"},{"$f":"Race1308!D$5","v":"Masters"},{"$f":"Race1308!D$4","v":"Marathon"},{"$f":"Race1308!A$47","v":40},{"$f":"Race1308!D$47","v":0},{"$f":"Race1308!C$47","v":0},{"$f":"Race1308!F$47","v":1}]
[null,{"$f":"Race1308!B$5","v":"Senior"},{"$f":"Race1308!B$4","v":"OC1"},{"$f":"Race1308!E$5","v":"Women"},{"$f":"Race1308!D$5","v":"Masters"},{"$f":"Race1308!D$4","v":"Marathon"},{"$f":"Race1308!A$48","v":41},{"$f":"Race1308!D$48","v":0},{"$f":"Race1308!C$48","v":0},{"$f":"Race1308!F$48","v":1}]
[null,{"$f":"Race1308!B$5","v":"Senior"},{"$f":"Race1308!B$4","v":"OC1"},{"$f":"Race1308!E$5","v":"Women"},{"$f":"Race1308!D$5","v":"Masters"},{"$f":"Race1308!D$4","v":"Marathon"},{"$f":"Race1308!A$49","v":42},{"$f":"Race1308!D$49","v":0},{"$f":"Race1308!C$49","v":0},{"$f":"Race1308!F$49","v":1}]
[null,{"$f":"Race1308!B$5","v":"Senior"},{"$f":"Race1308!B$4","v":"OC1"},{"$f":"Race1308!E$5","v":"Women"},{"$f":"Race1308!D$5","v":"Masters"},{"$f":"Race1308!D$4","v":"Marathon"},{"$f":"Race1308!A$50","v":43},{"$f":"Race1308!D$50","v":0},{"$f":"Race1308!C$50","v":0},{"$f":"Race1308!F$50","v":1}]
[null,{"$f":"Race1308!B$5","v":"Senior"},{"$f":"Race1308!B$4","v":"OC1"},{"$f":"Race1308!E$5","v":"Women"},{"$f":"Race1308!D$5","v":"Masters"},{"$f":"Race1308!D$4","v":"Marathon"},{"$f":"Race1308!A$51","v":44},{"$f":"Race1308!D$51","v":0},{"$f":"Race1308!C$51","v":0},{"$f":"Race1308!F$51","v":1}]
[null,{"$f":"Race1308!B$5","v":"Senior"},{"$f":"Race1308!B$4","v":"OC1"},{"$f":"Race1308!E$5","v":"Women"},{"$f":"Race1308!D$5","v":"Masters"},{"$f":"Race1308!D$4","v":"Marathon"},{"$f":"Race1308!A$52","v":45},{"$f":"Race1308!D$52","v":0},{"$f":"Race1308!C$52","v":0},{"$f":"Race1308!F$52","v":1}]
[null,{"$f":"Race1308!B$5","v":"Senior"},{"$f":"Race1308!B$4","v":"OC1"},{"$f":"Race1308!E$5","v":"Women"},{"$f":"Race1308!D$5","v":"Masters"},{"$f":"Race1308!D$4","v":"Marathon"},{"$f":"Race1308!A$53","v":46},{"$f":"Race1308!D$53","v":0},{"$f":"Race1308!C$53","v":0},{"$f":"Race1308!F$53","v":1}]
[null,{"$f":"Race1308!B$5","v":"Senior"},{"$f":"Race1308!B$4","v":"OC1"},{"$f":"Race1308!E$5","v":"Women"},{"$f":"Race1308!D$5","v":"Masters"},{"$f":"Race1308!D$4","v":"Marathon"},{"$f":"Race1308!A$54","v":47},{"$f":"Race1308!D$54","v":0},{"$f":"Race1308!C$54","v":0},{"$f":"Race1308!F$54","v":1}]
[null,{"$f":"Race1308!B$5","v":"Senior"},{"$f":"Race1308!B$4","v":"OC1"},{"$f":"Race1308!E$5","v":"Women"},{"$f":"Race1308!D$5","v":"Masters"},{"$f":"Race1308!D$4","v":"Marathon"},{"$f":"Race1308!A$55","v":48},{"$f":"Race1308!D$55","v":0},{"$f":"Race1308!C$55","v":0},{"$f":"Race1308!F$55","v":1}]
[null,{"$f":"Race1308!B$5","v":"Senior"},{"$f":"Race1308!B$4","v":"OC1"},{"$f":"Race1308!E$5","v":"Women"},{"$f":"Race1308!D$5","v":"Masters"},{"$f":"Race1308!D$4","v":"Marathon"},{"$f":"Race1308!A$56","v":49},{"$f":"Race1308!D$56","v":0},{"$f":"Race1308!C$56","v":0},{"$f":"Race1308!F$56","v":1}]
[null,{"$f":"Race1308!B$5","v":"Senior"},{"$f":"Race1308!B$4","v":"OC1"},{"$f":"Race1308!E$5","v":"Women"},{"$f":"Race1308!D$5","v":"Masters"},{"$f":"Race1308!D$4","v":"Marathon"},{"$f":"Race1308!A$57","v":50},{"$f":"Race1308!D$57","v":0},{"$f":"Race1308!C$57","v":0},{"$f":"Race1308!F$57","v":1}]
["Race1309",{"$f":"Race1309!B$5","v":"Senior"},{"$f":"Race1309!B$4","v":"OC1"},{"$f":"Race1309!E$5","v":"Women"},{"$f":"Race1309!D$5","v":"Senior Masters"},{"$f":"Race1309!D$4","v":"Marathon"},{"$f":"Race1309!A$8","v":1},{"$f":"Race1309!D$8","v":0},{"$f":"Race1309!C$8","v":0},{"$f":"Race1309!F$8","v":9}]
[null,{"$f":"Race1309!B$5","v":"Senior"},{"$f":"Race1309!B$4","v":"OC1"},{"$f":"Race1309!E$5","v":"Women"},{"$f":"Race1309!D$5","v":"Senior Masters"},{"$f":"Race1309!D$4","v":"Marathon"},{"$f":"Race1309!A$9","v":2},{"$f":"Race1309!D$9","v":0},{"$f":"Race1309!C$9","v":0},{"$f":"Race1309!F$9","v":7}]
[null,{"$f":"Race1309!B$5","v":"Senior"},{"$f":"Race1309!B$4","v":"OC1"},{"$f":"Race1309!E$5","v":"Women"},{"$f":"Race1309!D$5","v":"Senior Masters"},{"$f":"Race1309!D$4","v":"Marathon"},{"$f":"Race1309!A$10","v":3},{"$f":"Race1309!D$10","v":0},{"$f":"Race1309!C$10","v":0},{"$f":"Race1309!F$10","v":5}]
[null,{"$f":"Race1309!B$5","v":"Senior"},{"$f":"Race1309!B$4","v":"OC1"},{"$f":"Race1309!E$5","v":"Women"},{"$f":"Race1309!D$5","v":"Senior Masters"},{"$f":"Race1309!D$4","v":"Marathon"},{"$f":"Race1309!A$11","v":4},{"$f":"Race1309!D$11","v":0},{"$f":"Race1309!C$11","v":0},{"$f":"Race1309!F$11","v":3}]
[null,{"$f":"Race1309!B$5","v":"Senior"},{"$f":"Race1309!B$4","v":"OC1"},{"$f":"Race1309!E$5","v":"Women"},{"$f":"Race1309!D$5","v":"Senior Masters"},{"$f":"Race1309!D$4","v":"Marathon"},{"$f":"Race1309!A$12","v":5},{"$f":"Race1309!D$12","v":0},{"$f":"Race1309!C$12","v":0},{"$f":"Race1309!F$12","v":2}]
[null,{"$f":"Race1309!B$5","v":"Senior"},{"$f":"Race1309!B$4","v":"OC1"},{"$f":"Race1309!E$5","v":"Women"},{"$f":"Race1309!D$5","v":"Senior Masters"},{"$f":"Race1309!D$4","v":"Marathon"},{"$f":"Race1309!A$13","v":6},{"$f":"Race1309!D$13","v":0},{"$f":"Race1309!C$13","v":0},{"$f":"Race1309!F$13","v":1}]
[null,{"$f":"Race1309!B$5","v":"Senior"},{"$f":"Race1309!B$4","v":"OC1"},{"$f":"Race1309!E$5","v":"Women"},{"$f":"Race1309!D$5","v":"Senior Masters"},{"$f":"Race1309!D$4","v":"Marathon"},{"$f":"Race1309!A$14","v":7},{"$f":"Race1309!D$14","v":0},{"$f":"Race1309!C$14","v":0},{"$f":"Race1309!F$14","v":1}]
[null,{"$f":"Race1309!B$5","v":"Senior"},{"$f":"Race1309!B$4","v":"OC1"},{"$f":"Race1309!E$5","v":"Women"},{"$f":"Race1309!D$5","v":"Senior Masters"},{"$f":"Race1309!D$4","v":"Marathon"},{"$f":"Race1309!A$15","v":8},{"$f":"Race1309!D$15","v":0},{"$f":"Race1309!C$15","v":0},{"$f":"Race1309!F$15","v":1}]
[null,{"$f":"Race1309!B$5","v":"Senior"},{"$f":"Race1309!B$4","v":"OC1"},{"$f":"Race1309!E$5","v":"Women"},{"$f":"Race1309!D$5","v":"Senior Masters"},{"$f":"Race1309!D$4","v":"Marathon"},{"$f":"Race1309!A$16","v":9},{"$f":"Race1309!D$16","v":0},{"$f":"Race1309!C$16","v":0},{"$f":"Race1309!F$16","v":1}]
[null,{"$f":"Race1309!B$5","v":"Senior"},{"$f":"Race1309!B$4","v":"OC1"},{"$f":"Race1309!E$5","v":"Women"},{"$f":"Race1309!D$5","v":"Senior Masters"},{"$f":"Race1309!D$4","v":"Marathon"},{"$f":"Race1309!A$17","v":10},{"$f":"Race1309!D$17","v":0},{"$f":"Race1309!C$17","v":0},{"$f":"Race1309!F$17","v":1}]
[null,{"$f":"Race1309!B$5","v":"Senior"},{"$f":"Race1309!B$4","v":"OC1"},{"$f":"Race1309!E$5","v":"Women"},{"$f":"Race1309!D$5","v":"Senior Masters"},{"$f":"Race1309!D$4","v":"Marathon"},{"$f":"Race1309!A$18","v":11},{"$f":"Race1309!D$18","v":0},{"$f":"Race1309!C$18","v":0},{"$f":"Race1309!F$18","v":1}]
[null,{"$f":"Race1309!B$5","v":"Senior"},{"$f":"Race1309!B$4","v":"OC1"},{"$f":"Race1309!E$5","v":"Women"},{"$f":"Race1309!D$5","v":"Senior Masters"},{"$f":"Race1309!D$4","v":"Marathon"},{"$f":"Race1309!A$19","v":12},{"$f":"Race1309!D$19","v":0},{"$f":"Race1309!C$19","v":0},{"$f":"Race1309!F$19","v":1}]
[null,{"$f":"Race1309!B$5","v":"Senior"},{"$f":"Race1309!B$4","v":"OC1"},{"$f":"Race1309!E$5","v":"Women"},{"$f":"Race1309!D$5","v":"Senior Masters"},{"$f":"Race1309!D$4","v":"Marathon"},{"$f":"Race1309!A$20","v":13},{"$f":"Race1309!D$20","v":0},{"$f":"Race1309!C$20","v":0},{"$f":"Race1309!F$20","v":1}]
[null,{"$f":"Race1309!B$5","v":"Senior"},{"$f":"Race1309!B$4","v":"OC1"},{"$f":"Race1309!E$5","v":"Women"},{"$f":"Race1309!D$5","v":"Senior Masters"},{"$f":"Race1309!D$4","v":"Marathon"},{"$f":"Race1309!A$21","v":14},{"$f":"Race1309!D$21","v":0},{"$f":"Race1309!C$21","v":0},{"$f":"Race1309!F$21","v":1}]
[null,{"$f":"Race1309!B$5","v":"Senior"},{"$f":"Race1309!B$4","v":"OC1"},{"$f":"Race1309!E$5","v":"Women"},{"$f":"Race1309!D$5","v":"Senior Masters"},{"$f":"Race1309!D$4","v":"Marathon"},{"$f":"Race1309!A$22","v":15},{"$f":"Race1309!D$22","v":0},{"$f":"Race1309!C$22","v":0},{"$f":"Race1309!F$22","v":1}]
[null,{"$f":"Race1309!B$5","v":"Senior"},{"$f":"Race1309!B$4","v":"OC1"},{"$f":"Race1309!E$5","v":"Women"},{"$f":"Race1309!D$5","v":"Senior Masters"},{"$f":"Race1309!D$4","v":"Marathon"},{"$f":"Race1309!A$23","v":16},{"$f":"Race1309!D$23","v":0},{"$f":"Race1309!C$23","v":0},{"$f":"Race1309!F$23","v":1}]
[null,{"$f":"Race1309!B$5","v":"Senior"},{"$f":"Race1309!B$4","v":"OC1"},{"$f":"Race1309!E$5","v":"Women"},{"$f":"Race1309!D$5","v":"Senior Masters"},{"$f":"Race1309!D$4","v":"Marathon"},{"$f":"Race1309!A$24","v":17},{"$f":"Race1309!D$24","v":0},{"$f":"Race1309!C$24","v":0},{"$f":"Race1309!F$24","v":1}]
[null,{"$f":"Race1309!B$5","v":"Senior"},{"$f":"Race1309!B$4","v":"OC1"},{"$f":"Race1309!E$5","v":"Women"},{"$f":"Race1309!D$5","v":"Senior Masters"},{"$f":"Race1309!D$4","v":"Marathon"},{"$f":"Race1309!A$25","v":18},{"$f":"Race1309!D$25","v":0},{"$f":"Race1309!C$25","v":0},{"$f":"Race1309!F$25","v":1}]
[null,{"$f":"Race1309!B$5","v":"Senior"},{"$f":"Race1309!B$4","v":"OC1"},{"$f":"Race1309!E$5","v":"Women"},{"$f":"Race1309!D$5","v":"Senior Masters"},{"$f":"Race1309!D$4","v":"Marathon"},{"$f":"Race1309!A$26","v":19},{"$f":"Race1309!D$26","v":0},{"$f":"Race1309!C$26","v":0},{"$f":"Race1309!F$26","v":1}]
[null,{"$f":"Race1309!B$5","v":"Senior"},{"$f":"Race1309!B$4","v":"OC1"},{"$f":"Race1309!E$5","v":"Women"},{"$f":"Race1309!D$5","v":"Senior Masters"},{"$f":"Race1309!D$4","v":"Marathon"},{"$f":"Race1309!A$27","v":20},{"$f":"Race1309!D$27","v":0},{"$f":"Race1309!C$27","v":0},{"$f":"Race1309!F$27","v":1}]
[null,{"$f":"Race1309!B$5","v":"Senior"},{"$f":"Race1309!B$4","v":"OC1"},{"$f":"Race1309!E$5","v":"Women"},{"$f":"Race1309!D$5","v":"Senior Masters"},{"$f":"Race1309!D$4","v":"Marathon"},{"$f":"Race1309!A$28","v":21},{"$f":"Race1309!D$28","v":0},{"$f":"Race1309!C$28","v":0},{"$f":"Race1309!F$28","v":1}]
[null,{"$f":"Race1309!B$5","v":"Senior"},{"$f":"Race1309!B$4","v":"OC1"},{"$f":"Race1309!E$5","v":"Women"},{"$f":"Race1309!D$5","v":"Senior Masters"},{"$f":"Race1309!D$4","v":"Marathon"},{"$f":"Race1309!A$29","v":22},{"$f":"Race1309!D$29","v":0},{"$f":"Race1309!C$29","v":0},{"$f":"Race1309!F$29","v":1}]
[null,{"$f":"Race1309!B$5","v":"Senior"},{"$f":"Race1309!B$4","v":"OC1"},{"$f":"Race1309!E$5","v":"Women"},{"$f":"Race1309!D$5","v":"Senior Masters"},{"$f":"Race1309!D$4","v":"Marathon"},{"$f":"Race1309!A$30","v":23},{"$f":"Race1309!D$30","v":0},{"$f":"Race1309!C$30","v":0},{"$f":"Race1309!F$30","v":1}]
[null,{"$f":"Race1309!B$5","v":"Senior"},{"$f":"Race1309!B$4","v":"OC1"},{"$f":"Race1309!E$5","v":"Women"},{"$f":"Race1309!D$5","v":"Senior Masters"},{"$f":"Race1309!D$4","v":"Marathon"},{"$f":"Race1309!A$31","v":24},{"$f":"Race1309!D$31","v":0},{"$f":"Race1309!C$31","v":0},{"$f":"Race1309!F$31","v":1}]
[null,{"$f":"Race1309!B$5","v":"Senior"},{"$f":"Race1309!B$4","v":"OC1"},{"$f":"Race1309!E$5","v":"Women"},{"$f":"Race1309!D$5","v":"Senior Masters"},{"$f":"Race1309!D$4","v":"Marathon"},{"$f":"Race1309!A$32","v":25},{"$f":"Race1309!D$32","v":0},{"$f":"Race1309!C$32","v":0},{"$f":"Race1309!F$32","v":1}]
[null,{"$f":"Race1309!B$5","v":"Senior"},{"$f":"Race1309!B$4","v":"OC1"},{"$f":"Race1309!E$5","v":"Women"},{"$f":"Race1309!D$5","v":"Senior Masters"},{"$f":"Race1309!D$4","v":"Marathon"},{"$f":"Race1309!A$33","v":26},{"$f":"Race1309!D$33","v":0},{"$f":"Race1309!C$33","v":0},{"$f":"Race1309!F$33","v":1}]
[null,{"$f":"Race1309!B$5","v":"Senior"},{"$f":"Race1309!B$4","v":"OC1"},{"$f":"Race1309!E$5","v":"Women"},{"$f":"Race1309!D$5","v":"Senior Masters"},{"$f":"Race1309!D$4","v":"Marathon"},{"$f":"Race1309!A$34","v":27},{"$f":"Race1309!D$34","v":0},{"$f":"Race1309!C$34","v":0},{"$f":"Race1309!F$34","v":1}]
[null,{"$f":"Race1309!B$5","v":"Senior"},{"$f":"Race1309!B$4","v":"OC1"},{"$f":"Race1309!E$5","v":"Women"},{"$f":"Race1309!D$5","v":"Senior Masters"},{"$f":"Race1309!D$4","v":"Marathon"},{"$f":"Race1309!A$35","v":28},{"$f":"Race1309!D$35","v":0},{"$f":"Race1309!C$35","v":0},{"$f":"Race1309!F$35","v":1}]
[null,{"$f":"Race1309!B$5","v":"Senior"},{"$f":"Race1309!B$4","v":"OC1"},{"$f":"Race1309!E$5","v":"Women"},{"$f":"Race1309!D$5","v":"Senior Masters"},{"$f":"Race1309!D$4","v":"Marathon"},{"$f":"Race1309!A$36","v":29},{"$f":"Race1309!D$36","v":0},{"$f":"Race1309!C$36","v":0},{"$f":"Race1309!F$36","v":1}]
[null,{"$f":"Race1309!B$5","v":"Senior"},{"$f":"Race1309!B$4","v":"OC1"},{"$f":"Race1309!E$5","v":"Women"},{"$f":"Race1309!D$5","v":"Senior Masters"},{"$f":"Race1309!D$4","v":"Marathon"},{"$f":"Race1309!A$37","v":30},{"$f":"Race1309!D$37","v":0},{"$f":"Race1309!C$37","v":0},{"$f":"Race1309!F$37","v":1}]
[null,{"$f":"Race1309!B$5","v":"Senior"},{"$f":"Race1309!B$4","v":"OC1"},{"$f":"Race1309!E$5","v":"Women"},{"$f":"Race1309!D$5","v":"Senior Masters"},{"$f":"Race1309!D$4","v":"Marathon"},{"$f":"Race1309!A$38","v":31},{"$f":"Race1309!D$38","v":0},{"$f":"Race1309!C$38","v":0},{"$f":"Race1309!F$38","v":1}]
[null,{"$f":"Race1309!B$5","v":"Senior"},{"$f":"Race1309!B$4","v":"OC1"},{"$f":"Race1309!E$5","v":"Women"},{"$f":"Race1309!D$5","v":"Senior Masters"},{"$f":"Race1309!D$4","v":"Marathon"},{"$f":"Race1309!A$39","v":32},{"$f":"Race1309!D$39","v":0},{"$f":"Race1309!C$39","v":0},{"$f":"Race1309!F$39","v":1}]
[null,{"$f":"Race1309!B$5","v":"Senior"},{"$f":"Race1309!B$4","v":"OC1"},{"$f":"Race1309!E$5","v":"Women"},{"$f":"Race1309!D$5","v":"Senior Masters"},{"$f":"Race1309!D$4","v":"Marathon"},{"$f":"Race1309!A$40","v":33},{"$f":"Race1309!D$40","v":0},{"$f":"Race1309!C$40","v":0},{"$f":"Race1309!F$40","v":1}]
[null,{"$f":"Race1309!B$5","v":"Senior"},{"$f":"Race1309!B$4","v":"OC1"},{"$f":"Race1309!E$5","v":"Women"},{"$f":"Race1309!D$5","v":"Senior Masters"},{"$f":"Race1309!D$4","v":"Marathon"},{"$f":"Race1309!A$41","v":34},{"$f":"Race1309!D$41","v":0},{"$f":"Race1309!C$41","v":0},{"$f":"Race1309!F$41","v":1}]
[null,{"$f":"Race1309!B$5","v":"Senior"},{"$f":"Race1309!B$4","v":"OC1"},{"$f":"Race1309!E$5","v":"Women"},{"$f":"Race1309!D$5","v":"Senior Masters"},{"$f":"Race1309!D$4","v":"Marathon"},{"$f":"Race1309!A$42","v":35},{"$f":"Race1309!D$42","v":0},{"$f":"Race1309!C$42","v":0},{"$f":"Race1309!F$42","v":1}]
[null,{"$f":"Race1309!B$5","v":"Senior"},{"$f":"Race1309!B$4","v":"OC1"},{"$f":"Race1309!E$5","v":"Women"},{"$f":"Race1309!D$5","v":"Senior Masters"},{"$f":"Race1309!D$4","v":"Marathon"},{"$f":"Race1309!A$43","v":36},{"$f":"Race1309!D$43","v":0},{"$f":"Race1309!C$43","v":0},{"$f":"Race1309!F$43","v":1}]
[null,{"$f":"Race1309!B$5","v":"Senior"},{"$f":"Race1309!B$4","v":"OC1"},{"$f":"Race1309!E$5","v":"Women"},{"$f":"Race1309!D$5","v":"Senior Masters"},{"$f":"Race1309!D$4","v":"Marathon"},{"$f":"Race1309!A$44","v":37},{"$f":"Race1309!D$44","v":0},{"$f":"Race1309!C$44","v":0},{"$f":"Race1309!F$44","v":1}]
[null,{"$f":"Race1309!B$5","v":"Senior"},{"$f":"Race1309!B$4","v":"OC1"},{"$f":"Race1309!E$5","v":"Women"},{"$f":"Race1309!D$5","v":"Senior Masters"},{"$f":"Race1309!D$4","v":"Marathon"},{"$f":"Race1309!A$45","v":38},{"$f":"Race1309!D$45","v":0},{"$f":"Race1309!C$45","v":0},{"$f":"Race1309!F$45","v":1}]
[null,{"$f":"Race1309!B$5","v":"Senior"},{"$f":"Race1309!B$4","v":"OC1"},{"$f":"Race1309!E$5","v":"Women"},{"$f":"Race1309!D$5","v":"Senior Masters"},{"$f":"Race1309!D$4","v":"Marathon"},{"$f":"Race1309!A$46","v":39},{"$f":"Race1309!D$46","v":0},{"$f":"Race1309!C$46","v":0},{"$f":"Race1309!F$46","v":1}]
[null,{"$f":"Race1309!B$5","v":"Senior"},{"$f":"Race1309!B$4","v":"OC1"},{"$f":"Race1309!E$5","v":"Women"},{"$f":"Race1309!D$5","v":"Senior Masters"},{"$f":"Race1309!D$4","v":"Marathon"},{"$f":"Race1309!A$47","v":40},{"$f":"Race1309!D$47","v":0},{"$f":"Race1309!C$47","v":0},{"$f":"Race1309!F$47","v":1}]
[null,{"$f":"Race1309!B$5","v":"Senior"},{"$f":"Race1309!B$4","v":"OC1"},{"$f":"Race1309!E$5","v":"Women"},{"$f":"Race1309!D$5","v":"Senior Masters"},{"$f":"Race1309!D$4","v":"Marathon"},{"$f":"Race1309!A$48","v":41},{"$f":"Race1309!D$48","v":0},{"$f":"Race1309!C$48","v":0},{"$f":"Race1309!F$48","v":1}]
[null,{"$f":"Race1309!B$5","v":"Senior"},{"$f":"Race1309!B$4","v":"OC1"},{"$f":"Race1309!E$5","v":"Women"},{"$f":"Race1309!D$5","v":"Senior Masters"},{"$f":"Race1309!D$4","v":"Marathon"},{"$f":"Race1309!A$49","v":42},{"$f":"Race1309!D$49","v":0},{"$f":"Race1309!C$49","v":0},{"$f":"Race1309!F$49","v":1}]
[null,{"$f":"Race1309!B$5","v":"Senior"},{"$f":"Race1309!B$4","v":"OC1"},{"$f":"Race1309!E$5","v":"Women"},{"$f":"Race1309!D$5","v":"Senior Masters"},{"$f":"Race1309!D$4","v":"Marathon"},{"$f":"Race1309!A$50","v":43},{"$f":"Race1309!D$50","v":0},{"$f":"Race1309!C$50","v":0},{"$f":"Race1309!F$50","v":1}]
[null,{"$f":"Race1309!B$5","v":"Senior"},{"$f":"Race1309!B$4","v":"OC1"},{"$f":"Race1309!E$5","v":"Women"},{"$f":"Race1309!D$5","v":"Senior Masters"},{"$f":"Race1309!D$4","v":"Marathon"},{"$f":"Race1309!A$51","v":44},{"$f":"Race1309!D$51","v":0},{"$f":"Race1309!C$51","v":0},{"$f":"Race1309!F$51","v":1}]
[null,{"$f":"Race1309!B$5","v":"Senior"},{"$f":"Race1309!B$4","v":"OC1"},{"$f":"Race1309!E$5","v":"Women"},{"$f":"Race1309!D$5","v":"Senior Masters"},{"$f":"Race1309!D$4","v":"Marathon"},{"$f":"Race1309!A$52","v":45},{"$f":"Race1309!D$52","v":0},{"$f":"Race1309!C$52","v":0},{"$f":"Race1309!F$52","v":1}]
[null,{"$f":"Race1309!B$5","v":"Senior"},{"$f":"Race1309!B$4","v":"OC1"},{"$f":"Race1309!E$5","v":"Women"},{"$f":"Race1309!D$5","v":"Senior Masters"},{"$f":"Race1309!D$4","v":"Marathon"},{"$f":"Race1309!A$53","v":46},{"$f":"Race1309!D$53","v":0},{"$f":"Race1309!C$53","v":0},{"$f":"Race1309!F$53","v":1}]
[null,{"$f":"Race1309!B$5","v":"Senior"},{"$f":"Race1309!B$4","v":"OC1"},{"$f":"Race1309!E$5","v":"Women"},{"$f":"Race1309!D$5","v":"Senior Masters"},{"$f":"Race1309!D$4","v":"Marathon"},{"$f":"Race1309!A$54","v":47},{"$f":"Race1309!D$54","v":0},{"$f":"Race1309!C$54","v":0},{"$f":"Race1309!F$54","v":1}]
[null,{"$f":"Race1309!B$5","v":"Senior"},{"$f":"Race1309!B$4","v":"OC1"},{"$f":"Race1309!E$5","v":"Women"},{"$f":"Race1309!D$5","v":"Senior Masters"},{"$f":"Race1309!D$4","v":"Marathon"},{"$f":"Race1309!A$55","v":48},{"$f":"Race1309!D$55","v":0},{"$f":"Race1309!C$55","v":0},{"$f":"Race1309!F$55","v":1}]
[null,{"$f":"Race1309!B$5","v":"Senior"},{"$f":"Race1309!B$4","v":"OC1"},{"$f":"Race1309!E$5","v":"Women"},{"$f":"Race1309!D$5","v":"Senior Masters"},{"$f":"Race1309!D$4","v":"Marathon"},{"$f":"Race1309!A$56","v":49},{"$f":"Race1309!D$56","v":0},{"$f":"Race1309!C$56","v":0},{"$f":"Race1309!F$56","v":1}]
[null,{"$f":"Race1309!B$5","v":"Senior"},{"$f":"Race1309!B$4","v":"OC1"},{"$f":"Race1309!E$5","v":"Women"},{"$f":"Race1309!D$5","v":"Senior Masters"},{"$f":"Race1309!D$4","v":"Marathon"},{"$f":"Race1309!A$57","v":50},{"$f":"Race1309!D$57","v":0},{"$f":"Race1309!C$57","v":0},{"$f":"Race1309!F$57","v":1}]
["Race1310",{"$f":"Race1310!B$5","v":"Senior"},{"$f":"Race1310!B$4","v":"OC1"},{"$f":"Race1310!E$5","v":"Women"},{"$f":"Race1310!D$5","v":"Golden Masters"},{"$f":"Race1310!D$4","v":"Marathon"},{"$f":"Race1310!A$8","v":1},{"$f":"Race1310!D$8","v":0},{"$f":"Race1310!C$8","v":0},{"$f":"Race1310!F$8","v":9}]
[null,{"$f":"Race1310!B$5","v":"Senior"},{"$f":"Race1310!B$4","v":"OC1"},{"$f":"Race1310!E$5","v":"Women"},{"$f":"Race1310!D$5","v":"Golden Masters"},{"$f":"Race1310!D$4","v":"Marathon"},{"$f":"Race1310!A$9","v":2},{"$f":"Race1310!D$9","v":0},{"$f":"Race1310!C$9","v":0},{"$f":"Race1310!F$9","v":7}]
[null,{"$f":"Race1310!B$5","v":"Senior"},{"$f":"Race1310!B$4","v":"OC1"},{"$f":"Race1310!E$5","v":"Women"},{"$f":"Race1310!D$5","v":"Golden Masters"},{"$f":"Race1310!D$4","v":"Marathon"},{"$f":"Race1310!A$10","v":3},{"$f":"Race1310!D$10","v":0},{"$f":"Race1310!C$10","v":0},{"$f":"Race1310!F$10","v":5}]
[null,{"$f":"Race1310!B$5","v":"Senior"},{"$f":"Race1310!B$4","v":"OC1"},{"$f":"Race1310!E$5","v":"Women"},{"$f":"Race1310!D$5","v":"Golden Masters"},{"$f":"Race1310!D$4","v":"Marathon"},{"$f":"Race1310!A$11","v":4},{"$f":"Race1310!D$11","v":0},{"$f":"Race1310!C$11","v":0},{"$f":"Race1310!F$11","v":3}]
[null,{"$f":"Race1310!B$5","v":"Senior"},{"$f":"Race1310!B$4","v":"OC1"},{"$f":"Race1310!E$5","v":"Women"},{"$f":"Race1310!D$5","v":"Golden Masters"},{"$f":"Race1310!D$4","v":"Marathon"},{"$f":"Race1310!A$12","v":5},{"$f":"Race1310!D$12","v":0},{"$f":"Race1310!C$12","v":0},{"$f":"Race1310!F$12","v":2}]
[null,{"$f":"Race1310!B$5","v":"Senior"},{"$f":"Race1310!B$4","v":"OC1"},{"$f":"Race1310!E$5","v":"Women"},{"$f":"Race1310!D$5","v":"Golden Masters"},{"$f":"Race1310!D$4","v":"Marathon"},{"$f":"Race1310!A$13","v":6},{"$f":"Race1310!D$13","v":0},{"$f":"Race1310!C$13","v":0},{"$f":"Race1310!F$13","v":1}]
[null,{"$f":"Race1310!B$5","v":"Senior"},{"$f":"Race1310!B$4","v":"OC1"},{"$f":"Race1310!E$5","v":"Women"},{"$f":"Race1310!D$5","v":"Golden Masters"},{"$f":"Race1310!D$4","v":"Marathon"},{"$f":"Race1310!A$14","v":7},{"$f":"Race1310!D$14","v":0},{"$f":"Race1310!C$14","v":0},{"$f":"Race1310!F$14","v":1}]
[null,{"$f":"Race1310!B$5","v":"Senior"},{"$f":"Race1310!B$4","v":"OC1"},{"$f":"Race1310!E$5","v":"Women"},{"$f":"Race1310!D$5","v":"Golden Masters"},{"$f":"Race1310!D$4","v":"Marathon"},{"$f":"Race1310!A$15","v":8},{"$f":"Race1310!D$15","v":0},{"$f":"Race1310!C$15","v":0},{"$f":"Race1310!F$15","v":1}]
[null,{"$f":"Race1310!B$5","v":"Senior"},{"$f":"Race1310!B$4","v":"OC1"},{"$f":"Race1310!E$5","v":"Women"},{"$f":"Race1310!D$5","v":"Golden Masters"},{"$f":"Race1310!D$4","v":"Marathon"},{"$f":"Race1310!A$16","v":9},{"$f":"Race1310!D$16","v":0},{"$f":"Race1310!C$16","v":0},{"$f":"Race1310!F$16","v":1}]
[null,{"$f":"Race1310!B$5","v":"Senior"},{"$f":"Race1310!B$4","v":"OC1"},{"$f":"Race1310!E$5","v":"Women"},{"$f":"Race1310!D$5","v":"Golden Masters"},{"$f":"Race1310!D$4","v":"Marathon"},{"$f":"Race1310!A$17","v":10},{"$f":"Race1310!D$17","v":0},{"$f":"Race1310!C$17","v":0},{"$f":"Race1310!F$17","v":1}]
[null,{"$f":"Race1310!B$5","v":"Senior"},{"$f":"Race1310!B$4","v":"OC1"},{"$f":"Race1310!E$5","v":"Women"},{"$f":"Race1310!D$5","v":"Golden Masters"},{"$f":"Race1310!D$4","v":"Marathon"},{"$f":"Race1310!A$18","v":11},{"$f":"Race1310!D$18","v":0},{"$f":"Race1310!C$18","v":0},{"$f":"Race1310!F$18","v":1}]
[null,{"$f":"Race1310!B$5","v":"Senior"},{"$f":"Race1310!B$4","v":"OC1"},{"$f":"Race1310!E$5","v":"Women"},{"$f":"Race1310!D$5","v":"Golden Masters"},{"$f":"Race1310!D$4","v":"Marathon"},{"$f":"Race1310!A$19","v":12},{"$f":"Race1310!D$19","v":0},{"$f":"Race1310!C$19","v":0},{"$f":"Race1310!F$19","v":1}]
[null,{"$f":"Race1310!B$5","v":"Senior"},{"$f":"Race1310!B$4","v":"OC1"},{"$f":"Race1310!E$5","v":"Women"},{"$f":"Race1310!D$5","v":"Golden Masters"},{"$f":"Race1310!D$4","v":"Marathon"},{"$f":"Race1310!A$20","v":13},{"$f":"Race1310!D$20","v":0},{"$f":"Race1310!C$20","v":0},{"$f":"Race1310!F$20","v":1}]
[null,{"$f":"Race1310!B$5","v":"Senior"},{"$f":"Race1310!B$4","v":"OC1"},{"$f":"Race1310!E$5","v":"Women"},{"$f":"Race1310!D$5","v":"Golden Masters"},{"$f":"Race1310!D$4","v":"Marathon"},{"$f":"Race1310!A$21","v":14},{"$f":"Race1310!D$21","v":0},{"$f":"Race1310!C$21","v":0},{"$f":"Race1310!F$21","v":1}]
[null,{"$f":"Race1310!B$5","v":"Senior"},{"$f":"Race1310!B$4","v":"OC1"},{"$f":"Race1310!E$5","v":"Women"},{"$f":"Race1310!D$5","v":"Golden Masters"},{"$f":"Race1310!D$4","v":"Marathon"},{"$f":"Race1310!A$22","v":15},{"$f":"Race1310!D$22","v":0},{"$f":"Race1310!C$22","v":0},{"$f":"Race1310!F$22","v":1}]
[null,{"$f":"Race1310!B$5","v":"Senior"},{"$f":"Race1310!B$4","v":"OC1"},{"$f":"Race1310!E$5","v":"Women"},{"$f":"Race1310!D$5","v":"Golden Masters"},{"$f":"Race1310!D$4","v":"Marathon"},{"$f":"Race1310!A$23","v":16},{"$f":"Race1310!D$23","v":0},{"$f":"Race1310!C$23","v":0},{"$f":"Race1310!F$23","v":1}]
[null,{"$f":"Race1310!B$5","v":"Senior"},{"$f":"Race1310!B$4","v":"OC1"},{"$f":"Race1310!E$5","v":"Women"},{"$f":"Race1310!D$5","v":"Golden Masters"},{"$f":"Race1310!D$4","v":"Marathon"},{"$f":"Race1310!A$24","v":17},{"$f":"Race1310!D$24","v":0},{"$f":"Race1310!C$24","v":0},{"$f":"Race1310!F$24","v":1}]
[null,{"$f":"Race1310!B$5","v":"Senior"},{"$f":"Race1310!B$4","v":"OC1"},{"$f":"Race1310!E$5","v":"Women"},{"$f":"Race1310!D$5","v":"Golden Masters"},{"$f":"Race1310!D$4","v":"Marathon"},{"$f":"Race1310!A$25","v":18},{"$f":"Race1310!D$25","v":0},{"$f":"Race1310!C$25","v":0},{"$f":"Race1310!F$25","v":1}]
[null,{"$f":"Race1310!B$5","v":"Senior"},{"$f":"Race1310!B$4","v":"OC1"},{"$f":"Race1310!E$5","v":"Women"},{"$f":"Race1310!D$5","v":"Golden Masters"},{"$f":"Race1310!D$4","v":"Marathon"},{"$f":"Race1310!A$26","v":19},{"$f":"Race1310!D$26","v":0},{"$f":"Race1310!C$26","v":0},{"$f":"Race1310!F$26","v":1}]
[null,{"$f":"Race1310!B$5","v":"Senior"},{"$f":"Race1310!B$4","v":"OC1"},{"$f":"Race1310!E$5","v":"Women"},{"$f":"Race1310!D$5","v":"Golden Masters"},{"$f":"Race1310!D$4","v":"Marathon"},{"$f":"Race1310!A$27","v":20},{"$f":"Race1310!D$27","v":0},{"$f":"Race1310!C$27","v":0},{"$f":"Race1310!F$27","v":1}]
[null,{"$f":"Race1310!B$5","v":"Senior"},{"$f":"Race1310!B$4","v":"OC1"},{"$f":"Race1310!E$5","v":"Women"},{"$f":"Race1310!D$5","v":"Golden Masters"},{"$f":"Race1310!D$4","v":"Marathon"},{"$f":"Race1310!A$28","v":21},{"$f":"Race1310!D$28","v":0},{"$f":"Race1310!C$28","v":0},{"$f":"Race1310!F$28","v":1}]
[null,{"$f":"Race1310!B$5","v":"Senior"},{"$f":"Race1310!B$4","v":"OC1"},{"$f":"Race1310!E$5","v":"Women"},{"$f":"Race1310!D$5","v":"Golden Masters"},{"$f":"Race1310!D$4","v":"Marathon"},{"$f":"Race1310!A$29","v":22},{"$f":"Race1310!D$29","v":0},{"$f":"Race1310!C$29","v":0},{"$f":"Race1310!F$29","v":1}]
[null,{"$f":"Race1310!B$5","v":"Senior"},{"$f":"Race1310!B$4","v":"OC1"},{"$f":"Race1310!E$5","v":"Women"},{"$f":"Race1310!D$5","v":"Golden Masters"},{"$f":"Race1310!D$4","v":"Marathon"},{"$f":"Race1310!A$30","v":23},{"$f":"Race1310!D$30","v":0},{"$f":"Race1310!C$30","v":0},{"$f":"Race1310!F$30","v":1}]
[null,{"$f":"Race1310!B$5","v":"Senior"},{"$f":"Race1310!B$4","v":"OC1"},{"$f":"Race1310!E$5","v":"Women"},{"$f":"Race1310!D$5","v":"Golden Masters"},{"$f":"Race1310!D$4","v":"Marathon"},{"$f":"Race1310!A$31","v":24},{"$f":"Race1310!D$31","v":0},{"$f":"Race1310!C$31","v":0},{"$f":"Race1310!F$31","v":1}]
[null,{"$f":"Race1310!B$5","v":"Senior"},{"$f":"Race1310!B$4","v":"OC1"},{"$f":"Race1310!E$5","v":"Women"},{"$f":"Race1310!D$5","v":"Golden Masters"},{"$f":"Race1310!D$4","v":"Marathon"},{"$f":"Race1310!A$32","v":25},{"$f":"Race1310!D$32","v":0},{"$f":"Race1310!C$32","v":0},{"$f":"Race1310!F$32","v":1}]
[null,{"$f":"Race1310!B$5","v":"Senior"},{"$f":"Race1310!B$4","v":"OC1"},{"$f":"Race1310!E$5","v":"Women"},{"$f":"Race1310!D$5","v":"Golden Masters"},{"$f":"Race1310!D$4","v":"Marathon"},{"$f":"Race1310!A$33","v":26},{"$f":"Race1310!D$33","v":0},{"$f":"Race1310!C$33","v":0},{"$f":"Race1310!F$33","v":1}]
[null,{"$f":"Race1310!B$5","v":"Senior"},{"$f":"Race1310!B$4","v":"OC1"},{"$f":"Race1310!E$5","v":"Women"},{"$f":"Race1310!D$5","v":"Golden Masters"},{"$f":"Race1310!D$4","v":"Marathon"},{"$f":"Race1310!A$34","v":27},{"$f":"Race1310!D$34","v":0},{"$f":"Race1310!C$34","v":0},{"$f":"Race1310!F$34","v":1}]
[null,{"$f":"Race1310!B$5","v":"Senior"},{"$f":"Race1310!B$4","v":"OC1"},{"$f":"Race1310!E$5","v":"Women"},{"$f":"Race1310!D$5","v":"Golden Masters"},{"$f":"Race1310!D$4","v":"Marathon"},{"$f":"Race1310!A$35","v":28},{"$f":"Race1310!D$35","v":0},{"$f":"Race1310!C$35","v":0},{"$f":"Race1310!F$35","v":1}]
[null,{"$f":"Race1310!B$5","v":"Senior"},{"$f":"Race1310!B$4","v":"OC1"},{"$f":"Race1310!E$5","v":"Women"},{"$f":"Race1310!D$5","v":"Golden Masters"},{"$f":"Race1310!D$4","v":"Marathon"},{"$f":"Race1310!A$36","v":29},{"$f":"Race1310!D$36","v":0},{"$f":"Race1310!C$36","v":0},{"$f":"Race1310!F$36","v":1}]
[null,{"$f":"Race1310!B$5","v":"Senior"},{"$f":"Race1310!B$4","v":"OC1"},{"$f":"Race1310!E$5","v":"Women"},{"$f":"Race1310!D$5","v":"Golden Masters"},{"$f":"Race1310!D$4","v":"Marathon"},{"$f":"Race1310!A$37","v":30},{"$f":"Race1310!D$37","v":0},{"$f":"Race1310!C$37","v":0},{"$f":"Race1310!F$37","v":1}]
[null,{"$f":"Race1310!B$5","v":"Senior"},{"$f":"Race1310!B$4","v":"OC1"},{"$f":"Race1310!E$5","v":"Women"},{"$f":"Race1310!D$5","v":"Golden Masters"},{"$f":"Race1310!D$4","v":"Marathon"},{"$f":"Race1310!A$38","v":31},{"$f":"Race1310!D$38","v":0},{"$f":"Race1310!C$38","v":0},{"$f":"Race1310!F$38","v":1}]
[null,{"$f":"Race1310!B$5","v":"Senior"},{"$f":"Race1310!B$4","v":"OC1"},{"$f":"Race1310!E$5","v":"Women"},{"$f":"Race1310!D$5","v":"Golden Masters"},{"$f":"Race1310!D$4","v":"Marathon"},{"$f":"Race1310!A$39","v":32},{"$f":"Race1310!D$39","v":0},{"$f":"Race1310!C$39","v":0},{"$f":"Race1310!F$39","v":1}]
[null,{"$f":"Race1310!B$5","v":"Senior"},{"$f":"Race1310!B$4","v":"OC1"},{"$f":"Race1310!E$5","v":"Women"},{"$f":"Race1310!D$5","v":"Golden Masters"},{"$f":"Race1310!D$4","v":"Marathon"},{"$f":"Race1310!A$40","v":33},{"$f":"Race1310!D$40","v":0},{"$f":"Race1310!C$40","v":0},{"$f":"Race1310!F$40","v":1}]
[null,{"$f":"Race1310!B$5","v":"Senior"},{"$f":"Race1310!B$4","v":"OC1"},{"$f":"Race1310!E$5","v":"Women"},{"$f":"Race1310!D$5","v":"Golden Masters"},{"$f":"Race1310!D$4","v":"Marathon"},{"$f":"Race1310!A$41","v":34},{"$f":"Race1310!D$41","v":0},{"$f":"Race1310!C$41","v":0},{"$f":"Race1310!F$41","v":1}]
[null,{"$f":"Race1310!B$5","v":"Senior"},{"$f":"Race1310!B$4","v":"OC1"},{"$f":"Race1310!E$5","v":"Women"},{"$f":"Race1310!D$5","v":"Golden Masters"},{"$f":"Race1310!D$4","v":"Marathon"},{"$f":"Race1310!A$42","v":35},{"$f":"Race1310!D$42","v":0},{"$f":"Race1310!C$42","v":0},{"$f":"Race1310!F$42","v":1}]
[null,{"$f":"Race1310!B$5","v":"Senior"},{"$f":"Race1310!B$4","v":"OC1"},{"$f":"Race1310!E$5","v":"Women"},{"$f":"Race1310!D$5","v":"Golden Masters"},{"$f":"Race1310!D$4","v":"Marathon"},{"$f":"Race1310!A$43","v":36},{"$f":"Race1310!D$43","v":0},{"$f":"Race1310!C$43","v":0},{"$f":"Race1310!F$43","v":1}]
[null,{"$f":"Race1310!B$5","v":"Senior"},{"$f":"Race1310!B$4","v":"OC1"},{"$f":"Race1310!E$5","v":"Women"},{"$f":"Race1310!D$5","v":"Golden Masters"},{"$f":"Race1310!D$4","v":"Marathon"},{"$f":"Race1310!A$44","v":37},{"$f":"Race1310!D$44","v":0},{"$f":"Race1310!C$44","v":0},{"$f":"Race1310!F$44","v":1}]
[null,{"$f":"Race1310!B$5","v":"Senior"},{"$f":"Race1310!B$4","v":"OC1"},{"$f":"Race1310!E$5","v":"Women"},{"$f":"Race1310!D$5","v":"Golden Masters"},{"$f":"Race1310!D$4","v":"Marathon"},{"$f":"Race1310!A$45","v":38},{"$f":"Race1310!D$45","v":0},{"$f":"Race1310!C$45","v":0},{"$f":"Race1310!F$45","v":1}]
[null,{"$f":"Race1310!B$5","v":"Senior"},{"$f":"Race1310!B$4","v":"OC1"},{"$f":"Race1310!E$5","v":"Women"},{"$f":"Race1310!D$5","v":"Golden Masters"},{"$f":"Race1310!D$4","v":"Marathon"},{"$f":"Race1310!A$46","v":39},{"$f":"Race1310!D$46","v":0},{"$f":"Race1310!C$46","v":0},{"$f":"Race1310!F$46","v":1}]
[null,{"$f":"Race1310!B$5","v":"Senior"},{"$f":"Race1310!B$4","v":"OC1"},{"$f":"Race1310!E$5","v":"Women"},{"$f":"Race1310!D$5","v":"Golden Masters"},{"$f":"Race1310!D$4","v":"Marathon"},{"$f":"Race1310!A$47","v":40},{"$f":"Race1310!D$47","v":0},{"$f":"Race1310!C$47","v":0},{"$f":"Race1310!F$47","v":1}]
[null,{"$f":"Race1310!B$5","v":"Senior"},{"$f":"Race1310!B$4","v":"OC1"},{"$f":"Race1310!E$5","v":"Women"},{"$f":"Race1310!D$5","v":"Golden Masters"},{"$f":"Race1310!D$4","v":"Marathon"},{"$f":"Race1310!A$48","v":41},{"$f":"Race1310!D$48","v":0},{"$f":"Race1310!C$48","v":0},{"$f":"Race1310!F$48","v":1}]
[null,{"$f":"Race1310!B$5","v":"Senior"},{"$f":"Race1310!B$4","v":"OC1"},{"$f":"Race1310!E$5","v":"Women"},{"$f":"Race1310!D$5","v":"Golden Masters"},{"$f":"Race1310!D$4","v":"Marathon"},{"$f":"Race1310!A$49","v":42},{"$f":"Race1310!D$49","v":0},{"$f":"Race1310!C$49","v":0},{"$f":"Race1310!F$49","v":1}]
[null,{"$f":"Race1310!B$5","v":"Senior"},{"$f":"Race1310!B$4","v":"OC1"},{"$f":"Race1310!E$5","v":"Women"},{"$f":"Race1310!D$5","v":"Golden Masters"},{"$f":"Race1310!D$4","v":"Marathon"},{"$f":"Race1310!A$50","v":43},{"$f":"Race1310!D$50","v":0},{"$f":"Race1310!C$50","v":0},{"$f":"Race1310!F$50","v":1}]
[null,{"$f":"Race1310!B$5","v":"Senior"},{"$f":"Race1310!B$4","v":"OC1"},{"$f":"Race1310!E$5","v":"Women"},{"$f":"Race1310!D$5","v":"Golden Masters"},{"$f":"Race1310!D$4","v":"Marathon"},{"$f":"Race1310!A$51","v":44},{"$f":"Race1310!D$51","v":0},{"$f":"Race1310!C$51","v":0},{"$f":"Race1310!F$51","v":1}]
[null,{"$f":"Race1310!B$5","v":"Senior"},{"$f":"Race1310!B$4","v":"OC1"},{"$f":"Race1310!E$5","v":"Women"},{"$f":"Race1310!D$5","v":"Golden Masters"},{"$f":"Race1310!D$4","v":"Marathon"},{"$f":"Race1310!A$52","v":45},{"$f":"Race1310!D$52","v":0},{"$f":"Race1310!C$52","v":0},{"$f":"Race1310!F$52","v":1}]
[null,{"$f":"Race1310!B$5","v":"Senior"},{"$f":"Race1310!B$4","v":"OC1"},{"$f":"Race1310!E$5","v":"Women"},{"$f":"Race1310!D$5","v":"Golden Masters"},{"$f":"Race1310!D$4","v":"Marathon"},{"$f":"Race1310!A$53","v":46},{"$f":"Race1310!D$53","v":0},{"$f":"Race1310!C$53","v":0},{"$f":"Race1310!F$53","v":1}]
[null,{"$f":"Race1310!B$5","v":"Senior"},{"$f":"Race1310!B$4","v":"OC1"},{"$f":"Race1310!E$5","v":"Women"},{"$f":"Race1310!D$5","v":"Golden Masters"},{"$f":"Race1310!D$4","v":"Marathon"},{"$f":"Race1310!A$54","v":47},{"$f":"Race1310!D$54","v":0},{"$f":"Race1310!C$54","v":0},{"$f":"Race1310!F$54","v":1}]
[null,{"$f":"Race1310!B$5","v":"Senior"},{"$f":"Race1310!B$4","v":"OC1"},{"$f":"Race1310!E$5","v":"Women"},{"$f":"Race1310!D$5","v":"Golden Masters"},{"$f":"Race1310!D$4","v":"Marathon"},{"$f":"Race1310!A$55","v":48},{"$f":"Race1310!D$55","v":0},{"$f":"Race1310!C$55","v":0},{"$f":"Race1310!F$55","v":1}]
[null,{"$f":"Race1310!B$5","v":"Senior"},{"$f":"Race1310!B$4","v":"OC1"},{"$f":"Race1310!E$5","v":"Women"},{"$f":"Race1310!D$5","v":"Golden Masters"},{"$f":"Race1310!D$4","v":"Marathon"},{"$f":"Race1310!A$56","v":49},{"$f":"Race1310!D$56","v":0},{"$f":"Race1310!C$56","v":0},{"$f":"Race1310!F$56","v":1}]
[null,{"$f":"Race1310!B$5","v":"Senior"},{"$f":"Race1310!B$4","v":"OC1"},{"$f":"Race1310!E$5","v":"Women"},{"$f":"Race1310!D$5","v":"Golden Masters"},{"$f":"Race1310!D$4","v":"Marathon"},{"$f":"Race1310!A$57","v":50},{"$f":"Race1310!D$57","v":0},{"$f":"Race1310!C$57","v":0},{"$f":"Race1310!F$57","v":1}]
["Race1321",{"$f":"Race1321!B$5","v":"Junior"},{"$f":"Race1321!B$4","v":"OC1"},{"$f":"Race1321!E$5","v":"Boys"},{"$f":"Race1321!D$5","v":"12 & Under"},{"$f":"Race1321!D$4","v":"Marathon"},{"$f":"Race1321!A$8","v":1},{"$f":"Race1321!D$8","v":0},{"$f":"Race1321!C$8","v":0},{"$f":"Race1321!F$8","v":9}]
[null,{"$f":"Race1321!B$5","v":"Junior"},{"$f":"Race1321!B$4","v":"OC1"},{"$f":"Race1321!E$5","v":"Boys"},{"$f":"Race1321!D$5","v":"12 & Under"},{"$f":"Race1321!D$4","v":"Marathon"},{"$f":"Race1321!A$9","v":2},{"$f":"Race1321!D$9","v":0},{"$f":"Race1321!C$9","v":0},{"$f":"Race1321!F$9","v":7}]
[null,{"$f":"Race1321!B$5","v":"Junior"},{"$f":"Race1321!B$4","v":"OC1"},{"$f":"Race1321!E$5","v":"Boys"},{"$f":"Race1321!D$5","v":"12 & Under"},{"$f":"Race1321!D$4","v":"Marathon"},{"$f":"Race1321!A$10","v":3},{"$f":"Race1321!D$10","v":0},{"$f":"Race1321!C$10","v":0},{"$f":"Race1321!F$10","v":5}]
[null,{"$f":"Race1321!B$5","v":"Junior"},{"$f":"Race1321!B$4","v":"OC1"},{"$f":"Race1321!E$5","v":"Boys"},{"$f":"Race1321!D$5","v":"12 & Under"},{"$f":"Race1321!D$4","v":"Marathon"},{"$f":"Race1321!A$11","v":4},{"$f":"Race1321!D$11","v":0},{"$f":"Race1321!C$11","v":0},{"$f":"Race1321!F$11","v":3}]
[null,{"$f":"Race1321!B$5","v":"Junior"},{"$f":"Race1321!B$4","v":"OC1"},{"$f":"Race1321!E$5","v":"Boys"},{"$f":"Race1321!D$5","v":"12 & Under"},{"$f":"Race1321!D$4","v":"Marathon"},{"$f":"Race1321!A$12","v":5},{"$f":"Race1321!D$12","v":0},{"$f":"Race1321!C$12","v":0},{"$f":"Race1321!F$12","v":2}]
[null,{"$f":"Race1321!B$5","v":"Junior"},{"$f":"Race1321!B$4","v":"OC1"},{"$f":"Race1321!E$5","v":"Boys"},{"$f":"Race1321!D$5","v":"12 & Under"},{"$f":"Race1321!D$4","v":"Marathon"},{"$f":"Race1321!A$13","v":6},{"$f":"Race1321!D$13","v":0},{"$f":"Race1321!C$13","v":0},{"$f":"Race1321!F$13","v":1}]
[null,{"$f":"Race1321!B$5","v":"Junior"},{"$f":"Race1321!B$4","v":"OC1"},{"$f":"Race1321!E$5","v":"Boys"},{"$f":"Race1321!D$5","v":"12 & Under"},{"$f":"Race1321!D$4","v":"Marathon"},{"$f":"Race1321!A$14","v":7},{"$f":"Race1321!D$14","v":0},{"$f":"Race1321!C$14","v":0},{"$f":"Race1321!F$14","v":1}]
[null,{"$f":"Race1321!B$5","v":"Junior"},{"$f":"Race1321!B$4","v":"OC1"},{"$f":"Race1321!E$5","v":"Boys"},{"$f":"Race1321!D$5","v":"12 & Under"},{"$f":"Race1321!D$4","v":"Marathon"},{"$f":"Race1321!A$15","v":8},{"$f":"Race1321!D$15","v":0},{"$f":"Race1321!C$15","v":0},{"$f":"Race1321!F$15","v":1}]
[null,{"$f":"Race1321!B$5","v":"Junior"},{"$f":"Race1321!B$4","v":"OC1"},{"$f":"Race1321!E$5","v":"Boys"},{"$f":"Race1321!D$5","v":"12 & Under"},{"$f":"Race1321!D$4","v":"Marathon"},{"$f":"Race1321!A$16","v":9},{"$f":"Race1321!D$16","v":0},{"$f":"Race1321!C$16","v":0},{"$f":"Race1321!F$16","v":1}]
[null,{"$f":"Race1321!B$5","v":"Junior"},{"$f":"Race1321!B$4","v":"OC1"},{"$f":"Race1321!E$5","v":"Boys"},{"$f":"Race1321!D$5","v":"12 & Under"},{"$f":"Race1321!D$4","v":"Marathon"},{"$f":"Race1321!A$17","v":10},{"$f":"Race1321!D$17","v":0},{"$f":"Race1321!C$17","v":0},{"$f":"Race1321!F$17","v":1}]
[null,{"$f":"Race1321!B$5","v":"Junior"},{"$f":"Race1321!B$4","v":"OC1"},{"$f":"Race1321!E$5","v":"Boys"},{"$f":"Race1321!D$5","v":"12 & Under"},{"$f":"Race1321!D$4","v":"Marathon"},{"$f":"Race1321!A$18","v":11},{"$f":"Race1321!D$18","v":0},{"$f":"Race1321!C$18","v":0},{"$f":"Race1321!F$18","v":1}]
[null,{"$f":"Race1321!B$5","v":"Junior"},{"$f":"Race1321!B$4","v":"OC1"},{"$f":"Race1321!E$5","v":"Boys"},{"$f":"Race1321!D$5","v":"12 & Under"},{"$f":"Race1321!D$4","v":"Marathon"},{"$f":"Race1321!A$19","v":12},{"$f":"Race1321!D$19","v":0},{"$f":"Race1321!C$19","v":0},{"$f":"Race1321!F$19","v":1}]
[null,{"$f":"Race1321!B$5","v":"Junior"},{"$f":"Race1321!B$4","v":"OC1"},{"$f":"Race1321!E$5","v":"Boys"},{"$f":"Race1321!D$5","v":"12 & Under"},{"$f":"Race1321!D$4","v":"Marathon"},{"$f":"Race1321!A$20","v":13},{"$f":"Race1321!D$20","v":0},{"$f":"Race1321!C$20","v":0},{"$f":"Race1321!F$20","v":1}]
[null,{"$f":"Race1321!B$5","v":"Junior"},{"$f":"Race1321!B$4","v":"OC1"},{"$f":"Race1321!E$5","v":"Boys"},{"$f":"Race1321!D$5","v":"12 & Under"},{"$f":"Race1321!D$4","v":"Marathon"},{"$f":"Race1321!A$21","v":14},{"$f":"Race1321!D$21","v":0},{"$f":"Race1321!C$21","v":0},{"$f":"Race1321!F$21","v":1}]
[null,{"$f":"Race1321!B$5","v":"Junior"},{"$f":"Race1321!B$4","v":"OC1"},{"$f":"Race1321!E$5","v":"Boys"},{"$f":"Race1321!D$5","v":"12 & Under"},{"$f":"Race1321!D$4","v":"Marathon"},{"$f":"Race1321!A$22","v":15},{"$f":"Race1321!D$22","v":0},{"$f":"Race1321!C$22","v":0},{"$f":"Race1321!F$22","v":1}]
[null,{"$f":"Race1321!B$5","v":"Junior"},{"$f":"Race1321!B$4","v":"OC1"},{"$f":"Race1321!E$5","v":"Boys"},{"$f":"Race1321!D$5","v":"12 & Under"},{"$f":"Race1321!D$4","v":"Marathon"},{"$f":"Race1321!A$23","v":16},{"$f":"Race1321!D$23","v":0},{"$f":"Race1321!C$23","v":0},{"$f":"Race1321!F$23","v":1}]
[null,{"$f":"Race1321!B$5","v":"Junior"},{"$f":"Race1321!B$4","v":"OC1"},{"$f":"Race1321!E$5","v":"Boys"},{"$f":"Race1321!D$5","v":"12 & Under"},{"$f":"Race1321!D$4","v":"Marathon"},{"$f":"Race1321!A$24","v":17},{"$f":"Race1321!D$24","v":0},{"$f":"Race1321!C$24","v":0},{"$f":"Race1321!F$24","v":1}]
[null,{"$f":"Race1321!B$5","v":"Junior"},{"$f":"Race1321!B$4","v":"OC1"},{"$f":"Race1321!E$5","v":"Boys"},{"$f":"Race1321!D$5","v":"12 & Under"},{"$f":"Race1321!D$4","v":"Marathon"},{"$f":"Race1321!A$25","v":18},{"$f":"Race1321!D$25","v":0},{"$f":"Race1321!C$25","v":0},{"$f":"Race1321!F$25","v":1}]
[null,{"$f":"Race1321!B$5","v":"Junior"},{"$f":"Race1321!B$4","v":"OC1"},{"$f":"Race1321!E$5","v":"Boys"},{"$f":"Race1321!D$5","v":"12 & Under"},{"$f":"Race1321!D$4","v":"Marathon"},{"$f":"Race1321!A$26","v":19},{"$f":"Race1321!D$26","v":0},{"$f":"Race1321!C$26","v":0},{"$f":"Race1321!F$26","v":1}]
[null,{"$f":"Race1321!B$5","v":"Junior"},{"$f":"Race1321!B$4","v":"OC1"},{"$f":"Race1321!E$5","v":"Boys"},{"$f":"Race1321!D$5","v":"12 & Under"},{"$f":"Race1321!D$4","v":"Marathon"},{"$f":"Race1321!A$27","v":20},{"$f":"Race1321!D$27","v":0},{"$f":"Race1321!C$27","v":0},{"$f":"Race1321!F$27","v":1}]
[null,{"$f":"Race1321!B$5","v":"Junior"},{"$f":"Race1321!B$4","v":"OC1"},{"$f":"Race1321!E$5","v":"Boys"},{"$f":"Race1321!D$5","v":"12 & Under"},{"$f":"Race1321!D$4","v":"Marathon"},{"$f":"Race1321!A$28","v":21},{"$f":"Race1321!D$28","v":0},{"$f":"Race1321!C$28","v":0},{"$f":"Race1321!F$28","v":1}]
[null,{"$f":"Race1321!B$5","v":"Junior"},{"$f":"Race1321!B$4","v":"OC1"},{"$f":"Race1321!E$5","v":"Boys"},{"$f":"Race1321!D$5","v":"12 & Under"},{"$f":"Race1321!D$4","v":"Marathon"},{"$f":"Race1321!A$29","v":22},{"$f":"Race1321!D$29","v":0},{"$f":"Race1321!C$29","v":0},{"$f":"Race1321!F$29","v":1}]
[null,{"$f":"Race1321!B$5","v":"Junior"},{"$f":"Race1321!B$4","v":"OC1"},{"$f":"Race1321!E$5","v":"Boys"},{"$f":"Race1321!D$5","v":"12 & Under"},{"$f":"Race1321!D$4","v":"Marathon"},{"$f":"Race1321!A$30","v":23},{"$f":"Race1321!D$30","v":0},{"$f":"Race1321!C$30","v":0},{"$f":"Race1321!F$30","v":1}]
[null,{"$f":"Race1321!B$5","v":"Junior"},{"$f":"Race1321!B$4","v":"OC1"},{"$f":"Race1321!E$5","v":"Boys"},{"$f":"Race1321!D$5","v":"12 & Under"},{"$f":"Race1321!D$4","v":"Marathon"},{"$f":"Race1321!A$31","v":24},{"$f":"Race1321!D$31","v":0},{"$f":"Race1321!C$31","v":0},{"$f":"Race1321!F$31","v":1}]
[null,{"$f":"Race1321!B$5","v":"Junior"},{"$f":"Race1321!B$4","v":"OC1"},{"$f":"Race1321!E$5","v":"Boys"},{"$f":"Race1321!D$5","v":"12 & Under"},{"$f":"Race1321!D$4","v":"Marathon"},{"$f":"Race1321!A$32","v":25},{"$f":"Race1321!D$32","v":0},{"$f":"Race1321!C$32","v":0},{"$f":"Race1321!F$32","v":1}]
[null,{"$f":"Race1321!B$5","v":"Junior"},{"$f":"Race1321!B$4","v":"OC1"},{"$f":"Race1321!E$5","v":"Boys"},{"$f":"Race1321!D$5","v":"12 & Under"},{"$f":"Race1321!D$4","v":"Marathon"},{"$f":"Race1321!A$33","v":26},{"$f":"Race1321!D$33","v":0},{"$f":"Race1321!C$33","v":0},{"$f":"Race1321!F$33","v":1}]
[null,{"$f":"Race1321!B$5","v":"Junior"},{"$f":"Race1321!B$4","v":"OC1"},{"$f":"Race1321!E$5","v":"Boys"},{"$f":"Race1321!D$5","v":"12 & Under"},{"$f":"Race1321!D$4","v":"Marathon"},{"$f":"Race1321!A$34","v":27},{"$f":"Race1321!D$34","v":0},{"$f":"Race1321!C$34","v":0},{"$f":"Race1321!F$34","v":1}]
[null,{"$f":"Race1321!B$5","v":"Junior"},{"$f":"Race1321!B$4","v":"OC1"},{"$f":"Race1321!E$5","v":"Boys"},{"$f":"Race1321!D$5","v":"12 & Under"},{"$f":"Race1321!D$4","v":"Marathon"},{"$f":"Race1321!A$35","v":28},{"$f":"Race1321!D$35","v":0},{"$f":"Race1321!C$35","v":0},{"$f":"Race1321!F$35","v":1}]
[null,{"$f":"Race1321!B$5","v":"Junior"},{"$f":"Race1321!B$4","v":"OC1"},{"$f":"Race1321!E$5","v":"Boys"},{"$f":"Race1321!D$5","v":"12 & Under"},{"$f":"Race1321!D$4","v":"Marathon"},{"$f":"Race1321!A$36","v":29},{"$f":"Race1321!D$36","v":0},{"$f":"Race1321!C$36","v":0},{"$f":"Race1321!F$36","v":1}]
[null,{"$f":"Race1321!B$5","v":"Junior"},{"$f":"Race1321!B$4","v":"OC1"},{"$f":"Race1321!E$5","v":"Boys"},{"$f":"Race1321!D$5","v":"12 & Under"},{"$f":"Race1321!D$4","v":"Marathon"},{"$f":"Race1321!A$37","v":30},{"$f":"Race1321!D$37","v":0},{"$f":"Race1321!C$37","v":0},{"$f":"Race1321!F$37","v":1}]
[null,{"$f":"Race1321!B$5","v":"Junior"},{"$f":"Race1321!B$4","v":"OC1"},{"$f":"Race1321!E$5","v":"Boys"},{"$f":"Race1321!D$5","v":"12 & Under"},{"$f":"Race1321!D$4","v":"Marathon"},{"$f":"Race1321!A$38","v":31},{"$f":"Race1321!D$38","v":0},{"$f":"Race1321!C$38","v":0},{"$f":"Race1321!F$38","v":1}]
[null,{"$f":"Race1321!B$5","v":"Junior"},{"$f":"Race1321!B$4","v":"OC1"},{"$f":"Race1321!E$5","v":"Boys"},{"$f":"Race1321!D$5","v":"12 & Under"},{"$f":"Race1321!D$4","v":"Marathon"},{"$f":"Race1321!A$39","v":32},{"$f":"Race1321!D$39","v":0},{"$f":"Race1321!C$39","v":0},{"$f":"Race1321!F$39","v":1}]
[null,{"$f":"Race1321!B$5","v":"Junior"},{"$f":"Race1321!B$4","v":"OC1"},{"$f":"Race1321!E$5","v":"Boys"},{"$f":"Race1321!D$5","v":"12 & Under"},{"$f":"Race1321!D$4","v":"Marathon"},{"$f":"Race1321!A$40","v":33},{"$f":"Race1321!D$40","v":0},{"$f":"Race1321!C$40","v":0},{"$f":"Race1321!F$40","v":1}]
[null,{"$f":"Race1321!B$5","v":"Junior"},{"$f":"Race1321!B$4","v":"OC1"},{"$f":"Race1321!E$5","v":"Boys"},{"$f":"Race1321!D$5","v":"12 & Under"},{"$f":"Race1321!D$4","v":"Marathon"},{"$f":"Race1321!A$41","v":34},{"$f":"Race1321!D$41","v":0},{"$f":"Race1321!C$41","v":0},{"$f":"Race1321!F$41","v":1}]
[null,{"$f":"Race1321!B$5","v":"Junior"},{"$f":"Race1321!B$4","v":"OC1"},{"$f":"Race1321!E$5","v":"Boys"},{"$f":"Race1321!D$5","v":"12 & Under"},{"$f":"Race1321!D$4","v":"Marathon"},{"$f":"Race1321!A$42","v":35},{"$f":"Race1321!D$42","v":0},{"$f":"Race1321!C$42","v":0},{"$f":"Race1321!F$42","v":1}]
[null,{"$f":"Race1321!B$5","v":"Junior"},{"$f":"Race1321!B$4","v":"OC1"},{"$f":"Race1321!E$5","v":"Boys"},{"$f":"Race1321!D$5","v":"12 & Under"},{"$f":"Race1321!D$4","v":"Marathon"},{"$f":"Race1321!A$43","v":36},{"$f":"Race1321!D$43","v":0},{"$f":"Race1321!C$43","v":0},{"$f":"Race1321!F$43","v":1}]
[null,{"$f":"Race1321!B$5","v":"Junior"},{"$f":"Race1321!B$4","v":"OC1"},{"$f":"Race1321!E$5","v":"Boys"},{"$f":"Race1321!D$5","v":"12 & Under"},{"$f":"Race1321!D$4","v":"Marathon"},{"$f":"Race1321!A$44","v":37},{"$f":"Race1321!D$44","v":0},{"$f":"Race1321!C$44","v":0},{"$f":"Race1321!F$44","v":1}]
[null,{"$f":"Race1321!B$5","v":"Junior"},{"$f":"Race1321!B$4","v":"OC1"},{"$f":"Race1321!E$5","v":"Boys"},{"$f":"Race1321!D$5","v":"12 & Under"},{"$f":"Race1321!D$4","v":"Marathon"},{"$f":"Race1321!A$45","v":38},{"$f":"Race1321!D$45","v":0},{"$f":"Race1321!C$45","v":0},{"$f":"Race1321!F$45","v":1}]
[null,{"$f":"Race1321!B$5","v":"Junior"},{"$f":"Race1321!B$4","v":"OC1"},{"$f":"Race1321!E$5","v":"Boys"},{"$f":"Race1321!D$5","v":"12 & Under"},{"$f":"Race1321!D$4","v":"Marathon"},{"$f":"Race1321!A$46","v":39},{"$f":"Race1321!D$46","v":0},{"$f":"Race1321!C$46","v":0},{"$f":"Race1321!F$46","v":1}]
[null,{"$f":"Race1321!B$5","v":"Junior"},{"$f":"Race1321!B$4","v":"OC1"},{"$f":"Race1321!E$5","v":"Boys"},{"$f":"Race1321!D$5","v":"12 & Under"},{"$f":"Race1321!D$4","v":"Marathon"},{"$f":"Race1321!A$47","v":40},{"$f":"Race1321!D$47","v":0},{"$f":"Race1321!C$47","v":0},{"$f":"Race1321!F$47","v":1}]
[null,{"$f":"Race1321!B$5","v":"Junior"},{"$f":"Race1321!B$4","v":"OC1"},{"$f":"Race1321!E$5","v":"Boys"},{"$f":"Race1321!D$5","v":"12 & Under"},{"$f":"Race1321!D$4","v":"Marathon"},{"$f":"Race1321!A$48","v":41},{"$f":"Race1321!D$48","v":0},{"$f":"Race1321!C$48","v":0},{"$f":"Race1321!F$48","v":1}]
[null,{"$f":"Race1321!B$5","v":"Junior"},{"$f":"Race1321!B$4","v":"OC1"},{"$f":"Race1321!E$5","v":"Boys"},{"$f":"Race1321!D$5","v":"12 & Under"},{"$f":"Race1321!D$4","v":"Marathon"},{"$f":"Race1321!A$49","v":42},{"$f":"Race1321!D$49","v":0},{"$f":"Race1321!C$49","v":0},{"$f":"Race1321!F$49","v":1}]
[null,{"$f":"Race1321!B$5","v":"Junior"},{"$f":"Race1321!B$4","v":"OC1"},{"$f":"Race1321!E$5","v":"Boys"},{"$f":"Race1321!D$5","v":"12 & Under"},{"$f":"Race1321!D$4","v":"Marathon"},{"$f":"Race1321!A$50","v":43},{"$f":"Race1321!D$50","v":0},{"$f":"Race1321!C$50","v":0},{"$f":"Race1321!F$50","v":1}]
[null,{"$f":"Race1321!B$5","v":"Junior"},{"$f":"Race1321!B$4","v":"OC1"},{"$f":"Race1321!E$5","v":"Boys"},{"$f":"Race1321!D$5","v":"12 & Under"},{"$f":"Race1321!D$4","v":"Marathon"},{"$f":"Race1321!A$51","v":44},{"$f":"Race1321!D$51","v":0},{"$f":"Race1321!C$51","v":0},{"$f":"Race1321!F$51","v":1}]
[null,{"$f":"Race1321!B$5","v":"Junior"},{"$f":"Race1321!B$4","v":"OC1"},{"$f":"Race1321!E$5","v":"Boys"},{"$f":"Race1321!D$5","v":"12 & Under"},{"$f":"Race1321!D$4","v":"Marathon"},{"$f":"Race1321!A$52","v":45},{"$f":"Race1321!D$52","v":0},{"$f":"Race1321!C$52","v":0},{"$f":"Race1321!F$52","v":1}]
[null,{"$f":"Race1321!B$5","v":"Junior"},{"$f":"Race1321!B$4","v":"OC1"},{"$f":"Race1321!E$5","v":"Boys"},{"$f":"Race1321!D$5","v":"12 & Under"},{"$f":"Race1321!D$4","v":"Marathon"},{"$f":"Race1321!A$53","v":46},{"$f":"Race1321!D$53","v":0},{"$f":"Race1321!C$53","v":0},{"$f":"Race1321!F$53","v":1}]
[null,{"$f":"Race1321!B$5","v":"Junior"},{"$f":"Race1321!B$4","v":"OC1"},{"$f":"Race1321!E$5","v":"Boys"},{"$f":"Race1321!D$5","v":"12 & Under"},{"$f":"Race1321!D$4","v":"Marathon"},{"$f":"Race1321!A$54","v":47},{"$f":"Race1321!D$54","v":0},{"$f":"Race1321!C$54","v":0},{"$f":"Race1321!F$54","v":1}]
[null,{"$f":"Race1321!B$5","v":"Junior"},{"$f":"Race1321!B$4","v":"OC1"},{"$f":"Race1321!E$5","v":"Boys"},{"$f":"Race1321!D$5","v":"12 & Under"},{"$f":"Race1321!D$4","v":"Marathon"},{"$f":"Race1321!A$55","v":48},{"$f":"Race1321!D$55","v":0},{"$f":"Race1321!C$55","v":0},{"$f":"Race1321!F$55","v":1}]
[null,{"$f":"Race1321!B$5","v":"Junior"},{"$f":"Race1321!B$4","v":"OC1"},{"$f":"Race1321!E$5","v":"Boys"},{"$f":"Race1321!D$5","v":"12 & Under"},{"$f":"Race1321!D$4","v":"Marathon"},{"$f":"Race1321!A$56","v":49},{"$f":"Race1321!D$56","v":0},{"$f":"Race1321!C$56","v":0},{"$f":"Race1321!F$56","v":1}]
[null,{"$f":"Race1321!B$5","v":"Junior"},{"$f":"Race1321!B$4","v":"OC1"},{"$f":"Race1321!E$5","v":"Boys"},{"$f":"Race1321!D$5","v":"12 & Under"},{"$f":"Race1321!D$4","v":"Marathon"},{"$f":"Race1321!A$57","v":50},{"$f":"Race1321!D$57","v":0},{"$f":"Race1321!C$57","v":0},{"$f":"Race1321!F$57","v":1}]
["Race1322",{"$f":"Race1322!B$5","v":"Junior"},{"$f":"Race1322!B$4","v":"OC1"},{"$f":"Race1322!E$5","v":"Boys"},{"$f":"Race1322!D$5","v":"14 & Under"},{"$f":"Race1322!D$4","v":"Marathon"},{"$f":"Race1322!A$8","v":1},{"$f":"Race1322!D$8","v":0},{"$f":"Race1322!C$8","v":0},{"$f":"Race1322!F$8","v":9}]
[null,{"$f":"Race1322!B$5","v":"Junior"},{"$f":"Race1322!B$4","v":"OC1"},{"$f":"Race1322!E$5","v":"Boys"},{"$f":"Race1322!D$5","v":"14 & Under"},{"$f":"Race1322!D$4","v":"Marathon"},{"$f":"Race1322!A$9","v":2},{"$f":"Race1322!D$9","v":0},{"$f":"Race1322!C$9","v":0},{"$f":"Race1322!F$9","v":7}]
[null,{"$f":"Race1322!B$5","v":"Junior"},{"$f":"Race1322!B$4","v":"OC1"},{"$f":"Race1322!E$5","v":"Boys"},{"$f":"Race1322!D$5","v":"14 & Under"},{"$f":"Race1322!D$4","v":"Marathon"},{"$f":"Race1322!A$10","v":3},{"$f":"Race1322!D$10","v":0},{"$f":"Race1322!C$10","v":0},{"$f":"Race1322!F$10","v":5}]
[null,{"$f":"Race1322!B$5","v":"Junior"},{"$f":"Race1322!B$4","v":"OC1"},{"$f":"Race1322!E$5","v":"Boys"},{"$f":"Race1322!D$5","v":"14 & Under"},{"$f":"Race1322!D$4","v":"Marathon"},{"$f":"Race1322!A$11","v":4},{"$f":"Race1322!D$11","v":0},{"$f":"Race1322!C$11","v":0},{"$f":"Race1322!F$11","v":3}]
[null,{"$f":"Race1322!B$5","v":"Junior"},{"$f":"Race1322!B$4","v":"OC1"},{"$f":"Race1322!E$5","v":"Boys"},{"$f":"Race1322!D$5","v":"14 & Under"},{"$f":"Race1322!D$4","v":"Marathon"},{"$f":"Race1322!A$12","v":5},{"$f":"Race1322!D$12","v":0},{"$f":"Race1322!C$12","v":0},{"$f":"Race1322!F$12","v":2}]
[null,{"$f":"Race1322!B$5","v":"Junior"},{"$f":"Race1322!B$4","v":"OC1"},{"$f":"Race1322!E$5","v":"Boys"},{"$f":"Race1322!D$5","v":"14 & Under"},{"$f":"Race1322!D$4","v":"Marathon"},{"$f":"Race1322!A$13","v":6},{"$f":"Race1322!D$13","v":0},{"$f":"Race1322!C$13","v":0},{"$f":"Race1322!F$13","v":1}]
[null,{"$f":"Race1322!B$5","v":"Junior"},{"$f":"Race1322!B$4","v":"OC1"},{"$f":"Race1322!E$5","v":"Boys"},{"$f":"Race1322!D$5","v":"14 & Under"},{"$f":"Race1322!D$4","v":"Marathon"},{"$f":"Race1322!A$14","v":7},{"$f":"Race1322!D$14","v":0},{"$f":"Race1322!C$14","v":0},{"$f":"Race1322!F$14","v":1}]
[null,{"$f":"Race1322!B$5","v":"Junior"},{"$f":"Race1322!B$4","v":"OC1"},{"$f":"Race1322!E$5","v":"Boys"},{"$f":"Race1322!D$5","v":"14 & Under"},{"$f":"Race1322!D$4","v":"Marathon"},{"$f":"Race1322!A$15","v":8},{"$f":"Race1322!D$15","v":0},{"$f":"Race1322!C$15","v":0},{"$f":"Race1322!F$15","v":1}]
[null,{"$f":"Race1322!B$5","v":"Junior"},{"$f":"Race1322!B$4","v":"OC1"},{"$f":"Race1322!E$5","v":"Boys"},{"$f":"Race1322!D$5","v":"14 & Under"},{"$f":"Race1322!D$4","v":"Marathon"},{"$f":"Race1322!A$16","v":9},{"$f":"Race1322!D$16","v":0},{"$f":"Race1322!C$16","v":0},{"$f":"Race1322!F$16","v":1}]
[null,{"$f":"Race1322!B$5","v":"Junior"},{"$f":"Race1322!B$4","v":"OC1"},{"$f":"Race1322!E$5","v":"Boys"},{"$f":"Race1322!D$5","v":"14 & Under"},{"$f":"Race1322!D$4","v":"Marathon"},{"$f":"Race1322!A$17","v":10},{"$f":"Race1322!D$17","v":0},{"$f":"Race1322!C$17","v":0},{"$f":"Race1322!F$17","v":1}]
[null,{"$f":"Race1322!B$5","v":"Junior"},{"$f":"Race1322!B$4","v":"OC1"},{"$f":"Race1322!E$5","v":"Boys"},{"$f":"Race1322!D$5","v":"14 & Under"},{"$f":"Race1322!D$4","v":"Marathon"},{"$f":"Race1322!A$18","v":11},{"$f":"Race1322!D$18","v":0},{"$f":"Race1322!C$18","v":0},{"$f":"Race1322!F$18","v":1}]
[null,{"$f":"Race1322!B$5","v":"Junior"},{"$f":"Race1322!B$4","v":"OC1"},{"$f":"Race1322!E$5","v":"Boys"},{"$f":"Race1322!D$5","v":"14 & Under"},{"$f":"Race1322!D$4","v":"Marathon"},{"$f":"Race1322!A$19","v":12},{"$f":"Race1322!D$19","v":0},{"$f":"Race1322!C$19","v":0},{"$f":"Race1322!F$19","v":1}]
[null,{"$f":"Race1322!B$5","v":"Junior"},{"$f":"Race1322!B$4","v":"OC1"},{"$f":"Race1322!E$5","v":"Boys"},{"$f":"Race1322!D$5","v":"14 & Under"},{"$f":"Race1322!D$4","v":"Marathon"},{"$f":"Race1322!A$20","v":13},{"$f":"Race1322!D$20","v":0},{"$f":"Race1322!C$20","v":0},{"$f":"Race1322!F$20","v":1}]
[null,{"$f":"Race1322!B$5","v":"Junior"},{"$f":"Race1322!B$4","v":"OC1"},{"$f":"Race1322!E$5","v":"Boys"},{"$f":"Race1322!D$5","v":"14 & Under"},{"$f":"Race1322!D$4","v":"Marathon"},{"$f":"Race1322!A$21","v":14},{"$f":"Race1322!D$21","v":0},{"$f":"Race1322!C$21","v":0},{"$f":"Race1322!F$21","v":1}]
[null,{"$f":"Race1322!B$5","v":"Junior"},{"$f":"Race1322!B$4","v":"OC1"},{"$f":"Race1322!E$5","v":"Boys"},{"$f":"Race1322!D$5","v":"14 & Under"},{"$f":"Race1322!D$4","v":"Marathon"},{"$f":"Race1322!A$22","v":15},{"$f":"Race1322!D$22","v":0},{"$f":"Race1322!C$22","v":0},{"$f":"Race1322!F$22","v":1}]
[null,{"$f":"Race1322!B$5","v":"Junior"},{"$f":"Race1322!B$4","v":"OC1"},{"$f":"Race1322!E$5","v":"Boys"},{"$f":"Race1322!D$5","v":"14 & Under"},{"$f":"Race1322!D$4","v":"Marathon"},{"$f":"Race1322!A$23","v":16},{"$f":"Race1322!D$23","v":0},{"$f":"Race1322!C$23","v":0},{"$f":"Race1322!F$23","v":1}]
[null,{"$f":"Race1322!B$5","v":"Junior"},{"$f":"Race1322!B$4","v":"OC1"},{"$f":"Race1322!E$5","v":"Boys"},{"$f":"Race1322!D$5","v":"14 & Under"},{"$f":"Race1322!D$4","v":"Marathon"},{"$f":"Race1322!A$24","v":17},{"$f":"Race1322!D$24","v":0},{"$f":"Race1322!C$24","v":0},{"$f":"Race1322!F$24","v":1}]
[null,{"$f":"Race1322!B$5","v":"Junior"},{"$f":"Race1322!B$4","v":"OC1"},{"$f":"Race1322!E$5","v":"Boys"},{"$f":"Race1322!D$5","v":"14 & Under"},{"$f":"Race1322!D$4","v":"Marathon"},{"$f":"Race1322!A$25","v":18},{"$f":"Race1322!D$25","v":0},{"$f":"Race1322!C$25","v":0},{"$f":"Race1322!F$25","v":1}]
[null,{"$f":"Race1322!B$5","v":"Junior"},{"$f":"Race1322!B$4","v":"OC1"},{"$f":"Race1322!E$5","v":"Boys"},{"$f":"Race1322!D$5","v":"14 & Under"},{"$f":"Race1322!D$4","v":"Marathon"},{"$f":"Race1322!A$26","v":19},{"$f":"Race1322!D$26","v":0},{"$f":"Race1322!C$26","v":0},{"$f":"Race1322!F$26","v":1}]
[null,{"$f":"Race1322!B$5","v":"Junior"},{"$f":"Race1322!B$4","v":"OC1"},{"$f":"Race1322!E$5","v":"Boys"},{"$f":"Race1322!D$5","v":"14 & Under"},{"$f":"Race1322!D$4","v":"Marathon"},{"$f":"Race1322!A$27","v":20},{"$f":"Race1322!D$27","v":0},{"$f":"Race1322!C$27","v":0},{"$f":"Race1322!F$27","v":1}]
[null,{"$f":"Race1322!B$5","v":"Junior"},{"$f":"Race1322!B$4","v":"OC1"},{"$f":"Race1322!E$5","v":"Boys"},{"$f":"Race1322!D$5","v":"14 & Under"},{"$f":"Race1322!D$4","v":"Marathon"},{"$f":"Race1322!A$28","v":21},{"$f":"Race1322!D$28","v":0},{"$f":"Race1322!C$28","v":0},{"$f":"Race1322!F$28","v":1}]
[null,{"$f":"Race1322!B$5","v":"Junior"},{"$f":"Race1322!B$4","v":"OC1"},{"$f":"Race1322!E$5","v":"Boys"},{"$f":"Race1322!D$5","v":"14 & Under"},{"$f":"Race1322!D$4","v":"Marathon"},{"$f":"Race1322!A$29","v":22},{"$f":"Race1322!D$29","v":0},{"$f":"Race1322!C$29","v":0},{"$f":"Race1322!F$29","v":1}]
[null,{"$f":"Race1322!B$5","v":"Junior"},{"$f":"Race1322!B$4","v":"OC1"},{"$f":"Race1322!E$5","v":"Boys"},{"$f":"Race1322!D$5","v":"14 & Under"},{"$f":"Race1322!D$4","v":"Marathon"},{"$f":"Race1322!A$30","v":23},{"$f":"Race1322!D$30","v":0},{"$f":"Race1322!C$30","v":0},{"$f":"Race1322!F$30","v":1}]
[null,{"$f":"Race1322!B$5","v":"Junior"},{"$f":"Race1322!B$4","v":"OC1"},{"$f":"Race1322!E$5","v":"Boys"},{"$f":"Race1322!D$5","v":"14 & Under"},{"$f":"Race1322!D$4","v":"Marathon"},{"$f":"Race1322!A$31","v":24},{"$f":"Race1322!D$31","v":0},{"$f":"Race1322!C$31","v":0},{"$f":"Race1322!F$31","v":1}]
[null,{"$f":"Race1322!B$5","v":"Junior"},{"$f":"Race1322!B$4","v":"OC1"},{"$f":"Race1322!E$5","v":"Boys"},{"$f":"Race1322!D$5","v":"14 & Under"},{"$f":"Race1322!D$4","v":"Marathon"},{"$f":"Race1322!A$32","v":25},{"$f":"Race1322!D$32","v":0},{"$f":"Race1322!C$32","v":0},{"$f":"Race1322!F$32","v":1}]
[null,{"$f":"Race1322!B$5","v":"Junior"},{"$f":"Race1322!B$4","v":"OC1"},{"$f":"Race1322!E$5","v":"Boys"},{"$f":"Race1322!D$5","v":"14 & Under"},{"$f":"Race1322!D$4","v":"Marathon"},{"$f":"Race1322!A$33","v":26},{"$f":"Race1322!D$33","v":0},{"$f":"Race1322!C$33","v":0},{"$f":"Race1322!F$33","v":1}]
[null,{"$f":"Race1322!B$5","v":"Junior"},{"$f":"Race1322!B$4","v":"OC1"},{"$f":"Race1322!E$5","v":"Boys"},{"$f":"Race1322!D$5","v":"14 & Under"},{"$f":"Race1322!D$4","v":"Marathon"},{"$f":"Race1322!A$34","v":27},{"$f":"Race1322!D$34","v":0},{"$f":"Race1322!C$34","v":0},{"$f":"Race1322!F$34","v":1}]
[null,{"$f":"Race1322!B$5","v":"Junior"},{"$f":"Race1322!B$4","v":"OC1"},{"$f":"Race1322!E$5","v":"Boys"},{"$f":"Race1322!D$5","v":"14 & Under"},{"$f":"Race1322!D$4","v":"Marathon"},{"$f":"Race1322!A$35","v":28},{"$f":"Race1322!D$35","v":0},{"$f":"Race1322!C$35","v":0},{"$f":"Race1322!F$35","v":1}]
[null,{"$f":"Race1322!B$5","v":"Junior"},{"$f":"Race1322!B$4","v":"OC1"},{"$f":"Race1322!E$5","v":"Boys"},{"$f":"Race1322!D$5","v":"14 & Under"},{"$f":"Race1322!D$4","v":"Marathon"},{"$f":"Race1322!A$36","v":29},{"$f":"Race1322!D$36","v":0},{"$f":"Race1322!C$36","v":0},{"$f":"Race1322!F$36","v":1}]
[null,{"$f":"Race1322!B$5","v":"Junior"},{"$f":"Race1322!B$4","v":"OC1"},{"$f":"Race1322!E$5","v":"Boys"},{"$f":"Race1322!D$5","v":"14 & Under"},{"$f":"Race1322!D$4","v":"Marathon"},{"$f":"Race1322!A$37","v":30},{"$f":"Race1322!D$37","v":0},{"$f":"Race1322!C$37","v":0},{"$f":"Race1322!F$37","v":1}]
[null,{"$f":"Race1322!B$5","v":"Junior"},{"$f":"Race1322!B$4","v":"OC1"},{"$f":"Race1322!E$5","v":"Boys"},{"$f":"Race1322!D$5","v":"14 & Under"},{"$f":"Race1322!D$4","v":"Marathon"},{"$f":"Race1322!A$38","v":31},{"$f":"Race1322!D$38","v":0},{"$f":"Race1322!C$38","v":0},{"$f":"Race1322!F$38","v":1}]
[null,{"$f":"Race1322!B$5","v":"Junior"},{"$f":"Race1322!B$4","v":"OC1"},{"$f":"Race1322!E$5","v":"Boys"},{"$f":"Race1322!D$5","v":"14 & Under"},{"$f":"Race1322!D$4","v":"Marathon"},{"$f":"Race1322!A$39","v":32},{"$f":"Race1322!D$39","v":0},{"$f":"Race1322!C$39","v":0},{"$f":"Race1322!F$39","v":1}]
[null,{"$f":"Race1322!B$5","v":"Junior"},{"$f":"Race1322!B$4","v":"OC1"},{"$f":"Race1322!E$5","v":"Boys"},{"$f":"Race1322!D$5","v":"14 & Under"},{"$f":"Race1322!D$4","v":"Marathon"},{"$f":"Race1322!A$40","v":33},{"$f":"Race1322!D$40","v":0},{"$f":"Race1322!C$40","v":0},{"$f":"Race1322!F$40","v":1}]
[null,{"$f":"Race1322!B$5","v":"Junior"},{"$f":"Race1322!B$4","v":"OC1"},{"$f":"Race1322!E$5","v":"Boys"},{"$f":"Race1322!D$5","v":"14 & Under"},{"$f":"Race1322!D$4","v":"Marathon"},{"$f":"Race1322!A$41","v":34},{"$f":"Race1322!D$41","v":0},{"$f":"Race1322!C$41","v":0},{"$f":"Race1322!F$41","v":1}]
[null,{"$f":"Race1322!B$5","v":"Junior"},{"$f":"Race1322!B$4","v":"OC1"},{"$f":"Race1322!E$5","v":"Boys"},{"$f":"Race1322!D$5","v":"14 & Under"},{"$f":"Race1322!D$4","v":"Marathon"},{"$f":"Race1322!A$42","v":35},{"$f":"Race1322!D$42","v":0},{"$f":"Race1322!C$42","v":0},{"$f":"Race1322!F$42","v":1}]
[null,{"$f":"Race1322!B$5","v":"Junior"},{"$f":"Race1322!B$4","v":"OC1"},{"$f":"Race1322!E$5","v":"Boys"},{"$f":"Race1322!D$5","v":"14 & Under"},{"$f":"Race1322!D$4","v":"Marathon"},{"$f":"Race1322!A$43","v":36},{"$f":"Race1322!D$43","v":0},{"$f":"Race1322!C$43","v":0},{"$f":"Race1322!F$43","v":1}]
[null,{"$f":"Race1322!B$5","v":"Junior"},{"$f":"Race1322!B$4","v":"OC1"},{"$f":"Race1322!E$5","v":"Boys"},{"$f":"Race1322!D$5","v":"14 & Under"},{"$f":"Race1322!D$4","v":"Marathon"},{"$f":"Race1322!A$44","v":37},{"$f":"Race1322!D$44","v":0},{"$f":"Race1322!C$44","v":0},{"$f":"Race1322!F$44","v":1}]
[null,{"$f":"Race1322!B$5","v":"Junior"},{"$f":"Race1322!B$4","v":"OC1"},{"$f":"Race1322!E$5","v":"Boys"},{"$f":"Race1322!D$5","v":"14 & Under"},{"$f":"Race1322!D$4","v":"Marathon"},{"$f":"Race1322!A$45","v":38},{"$f":"Race1322!D$45","v":0},{"$f":"Race1322!C$45","v":0},{"$f":"Race1322!F$45","v":1}]
[null,{"$f":"Race1322!B$5","v":"Junior"},{"$f":"Race1322!B$4","v":"OC1"},{"$f":"Race1322!E$5","v":"Boys"},{"$f":"Race1322!D$5","v":"14 & Under"},{"$f":"Race1322!D$4","v":"Marathon"},{"$f":"Race1322!A$46","v":39},{"$f":"Race1322!D$46","v":0},{"$f":"Race1322!C$46","v":0},{"$f":"Race1322!F$46","v":1}]
[null,{"$f":"Race1322!B$5","v":"Junior"},{"$f":"Race1322!B$4","v":"OC1"},{"$f":"Race1322!E$5","v":"Boys"},{"$f":"Race1322!D$5","v":"14 & Under"},{"$f":"Race1322!D$4","v":"Marathon"},{"$f":"Race1322!A$47","v":40},{"$f":"Race1322!D$47","v":0},{"$f":"Race1322!C$47","v":0},{"$f":"Race1322!F$47","v":1}]
[null,{"$f":"Race1322!B$5","v":"Junior"},{"$f":"Race1322!B$4","v":"OC1"},{"$f":"Race1322!E$5","v":"Boys"},{"$f":"Race1322!D$5","v":"14 & Under"},{"$f":"Race1322!D$4","v":"Marathon"},{"$f":"Race1322!A$48","v":41},{"$f":"Race1322!D$48","v":0},{"$f":"Race1322!C$48","v":0},{"$f":"Race1322!F$48","v":1}]
[null,{"$f":"Race1322!B$5","v":"Junior"},{"$f":"Race1322!B$4","v":"OC1"},{"$f":"Race1322!E$5","v":"Boys"},{"$f":"Race1322!D$5","v":"14 & Under"},{"$f":"Race1322!D$4","v":"Marathon"},{"$f":"Race1322!A$49","v":42},{"$f":"Race1322!D$49","v":0},{"$f":"Race1322!C$49","v":0},{"$f":"Race1322!F$49","v":1}]
[null,{"$f":"Race1322!B$5","v":"Junior"},{"$f":"Race1322!B$4","v":"OC1"},{"$f":"Race1322!E$5","v":"Boys"},{"$f":"Race1322!D$5","v":"14 & Under"},{"$f":"Race1322!D$4","v":"Marathon"},{"$f":"Race1322!A$50","v":43},{"$f":"Race1322!D$50","v":0},{"$f":"Race1322!C$50","v":0},{"$f":"Race1322!F$50","v":1}]
[null,{"$f":"Race1322!B$5","v":"Junior"},{"$f":"Race1322!B$4","v":"OC1"},{"$f":"Race1322!E$5","v":"Boys"},{"$f":"Race1322!D$5","v":"14 & Under"},{"$f":"Race1322!D$4","v":"Marathon"},{"$f":"Race1322!A$51","v":44},{"$f":"Race1322!D$51","v":0},{"$f":"Race1322!C$51","v":0},{"$f":"Race1322!F$51","v":1}]
[null,{"$f":"Race1322!B$5","v":"Junior"},{"$f":"Race1322!B$4","v":"OC1"},{"$f":"Race1322!E$5","v":"Boys"},{"$f":"Race1322!D$5","v":"14 & Under"},{"$f":"Race1322!D$4","v":"Marathon"},{"$f":"Race1322!A$52","v":45},{"$f":"Race1322!D$52","v":0},{"$f":"Race1322!C$52","v":0},{"$f":"Race1322!F$52","v":1}]
[null,{"$f":"Race1322!B$5","v":"Junior"},{"$f":"Race1322!B$4","v":"OC1"},{"$f":"Race1322!E$5","v":"Boys"},{"$f":"Race1322!D$5","v":"14 & Under"},{"$f":"Race1322!D$4","v":"Marathon"},{"$f":"Race1322!A$53","v":46},{"$f":"Race1322!D$53","v":0},{"$f":"Race1322!C$53","v":0},{"$f":"Race1322!F$53","v":1}]
[null,{"$f":"Race1322!B$5","v":"Junior"},{"$f":"Race1322!B$4","v":"OC1"},{"$f":"Race1322!E$5","v":"Boys"},{"$f":"Race1322!D$5","v":"14 & Under"},{"$f":"Race1322!D$4","v":"Marathon"},{"$f":"Race1322!A$54","v":47},{"$f":"Race1322!D$54","v":0},{"$f":"Race1322!C$54","v":0},{"$f":"Race1322!F$54","v":1}]
[null,{"$f":"Race1322!B$5","v":"Junior"},{"$f":"Race1322!B$4","v":"OC1"},{"$f":"Race1322!E$5","v":"Boys"},{"$f":"Race1322!D$5","v":"14 & Under"},{"$f":"Race1322!D$4","v":"Marathon"},{"$f":"Race1322!A$55","v":48},{"$f":"Race1322!D$55","v":0},{"$f":"Race1322!C$55","v":0},{"$f":"Race1322!F$55","v":1}]
[null,{"$f":"Race1322!B$5","v":"Junior"},{"$f":"Race1322!B$4","v":"OC1"},{"$f":"Race1322!E$5","v":"Boys"},{"$f":"Race1322!D$5","v":"14 & Under"},{"$f":"Race1322!D$4","v":"Marathon"},{"$f":"Race1322!A$56","v":49},{"$f":"Race1322!D$56","v":0},{"$f":"Race1322!C$56","v":0},{"$f":"Race1322!F$56","v":1}]
[null,{"$f":"Race1322!B$5","v":"Junior"},{"$f":"Race1322!B$4","v":"OC1"},{"$f":"Race1322!E$5","v":"Boys"},{"$f":"Race1322!D$5","v":"14 & Under"},{"$f":"Race1322!D$4","v":"Marathon"},{"$f":"Race1322!A$57","v":50},{"$f":"Race1322!D$57","v":0},{"$f":"Race1322!C$57","v":0},{"$f":"Race1322!F$57","v":1}]
["Race1323",{"$f":"Race1323!B$5","v":"Junior"},{"$f":"Race1323!B$4","v":"OC1"},{"$f":"Race1323!E$5","v":"Boys"},{"$f":"Race1323!D$5","v":"16 & Under"},{"$f":"Race1323!D$4","v":"Marathon"},{"$f":"Race1323!A$8","v":1},{"$f":"Race1323!D$8","v":0},{"$f":"Race1323!C$8","v":0},{"$f":"Race1323!F$8","v":9}]
[null,{"$f":"Race1323!B$5","v":"Junior"},{"$f":"Race1323!B$4","v":"OC1"},{"$f":"Race1323!E$5","v":"Boys"},{"$f":"Race1323!D$5","v":"16 & Under"},{"$f":"Race1323!D$4","v":"Marathon"},{"$f":"Race1323!A$9","v":2},{"$f":"Race1323!D$9","v":0},{"$f":"Race1323!C$9","v":0},{"$f":"Race1323!F$9","v":7}]
[null,{"$f":"Race1323!B$5","v":"Junior"},{"$f":"Race1323!B$4","v":"OC1"},{"$f":"Race1323!E$5","v":"Boys"},{"$f":"Race1323!D$5","v":"16 & Under"},{"$f":"Race1323!D$4","v":"Marathon"},{"$f":"Race1323!A$10","v":3},{"$f":"Race1323!D$10","v":0},{"$f":"Race1323!C$10","v":0},{"$f":"Race1323!F$10","v":5}]
[null,{"$f":"Race1323!B$5","v":"Junior"},{"$f":"Race1323!B$4","v":"OC1"},{"$f":"Race1323!E$5","v":"Boys"},{"$f":"Race1323!D$5","v":"16 & Under"},{"$f":"Race1323!D$4","v":"Marathon"},{"$f":"Race1323!A$11","v":4},{"$f":"Race1323!D$11","v":0},{"$f":"Race1323!C$11","v":0},{"$f":"Race1323!F$11","v":3}]
[null,{"$f":"Race1323!B$5","v":"Junior"},{"$f":"Race1323!B$4","v":"OC1"},{"$f":"Race1323!E$5","v":"Boys"},{"$f":"Race1323!D$5","v":"16 & Under"},{"$f":"Race1323!D$4","v":"Marathon"},{"$f":"Race1323!A$12","v":5},{"$f":"Race1323!D$12","v":0},{"$f":"Race1323!C$12","v":0},{"$f":"Race1323!F$12","v":2}]
[null,{"$f":"Race1323!B$5","v":"Junior"},{"$f":"Race1323!B$4","v":"OC1"},{"$f":"Race1323!E$5","v":"Boys"},{"$f":"Race1323!D$5","v":"16 & Under"},{"$f":"Race1323!D$4","v":"Marathon"},{"$f":"Race1323!A$13","v":6},{"$f":"Race1323!D$13","v":0},{"$f":"Race1323!C$13","v":0},{"$f":"Race1323!F$13","v":1}]
[null,{"$f":"Race1323!B$5","v":"Junior"},{"$f":"Race1323!B$4","v":"OC1"},{"$f":"Race1323!E$5","v":"Boys"},{"$f":"Race1323!D$5","v":"16 & Under"},{"$f":"Race1323!D$4","v":"Marathon"},{"$f":"Race1323!A$14","v":7},{"$f":"Race1323!D$14","v":0},{"$f":"Race1323!C$14","v":0},{"$f":"Race1323!F$14","v":1}]
[null,{"$f":"Race1323!B$5","v":"Junior"},{"$f":"Race1323!B$4","v":"OC1"},{"$f":"Race1323!E$5","v":"Boys"},{"$f":"Race1323!D$5","v":"16 & Under"},{"$f":"Race1323!D$4","v":"Marathon"},{"$f":"Race1323!A$15","v":8},{"$f":"Race1323!D$15","v":0},{"$f":"Race1323!C$15","v":0},{"$f":"Race1323!F$15","v":1}]
[null,{"$f":"Race1323!B$5","v":"Junior"},{"$f":"Race1323!B$4","v":"OC1"},{"$f":"Race1323!E$5","v":"Boys"},{"$f":"Race1323!D$5","v":"16 & Under"},{"$f":"Race1323!D$4","v":"Marathon"},{"$f":"Race1323!A$16","v":9},{"$f":"Race1323!D$16","v":0},{"$f":"Race1323!C$16","v":0},{"$f":"Race1323!F$16","v":1}]
[null,{"$f":"Race1323!B$5","v":"Junior"},{"$f":"Race1323!B$4","v":"OC1"},{"$f":"Race1323!E$5","v":"Boys"},{"$f":"Race1323!D$5","v":"16 & Under"},{"$f":"Race1323!D$4","v":"Marathon"},{"$f":"Race1323!A$17","v":10},{"$f":"Race1323!D$17","v":0},{"$f":"Race1323!C$17","v":0},{"$f":"Race1323!F$17","v":1}]
[null,{"$f":"Race1323!B$5","v":"Junior"},{"$f":"Race1323!B$4","v":"OC1"},{"$f":"Race1323!E$5","v":"Boys"},{"$f":"Race1323!D$5","v":"16 & Under"},{"$f":"Race1323!D$4","v":"Marathon"},{"$f":"Race1323!A$18","v":11},{"$f":"Race1323!D$18","v":0},{"$f":"Race1323!C$18","v":0},{"$f":"Race1323!F$18","v":1}]
[null,{"$f":"Race1323!B$5","v":"Junior"},{"$f":"Race1323!B$4","v":"OC1"},{"$f":"Race1323!E$5","v":"Boys"},{"$f":"Race1323!D$5","v":"16 & Under"},{"$f":"Race1323!D$4","v":"Marathon"},{"$f":"Race1323!A$19","v":12},{"$f":"Race1323!D$19","v":0},{"$f":"Race1323!C$19","v":0},{"$f":"Race1323!F$19","v":1}]
[null,{"$f":"Race1323!B$5","v":"Junior"},{"$f":"Race1323!B$4","v":"OC1"},{"$f":"Race1323!E$5","v":"Boys"},{"$f":"Race1323!D$5","v":"16 & Under"},{"$f":"Race1323!D$4","v":"Marathon"},{"$f":"Race1323!A$20","v":13},{"$f":"Race1323!D$20","v":0},{"$f":"Race1323!C$20","v":0},{"$f":"Race1323!F$20","v":1}]
[null,{"$f":"Race1323!B$5","v":"Junior"},{"$f":"Race1323!B$4","v":"OC1"},{"$f":"Race1323!E$5","v":"Boys"},{"$f":"Race1323!D$5","v":"16 & Under"},{"$f":"Race1323!D$4","v":"Marathon"},{"$f":"Race1323!A$21","v":14},{"$f":"Race1323!D$21","v":0},{"$f":"Race1323!C$21","v":0},{"$f":"Race1323!F$21","v":1}]
[null,{"$f":"Race1323!B$5","v":"Junior"},{"$f":"Race1323!B$4","v":"OC1"},{"$f":"Race1323!E$5","v":"Boys"},{"$f":"Race1323!D$5","v":"16 & Under"},{"$f":"Race1323!D$4","v":"Marathon"},{"$f":"Race1323!A$22","v":15},{"$f":"Race1323!D$22","v":0},{"$f":"Race1323!C$22","v":0},{"$f":"Race1323!F$22","v":1}]
[null,{"$f":"Race1323!B$5","v":"Junior"},{"$f":"Race1323!B$4","v":"OC1"},{"$f":"Race1323!E$5","v":"Boys"},{"$f":"Race1323!D$5","v":"16 & Under"},{"$f":"Race1323!D$4","v":"Marathon"},{"$f":"Race1323!A$23","v":16},{"$f":"Race1323!D$23","v":0},{"$f":"Race1323!C$23","v":0},{"$f":"Race1323!F$23","v":1}]
[null,{"$f":"Race1323!B$5","v":"Junior"},{"$f":"Race1323!B$4","v":"OC1"},{"$f":"Race1323!E$5","v":"Boys"},{"$f":"Race1323!D$5","v":"16 & Under"},{"$f":"Race1323!D$4","v":"Marathon"},{"$f":"Race1323!A$24","v":17},{"$f":"Race1323!D$24","v":0},{"$f":"Race1323!C$24","v":0},{"$f":"Race1323!F$24","v":1}]
[null,{"$f":"Race1323!B$5","v":"Junior"},{"$f":"Race1323!B$4","v":"OC1"},{"$f":"Race1323!E$5","v":"Boys"},{"$f":"Race1323!D$5","v":"16 & Under"},{"$f":"Race1323!D$4","v":"Marathon"},{"$f":"Race1323!A$25","v":18},{"$f":"Race1323!D$25","v":0},{"$f":"Race1323!C$25","v":0},{"$f":"Race1323!F$25","v":1}]
[null,{"$f":"Race1323!B$5","v":"Junior"},{"$f":"Race1323!B$4","v":"OC1"},{"$f":"Race1323!E$5","v":"Boys"},{"$f":"Race1323!D$5","v":"16 & Under"},{"$f":"Race1323!D$4","v":"Marathon"},{"$f":"Race1323!A$26","v":19},{"$f":"Race1323!D$26","v":0},{"$f":"Race1323!C$26","v":0},{"$f":"Race1323!F$26","v":1}]
[null,{"$f":"Race1323!B$5","v":"Junior"},{"$f":"Race1323!B$4","v":"OC1"},{"$f":"Race1323!E$5","v":"Boys"},{"$f":"Race1323!D$5","v":"16 & Under"},{"$f":"Race1323!D$4","v":"Marathon"},{"$f":"Race1323!A$27","v":20},{"$f":"Race1323!D$27","v":0},{"$f":"Race1323!C$27","v":0},{"$f":"Race1323!F$27","v":1}]
[null,{"$f":"Race1323!B$5","v":"Junior"},{"$f":"Race1323!B$4","v":"OC1"},{"$f":"Race1323!E$5","v":"Boys"},{"$f":"Race1323!D$5","v":"16 & Under"},{"$f":"Race1323!D$4","v":"Marathon"},{"$f":"Race1323!A$28","v":21},{"$f":"Race1323!D$28","v":0},{"$f":"Race1323!C$28","v":0},{"$f":"Race1323!F$28","v":1}]
[null,{"$f":"Race1323!B$5","v":"Junior"},{"$f":"Race1323!B$4","v":"OC1"},{"$f":"Race1323!E$5","v":"Boys"},{"$f":"Race1323!D$5","v":"16 & Under"},{"$f":"Race1323!D$4","v":"Marathon"},{"$f":"Race1323!A$29","v":22},{"$f":"Race1323!D$29","v":0},{"$f":"Race1323!C$29","v":0},{"$f":"Race1323!F$29","v":1}]
[null,{"$f":"Race1323!B$5","v":"Junior"},{"$f":"Race1323!B$4","v":"OC1"},{"$f":"Race1323!E$5","v":"Boys"},{"$f":"Race1323!D$5","v":"16 & Under"},{"$f":"Race1323!D$4","v":"Marathon"},{"$f":"Race1323!A$30","v":23},{"$f":"Race1323!D$30","v":0},{"$f":"Race1323!C$30","v":0},{"$f":"Race1323!F$30","v":1}]
[null,{"$f":"Race1323!B$5","v":"Junior"},{"$f":"Race1323!B$4","v":"OC1"},{"$f":"Race1323!E$5","v":"Boys"},{"$f":"Race1323!D$5","v":"16 & Under"},{"$f":"Race1323!D$4","v":"Marathon"},{"$f":"Race1323!A$31","v":24},{"$f":"Race1323!D$31","v":0},{"$f":"Race1323!C$31","v":0},{"$f":"Race1323!F$31","v":1}]
[null,{"$f":"Race1323!B$5","v":"Junior"},{"$f":"Race1323!B$4","v":"OC1"},{"$f":"Race1323!E$5","v":"Boys"},{"$f":"Race1323!D$5","v":"16 & Under"},{"$f":"Race1323!D$4","v":"Marathon"},{"$f":"Race1323!A$32","v":25},{"$f":"Race1323!D$32","v":0},{"$f":"Race1323!C$32","v":0},{"$f":"Race1323!F$32","v":1}]
[null,{"$f":"Race1323!B$5","v":"Junior"},{"$f":"Race1323!B$4","v":"OC1"},{"$f":"Race1323!E$5","v":"Boys"},{"$f":"Race1323!D$5","v":"16 & Under"},{"$f":"Race1323!D$4","v":"Marathon"},{"$f":"Race1323!A$33","v":26},{"$f":"Race1323!D$33","v":0},{"$f":"Race1323!C$33","v":0},{"$f":"Race1323!F$33","v":1}]
[null,{"$f":"Race1323!B$5","v":"Junior"},{"$f":"Race1323!B$4","v":"OC1"},{"$f":"Race1323!E$5","v":"Boys"},{"$f":"Race1323!D$5","v":"16 & Under"},{"$f":"Race1323!D$4","v":"Marathon"},{"$f":"Race1323!A$34","v":27},{"$f":"Race1323!D$34","v":0},{"$f":"Race1323!C$34","v":0},{"$f":"Race1323!F$34","v":1}]
[null,{"$f":"Race1323!B$5","v":"Junior"},{"$f":"Race1323!B$4","v":"OC1"},{"$f":"Race1323!E$5","v":"Boys"},{"$f":"Race1323!D$5","v":"16 & Under"},{"$f":"Race1323!D$4","v":"Marathon"},{"$f":"Race1323!A$35","v":28},{"$f":"Race1323!D$35","v":0},{"$f":"Race1323!C$35","v":0},{"$f":"Race1323!F$35","v":1}]
[null,{"$f":"Race1323!B$5","v":"Junior"},{"$f":"Race1323!B$4","v":"OC1"},{"$f":"Race1323!E$5","v":"Boys"},{"$f":"Race1323!D$5","v":"16 & Under"},{"$f":"Race1323!D$4","v":"Marathon"},{"$f":"Race1323!A$36","v":29},{"$f":"Race1323!D$36","v":0},{"$f":"Race1323!C$36","v":0},{"$f":"Race1323!F$36","v":1}]
[null,{"$f":"Race1323!B$5","v":"Junior"},{"$f":"Race1323!B$4","v":"OC1"},{"$f":"Race1323!E$5","v":"Boys"},{"$f":"Race1323!D$5","v":"16 & Under"},{"$f":"Race1323!D$4","v":"Marathon"},{"$f":"Race1323!A$37","v":30},{"$f":"Race1323!D$37","v":0},{"$f":"Race1323!C$37","v":0},{"$f":"Race1323!F$37","v":1}]
[null,{"$f":"Race1323!B$5","v":"Junior"},{"$f":"Race1323!B$4","v":"OC1"},{"$f":"Race1323!E$5","v":"Boys"},{"$f":"Race1323!D$5","v":"16 & Under"},{"$f":"Race1323!D$4","v":"Marathon"},{"$f":"Race1323!A$38","v":31},{"$f":"Race1323!D$38","v":0},{"$f":"Race1323!C$38","v":0},{"$f":"Race1323!F$38","v":1}]
[null,{"$f":"Race1323!B$5","v":"Junior"},{"$f":"Race1323!B$4","v":"OC1"},{"$f":"Race1323!E$5","v":"Boys"},{"$f":"Race1323!D$5","v":"16 & Under"},{"$f":"Race1323!D$4","v":"Marathon"},{"$f":"Race1323!A$39","v":32},{"$f":"Race1323!D$39","v":0},{"$f":"Race1323!C$39","v":0},{"$f":"Race1323!F$39","v":1}]
[null,{"$f":"Race1323!B$5","v":"Junior"},{"$f":"Race1323!B$4","v":"OC1"},{"$f":"Race1323!E$5","v":"Boys"},{"$f":"Race1323!D$5","v":"16 & Under"},{"$f":"Race1323!D$4","v":"Marathon"},{"$f":"Race1323!A$40","v":33},{"$f":"Race1323!D$40","v":0},{"$f":"Race1323!C$40","v":0},{"$f":"Race1323!F$40","v":1}]
[null,{"$f":"Race1323!B$5","v":"Junior"},{"$f":"Race1323!B$4","v":"OC1"},{"$f":"Race1323!E$5","v":"Boys"},{"$f":"Race1323!D$5","v":"16 & Under"},{"$f":"Race1323!D$4","v":"Marathon"},{"$f":"Race1323!A$41","v":34},{"$f":"Race1323!D$41","v":0},{"$f":"Race1323!C$41","v":0},{"$f":"Race1323!F$41","v":1}]
[null,{"$f":"Race1323!B$5","v":"Junior"},{"$f":"Race1323!B$4","v":"OC1"},{"$f":"Race1323!E$5","v":"Boys"},{"$f":"Race1323!D$5","v":"16 & Under"},{"$f":"Race1323!D$4","v":"Marathon"},{"$f":"Race1323!A$42","v":35},{"$f":"Race1323!D$42","v":0},{"$f":"Race1323!C$42","v":0},{"$f":"Race1323!F$42","v":1}]
[null,{"$f":"Race1323!B$5","v":"Junior"},{"$f":"Race1323!B$4","v":"OC1"},{"$f":"Race1323!E$5","v":"Boys"},{"$f":"Race1323!D$5","v":"16 & Under"},{"$f":"Race1323!D$4","v":"Marathon"},{"$f":"Race1323!A$43","v":36},{"$f":"Race1323!D$43","v":0},{"$f":"Race1323!C$43","v":0},{"$f":"Race1323!F$43","v":1}]
[null,{"$f":"Race1323!B$5","v":"Junior"},{"$f":"Race1323!B$4","v":"OC1"},{"$f":"Race1323!E$5","v":"Boys"},{"$f":"Race1323!D$5","v":"16 & Under"},{"$f":"Race1323!D$4","v":"Marathon"},{"$f":"Race1323!A$44","v":37},{"$f":"Race1323!D$44","v":0},{"$f":"Race1323!C$44","v":0},{"$f":"Race1323!F$44","v":1}]
[null,{"$f":"Race1323!B$5","v":"Junior"},{"$f":"Race1323!B$4","v":"OC1"},{"$f":"Race1323!E$5","v":"Boys"},{"$f":"Race1323!D$5","v":"16 & Under"},{"$f":"Race1323!D$4","v":"Marathon"},{"$f":"Race1323!A$45","v":38},{"$f":"Race1323!D$45","v":0},{"$f":"Race1323!C$45","v":0},{"$f":"Race1323!F$45","v":1}]
[null,{"$f":"Race1323!B$5","v":"Junior"},{"$f":"Race1323!B$4","v":"OC1"},{"$f":"Race1323!E$5","v":"Boys"},{"$f":"Race1323!D$5","v":"16 & Under"},{"$f":"Race1323!D$4","v":"Marathon"},{"$f":"Race1323!A$46","v":39},{"$f":"Race1323!D$46","v":0},{"$f":"Race1323!C$46","v":0},{"$f":"Race1323!F$46","v":1}]
[null,{"$f":"Race1323!B$5","v":"Junior"},{"$f":"Race1323!B$4","v":"OC1"},{"$f":"Race1323!E$5","v":"Boys"},{"$f":"Race1323!D$5","v":"16 & Under"},{"$f":"Race1323!D$4","v":"Marathon"},{"$f":"Race1323!A$47","v":40},{"$f":"Race1323!D$47","v":0},{"$f":"Race1323!C$47","v":0},{"$f":"Race1323!F$47","v":1}]
[null,{"$f":"Race1323!B$5","v":"Junior"},{"$f":"Race1323!B$4","v":"OC1"},{"$f":"Race1323!E$5","v":"Boys"},{"$f":"Race1323!D$5","v":"16 & Under"},{"$f":"Race1323!D$4","v":"Marathon"},{"$f":"Race1323!A$48","v":41},{"$f":"Race1323!D$48","v":0},{"$f":"Race1323!C$48","v":0},{"$f":"Race1323!F$48","v":1}]
[null,{"$f":"Race1323!B$5","v":"Junior"},{"$f":"Race1323!B$4","v":"OC1"},{"$f":"Race1323!E$5","v":"Boys"},{"$f":"Race1323!D$5","v":"16 & Under"},{"$f":"Race1323!D$4","v":"Marathon"},{"$f":"Race1323!A$49","v":42},{"$f":"Race1323!D$49","v":0},{"$f":"Race1323!C$49","v":0},{"$f":"Race1323!F$49","v":1}]
[null,{"$f":"Race1323!B$5","v":"Junior"},{"$f":"Race1323!B$4","v":"OC1"},{"$f":"Race1323!E$5","v":"Boys"},{"$f":"Race1323!D$5","v":"16 & Under"},{"$f":"Race1323!D$4","v":"Marathon"},{"$f":"Race1323!A$50","v":43},{"$f":"Race1323!D$50","v":0},{"$f":"Race1323!C$50","v":0},{"$f":"Race1323!F$50","v":1}]
[null,{"$f":"Race1323!B$5","v":"Junior"},{"$f":"Race1323!B$4","v":"OC1"},{"$f":"Race1323!E$5","v":"Boys"},{"$f":"Race1323!D$5","v":"16 & Under"},{"$f":"Race1323!D$4","v":"Marathon"},{"$f":"Race1323!A$51","v":44},{"$f":"Race1323!D$51","v":0},{"$f":"Race1323!C$51","v":0},{"$f":"Race1323!F$51","v":1}]
[null,{"$f":"Race1323!B$5","v":"Junior"},{"$f":"Race1323!B$4","v":"OC1"},{"$f":"Race1323!E$5","v":"Boys"},{"$f":"Race1323!D$5","v":"16 & Under"},{"$f":"Race1323!D$4","v":"Marathon"},{"$f":"Race1323!A$52","v":45},{"$f":"Race1323!D$52","v":0},{"$f":"Race1323!C$52","v":0},{"$f":"Race1323!F$52","v":1}]
[null,{"$f":"Race1323!B$5","v":"Junior"},{"$f":"Race1323!B$4","v":"OC1"},{"$f":"Race1323!E$5","v":"Boys"},{"$f":"Race1323!D$5","v":"16 & Under"},{"$f":"Race1323!D$4","v":"Marathon"},{"$f":"Race1323!A$53","v":46},{"$f":"Race1323!D$53","v":0},{"$f":"Race1323!C$53","v":0},{"$f":"Race1323!F$53","v":1}]
[null,{"$f":"Race1323!B$5","v":"Junior"},{"$f":"Race1323!B$4","v":"OC1"},{"$f":"Race1323!E$5","v":"Boys"},{"$f":"Race1323!D$5","v":"16 & Under"},{"$f":"Race1323!D$4","v":"Marathon"},{"$f":"Race1323!A$54","v":47},{"$f":"Race1323!D$54","v":0},{"$f":"Race1323!C$54","v":0},{"$f":"Race1323!F$54","v":1}]
[null,{"$f":"Race1323!B$5","v":"Junior"},{"$f":"Race1323!B$4","v":"OC1"},{"$f":"Race1323!E$5","v":"Boys"},{"$f":"Race1323!D$5","v":"16 & Under"},{"$f":"Race1323!D$4","v":"Marathon"},{"$f":"Race1323!A$55","v":48},{"$f":"Race1323!D$55","v":0},{"$f":"Race1323!C$55","v":0},{"$f":"Race1323!F$55","v":1}]
[null,{"$f":"Race1323!B$5","v":"Junior"},{"$f":"Race1323!B$4","v":"OC1"},{"$f":"Race1323!E$5","v":"Boys"},{"$f":"Race1323!D$5","v":"16 & Under"},{"$f":"Race1323!D$4","v":"Marathon"},{"$f":"Race1323!A$56","v":49},{"$f":"Race1323!D$56","v":0},{"$f":"Race1323!C$56","v":0},{"$f":"Race1323!F$56","v":1}]
[null,{"$f":"Race1323!B$5","v":"Junior"},{"$f":"Race1323!B$4","v":"OC1"},{"$f":"Race1323!E$5","v":"Boys"},{"$f":"Race1323!D$5","v":"16 & Under"},{"$f":"Race1323!D$4","v":"Marathon"},{"$f":"Race1323!A$57","v":50},{"$f":"Race1323!D$57","v":0},{"$f":"Race1323!C$57","v":0},{"$f":"Race1323!F$57","v":1}]
["Race1324",{"$f":"Race1324!B$5","v":"Junior"},{"$f":"Race1324!B$4","v":"OC1"},{"$f":"Race1324!E$5","v":"Boys"},{"$f":"Race1324!D$5","v":"19 & Under"},{"$f":"Race1324!D$4","v":"Marathon"},{"$f":"Race1324!A$8","v":1},{"$f":"Race1324!D$8","v":0},{"$f":"Race1324!C$8","v":0},{"$f":"Race1324!F$8","v":9}]
[null,{"$f":"Race1324!B$5","v":"Junior"},{"$f":"Race1324!B$4","v":"OC1"},{"$f":"Race1324!E$5","v":"Boys"},{"$f":"Race1324!D$5","v":"19 & Under"},{"$f":"Race1324!D$4","v":"Marathon"},{"$f":"Race1324!A$9","v":2},{"$f":"Race1324!D$9","v":0},{"$f":"Race1324!C$9","v":0},{"$f":"Race1324!F$9","v":7}]
[null,{"$f":"Race1324!B$5","v":"Junior"},{"$f":"Race1324!B$4","v":"OC1"},{"$f":"Race1324!E$5","v":"Boys"},{"$f":"Race1324!D$5","v":"19 & Under"},{"$f":"Race1324!D$4","v":"Marathon"},{"$f":"Race1324!A$10","v":3},{"$f":"Race1324!D$10","v":0},{"$f":"Race1324!C$10","v":0},{"$f":"Race1324!F$10","v":5}]
[null,{"$f":"Race1324!B$5","v":"Junior"},{"$f":"Race1324!B$4","v":"OC1"},{"$f":"Race1324!E$5","v":"Boys"},{"$f":"Race1324!D$5","v":"19 & Under"},{"$f":"Race1324!D$4","v":"Marathon"},{"$f":"Race1324!A$11","v":4},{"$f":"Race1324!D$11","v":0},{"$f":"Race1324!C$11","v":0},{"$f":"Race1324!F$11","v":3}]
[null,{"$f":"Race1324!B$5","v":"Junior"},{"$f":"Race1324!B$4","v":"OC1"},{"$f":"Race1324!E$5","v":"Boys"},{"$f":"Race1324!D$5","v":"19 & Under"},{"$f":"Race1324!D$4","v":"Marathon"},{"$f":"Race1324!A$12","v":5},{"$f":"Race1324!D$12","v":0},{"$f":"Race1324!C$12","v":0},{"$f":"Race1324!F$12","v":2}]
[null,{"$f":"Race1324!B$5","v":"Junior"},{"$f":"Race1324!B$4","v":"OC1"},{"$f":"Race1324!E$5","v":"Boys"},{"$f":"Race1324!D$5","v":"19 & Under"},{"$f":"Race1324!D$4","v":"Marathon"},{"$f":"Race1324!A$13","v":6},{"$f":"Race1324!D$13","v":0},{"$f":"Race1324!C$13","v":0},{"$f":"Race1324!F$13","v":1}]
[null,{"$f":"Race1324!B$5","v":"Junior"},{"$f":"Race1324!B$4","v":"OC1"},{"$f":"Race1324!E$5","v":"Boys"},{"$f":"Race1324!D$5","v":"19 & Under"},{"$f":"Race1324!D$4","v":"Marathon"},{"$f":"Race1324!A$14","v":7},{"$f":"Race1324!D$14","v":0},{"$f":"Race1324!C$14","v":0},{"$f":"Race1324!F$14","v":1}]
[null,{"$f":"Race1324!B$5","v":"Junior"},{"$f":"Race1324!B$4","v":"OC1"},{"$f":"Race1324!E$5","v":"Boys"},{"$f":"Race1324!D$5","v":"19 & Under"},{"$f":"Race1324!D$4","v":"Marathon"},{"$f":"Race1324!A$15","v":8},{"$f":"Race1324!D$15","v":0},{"$f":"Race1324!C$15","v":0},{"$f":"Race1324!F$15","v":1}]
[null,{"$f":"Race1324!B$5","v":"Junior"},{"$f":"Race1324!B$4","v":"OC1"},{"$f":"Race1324!E$5","v":"Boys"},{"$f":"Race1324!D$5","v":"19 & Under"},{"$f":"Race1324!D$4","v":"Marathon"},{"$f":"Race1324!A$16","v":9},{"$f":"Race1324!D$16","v":0},{"$f":"Race1324!C$16","v":0},{"$f":"Race1324!F$16","v":1}]
[null,{"$f":"Race1324!B$5","v":"Junior"},{"$f":"Race1324!B$4","v":"OC1"},{"$f":"Race1324!E$5","v":"Boys"},{"$f":"Race1324!D$5","v":"19 & Under"},{"$f":"Race1324!D$4","v":"Marathon"},{"$f":"Race1324!A$17","v":10},{"$f":"Race1324!D$17","v":0},{"$f":"Race1324!C$17","v":0},{"$f":"Race1324!F$17","v":1}]
[null,{"$f":"Race1324!B$5","v":"Junior"},{"$f":"Race1324!B$4","v":"OC1"},{"$f":"Race1324!E$5","v":"Boys"},{"$f":"Race1324!D$5","v":"19 & Under"},{"$f":"Race1324!D$4","v":"Marathon"},{"$f":"Race1324!A$18","v":11},{"$f":"Race1324!D$18","v":0},{"$f":"Race1324!C$18","v":0},{"$f":"Race1324!F$18","v":1}]
[null,{"$f":"Race1324!B$5","v":"Junior"},{"$f":"Race1324!B$4","v":"OC1"},{"$f":"Race1324!E$5","v":"Boys"},{"$f":"Race1324!D$5","v":"19 & Under"},{"$f":"Race1324!D$4","v":"Marathon"},{"$f":"Race1324!A$19","v":12},{"$f":"Race1324!D$19","v":0},{"$f":"Race1324!C$19","v":0},{"$f":"Race1324!F$19","v":1}]
[null,{"$f":"Race1324!B$5","v":"Junior"},{"$f":"Race1324!B$4","v":"OC1"},{"$f":"Race1324!E$5","v":"Boys"},{"$f":"Race1324!D$5","v":"19 & Under"},{"$f":"Race1324!D$4","v":"Marathon"},{"$f":"Race1324!A$20","v":13},{"$f":"Race1324!D$20","v":0},{"$f":"Race1324!C$20","v":0},{"$f":"Race1324!F$20","v":1}]
[null,{"$f":"Race1324!B$5","v":"Junior"},{"$f":"Race1324!B$4","v":"OC1"},{"$f":"Race1324!E$5","v":"Boys"},{"$f":"Race1324!D$5","v":"19 & Under"},{"$f":"Race1324!D$4","v":"Marathon"},{"$f":"Race1324!A$21","v":14},{"$f":"Race1324!D$21","v":0},{"$f":"Race1324!C$21","v":0},{"$f":"Race1324!F$21","v":1}]
[null,{"$f":"Race1324!B$5","v":"Junior"},{"$f":"Race1324!B$4","v":"OC1"},{"$f":"Race1324!E$5","v":"Boys"},{"$f":"Race1324!D$5","v":"19 & Under"},{"$f":"Race1324!D$4","v":"Marathon"},{"$f":"Race1324!A$22","v":15},{"$f":"Race1324!D$22","v":0},{"$f":"Race1324!C$22","v":0},{"$f":"Race1324!F$22","v":1}]
[null,{"$f":"Race1324!B$5","v":"Junior"},{"$f":"Race1324!B$4","v":"OC1"},{"$f":"Race1324!E$5","v":"Boys"},{"$f":"Race1324!D$5","v":"19 & Under"},{"$f":"Race1324!D$4","v":"Marathon"},{"$f":"Race1324!A$23","v":16},{"$f":"Race1324!D$23","v":0},{"$f":"Race1324!C$23","v":0},{"$f":"Race1324!F$23","v":1}]
[null,{"$f":"Race1324!B$5","v":"Junior"},{"$f":"Race1324!B$4","v":"OC1"},{"$f":"Race1324!E$5","v":"Boys"},{"$f":"Race1324!D$5","v":"19 & Under"},{"$f":"Race1324!D$4","v":"Marathon"},{"$f":"Race1324!A$24","v":17},{"$f":"Race1324!D$24","v":0},{"$f":"Race1324!C$24","v":0},{"$f":"Race1324!F$24","v":1}]
[null,{"$f":"Race1324!B$5","v":"Junior"},{"$f":"Race1324!B$4","v":"OC1"},{"$f":"Race1324!E$5","v":"Boys"},{"$f":"Race1324!D$5","v":"19 & Under"},{"$f":"Race1324!D$4","v":"Marathon"},{"$f":"Race1324!A$25","v":18},{"$f":"Race1324!D$25","v":0},{"$f":"Race1324!C$25","v":0},{"$f":"Race1324!F$25","v":1}]
[null,{"$f":"Race1324!B$5","v":"Junior"},{"$f":"Race1324!B$4","v":"OC1"},{"$f":"Race1324!E$5","v":"Boys"},{"$f":"Race1324!D$5","v":"19 & Under"},{"$f":"Race1324!D$4","v":"Marathon"},{"$f":"Race1324!A$26","v":19},{"$f":"Race1324!D$26","v":0},{"$f":"Race1324!C$26","v":0},{"$f":"Race1324!F$26","v":1}]
[null,{"$f":"Race1324!B$5","v":"Junior"},{"$f":"Race1324!B$4","v":"OC1"},{"$f":"Race1324!E$5","v":"Boys"},{"$f":"Race1324!D$5","v":"19 & Under"},{"$f":"Race1324!D$4","v":"Marathon"},{"$f":"Race1324!A$27","v":20},{"$f":"Race1324!D$27","v":0},{"$f":"Race1324!C$27","v":0},{"$f":"Race1324!F$27","v":1}]
[null,{"$f":"Race1324!B$5","v":"Junior"},{"$f":"Race1324!B$4","v":"OC1"},{"$f":"Race1324!E$5","v":"Boys"},{"$f":"Race1324!D$5","v":"19 & Under"},{"$f":"Race1324!D$4","v":"Marathon"},{"$f":"Race1324!A$28","v":21},{"$f":"Race1324!D$28","v":0},{"$f":"Race1324!C$28","v":0},{"$f":"Race1324!F$28","v":1}]
[null,{"$f":"Race1324!B$5","v":"Junior"},{"$f":"Race1324!B$4","v":"OC1"},{"$f":"Race1324!E$5","v":"Boys"},{"$f":"Race1324!D$5","v":"19 & Under"},{"$f":"Race1324!D$4","v":"Marathon"},{"$f":"Race1324!A$29","v":22},{"$f":"Race1324!D$29","v":0},{"$f":"Race1324!C$29","v":0},{"$f":"Race1324!F$29","v":1}]
[null,{"$f":"Race1324!B$5","v":"Junior"},{"$f":"Race1324!B$4","v":"OC1"},{"$f":"Race1324!E$5","v":"Boys"},{"$f":"Race1324!D$5","v":"19 & Under"},{"$f":"Race1324!D$4","v":"Marathon"},{"$f":"Race1324!A$30","v":23},{"$f":"Race1324!D$30","v":0},{"$f":"Race1324!C$30","v":0},{"$f":"Race1324!F$30","v":1}]
[null,{"$f":"Race1324!B$5","v":"Junior"},{"$f":"Race1324!B$4","v":"OC1"},{"$f":"Race1324!E$5","v":"Boys"},{"$f":"Race1324!D$5","v":"19 & Under"},{"$f":"Race1324!D$4","v":"Marathon"},{"$f":"Race1324!A$31","v":24},{"$f":"Race1324!D$31","v":0},{"$f":"Race1324!C$31","v":0},{"$f":"Race1324!F$31","v":1}]
[null,{"$f":"Race1324!B$5","v":"Junior"},{"$f":"Race1324!B$4","v":"OC1"},{"$f":"Race1324!E$5","v":"Boys"},{"$f":"Race1324!D$5","v":"19 & Under"},{"$f":"Race1324!D$4","v":"Marathon"},{"$f":"Race1324!A$32","v":25},{"$f":"Race1324!D$32","v":0},{"$f":"Race1324!C$32","v":0},{"$f":"Race1324!F$32","v":1}]
[null,{"$f":"Race1324!B$5","v":"Junior"},{"$f":"Race1324!B$4","v":"OC1"},{"$f":"Race1324!E$5","v":"Boys"},{"$f":"Race1324!D$5","v":"19 & Under"},{"$f":"Race1324!D$4","v":"Marathon"},{"$f":"Race1324!A$33","v":26},{"$f":"Race1324!D$33","v":0},{"$f":"Race1324!C$33","v":0},{"$f":"Race1324!F$33","v":1}]
[null,{"$f":"Race1324!B$5","v":"Junior"},{"$f":"Race1324!B$4","v":"OC1"},{"$f":"Race1324!E$5","v":"Boys"},{"$f":"Race1324!D$5","v":"19 & Under"},{"$f":"Race1324!D$4","v":"Marathon"},{"$f":"Race1324!A$34","v":27},{"$f":"Race1324!D$34","v":0},{"$f":"Race1324!C$34","v":0},{"$f":"Race1324!F$34","v":1}]
[null,{"$f":"Race1324!B$5","v":"Junior"},{"$f":"Race1324!B$4","v":"OC1"},{"$f":"Race1324!E$5","v":"Boys"},{"$f":"Race1324!D$5","v":"19 & Under"},{"$f":"Race1324!D$4","v":"Marathon"},{"$f":"Race1324!A$35","v":28},{"$f":"Race1324!D$35","v":0},{"$f":"Race1324!C$35","v":0},{"$f":"Race1324!F$35","v":1}]
[null,{"$f":"Race1324!B$5","v":"Junior"},{"$f":"Race1324!B$4","v":"OC1"},{"$f":"Race1324!E$5","v":"Boys"},{"$f":"Race1324!D$5","v":"19 & Under"},{"$f":"Race1324!D$4","v":"Marathon"},{"$f":"Race1324!A$36","v":29},{"$f":"Race1324!D$36","v":0},{"$f":"Race1324!C$36","v":0},{"$f":"Race1324!F$36","v":1}]
[null,{"$f":"Race1324!B$5","v":"Junior"},{"$f":"Race1324!B$4","v":"OC1"},{"$f":"Race1324!E$5","v":"Boys"},{"$f":"Race1324!D$5","v":"19 & Under"},{"$f":"Race1324!D$4","v":"Marathon"},{"$f":"Race1324!A$37","v":30},{"$f":"Race1324!D$37","v":0},{"$f":"Race1324!C$37","v":0},{"$f":"Race1324!F$37","v":1}]
[null,{"$f":"Race1324!B$5","v":"Junior"},{"$f":"Race1324!B$4","v":"OC1"},{"$f":"Race1324!E$5","v":"Boys"},{"$f":"Race1324!D$5","v":"19 & Under"},{"$f":"Race1324!D$4","v":"Marathon"},{"$f":"Race1324!A$38","v":31},{"$f":"Race1324!D$38","v":0},{"$f":"Race1324!C$38","v":0},{"$f":"Race1324!F$38","v":1}]
[null,{"$f":"Race1324!B$5","v":"Junior"},{"$f":"Race1324!B$4","v":"OC1"},{"$f":"Race1324!E$5","v":"Boys"},{"$f":"Race1324!D$5","v":"19 & Under"},{"$f":"Race1324!D$4","v":"Marathon"},{"$f":"Race1324!A$39","v":32},{"$f":"Race1324!D$39","v":0},{"$f":"Race1324!C$39","v":0},{"$f":"Race1324!F$39","v":1}]
[null,{"$f":"Race1324!B$5","v":"Junior"},{"$f":"Race1324!B$4","v":"OC1"},{"$f":"Race1324!E$5","v":"Boys"},{"$f":"Race1324!D$5","v":"19 & Under"},{"$f":"Race1324!D$4","v":"Marathon"},{"$f":"Race1324!A$40","v":33},{"$f":"Race1324!D$40","v":0},{"$f":"Race1324!C$40","v":0},{"$f":"Race1324!F$40","v":1}]
[null,{"$f":"Race1324!B$5","v":"Junior"},{"$f":"Race1324!B$4","v":"OC1"},{"$f":"Race1324!E$5","v":"Boys"},{"$f":"Race1324!D$5","v":"19 & Under"},{"$f":"Race1324!D$4","v":"Marathon"},{"$f":"Race1324!A$41","v":34},{"$f":"Race1324!D$41","v":0},{"$f":"Race1324!C$41","v":0},{"$f":"Race1324!F$41","v":1}]
[null,{"$f":"Race1324!B$5","v":"Junior"},{"$f":"Race1324!B$4","v":"OC1"},{"$f":"Race1324!E$5","v":"Boys"},{"$f":"Race1324!D$5","v":"19 & Under"},{"$f":"Race1324!D$4","v":"Marathon"},{"$f":"Race1324!A$42","v":35},{"$f":"Race1324!D$42","v":0},{"$f":"Race1324!C$42","v":0},{"$f":"Race1324!F$42","v":1}]
[null,{"$f":"Race1324!B$5","v":"Junior"},{"$f":"Race1324!B$4","v":"OC1"},{"$f":"Race1324!E$5","v":"Boys"},{"$f":"Race1324!D$5","v":"19 & Under"},{"$f":"Race1324!D$4","v":"Marathon"},{"$f":"Race1324!A$43","v":36},{"$f":"Race1324!D$43","v":0},{"$f":"Race1324!C$43","v":0},{"$f":"Race1324!F$43","v":1}]
[null,{"$f":"Race1324!B$5","v":"Junior"},{"$f":"Race1324!B$4","v":"OC1"},{"$f":"Race1324!E$5","v":"Boys"},{"$f":"Race1324!D$5","v":"19 & Under"},{"$f":"Race1324!D$4","v":"Marathon"},{"$f":"Race1324!A$44","v":37},{"$f":"Race1324!D$44","v":0},{"$f":"Race1324!C$44","v":0},{"$f":"Race1324!F$44","v":1}]
[null,{"$f":"Race1324!B$5","v":"Junior"},{"$f":"Race1324!B$4","v":"OC1"},{"$f":"Race1324!E$5","v":"Boys"},{"$f":"Race1324!D$5","v":"19 & Under"},{"$f":"Race1324!D$4","v":"Marathon"},{"$f":"Race1324!A$45","v":38},{"$f":"Race1324!D$45","v":0},{"$f":"Race1324!C$45","v":0},{"$f":"Race1324!F$45","v":1}]
[null,{"$f":"Race1324!B$5","v":"Junior"},{"$f":"Race1324!B$4","v":"OC1"},{"$f":"Race1324!E$5","v":"Boys"},{"$f":"Race1324!D$5","v":"19 & Under"},{"$f":"Race1324!D$4","v":"Marathon"},{"$f":"Race1324!A$46","v":39},{"$f":"Race1324!D$46","v":0},{"$f":"Race1324!C$46","v":0},{"$f":"Race1324!F$46","v":1}]
[null,{"$f":"Race1324!B$5","v":"Junior"},{"$f":"Race1324!B$4","v":"OC1"},{"$f":"Race1324!E$5","v":"Boys"},{"$f":"Race1324!D$5","v":"19 & Under"},{"$f":"Race1324!D$4","v":"Marathon"},{"$f":"Race1324!A$47","v":40},{"$f":"Race1324!D$47","v":0},{"$f":"Race1324!C$47","v":0},{"$f":"Race1324!F$47","v":1}]
[null,{"$f":"Race1324!B$5","v":"Junior"},{"$f":"Race1324!B$4","v":"OC1"},{"$f":"Race1324!E$5","v":"Boys"},{"$f":"Race1324!D$5","v":"19 & Under"},{"$f":"Race1324!D$4","v":"Marathon"},{"$f":"Race1324!A$48","v":41},{"$f":"Race1324!D$48","v":0},{"$f":"Race1324!C$48","v":0},{"$f":"Race1324!F$48","v":1}]
[null,{"$f":"Race1324!B$5","v":"Junior"},{"$f":"Race1324!B$4","v":"OC1"},{"$f":"Race1324!E$5","v":"Boys"},{"$f":"Race1324!D$5","v":"19 & Under"},{"$f":"Race1324!D$4","v":"Marathon"},{"$f":"Race1324!A$49","v":42},{"$f":"Race1324!D$49","v":0},{"$f":"Race1324!C$49","v":0},{"$f":"Race1324!F$49","v":1}]
[null,{"$f":"Race1324!B$5","v":"Junior"},{"$f":"Race1324!B$4","v":"OC1"},{"$f":"Race1324!E$5","v":"Boys"},{"$f":"Race1324!D$5","v":"19 & Under"},{"$f":"Race1324!D$4","v":"Marathon"},{"$f":"Race1324!A$50","v":43},{"$f":"Race1324!D$50","v":0},{"$f":"Race1324!C$50","v":0},{"$f":"Race1324!F$50","v":1}]
[null,{"$f":"Race1324!B$5","v":"Junior"},{"$f":"Race1324!B$4","v":"OC1"},{"$f":"Race1324!E$5","v":"Boys"},{"$f":"Race1324!D$5","v":"19 & Under"},{"$f":"Race1324!D$4","v":"Marathon"},{"$f":"Race1324!A$51","v":44},{"$f":"Race1324!D$51","v":0},{"$f":"Race1324!C$51","v":0},{"$f":"Race1324!F$51","v":1}]
[null,{"$f":"Race1324!B$5","v":"Junior"},{"$f":"Race1324!B$4","v":"OC1"},{"$f":"Race1324!E$5","v":"Boys"},{"$f":"Race1324!D$5","v":"19 & Under"},{"$f":"Race1324!D$4","v":"Marathon"},{"$f":"Race1324!A$52","v":45},{"$f":"Race1324!D$52","v":0},{"$f":"Race1324!C$52","v":0},{"$f":"Race1324!F$52","v":1}]
[null,{"$f":"Race1324!B$5","v":"Junior"},{"$f":"Race1324!B$4","v":"OC1"},{"$f":"Race1324!E$5","v":"Boys"},{"$f":"Race1324!D$5","v":"19 & Under"},{"$f":"Race1324!D$4","v":"Marathon"},{"$f":"Race1324!A$53","v":46},{"$f":"Race1324!D$53","v":0},{"$f":"Race1324!C$53","v":0},{"$f":"Race1324!F$53","v":1}]
[null,{"$f":"Race1324!B$5","v":"Junior"},{"$f":"Race1324!B$4","v":"OC1"},{"$f":"Race1324!E$5","v":"Boys"},{"$f":"Race1324!D$5","v":"19 & Under"},{"$f":"Race1324!D$4","v":"Marathon"},{"$f":"Race1324!A$54","v":47},{"$f":"Race1324!D$54","v":0},{"$f":"Race1324!C$54","v":0},{"$f":"Race1324!F$54","v":1}]
[null,{"$f":"Race1324!B$5","v":"Junior"},{"$f":"Race1324!B$4","v":"OC1"},{"$f":"Race1324!E$5","v":"Boys"},{"$f":"Race1324!D$5","v":"19 & Under"},{"$f":"Race1324!D$4","v":"Marathon"},{"$f":"Race1324!A$55","v":48},{"$f":"Race1324!D$55","v":0},{"$f":"Race1324!C$55","v":0},{"$f":"Race1324!F$55","v":1}]
[null,{"$f":"Race1324!B$5","v":"Junior"},{"$f":"Race1324!B$4","v":"OC1"},{"$f":"Race1324!E$5","v":"Boys"},{"$f":"Race1324!D$5","v":"19 & Under"},{"$f":"Race1324!D$4","v":"Marathon"},{"$f":"Race1324!A$56","v":49},{"$f":"Race1324!D$56","v":0},{"$f":"Race1324!C$56","v":0},{"$f":"Race1324!F$56","v":1}]
[null,{"$f":"Race1324!B$5","v":"Junior"},{"$f":"Race1324!B$4","v":"OC1"},{"$f":"Race1324!E$5","v":"Boys"},{"$f":"Race1324!D$5","v":"19 & Under"},{"$f":"Race1324!D$4","v":"Marathon"},{"$f":"Race1324!A$57","v":50},{"$f":"Race1324!D$57","v":0},{"$f":"Race1324!C$57","v":0},{"$f":"Race1324!F$57","v":1}]
["Race1325",{"$f":"Race1325!B$5","v":"Junior"},{"$f":"Race1325!B$4","v":"OC1"},{"$f":"Race1325!E$5","v":"Girls"},{"$f":"Race1325!D$5","v":"12 & Under"},{"$f":"Race1325!D$4","v":"Marathon"},{"$f":"Race1325!A$8","v":1},{"$f":"Race1325!D$8","v":0},{"$f":"Race1325!C$8","v":0},{"$f":"Race1325!F$8","v":9}]
[null,{"$f":"Race1325!B$5","v":"Junior"},{"$f":"Race1325!B$4","v":"OC1"},{"$f":"Race1325!E$5","v":"Girls"},{"$f":"Race1325!D$5","v":"12 & Under"},{"$f":"Race1325!D$4","v":"Marathon"},{"$f":"Race1325!A$9","v":2},{"$f":"Race1325!D$9","v":0},{"$f":"Race1325!C$9","v":0},{"$f":"Race1325!F$9","v":7}]
[null,{"$f":"Race1325!B$5","v":"Junior"},{"$f":"Race1325!B$4","v":"OC1"},{"$f":"Race1325!E$5","v":"Girls"},{"$f":"Race1325!D$5","v":"12 & Under"},{"$f":"Race1325!D$4","v":"Marathon"},{"$f":"Race1325!A$10","v":3},{"$f":"Race1325!D$10","v":0},{"$f":"Race1325!C$10","v":0},{"$f":"Race1325!F$10","v":5}]
[null,{"$f":"Race1325!B$5","v":"Junior"},{"$f":"Race1325!B$4","v":"OC1"},{"$f":"Race1325!E$5","v":"Girls"},{"$f":"Race1325!D$5","v":"12 & Under"},{"$f":"Race1325!D$4","v":"Marathon"},{"$f":"Race1325!A$11","v":4},{"$f":"Race1325!D$11","v":0},{"$f":"Race1325!C$11","v":0},{"$f":"Race1325!F$11","v":3}]
[null,{"$f":"Race1325!B$5","v":"Junior"},{"$f":"Race1325!B$4","v":"OC1"},{"$f":"Race1325!E$5","v":"Girls"},{"$f":"Race1325!D$5","v":"12 & Under"},{"$f":"Race1325!D$4","v":"Marathon"},{"$f":"Race1325!A$12","v":5},{"$f":"Race1325!D$12","v":0},{"$f":"Race1325!C$12","v":0},{"$f":"Race1325!F$12","v":2}]
[null,{"$f":"Race1325!B$5","v":"Junior"},{"$f":"Race1325!B$4","v":"OC1"},{"$f":"Race1325!E$5","v":"Girls"},{"$f":"Race1325!D$5","v":"12 & Under"},{"$f":"Race1325!D$4","v":"Marathon"},{"$f":"Race1325!A$13","v":6},{"$f":"Race1325!D$13","v":0},{"$f":"Race1325!C$13","v":0},{"$f":"Race1325!F$13","v":1}]
[null,{"$f":"Race1325!B$5","v":"Junior"},{"$f":"Race1325!B$4","v":"OC1"},{"$f":"Race1325!E$5","v":"Girls"},{"$f":"Race1325!D$5","v":"12 & Under"},{"$f":"Race1325!D$4","v":"Marathon"},{"$f":"Race1325!A$14","v":7},{"$f":"Race1325!D$14","v":0},{"$f":"Race1325!C$14","v":0},{"$f":"Race1325!F$14","v":1}]
[null,{"$f":"Race1325!B$5","v":"Junior"},{"$f":"Race1325!B$4","v":"OC1"},{"$f":"Race1325!E$5","v":"Girls"},{"$f":"Race1325!D$5","v":"12 & Under"},{"$f":"Race1325!D$4","v":"Marathon"},{"$f":"Race1325!A$15","v":8},{"$f":"Race1325!D$15","v":0},{"$f":"Race1325!C$15","v":0},{"$f":"Race1325!F$15","v":1}]
[null,{"$f":"Race1325!B$5","v":"Junior"},{"$f":"Race1325!B$4","v":"OC1"},{"$f":"Race1325!E$5","v":"Girls"},{"$f":"Race1325!D$5","v":"12 & Under"},{"$f":"Race1325!D$4","v":"Marathon"},{"$f":"Race1325!A$16","v":9},{"$f":"Race1325!D$16","v":0},{"$f":"Race1325!C$16","v":0},{"$f":"Race1325!F$16","v":1}]
[null,{"$f":"Race1325!B$5","v":"Junior"},{"$f":"Race1325!B$4","v":"OC1"},{"$f":"Race1325!E$5","v":"Girls"},{"$f":"Race1325!D$5","v":"12 & Under"},{"$f":"Race1325!D$4","v":"Marathon"},{"$f":"Race1325!A$17","v":10},{"$f":"Race1325!D$17","v":0},{"$f":"Race1325!C$17","v":0},{"$f":"Race1325!F$17","v":1}]
[null,{"$f":"Race1325!B$5","v":"Junior"},{"$f":"Race1325!B$4","v":"OC1"},{"$f":"Race1325!E$5","v":"Girls"},{"$f":"Race1325!D$5","v":"12 & Under"},{"$f":"Race1325!D$4","v":"Marathon"},{"$f":"Race1325!A$18","v":11},{"$f":"Race1325!D$18","v":0},{"$f":"Race1325!C$18","v":0},{"$f":"Race1325!F$18","v":1}]
[null,{"$f":"Race1325!B$5","v":"Junior"},{"$f":"Race1325!B$4","v":"OC1"},{"$f":"Race1325!E$5","v":"Girls"},{"$f":"Race1325!D$5","v":"12 & Under"},{"$f":"Race1325!D$4","v":"Marathon"},{"$f":"Race1325!A$19","v":12},{"$f":"Race1325!D$19","v":0},{"$f":"Race1325!C$19","v":0},{"$f":"Race1325!F$19","v":1}]
[null,{"$f":"Race1325!B$5","v":"Junior"},{"$f":"Race1325!B$4","v":"OC1"},{"$f":"Race1325!E$5","v":"Girls"},{"$f":"Race1325!D$5","v":"12 & Under"},{"$f":"Race1325!D$4","v":"Marathon"},{"$f":"Race1325!A$20","v":13},{"$f":"Race1325!D$20","v":0},{"$f":"Race1325!C$20","v":0},{"$f":"Race1325!F$20","v":1}]
[null,{"$f":"Race1325!B$5","v":"Junior"},{"$f":"Race1325!B$4","v":"OC1"},{"$f":"Race1325!E$5","v":"Girls"},{"$f":"Race1325!D$5","v":"12 & Under"},{"$f":"Race1325!D$4","v":"Marathon"},{"$f":"Race1325!A$21","v":14},{"$f":"Race1325!D$21","v":0},{"$f":"Race1325!C$21","v":0},{"$f":"Race1325!F$21","v":1}]
[null,{"$f":"Race1325!B$5","v":"Junior"},{"$f":"Race1325!B$4","v":"OC1"},{"$f":"Race1325!E$5","v":"Girls"},{"$f":"Race1325!D$5","v":"12 & Under"},{"$f":"Race1325!D$4","v":"Marathon"},{"$f":"Race1325!A$22","v":15},{"$f":"Race1325!D$22","v":0},{"$f":"Race1325!C$22","v":0},{"$f":"Race1325!F$22","v":1}]
[null,{"$f":"Race1325!B$5","v":"Junior"},{"$f":"Race1325!B$4","v":"OC1"},{"$f":"Race1325!E$5","v":"Girls"},{"$f":"Race1325!D$5","v":"12 & Under"},{"$f":"Race1325!D$4","v":"Marathon"},{"$f":"Race1325!A$23","v":16},{"$f":"Race1325!D$23","v":0},{"$f":"Race1325!C$23","v":0},{"$f":"Race1325!F$23","v":1}]
[null,{"$f":"Race1325!B$5","v":"Junior"},{"$f":"Race1325!B$4","v":"OC1"},{"$f":"Race1325!E$5","v":"Girls"},{"$f":"Race1325!D$5","v":"12 & Under"},{"$f":"Race1325!D$4","v":"Marathon"},{"$f":"Race1325!A$24","v":17},{"$f":"Race1325!D$24","v":0},{"$f":"Race1325!C$24","v":0},{"$f":"Race1325!F$24","v":1}]
[null,{"$f":"Race1325!B$5","v":"Junior"},{"$f":"Race1325!B$4","v":"OC1"},{"$f":"Race1325!E$5","v":"Girls"},{"$f":"Race1325!D$5","v":"12 & Under"},{"$f":"Race1325!D$4","v":"Marathon"},{"$f":"Race1325!A$25","v":18},{"$f":"Race1325!D$25","v":0},{"$f":"Race1325!C$25","v":0},{"$f":"Race1325!F$25","v":1}]
[null,{"$f":"Race1325!B$5","v":"Junior"},{"$f":"Race1325!B$4","v":"OC1"},{"$f":"Race1325!E$5","v":"Girls"},{"$f":"Race1325!D$5","v":"12 & Under"},{"$f":"Race1325!D$4","v":"Marathon"},{"$f":"Race1325!A$26","v":19},{"$f":"Race1325!D$26","v":0},{"$f":"Race1325!C$26","v":0},{"$f":"Race1325!F$26","v":1}]
[null,{"$f":"Race1325!B$5","v":"Junior"},{"$f":"Race1325!B$4","v":"OC1"},{"$f":"Race1325!E$5","v":"Girls"},{"$f":"Race1325!D$5","v":"12 & Under"},{"$f":"Race1325!D$4","v":"Marathon"},{"$f":"Race1325!A$27","v":20},{"$f":"Race1325!D$27","v":0},{"$f":"Race1325!C$27","v":0},{"$f":"Race1325!F$27","v":1}]
[null,{"$f":"Race1325!B$5","v":"Junior"},{"$f":"Race1325!B$4","v":"OC1"},{"$f":"Race1325!E$5","v":"Girls"},{"$f":"Race1325!D$5","v":"12 & Under"},{"$f":"Race1325!D$4","v":"Marathon"},{"$f":"Race1325!A$28","v":21},{"$f":"Race1325!D$28","v":0},{"$f":"Race1325!C$28","v":0},{"$f":"Race1325!F$28","v":1}]
[null,{"$f":"Race1325!B$5","v":"Junior"},{"$f":"Race1325!B$4","v":"OC1"},{"$f":"Race1325!E$5","v":"Girls"},{"$f":"Race1325!D$5","v":"12 & Under"},{"$f":"Race1325!D$4","v":"Marathon"},{"$f":"Race1325!A$29","v":22},{"$f":"Race1325!D$29","v":0},{"$f":"Race1325!C$29","v":0},{"$f":"Race1325!F$29","v":1}]
[null,{"$f":"Race1325!B$5","v":"Junior"},{"$f":"Race1325!B$4","v":"OC1"},{"$f":"Race1325!E$5","v":"Girls"},{"$f":"Race1325!D$5","v":"12 & Under"},{"$f":"Race1325!D$4","v":"Marathon"},{"$f":"Race1325!A$30","v":23},{"$f":"Race1325!D$30","v":0},{"$f":"Race1325!C$30","v":0},{"$f":"Race1325!F$30","v":1}]
[null,{"$f":"Race1325!B$5","v":"Junior"},{"$f":"Race1325!B$4","v":"OC1"},{"$f":"Race1325!E$5","v":"Girls"},{"$f":"Race1325!D$5","v":"12 & Under"},{"$f":"Race1325!D$4","v":"Marathon"},{"$f":"Race1325!A$31","v":24},{"$f":"Race1325!D$31","v":0},{"$f":"Race1325!C$31","v":0},{"$f":"Race1325!F$31","v":1}]
[null,{"$f":"Race1325!B$5","v":"Junior"},{"$f":"Race1325!B$4","v":"OC1"},{"$f":"Race1325!E$5","v":"Girls"},{"$f":"Race1325!D$5","v":"12 & Under"},{"$f":"Race1325!D$4","v":"Marathon"},{"$f":"Race1325!A$32","v":25},{"$f":"Race1325!D$32","v":0},{"$f":"Race1325!C$32","v":0},{"$f":"Race1325!F$32","v":1}]
[null,{"$f":"Race1325!B$5","v":"Junior"},{"$f":"Race1325!B$4","v":"OC1"},{"$f":"Race1325!E$5","v":"Girls"},{"$f":"Race1325!D$5","v":"12 & Under"},{"$f":"Race1325!D$4","v":"Marathon"},{"$f":"Race1325!A$33","v":26},{"$f":"Race1325!D$33","v":0},{"$f":"Race1325!C$33","v":0},{"$f":"Race1325!F$33","v":1}]
[null,{"$f":"Race1325!B$5","v":"Junior"},{"$f":"Race1325!B$4","v":"OC1"},{"$f":"Race1325!E$5","v":"Girls"},{"$f":"Race1325!D$5","v":"12 & Under"},{"$f":"Race1325!D$4","v":"Marathon"},{"$f":"Race1325!A$34","v":27},{"$f":"Race1325!D$34","v":0},{"$f":"Race1325!C$34","v":0},{"$f":"Race1325!F$34","v":1}]
[null,{"$f":"Race1325!B$5","v":"Junior"},{"$f":"Race1325!B$4","v":"OC1"},{"$f":"Race1325!E$5","v":"Girls"},{"$f":"Race1325!D$5","v":"12 & Under"},{"$f":"Race1325!D$4","v":"Marathon"},{"$f":"Race1325!A$35","v":28},{"$f":"Race1325!D$35","v":0},{"$f":"Race1325!C$35","v":0},{"$f":"Race1325!F$35","v":1}]
[null,{"$f":"Race1325!B$5","v":"Junior"},{"$f":"Race1325!B$4","v":"OC1"},{"$f":"Race1325!E$5","v":"Girls"},{"$f":"Race1325!D$5","v":"12 & Under"},{"$f":"Race1325!D$4","v":"Marathon"},{"$f":"Race1325!A$36","v":29},{"$f":"Race1325!D$36","v":0},{"$f":"Race1325!C$36","v":0},{"$f":"Race1325!F$36","v":1}]
[null,{"$f":"Race1325!B$5","v":"Junior"},{"$f":"Race1325!B$4","v":"OC1"},{"$f":"Race1325!E$5","v":"Girls"},{"$f":"Race1325!D$5","v":"12 & Under"},{"$f":"Race1325!D$4","v":"Marathon"},{"$f":"Race1325!A$37","v":30},{"$f":"Race1325!D$37","v":0},{"$f":"Race1325!C$37","v":0},{"$f":"Race1325!F$37","v":1}]
[null,{"$f":"Race1325!B$5","v":"Junior"},{"$f":"Race1325!B$4","v":"OC1"},{"$f":"Race1325!E$5","v":"Girls"},{"$f":"Race1325!D$5","v":"12 & Under"},{"$f":"Race1325!D$4","v":"Marathon"},{"$f":"Race1325!A$38","v":31},{"$f":"Race1325!D$38","v":0},{"$f":"Race1325!C$38","v":0},{"$f":"Race1325!F$38","v":1}]
[null,{"$f":"Race1325!B$5","v":"Junior"},{"$f":"Race1325!B$4","v":"OC1"},{"$f":"Race1325!E$5","v":"Girls"},{"$f":"Race1325!D$5","v":"12 & Under"},{"$f":"Race1325!D$4","v":"Marathon"},{"$f":"Race1325!A$39","v":32},{"$f":"Race1325!D$39","v":0},{"$f":"Race1325!C$39","v":0},{"$f":"Race1325!F$39","v":1}]
[null,{"$f":"Race1325!B$5","v":"Junior"},{"$f":"Race1325!B$4","v":"OC1"},{"$f":"Race1325!E$5","v":"Girls"},{"$f":"Race1325!D$5","v":"12 & Under"},{"$f":"Race1325!D$4","v":"Marathon"},{"$f":"Race1325!A$40","v":33},{"$f":"Race1325!D$40","v":0},{"$f":"Race1325!C$40","v":0},{"$f":"Race1325!F$40","v":1}]
[null,{"$f":"Race1325!B$5","v":"Junior"},{"$f":"Race1325!B$4","v":"OC1"},{"$f":"Race1325!E$5","v":"Girls"},{"$f":"Race1325!D$5","v":"12 & Under"},{"$f":"Race1325!D$4","v":"Marathon"},{"$f":"Race1325!A$41","v":34},{"$f":"Race1325!D$41","v":0},{"$f":"Race1325!C$41","v":0},{"$f":"Race1325!F$41","v":1}]
[null,{"$f":"Race1325!B$5","v":"Junior"},{"$f":"Race1325!B$4","v":"OC1"},{"$f":"Race1325!E$5","v":"Girls"},{"$f":"Race1325!D$5","v":"12 & Under"},{"$f":"Race1325!D$4","v":"Marathon"},{"$f":"Race1325!A$42","v":35},{"$f":"Race1325!D$42","v":0},{"$f":"Race1325!C$42","v":0},{"$f":"Race1325!F$42","v":1}]
[null,{"$f":"Race1325!B$5","v":"Junior"},{"$f":"Race1325!B$4","v":"OC1"},{"$f":"Race1325!E$5","v":"Girls"},{"$f":"Race1325!D$5","v":"12 & Under"},{"$f":"Race1325!D$4","v":"Marathon"},{"$f":"Race1325!A$43","v":36},{"$f":"Race1325!D$43","v":0},{"$f":"Race1325!C$43","v":0},{"$f":"Race1325!F$43","v":1}]
[null,{"$f":"Race1325!B$5","v":"Junior"},{"$f":"Race1325!B$4","v":"OC1"},{"$f":"Race1325!E$5","v":"Girls"},{"$f":"Race1325!D$5","v":"12 & Under"},{"$f":"Race1325!D$4","v":"Marathon"},{"$f":"Race1325!A$44","v":37},{"$f":"Race1325!D$44","v":0},{"$f":"Race1325!C$44","v":0},{"$f":"Race1325!F$44","v":1}]
[null,{"$f":"Race1325!B$5","v":"Junior"},{"$f":"Race1325!B$4","v":"OC1"},{"$f":"Race1325!E$5","v":"Girls"},{"$f":"Race1325!D$5","v":"12 & Under"},{"$f":"Race1325!D$4","v":"Marathon"},{"$f":"Race1325!A$45","v":38},{"$f":"Race1325!D$45","v":0},{"$f":"Race1325!C$45","v":0},{"$f":"Race1325!F$45","v":1}]
[null,{"$f":"Race1325!B$5","v":"Junior"},{"$f":"Race1325!B$4","v":"OC1"},{"$f":"Race1325!E$5","v":"Girls"},{"$f":"Race1325!D$5","v":"12 & Under"},{"$f":"Race1325!D$4","v":"Marathon"},{"$f":"Race1325!A$46","v":39},{"$f":"Race1325!D$46","v":0},{"$f":"Race1325!C$46","v":0},{"$f":"Race1325!F$46","v":1}]
[null,{"$f":"Race1325!B$5","v":"Junior"},{"$f":"Race1325!B$4","v":"OC1"},{"$f":"Race1325!E$5","v":"Girls"},{"$f":"Race1325!D$5","v":"12 & Under"},{"$f":"Race1325!D$4","v":"Marathon"},{"$f":"Race1325!A$47","v":40},{"$f":"Race1325!D$47","v":0},{"$f":"Race1325!C$47","v":0},{"$f":"Race1325!F$47","v":1}]
[null,{"$f":"Race1325!B$5","v":"Junior"},{"$f":"Race1325!B$4","v":"OC1"},{"$f":"Race1325!E$5","v":"Girls"},{"$f":"Race1325!D$5","v":"12 & Under"},{"$f":"Race1325!D$4","v":"Marathon"},{"$f":"Race1325!A$48","v":41},{"$f":"Race1325!D$48","v":0},{"$f":"Race1325!C$48","v":0},{"$f":"Race1325!F$48","v":1}]
[null,{"$f":"Race1325!B$5","v":"Junior"},{"$f":"Race1325!B$4","v":"OC1"},{"$f":"Race1325!E$5","v":"Girls"},{"$f":"Race1325!D$5","v":"12 & Under"},{"$f":"Race1325!D$4","v":"Marathon"},{"$f":"Race1325!A$49","v":42},{"$f":"Race1325!D$49","v":0},{"$f":"Race1325!C$49","v":0},{"$f":"Race1325!F$49","v":1}]
[null,{"$f":"Race1325!B$5","v":"Junior"},{"$f":"Race1325!B$4","v":"OC1"},{"$f":"Race1325!E$5","v":"Girls"},{"$f":"Race1325!D$5","v":"12 & Under"},{"$f":"Race1325!D$4","v":"Marathon"},{"$f":"Race1325!A$50","v":43},{"$f":"Race1325!D$50","v":0},{"$f":"Race1325!C$50","v":0},{"$f":"Race1325!F$50","v":1}]
[null,{"$f":"Race1325!B$5","v":"Junior"},{"$f":"Race1325!B$4","v":"OC1"},{"$f":"Race1325!E$5","v":"Girls"},{"$f":"Race1325!D$5","v":"12 & Under"},{"$f":"Race1325!D$4","v":"Marathon"},{"$f":"Race1325!A$51","v":44},{"$f":"Race1325!D$51","v":0},{"$f":"Race1325!C$51","v":0},{"$f":"Race1325!F$51","v":1}]
[null,{"$f":"Race1325!B$5","v":"Junior"},{"$f":"Race1325!B$4","v":"OC1"},{"$f":"Race1325!E$5","v":"Girls"},{"$f":"Race1325!D$5","v":"12 & Under"},{"$f":"Race1325!D$4","v":"Marathon"},{"$f":"Race1325!A$52","v":45},{"$f":"Race1325!D$52","v":0},{"$f":"Race1325!C$52","v":0},{"$f":"Race1325!F$52","v":1}]
[null,{"$f":"Race1325!B$5","v":"Junior"},{"$f":"Race1325!B$4","v":"OC1"},{"$f":"Race1325!E$5","v":"Girls"},{"$f":"Race1325!D$5","v":"12 & Under"},{"$f":"Race1325!D$4","v":"Marathon"},{"$f":"Race1325!A$53","v":46},{"$f":"Race1325!D$53","v":0},{"$f":"Race1325!C$53","v":0},{"$f":"Race1325!F$53","v":1}]
[null,{"$f":"Race1325!B$5","v":"Junior"},{"$f":"Race1325!B$4","v":"OC1"},{"$f":"Race1325!E$5","v":"Girls"},{"$f":"Race1325!D$5","v":"12 & Under"},{"$f":"Race1325!D$4","v":"Marathon"},{"$f":"Race1325!A$54","v":47},{"$f":"Race1325!D$54","v":0},{"$f":"Race1325!C$54","v":0},{"$f":"Race1325!F$54","v":1}]
[null,{"$f":"Race1325!B$5","v":"Junior"},{"$f":"Race1325!B$4","v":"OC1"},{"$f":"Race1325!E$5","v":"Girls"},{"$f":"Race1325!D$5","v":"12 & Under"},{"$f":"Race1325!D$4","v":"Marathon"},{"$f":"Race1325!A$55","v":48},{"$f":"Race1325!D$55","v":0},{"$f":"Race1325!C$55","v":0},{"$f":"Race1325!F$55","v":1}]
[null,{"$f":"Race1325!B$5","v":"Junior"},{"$f":"Race1325!B$4","v":"OC1"},{"$f":"Race1325!E$5","v":"Girls"},{"$f":"Race1325!D$5","v":"12 & Under"},{"$f":"Race1325!D$4","v":"Marathon"},{"$f":"Race1325!A$56","v":49},{"$f":"Race1325!D$56","v":0},{"$f":"Race1325!C$56","v":0},{"$f":"Race1325!F$56","v":1}]
[null,{"$f":"Race1325!B$5","v":"Junior"},{"$f":"Race1325!B$4","v":"OC1"},{"$f":"Race1325!E$5","v":"Girls"},{"$f":"Race1325!D$5","v":"12 & Under"},{"$f":"Race1325!D$4","v":"Marathon"},{"$f":"Race1325!A$57","v":50},{"$f":"Race1325!D$57","v":0},{"$f":"Race1325!C$57","v":0},{"$f":"Race1325!F$57","v":1}]
["Race1326",{"$f":"Race1326!B$5","v":"Junior"},{"$f":"Race1326!B$4","v":"OC1"},{"$f":"Race1326!E$5","v":"Girls"},{"$f":"Race1326!D$5","v":"14 & Under"},{"$f":"Race1326!D$4","v":"Marathon"},{"$f":"Race1326!A$8","v":1},{"$f":"Race1326!D$8","v":0},{"$f":"Race1326!C$8","v":0},{"$f":"Race1326!F$8","v":9}]
[null,{"$f":"Race1326!B$5","v":"Junior"},{"$f":"Race1326!B$4","v":"OC1"},{"$f":"Race1326!E$5","v":"Girls"},{"$f":"Race1326!D$5","v":"14 & Under"},{"$f":"Race1326!D$4","v":"Marathon"},{"$f":"Race1326!A$9","v":2},{"$f":"Race1326!D$9","v":0},{"$f":"Race1326!C$9","v":0},{"$f":"Race1326!F$9","v":7}]
[null,{"$f":"Race1326!B$5","v":"Junior"},{"$f":"Race1326!B$4","v":"OC1"},{"$f":"Race1326!E$5","v":"Girls"},{"$f":"Race1326!D$5","v":"14 & Under"},{"$f":"Race1326!D$4","v":"Marathon"},{"$f":"Race1326!A$10","v":3},{"$f":"Race1326!D$10","v":0},{"$f":"Race1326!C$10","v":0},{"$f":"Race1326!F$10","v":5}]
[null,{"$f":"Race1326!B$5","v":"Junior"},{"$f":"Race1326!B$4","v":"OC1"},{"$f":"Race1326!E$5","v":"Girls"},{"$f":"Race1326!D$5","v":"14 & Under"},{"$f":"Race1326!D$4","v":"Marathon"},{"$f":"Race1326!A$11","v":4},{"$f":"Race1326!D$11","v":0},{"$f":"Race1326!C$11","v":0},{"$f":"Race1326!F$11","v":3}]
[null,{"$f":"Race1326!B$5","v":"Junior"},{"$f":"Race1326!B$4","v":"OC1"},{"$f":"Race1326!E$5","v":"Girls"},{"$f":"Race1326!D$5","v":"14 & Under"},{"$f":"Race1326!D$4","v":"Marathon"},{"$f":"Race1326!A$12","v":5},{"$f":"Race1326!D$12","v":0},{"$f":"Race1326!C$12","v":0},{"$f":"Race1326!F$12","v":2}]
[null,{"$f":"Race1326!B$5","v":"Junior"},{"$f":"Race1326!B$4","v":"OC1"},{"$f":"Race1326!E$5","v":"Girls"},{"$f":"Race1326!D$5","v":"14 & Under"},{"$f":"Race1326!D$4","v":"Marathon"},{"$f":"Race1326!A$13","v":6},{"$f":"Race1326!D$13","v":0},{"$f":"Race1326!C$13","v":0},{"$f":"Race1326!F$13","v":1}]
[null,{"$f":"Race1326!B$5","v":"Junior"},{"$f":"Race1326!B$4","v":"OC1"},{"$f":"Race1326!E$5","v":"Girls"},{"$f":"Race1326!D$5","v":"14 & Under"},{"$f":"Race1326!D$4","v":"Marathon"},{"$f":"Race1326!A$14","v":7},{"$f":"Race1326!D$14","v":0},{"$f":"Race1326!C$14","v":0},{"$f":"Race1326!F$14","v":1}]
[null,{"$f":"Race1326!B$5","v":"Junior"},{"$f":"Race1326!B$4","v":"OC1"},{"$f":"Race1326!E$5","v":"Girls"},{"$f":"Race1326!D$5","v":"14 & Under"},{"$f":"Race1326!D$4","v":"Marathon"},{"$f":"Race1326!A$15","v":8},{"$f":"Race1326!D$15","v":0},{"$f":"Race1326!C$15","v":0},{"$f":"Race1326!F$15","v":1}]
[null,{"$f":"Race1326!B$5","v":"Junior"},{"$f":"Race1326!B$4","v":"OC1"},{"$f":"Race1326!E$5","v":"Girls"},{"$f":"Race1326!D$5","v":"14 & Under"},{"$f":"Race1326!D$4","v":"Marathon"},{"$f":"Race1326!A$16","v":9},{"$f":"Race1326!D$16","v":0},{"$f":"Race1326!C$16","v":0},{"$f":"Race1326!F$16","v":1}]
[null,{"$f":"Race1326!B$5","v":"Junior"},{"$f":"Race1326!B$4","v":"OC1"},{"$f":"Race1326!E$5","v":"Girls"},{"$f":"Race1326!D$5","v":"14 & Under"},{"$f":"Race1326!D$4","v":"Marathon"},{"$f":"Race1326!A$17","v":10},{"$f":"Race1326!D$17","v":0},{"$f":"Race1326!C$17","v":0},{"$f":"Race1326!F$17","v":1}]
[null,{"$f":"Race1326!B$5","v":"Junior"},{"$f":"Race1326!B$4","v":"OC1"},{"$f":"Race1326!E$5","v":"Girls"},{"$f":"Race1326!D$5","v":"14 & Under"},{"$f":"Race1326!D$4","v":"Marathon"},{"$f":"Race1326!A$18","v":11},{"$f":"Race1326!D$18","v":0},{"$f":"Race1326!C$18","v":0},{"$f":"Race1326!F$18","v":1}]
[null,{"$f":"Race1326!B$5","v":"Junior"},{"$f":"Race1326!B$4","v":"OC1"},{"$f":"Race1326!E$5","v":"Girls"},{"$f":"Race1326!D$5","v":"14 & Under"},{"$f":"Race1326!D$4","v":"Marathon"},{"$f":"Race1326!A$19","v":12},{"$f":"Race1326!D$19","v":0},{"$f":"Race1326!C$19","v":0},{"$f":"Race1326!F$19","v":1}]
[null,{"$f":"Race1326!B$5","v":"Junior"},{"$f":"Race1326!B$4","v":"OC1"},{"$f":"Race1326!E$5","v":"Girls"},{"$f":"Race1326!D$5","v":"14 & Under"},{"$f":"Race1326!D$4","v":"Marathon"},{"$f":"Race1326!A$20","v":13},{"$f":"Race1326!D$20","v":0},{"$f":"Race1326!C$20","v":0},{"$f":"Race1326!F$20","v":1}]
[null,{"$f":"Race1326!B$5","v":"Junior"},{"$f":"Race1326!B$4","v":"OC1"},{"$f":"Race1326!E$5","v":"Girls"},{"$f":"Race1326!D$5","v":"14 & Under"},{"$f":"Race1326!D$4","v":"Marathon"},{"$f":"Race1326!A$21","v":14},{"$f":"Race1326!D$21","v":0},{"$f":"Race1326!C$21","v":0},{"$f":"Race1326!F$21","v":1}]
[null,{"$f":"Race1326!B$5","v":"Junior"},{"$f":"Race1326!B$4","v":"OC1"},{"$f":"Race1326!E$5","v":"Girls"},{"$f":"Race1326!D$5","v":"14 & Under"},{"$f":"Race1326!D$4","v":"Marathon"},{"$f":"Race1326!A$22","v":15},{"$f":"Race1326!D$22","v":0},{"$f":"Race1326!C$22","v":0},{"$f":"Race1326!F$22","v":1}]
[null,{"$f":"Race1326!B$5","v":"Junior"},{"$f":"Race1326!B$4","v":"OC1"},{"$f":"Race1326!E$5","v":"Girls"},{"$f":"Race1326!D$5","v":"14 & Under"},{"$f":"Race1326!D$4","v":"Marathon"},{"$f":"Race1326!A$23","v":16},{"$f":"Race1326!D$23","v":0},{"$f":"Race1326!C$23","v":0},{"$f":"Race1326!F$23","v":1}]
[null,{"$f":"Race1326!B$5","v":"Junior"},{"$f":"Race1326!B$4","v":"OC1"},{"$f":"Race1326!E$5","v":"Girls"},{"$f":"Race1326!D$5","v":"14 & Under"},{"$f":"Race1326!D$4","v":"Marathon"},{"$f":"Race1326!A$24","v":17},{"$f":"Race1326!D$24","v":0},{"$f":"Race1326!C$24","v":0},{"$f":"Race1326!F$24","v":1}]
[null,{"$f":"Race1326!B$5","v":"Junior"},{"$f":"Race1326!B$4","v":"OC1"},{"$f":"Race1326!E$5","v":"Girls"},{"$f":"Race1326!D$5","v":"14 & Under"},{"$f":"Race1326!D$4","v":"Marathon"},{"$f":"Race1326!A$25","v":18},{"$f":"Race1326!D$25","v":0},{"$f":"Race1326!C$25","v":0},{"$f":"Race1326!F$25","v":1}]
[null,{"$f":"Race1326!B$5","v":"Junior"},{"$f":"Race1326!B$4","v":"OC1"},{"$f":"Race1326!E$5","v":"Girls"},{"$f":"Race1326!D$5","v":"14 & Under"},{"$f":"Race1326!D$4","v":"Marathon"},{"$f":"Race1326!A$26","v":19},{"$f":"Race1326!D$26","v":0},{"$f":"Race1326!C$26","v":0},{"$f":"Race1326!F$26","v":1}]
[null,{"$f":"Race1326!B$5","v":"Junior"},{"$f":"Race1326!B$4","v":"OC1"},{"$f":"Race1326!E$5","v":"Girls"},{"$f":"Race1326!D$5","v":"14 & Under"},{"$f":"Race1326!D$4","v":"Marathon"},{"$f":"Race1326!A$27","v":20},{"$f":"Race1326!D$27","v":0},{"$f":"Race1326!C$27","v":0},{"$f":"Race1326!F$27","v":1}]
[null,{"$f":"Race1326!B$5","v":"Junior"},{"$f":"Race1326!B$4","v":"OC1"},{"$f":"Race1326!E$5","v":"Girls"},{"$f":"Race1326!D$5","v":"14 & Under"},{"$f":"Race1326!D$4","v":"Marathon"},{"$f":"Race1326!A$28","v":21},{"$f":"Race1326!D$28","v":0},{"$f":"Race1326!C$28","v":0},{"$f":"Race1326!F$28","v":1}]
[null,{"$f":"Race1326!B$5","v":"Junior"},{"$f":"Race1326!B$4","v":"OC1"},{"$f":"Race1326!E$5","v":"Girls"},{"$f":"Race1326!D$5","v":"14 & Under"},{"$f":"Race1326!D$4","v":"Marathon"},{"$f":"Race1326!A$29","v":22},{"$f":"Race1326!D$29","v":0},{"$f":"Race1326!C$29","v":0},{"$f":"Race1326!F$29","v":1}]
[null,{"$f":"Race1326!B$5","v":"Junior"},{"$f":"Race1326!B$4","v":"OC1"},{"$f":"Race1326!E$5","v":"Girls"},{"$f":"Race1326!D$5","v":"14 & Under"},{"$f":"Race1326!D$4","v":"Marathon"},{"$f":"Race1326!A$30","v":23},{"$f":"Race1326!D$30","v":0},{"$f":"Race1326!C$30","v":0},{"$f":"Race1326!F$30","v":1}]
[null,{"$f":"Race1326!B$5","v":"Junior"},{"$f":"Race1326!B$4","v":"OC1"},{"$f":"Race1326!E$5","v":"Girls"},{"$f":"Race1326!D$5","v":"14 & Under"},{"$f":"Race1326!D$4","v":"Marathon"},{"$f":"Race1326!A$31","v":24},{"$f":"Race1326!D$31","v":0},{"$f":"Race1326!C$31","v":0},{"$f":"Race1326!F$31","v":1}]
[null,{"$f":"Race1326!B$5","v":"Junior"},{"$f":"Race1326!B$4","v":"OC1"},{"$f":"Race1326!E$5","v":"Girls"},{"$f":"Race1326!D$5","v":"14 & Under"},{"$f":"Race1326!D$4","v":"Marathon"},{"$f":"Race1326!A$32","v":25},{"$f":"Race1326!D$32","v":0},{"$f":"Race1326!C$32","v":0},{"$f":"Race1326!F$32","v":1}]
[null,{"$f":"Race1326!B$5","v":"Junior"},{"$f":"Race1326!B$4","v":"OC1"},{"$f":"Race1326!E$5","v":"Girls"},{"$f":"Race1326!D$5","v":"14 & Under"},{"$f":"Race1326!D$4","v":"Marathon"},{"$f":"Race1326!A$33","v":26},{"$f":"Race1326!D$33","v":0},{"$f":"Race1326!C$33","v":0},{"$f":"Race1326!F$33","v":1}]
[null,{"$f":"Race1326!B$5","v":"Junior"},{"$f":"Race1326!B$4","v":"OC1"},{"$f":"Race1326!E$5","v":"Girls"},{"$f":"Race1326!D$5","v":"14 & Under"},{"$f":"Race1326!D$4","v":"Marathon"},{"$f":"Race1326!A$34","v":27},{"$f":"Race1326!D$34","v":0},{"$f":"Race1326!C$34","v":0},{"$f":"Race1326!F$34","v":1}]
[null,{"$f":"Race1326!B$5","v":"Junior"},{"$f":"Race1326!B$4","v":"OC1"},{"$f":"Race1326!E$5","v":"Girls"},{"$f":"Race1326!D$5","v":"14 & Under"},{"$f":"Race1326!D$4","v":"Marathon"},{"$f":"Race1326!A$35","v":28},{"$f":"Race1326!D$35","v":0},{"$f":"Race1326!C$35","v":0},{"$f":"Race1326!F$35","v":1}]
[null,{"$f":"Race1326!B$5","v":"Junior"},{"$f":"Race1326!B$4","v":"OC1"},{"$f":"Race1326!E$5","v":"Girls"},{"$f":"Race1326!D$5","v":"14 & Under"},{"$f":"Race1326!D$4","v":"Marathon"},{"$f":"Race1326!A$36","v":29},{"$f":"Race1326!D$36","v":0},{"$f":"Race1326!C$36","v":0},{"$f":"Race1326!F$36","v":1}]
[null,{"$f":"Race1326!B$5","v":"Junior"},{"$f":"Race1326!B$4","v":"OC1"},{"$f":"Race1326!E$5","v":"Girls"},{"$f":"Race1326!D$5","v":"14 & Under"},{"$f":"Race1326!D$4","v":"Marathon"},{"$f":"Race1326!A$37","v":30},{"$f":"Race1326!D$37","v":0},{"$f":"Race1326!C$37","v":0},{"$f":"Race1326!F$37","v":1}]
[null,{"$f":"Race1326!B$5","v":"Junior"},{"$f":"Race1326!B$4","v":"OC1"},{"$f":"Race1326!E$5","v":"Girls"},{"$f":"Race1326!D$5","v":"14 & Under"},{"$f":"Race1326!D$4","v":"Marathon"},{"$f":"Race1326!A$38","v":31},{"$f":"Race1326!D$38","v":0},{"$f":"Race1326!C$38","v":0},{"$f":"Race1326!F$38","v":1}]
[null,{"$f":"Race1326!B$5","v":"Junior"},{"$f":"Race1326!B$4","v":"OC1"},{"$f":"Race1326!E$5","v":"Girls"},{"$f":"Race1326!D$5","v":"14 & Under"},{"$f":"Race1326!D$4","v":"Marathon"},{"$f":"Race1326!A$39","v":32},{"$f":"Race1326!D$39","v":0},{"$f":"Race1326!C$39","v":0},{"$f":"Race1326!F$39","v":1}]
[null,{"$f":"Race1326!B$5","v":"Junior"},{"$f":"Race1326!B$4","v":"OC1"},{"$f":"Race1326!E$5","v":"Girls"},{"$f":"Race1326!D$5","v":"14 & Under"},{"$f":"Race1326!D$4","v":"Marathon"},{"$f":"Race1326!A$40","v":33},{"$f":"Race1326!D$40","v":0},{"$f":"Race1326!C$40","v":0},{"$f":"Race1326!F$40","v":1}]
[null,{"$f":"Race1326!B$5","v":"Junior"},{"$f":"Race1326!B$4","v":"OC1"},{"$f":"Race1326!E$5","v":"Girls"},{"$f":"Race1326!D$5","v":"14 & Under"},{"$f":"Race1326!D$4","v":"Marathon"},{"$f":"Race1326!A$41","v":34},{"$f":"Race1326!D$41","v":0},{"$f":"Race1326!C$41","v":0},{"$f":"Race1326!F$41","v":1}]
[null,{"$f":"Race1326!B$5","v":"Junior"},{"$f":"Race1326!B$4","v":"OC1"},{"$f":"Race1326!E$5","v":"Girls"},{"$f":"Race1326!D$5","v":"14 & Under"},{"$f":"Race1326!D$4","v":"Marathon"},{"$f":"Race1326!A$42","v":35},{"$f":"Race1326!D$42","v":0},{"$f":"Race1326!C$42","v":0},{"$f":"Race1326!F$42","v":1}]
[null,{"$f":"Race1326!B$5","v":"Junior"},{"$f":"Race1326!B$4","v":"OC1"},{"$f":"Race1326!E$5","v":"Girls"},{"$f":"Race1326!D$5","v":"14 & Under"},{"$f":"Race1326!D$4","v":"Marathon"},{"$f":"Race1326!A$43","v":36},{"$f":"Race1326!D$43","v":0},{"$f":"Race1326!C$43","v":0},{"$f":"Race1326!F$43","v":1}]
[null,{"$f":"Race1326!B$5","v":"Junior"},{"$f":"Race1326!B$4","v":"OC1"},{"$f":"Race1326!E$5","v":"Girls"},{"$f":"Race1326!D$5","v":"14 & Under"},{"$f":"Race1326!D$4","v":"Marathon"},{"$f":"Race1326!A$44","v":37},{"$f":"Race1326!D$44","v":0},{"$f":"Race1326!C$44","v":0},{"$f":"Race1326!F$44","v":1}]
[null,{"$f":"Race1326!B$5","v":"Junior"},{"$f":"Race1326!B$4","v":"OC1"},{"$f":"Race1326!E$5","v":"Girls"},{"$f":"Race1326!D$5","v":"14 & Under"},{"$f":"Race1326!D$4","v":"Marathon"},{"$f":"Race1326!A$45","v":38},{"$f":"Race1326!D$45","v":0},{"$f":"Race1326!C$45","v":0},{"$f":"Race1326!F$45","v":1}]
[null,{"$f":"Race1326!B$5","v":"Junior"},{"$f":"Race1326!B$4","v":"OC1"},{"$f":"Race1326!E$5","v":"Girls"},{"$f":"Race1326!D$5","v":"14 & Under"},{"$f":"Race1326!D$4","v":"Marathon"},{"$f":"Race1326!A$46","v":39},{"$f":"Race1326!D$46","v":0},{"$f":"Race1326!C$46","v":0},{"$f":"Race1326!F$46","v":1}]
[null,{"$f":"Race1326!B$5","v":"Junior"},{"$f":"Race1326!B$4","v":"OC1"},{"$f":"Race1326!E$5","v":"Girls"},{"$f":"Race1326!D$5","v":"14 & Under"},{"$f":"Race1326!D$4","v":"Marathon"},{"$f":"Race1326!A$47","v":40},{"$f":"Race1326!D$47","v":0},{"$f":"Race1326!C$47","v":0},{"$f":"Race1326!F$47","v":1}]
[null,{"$f":"Race1326!B$5","v":"Junior"},{"$f":"Race1326!B$4","v":"OC1"},{"$f":"Race1326!E$5","v":"Girls"},{"$f":"Race1326!D$5","v":"14 & Under"},{"$f":"Race1326!D$4","v":"Marathon"},{"$f":"Race1326!A$48","v":41},{"$f":"Race1326!D$48","v":0},{"$f":"Race1326!C$48","v":0},{"$f":"Race1326!F$48","v":1}]
[null,{"$f":"Race1326!B$5","v":"Junior"},{"$f":"Race1326!B$4","v":"OC1"},{"$f":"Race1326!E$5","v":"Girls"},{"$f":"Race1326!D$5","v":"14 & Under"},{"$f":"Race1326!D$4","v":"Marathon"},{"$f":"Race1326!A$49","v":42},{"$f":"Race1326!D$49","v":0},{"$f":"Race1326!C$49","v":0},{"$f":"Race1326!F$49","v":1}]
[null,{"$f":"Race1326!B$5","v":"Junior"},{"$f":"Race1326!B$4","v":"OC1"},{"$f":"Race1326!E$5","v":"Girls"},{"$f":"Race1326!D$5","v":"14 & Under"},{"$f":"Race1326!D$4","v":"Marathon"},{"$f":"Race1326!A$50","v":43},{"$f":"Race1326!D$50","v":0},{"$f":"Race1326!C$50","v":0},{"$f":"Race1326!F$50","v":1}]
[null,{"$f":"Race1326!B$5","v":"Junior"},{"$f":"Race1326!B$4","v":"OC1"},{"$f":"Race1326!E$5","v":"Girls"},{"$f":"Race1326!D$5","v":"14 & Under"},{"$f":"Race1326!D$4","v":"Marathon"},{"$f":"Race1326!A$51","v":44},{"$f":"Race1326!D$51","v":0},{"$f":"Race1326!C$51","v":0},{"$f":"Race1326!F$51","v":1}]
[null,{"$f":"Race1326!B$5","v":"Junior"},{"$f":"Race1326!B$4","v":"OC1"},{"$f":"Race1326!E$5","v":"Girls"},{"$f":"Race1326!D$5","v":"14 & Under"},{"$f":"Race1326!D$4","v":"Marathon"},{"$f":"Race1326!A$52","v":45},{"$f":"Race1326!D$52","v":0},{"$f":"Race1326!C$52","v":0},{"$f":"Race1326!F$52","v":1}]
[null,{"$f":"Race1326!B$5","v":"Junior"},{"$f":"Race1326!B$4","v":"OC1"},{"$f":"Race1326!E$5","v":"Girls"},{"$f":"Race1326!D$5","v":"14 & Under"},{"$f":"Race1326!D$4","v":"Marathon"},{"$f":"Race1326!A$53","v":46},{"$f":"Race1326!D$53","v":0},{"$f":"Race1326!C$53","v":0},{"$f":"Race1326!F$53","v":1}]
[null,{"$f":"Race1326!B$5","v":"Junior"},{"$f":"Race1326!B$4","v":"OC1"},{"$f":"Race1326!E$5","v":"Girls"},{"$f":"Race1326!D$5","v":"14 & Under"},{"$f":"Race1326!D$4","v":"Marathon"},{"$f":"Race1326!A$54","v":47},{"$f":"Race1326!D$54","v":0},{"$f":"Race1326!C$54","v":0},{"$f":"Race1326!F$54","v":1}]
[null,{"$f":"Race1326!B$5","v":"Junior"},{"$f":"Race1326!B$4","v":"OC1"},{"$f":"Race1326!E$5","v":"Girls"},{"$f":"Race1326!D$5","v":"14 & Under"},{"$f":"Race1326!D$4","v":"Marathon"},{"$f":"Race1326!A$55","v":48},{"$f":"Race1326!D$55","v":0},{"$f":"Race1326!C$55","v":0},{"$f":"Race1326!F$55","v":1}]
[null,{"$f":"Race1326!B$5","v":"Junior"},{"$f":"Race1326!B$4","v":"OC1"},{"$f":"Race1326!E$5","v":"Girls"},{"$f":"Race1326!D$5","v":"14 & Under"},{"$f":"Race1326!D$4","v":"Marathon"},{"$f":"Race1326!A$56","v":49},{"$f":"Race1326!D$56","v":0},{"$f":"Race1326!C$56","v":0},{"$f":"Race1326!F$56","v":1}]
[null,{"$f":"Race1326!B$5","v":"Junior"},{"$f":"Race1326!B$4","v":"OC1"},{"$f":"Race1326!E$5","v":"Girls"},{"$f":"Race1326!D$5","v":"14 & Under"},{"$f":"Race1326!D$4","v":"Marathon"},{"$f":"Race1326!A$57","v":50},{"$f":"Race1326!D$57","v":0},{"$f":"Race1326!C$57","v":0},{"$f":"Race1326!F$57","v":1}]
["Race1327",{"$f":"Race1327!B$5","v":"Junior"},{"$f":"Race1327!B$4","v":"OC1"},{"$f":"Race1327!E$5","v":"Girls"},{"$f":"Race1327!D$5","v":"16 & Under"},{"$f":"Race1327!D$4","v":"Marathon"},{"$f":"Race1327!A$8","v":1},{"$f":"Race1327!D$8","v":0},{"$f":"Race1327!C$8","v":0},{"$f":"Race1327!F$8","v":9}]
[null,{"$f":"Race1327!B$5","v":"Junior"},{"$f":"Race1327!B$4","v":"OC1"},{"$f":"Race1327!E$5","v":"Girls"},{"$f":"Race1327!D$5","v":"16 & Under"},{"$f":"Race1327!D$4","v":"Marathon"},{"$f":"Race1327!A$9","v":2},{"$f":"Race1327!D$9","v":0},{"$f":"Race1327!C$9","v":0},{"$f":"Race1327!F$9","v":7}]
[null,{"$f":"Race1327!B$5","v":"Junior"},{"$f":"Race1327!B$4","v":"OC1"},{"$f":"Race1327!E$5","v":"Girls"},{"$f":"Race1327!D$5","v":"16 & Under"},{"$f":"Race1327!D$4","v":"Marathon"},{"$f":"Race1327!A$10","v":3},{"$f":"Race1327!D$10","v":0},{"$f":"Race1327!C$10","v":0},{"$f":"Race1327!F$10","v":5}]
[null,{"$f":"Race1327!B$5","v":"Junior"},{"$f":"Race1327!B$4","v":"OC1"},{"$f":"Race1327!E$5","v":"Girls"},{"$f":"Race1327!D$5","v":"16 & Under"},{"$f":"Race1327!D$4","v":"Marathon"},{"$f":"Race1327!A$11","v":4},{"$f":"Race1327!D$11","v":0},{"$f":"Race1327!C$11","v":0},{"$f":"Race1327!F$11","v":3}]
[null,{"$f":"Race1327!B$5","v":"Junior"},{"$f":"Race1327!B$4","v":"OC1"},{"$f":"Race1327!E$5","v":"Girls"},{"$f":"Race1327!D$5","v":"16 & Under"},{"$f":"Race1327!D$4","v":"Marathon"},{"$f":"Race1327!A$12","v":5},{"$f":"Race1327!D$12","v":0},{"$f":"Race1327!C$12","v":0},{"$f":"Race1327!F$12","v":2}]
[null,{"$f":"Race1327!B$5","v":"Junior"},{"$f":"Race1327!B$4","v":"OC1"},{"$f":"Race1327!E$5","v":"Girls"},{"$f":"Race1327!D$5","v":"16 & Under"},{"$f":"Race1327!D$4","v":"Marathon"},{"$f":"Race1327!A$13","v":6},{"$f":"Race1327!D$13","v":0},{"$f":"Race1327!C$13","v":0},{"$f":"Race1327!F$13","v":1}]
[null,{"$f":"Race1327!B$5","v":"Junior"},{"$f":"Race1327!B$4","v":"OC1"},{"$f":"Race1327!E$5","v":"Girls"},{"$f":"Race1327!D$5","v":"16 & Under"},{"$f":"Race1327!D$4","v":"Marathon"},{"$f":"Race1327!A$14","v":7},{"$f":"Race1327!D$14","v":0},{"$f":"Race1327!C$14","v":0},{"$f":"Race1327!F$14","v":1}]
[null,{"$f":"Race1327!B$5","v":"Junior"},{"$f":"Race1327!B$4","v":"OC1"},{"$f":"Race1327!E$5","v":"Girls"},{"$f":"Race1327!D$5","v":"16 & Under"},{"$f":"Race1327!D$4","v":"Marathon"},{"$f":"Race1327!A$15","v":8},{"$f":"Race1327!D$15","v":0},{"$f":"Race1327!C$15","v":0},{"$f":"Race1327!F$15","v":1}]
[null,{"$f":"Race1327!B$5","v":"Junior"},{"$f":"Race1327!B$4","v":"OC1"},{"$f":"Race1327!E$5","v":"Girls"},{"$f":"Race1327!D$5","v":"16 & Under"},{"$f":"Race1327!D$4","v":"Marathon"},{"$f":"Race1327!A$16","v":9},{"$f":"Race1327!D$16","v":0},{"$f":"Race1327!C$16","v":0},{"$f":"Race1327!F$16","v":1}]
[null,{"$f":"Race1327!B$5","v":"Junior"},{"$f":"Race1327!B$4","v":"OC1"},{"$f":"Race1327!E$5","v":"Girls"},{"$f":"Race1327!D$5","v":"16 & Under"},{"$f":"Race1327!D$4","v":"Marathon"},{"$f":"Race1327!A$17","v":10},{"$f":"Race1327!D$17","v":0},{"$f":"Race1327!C$17","v":0},{"$f":"Race1327!F$17","v":1}]
[null,{"$f":"Race1327!B$5","v":"Junior"},{"$f":"Race1327!B$4","v":"OC1"},{"$f":"Race1327!E$5","v":"Girls"},{"$f":"Race1327!D$5","v":"16 & Under"},{"$f":"Race1327!D$4","v":"Marathon"},{"$f":"Race1327!A$18","v":11},{"$f":"Race1327!D$18","v":0},{"$f":"Race1327!C$18","v":0},{"$f":"Race1327!F$18","v":1}]
[null,{"$f":"Race1327!B$5","v":"Junior"},{"$f":"Race1327!B$4","v":"OC1"},{"$f":"Race1327!E$5","v":"Girls"},{"$f":"Race1327!D$5","v":"16 & Under"},{"$f":"Race1327!D$4","v":"Marathon"},{"$f":"Race1327!A$19","v":12},{"$f":"Race1327!D$19","v":0},{"$f":"Race1327!C$19","v":0},{"$f":"Race1327!F$19","v":1}]
[null,{"$f":"Race1327!B$5","v":"Junior"},{"$f":"Race1327!B$4","v":"OC1"},{"$f":"Race1327!E$5","v":"Girls"},{"$f":"Race1327!D$5","v":"16 & Under"},{"$f":"Race1327!D$4","v":"Marathon"},{"$f":"Race1327!A$20","v":13},{"$f":"Race1327!D$20","v":0},{"$f":"Race1327!C$20","v":0},{"$f":"Race1327!F$20","v":1}]
[null,{"$f":"Race1327!B$5","v":"Junior"},{"$f":"Race1327!B$4","v":"OC1"},{"$f":"Race1327!E$5","v":"Girls"},{"$f":"Race1327!D$5","v":"16 & Under"},{"$f":"Race1327!D$4","v":"Marathon"},{"$f":"Race1327!A$21","v":14},{"$f":"Race1327!D$21","v":0},{"$f":"Race1327!C$21","v":0},{"$f":"Race1327!F$21","v":1}]
[null,{"$f":"Race1327!B$5","v":"Junior"},{"$f":"Race1327!B$4","v":"OC1"},{"$f":"Race1327!E$5","v":"Girls"},{"$f":"Race1327!D$5","v":"16 & Under"},{"$f":"Race1327!D$4","v":"Marathon"},{"$f":"Race1327!A$22","v":15},{"$f":"Race1327!D$22","v":0},{"$f":"Race1327!C$22","v":0},{"$f":"Race1327!F$22","v":1}]
[null,{"$f":"Race1327!B$5","v":"Junior"},{"$f":"Race1327!B$4","v":"OC1"},{"$f":"Race1327!E$5","v":"Girls"},{"$f":"Race1327!D$5","v":"16 & Under"},{"$f":"Race1327!D$4","v":"Marathon"},{"$f":"Race1327!A$23","v":16},{"$f":"Race1327!D$23","v":0},{"$f":"Race1327!C$23","v":0},{"$f":"Race1327!F$23","v":1}]
[null,{"$f":"Race1327!B$5","v":"Junior"},{"$f":"Race1327!B$4","v":"OC1"},{"$f":"Race1327!E$5","v":"Girls"},{"$f":"Race1327!D$5","v":"16 & Under"},{"$f":"Race1327!D$4","v":"Marathon"},{"$f":"Race1327!A$24","v":17},{"$f":"Race1327!D$24","v":0},{"$f":"Race1327!C$24","v":0},{"$f":"Race1327!F$24","v":1}]
[null,{"$f":"Race1327!B$5","v":"Junior"},{"$f":"Race1327!B$4","v":"OC1"},{"$f":"Race1327!E$5","v":"Girls"},{"$f":"Race1327!D$5","v":"16 & Under"},{"$f":"Race1327!D$4","v":"Marathon"},{"$f":"Race1327!A$25","v":18},{"$f":"Race1327!D$25","v":0},{"$f":"Race1327!C$25","v":0},{"$f":"Race1327!F$25","v":1}]
[null,{"$f":"Race1327!B$5","v":"Junior"},{"$f":"Race1327!B$4","v":"OC1"},{"$f":"Race1327!E$5","v":"Girls"},{"$f":"Race1327!D$5","v":"16 & Under"},{"$f":"Race1327!D$4","v":"Marathon"},{"$f":"Race1327!A$26","v":19},{"$f":"Race1327!D$26","v":0},{"$f":"Race1327!C$26","v":0},{"$f":"Race1327!F$26","v":1}]
[null,{"$f":"Race1327!B$5","v":"Junior"},{"$f":"Race1327!B$4","v":"OC1"},{"$f":"Race1327!E$5","v":"Girls"},{"$f":"Race1327!D$5","v":"16 & Under"},{"$f":"Race1327!D$4","v":"Marathon"},{"$f":"Race1327!A$27","v":20},{"$f":"Race1327!D$27","v":0},{"$f":"Race1327!C$27","v":0},{"$f":"Race1327!F$27","v":1}]
[null,{"$f":"Race1327!B$5","v":"Junior"},{"$f":"Race1327!B$4","v":"OC1"},{"$f":"Race1327!E$5","v":"Girls"},{"$f":"Race1327!D$5","v":"16 & Under"},{"$f":"Race1327!D$4","v":"Marathon"},{"$f":"Race1327!A$28","v":21},{"$f":"Race1327!D$28","v":0},{"$f":"Race1327!C$28","v":0},{"$f":"Race1327!F$28","v":1}]
[null,{"$f":"Race1327!B$5","v":"Junior"},{"$f":"Race1327!B$4","v":"OC1"},{"$f":"Race1327!E$5","v":"Girls"},{"$f":"Race1327!D$5","v":"16 & Under"},{"$f":"Race1327!D$4","v":"Marathon"},{"$f":"Race1327!A$29","v":22},{"$f":"Race1327!D$29","v":0},{"$f":"Race1327!C$29","v":0},{"$f":"Race1327!F$29","v":1}]
[null,{"$f":"Race1327!B$5","v":"Junior"},{"$f":"Race1327!B$4","v":"OC1"},{"$f":"Race1327!E$5","v":"Girls"},{"$f":"Race1327!D$5","v":"16 & Under"},{"$f":"Race1327!D$4","v":"Marathon"},{"$f":"Race1327!A$30","v":23},{"$f":"Race1327!D$30","v":0},{"$f":"Race1327!C$30","v":0},{"$f":"Race1327!F$30","v":1}]
[null,{"$f":"Race1327!B$5","v":"Junior"},{"$f":"Race1327!B$4","v":"OC1"},{"$f":"Race1327!E$5","v":"Girls"},{"$f":"Race1327!D$5","v":"16 & Under"},{"$f":"Race1327!D$4","v":"Marathon"},{"$f":"Race1327!A$31","v":24},{"$f":"Race1327!D$31","v":0},{"$f":"Race1327!C$31","v":0},{"$f":"Race1327!F$31","v":1}]
[null,{"$f":"Race1327!B$5","v":"Junior"},{"$f":"Race1327!B$4","v":"OC1"},{"$f":"Race1327!E$5","v":"Girls"},{"$f":"Race1327!D$5","v":"16 & Under"},{"$f":"Race1327!D$4","v":"Marathon"},{"$f":"Race1327!A$32","v":25},{"$f":"Race1327!D$32","v":0},{"$f":"Race1327!C$32","v":0},{"$f":"Race1327!F$32","v":1}]
[null,{"$f":"Race1327!B$5","v":"Junior"},{"$f":"Race1327!B$4","v":"OC1"},{"$f":"Race1327!E$5","v":"Girls"},{"$f":"Race1327!D$5","v":"16 & Under"},{"$f":"Race1327!D$4","v":"Marathon"},{"$f":"Race1327!A$33","v":26},{"$f":"Race1327!D$33","v":0},{"$f":"Race1327!C$33","v":0},{"$f":"Race1327!F$33","v":1}]
[null,{"$f":"Race1327!B$5","v":"Junior"},{"$f":"Race1327!B$4","v":"OC1"},{"$f":"Race1327!E$5","v":"Girls"},{"$f":"Race1327!D$5","v":"16 & Under"},{"$f":"Race1327!D$4","v":"Marathon"},{"$f":"Race1327!A$34","v":27},{"$f":"Race1327!D$34","v":0},{"$f":"Race1327!C$34","v":0},{"$f":"Race1327!F$34","v":1}]
[null,{"$f":"Race1327!B$5","v":"Junior"},{"$f":"Race1327!B$4","v":"OC1"},{"$f":"Race1327!E$5","v":"Girls"},{"$f":"Race1327!D$5","v":"16 & Under"},{"$f":"Race1327!D$4","v":"Marathon"},{"$f":"Race1327!A$35","v":28},{"$f":"Race1327!D$35","v":0},{"$f":"Race1327!C$35","v":0},{"$f":"Race1327!F$35","v":1}]
[null,{"$f":"Race1327!B$5","v":"Junior"},{"$f":"Race1327!B$4","v":"OC1"},{"$f":"Race1327!E$5","v":"Girls"},{"$f":"Race1327!D$5","v":"16 & Under"},{"$f":"Race1327!D$4","v":"Marathon"},{"$f":"Race1327!A$36","v":29},{"$f":"Race1327!D$36","v":0},{"$f":"Race1327!C$36","v":0},{"$f":"Race1327!F$36","v":1}]
[null,{"$f":"Race1327!B$5","v":"Junior"},{"$f":"Race1327!B$4","v":"OC1"},{"$f":"Race1327!E$5","v":"Girls"},{"$f":"Race1327!D$5","v":"16 & Under"},{"$f":"Race1327!D$4","v":"Marathon"},{"$f":"Race1327!A$37","v":30},{"$f":"Race1327!D$37","v":0},{"$f":"Race1327!C$37","v":0},{"$f":"Race1327!F$37","v":1}]
[null,{"$f":"Race1327!B$5","v":"Junior"},{"$f":"Race1327!B$4","v":"OC1"},{"$f":"Race1327!E$5","v":"Girls"},{"$f":"Race1327!D$5","v":"16 & Under"},{"$f":"Race1327!D$4","v":"Marathon"},{"$f":"Race1327!A$38","v":31},{"$f":"Race1327!D$38","v":0},{"$f":"Race1327!C$38","v":0},{"$f":"Race1327!F$38","v":1}]
[null,{"$f":"Race1327!B$5","v":"Junior"},{"$f":"Race1327!B$4","v":"OC1"},{"$f":"Race1327!E$5","v":"Girls"},{"$f":"Race1327!D$5","v":"16 & Under"},{"$f":"Race1327!D$4","v":"Marathon"},{"$f":"Race1327!A$39","v":32},{"$f":"Race1327!D$39","v":0},{"$f":"Race1327!C$39","v":0},{"$f":"Race1327!F$39","v":1}]
[null,{"$f":"Race1327!B$5","v":"Junior"},{"$f":"Race1327!B$4","v":"OC1"},{"$f":"Race1327!E$5","v":"Girls"},{"$f":"Race1327!D$5","v":"16 & Under"},{"$f":"Race1327!D$4","v":"Marathon"},{"$f":"Race1327!A$40","v":33},{"$f":"Race1327!D$40","v":0},{"$f":"Race1327!C$40","v":0},{"$f":"Race1327!F$40","v":1}]
[null,{"$f":"Race1327!B$5","v":"Junior"},{"$f":"Race1327!B$4","v":"OC1"},{"$f":"Race1327!E$5","v":"Girls"},{"$f":"Race1327!D$5","v":"16 & Under"},{"$f":"Race1327!D$4","v":"Marathon"},{"$f":"Race1327!A$41","v":34},{"$f":"Race1327!D$41","v":0},{"$f":"Race1327!C$41","v":0},{"$f":"Race1327!F$41","v":1}]
[null,{"$f":"Race1327!B$5","v":"Junior"},{"$f":"Race1327!B$4","v":"OC1"},{"$f":"Race1327!E$5","v":"Girls"},{"$f":"Race1327!D$5","v":"16 & Under"},{"$f":"Race1327!D$4","v":"Marathon"},{"$f":"Race1327!A$42","v":35},{"$f":"Race1327!D$42","v":0},{"$f":"Race1327!C$42","v":0},{"$f":"Race1327!F$42","v":1}]
[null,{"$f":"Race1327!B$5","v":"Junior"},{"$f":"Race1327!B$4","v":"OC1"},{"$f":"Race1327!E$5","v":"Girls"},{"$f":"Race1327!D$5","v":"16 & Under"},{"$f":"Race1327!D$4","v":"Marathon"},{"$f":"Race1327!A$43","v":36},{"$f":"Race1327!D$43","v":0},{"$f":"Race1327!C$43","v":0},{"$f":"Race1327!F$43","v":1}]
[null,{"$f":"Race1327!B$5","v":"Junior"},{"$f":"Race1327!B$4","v":"OC1"},{"$f":"Race1327!E$5","v":"Girls"},{"$f":"Race1327!D$5","v":"16 & Under"},{"$f":"Race1327!D$4","v":"Marathon"},{"$f":"Race1327!A$44","v":37},{"$f":"Race1327!D$44","v":0},{"$f":"Race1327!C$44","v":0},{"$f":"Race1327!F$44","v":1}]
[null,{"$f":"Race1327!B$5","v":"Junior"},{"$f":"Race1327!B$4","v":"OC1"},{"$f":"Race1327!E$5","v":"Girls"},{"$f":"Race1327!D$5","v":"16 & Under"},{"$f":"Race1327!D$4","v":"Marathon"},{"$f":"Race1327!A$45","v":38},{"$f":"Race1327!D$45","v":0},{"$f":"Race1327!C$45","v":0},{"$f":"Race1327!F$45","v":1}]
[null,{"$f":"Race1327!B$5","v":"Junior"},{"$f":"Race1327!B$4","v":"OC1"},{"$f":"Race1327!E$5","v":"Girls"},{"$f":"Race1327!D$5","v":"16 & Under"},{"$f":"Race1327!D$4","v":"Marathon"},{"$f":"Race1327!A$46","v":39},{"$f":"Race1327!D$46","v":0},{"$f":"Race1327!C$46","v":0},{"$f":"Race1327!F$46","v":1}]
[null,{"$f":"Race1327!B$5","v":"Junior"},{"$f":"Race1327!B$4","v":"OC1"},{"$f":"Race1327!E$5","v":"Girls"},{"$f":"Race1327!D$5","v":"16 & Under"},{"$f":"Race1327!D$4","v":"Marathon"},{"$f":"Race1327!A$47","v":40},{"$f":"Race1327!D$47","v":0},{"$f":"Race1327!C$47","v":0},{"$f":"Race1327!F$47","v":1}]
[null,{"$f":"Race1327!B$5","v":"Junior"},{"$f":"Race1327!B$4","v":"OC1"},{"$f":"Race1327!E$5","v":"Girls"},{"$f":"Race1327!D$5","v":"16 & Under"},{"$f":"Race1327!D$4","v":"Marathon"},{"$f":"Race1327!A$48","v":41},{"$f":"Race1327!D$48","v":0},{"$f":"Race1327!C$48","v":0},{"$f":"Race1327!F$48","v":1}]
[null,{"$f":"Race1327!B$5","v":"Junior"},{"$f":"Race1327!B$4","v":"OC1"},{"$f":"Race1327!E$5","v":"Girls"},{"$f":"Race1327!D$5","v":"16 & Under"},{"$f":"Race1327!D$4","v":"Marathon"},{"$f":"Race1327!A$49","v":42},{"$f":"Race1327!D$49","v":0},{"$f":"Race1327!C$49","v":0},{"$f":"Race1327!F$49","v":1}]
[null,{"$f":"Race1327!B$5","v":"Junior"},{"$f":"Race1327!B$4","v":"OC1"},{"$f":"Race1327!E$5","v":"Girls"},{"$f":"Race1327!D$5","v":"16 & Under"},{"$f":"Race1327!D$4","v":"Marathon"},{"$f":"Race1327!A$50","v":43},{"$f":"Race1327!D$50","v":0},{"$f":"Race1327!C$50","v":0},{"$f":"Race1327!F$50","v":1}]
[null,{"$f":"Race1327!B$5","v":"Junior"},{"$f":"Race1327!B$4","v":"OC1"},{"$f":"Race1327!E$5","v":"Girls"},{"$f":"Race1327!D$5","v":"16 & Under"},{"$f":"Race1327!D$4","v":"Marathon"},{"$f":"Race1327!A$51","v":44},{"$f":"Race1327!D$51","v":0},{"$f":"Race1327!C$51","v":0},{"$f":"Race1327!F$51","v":1}]
[null,{"$f":"Race1327!B$5","v":"Junior"},{"$f":"Race1327!B$4","v":"OC1"},{"$f":"Race1327!E$5","v":"Girls"},{"$f":"Race1327!D$5","v":"16 & Under"},{"$f":"Race1327!D$4","v":"Marathon"},{"$f":"Race1327!A$52","v":45},{"$f":"Race1327!D$52","v":0},{"$f":"Race1327!C$52","v":0},{"$f":"Race1327!F$52","v":1}]
[null,{"$f":"Race1327!B$5","v":"Junior"},{"$f":"Race1327!B$4","v":"OC1"},{"$f":"Race1327!E$5","v":"Girls"},{"$f":"Race1327!D$5","v":"16 & Under"},{"$f":"Race1327!D$4","v":"Marathon"},{"$f":"Race1327!A$53","v":46},{"$f":"Race1327!D$53","v":0},{"$f":"Race1327!C$53","v":0},{"$f":"Race1327!F$53","v":1}]
[null,{"$f":"Race1327!B$5","v":"Junior"},{"$f":"Race1327!B$4","v":"OC1"},{"$f":"Race1327!E$5","v":"Girls"},{"$f":"Race1327!D$5","v":"16 & Under"},{"$f":"Race1327!D$4","v":"Marathon"},{"$f":"Race1327!A$54","v":47},{"$f":"Race1327!D$54","v":0},{"$f":"Race1327!C$54","v":0},{"$f":"Race1327!F$54","v":1}]
[null,{"$f":"Race1327!B$5","v":"Junior"},{"$f":"Race1327!B$4","v":"OC1"},{"$f":"Race1327!E$5","v":"Girls"},{"$f":"Race1327!D$5","v":"16 & Under"},{"$f":"Race1327!D$4","v":"Marathon"},{"$f":"Race1327!A$55","v":48},{"$f":"Race1327!D$55","v":0},{"$f":"Race1327!C$55","v":0},{"$f":"Race1327!F$55","v":1}]
[null,{"$f":"Race1327!B$5","v":"Junior"},{"$f":"Race1327!B$4","v":"OC1"},{"$f":"Race1327!E$5","v":"Girls"},{"$f":"Race1327!D$5","v":"16 & Under"},{"$f":"Race1327!D$4","v":"Marathon"},{"$f":"Race1327!A$56","v":49},{"$f":"Race1327!D$56","v":0},{"$f":"Race1327!C$56","v":0},{"$f":"Race1327!F$56","v":1}]
[null,{"$f":"Race1327!B$5","v":"Junior"},{"$f":"Race1327!B$4","v":"OC1"},{"$f":"Race1327!E$5","v":"Girls"},{"$f":"Race1327!D$5","v":"16 & Under"},{"$f":"Race1327!D$4","v":"Marathon"},{"$f":"Race1327!A$57","v":50},{"$f":"Race1327!D$57","v":0},{"$f":"Race1327!C$57","v":0},{"$f":"Race1327!F$57","v":1}]
["Race1328",{"$f":"Race1328!B$5","v":"Junior"},{"$f":"Race1328!B$4","v":"OC1"},{"$f":"Race1328!E$5","v":"Girls"},{"$f":"Race1328!D$5","v":"19 & Under"},{"$f":"Race1328!D$4","v":"Marathon"},{"$f":"Race1328!A$8","v":1},{"$f":"Race1328!D$8","v":0},{"$f":"Race1328!C$8","v":0},{"$f":"Race1328!F$8","v":9}]
[null,{"$f":"Race1328!B$5","v":"Junior"},{"$f":"Race1328!B$4","v":"OC1"},{"$f":"Race1328!E$5","v":"Girls"},{"$f":"Race1328!D$5","v":"19 & Under"},{"$f":"Race1328!D$4","v":"Marathon"},{"$f":"Race1328!A$9","v":2},{"$f":"Race1328!D$9","v":0},{"$f":"Race1328!C$9","v":0},{"$f":"Race1328!F$9","v":7}]
[null,{"$f":"Race1328!B$5","v":"Junior"},{"$f":"Race1328!B$4","v":"OC1"},{"$f":"Race1328!E$5","v":"Girls"},{"$f":"Race1328!D$5","v":"19 & Under"},{"$f":"Race1328!D$4","v":"Marathon"},{"$f":"Race1328!A$10","v":3},{"$f":"Race1328!D$10","v":0},{"$f":"Race1328!C$10","v":0},{"$f":"Race1328!F$10","v":5}]
[null,{"$f":"Race1328!B$5","v":"Junior"},{"$f":"Race1328!B$4","v":"OC1"},{"$f":"Race1328!E$5","v":"Girls"},{"$f":"Race1328!D$5","v":"19 & Under"},{"$f":"Race1328!D$4","v":"Marathon"},{"$f":"Race1328!A$11","v":4},{"$f":"Race1328!D$11","v":0},{"$f":"Race1328!C$11","v":0},{"$f":"Race1328!F$11","v":3}]
[null,{"$f":"Race1328!B$5","v":"Junior"},{"$f":"Race1328!B$4","v":"OC1"},{"$f":"Race1328!E$5","v":"Girls"},{"$f":"Race1328!D$5","v":"19 & Under"},{"$f":"Race1328!D$4","v":"Marathon"},{"$f":"Race1328!A$12","v":5},{"$f":"Race1328!D$12","v":0},{"$f":"Race1328!C$12","v":0},{"$f":"Race1328!F$12","v":2}]
[null,{"$f":"Race1328!B$5","v":"Junior"},{"$f":"Race1328!B$4","v":"OC1"},{"$f":"Race1328!E$5","v":"Girls"},{"$f":"Race1328!D$5","v":"19 & Under"},{"$f":"Race1328!D$4","v":"Marathon"},{"$f":"Race1328!A$13","v":6},{"$f":"Race1328!D$13","v":0},{"$f":"Race1328!C$13","v":0},{"$f":"Race1328!F$13","v":1}]
[null,{"$f":"Race1328!B$5","v":"Junior"},{"$f":"Race1328!B$4","v":"OC1"},{"$f":"Race1328!E$5","v":"Girls"},{"$f":"Race1328!D$5","v":"19 & Under"},{"$f":"Race1328!D$4","v":"Marathon"},{"$f":"Race1328!A$14","v":7},{"$f":"Race1328!D$14","v":0},{"$f":"Race1328!C$14","v":0},{"$f":"Race1328!F$14","v":1}]
[null,{"$f":"Race1328!B$5","v":"Junior"},{"$f":"Race1328!B$4","v":"OC1"},{"$f":"Race1328!E$5","v":"Girls"},{"$f":"Race1328!D$5","v":"19 & Under"},{"$f":"Race1328!D$4","v":"Marathon"},{"$f":"Race1328!A$15","v":8},{"$f":"Race1328!D$15","v":0},{"$f":"Race1328!C$15","v":0},{"$f":"Race1328!F$15","v":1}]
[null,{"$f":"Race1328!B$5","v":"Junior"},{"$f":"Race1328!B$4","v":"OC1"},{"$f":"Race1328!E$5","v":"Girls"},{"$f":"Race1328!D$5","v":"19 & Under"},{"$f":"Race1328!D$4","v":"Marathon"},{"$f":"Race1328!A$16","v":9},{"$f":"Race1328!D$16","v":0},{"$f":"Race1328!C$16","v":0},{"$f":"Race1328!F$16","v":1}]
[null,{"$f":"Race1328!B$5","v":"Junior"},{"$f":"Race1328!B$4","v":"OC1"},{"$f":"Race1328!E$5","v":"Girls"},{"$f":"Race1328!D$5","v":"19 & Under"},{"$f":"Race1328!D$4","v":"Marathon"},{"$f":"Race1328!A$17","v":10},{"$f":"Race1328!D$17","v":0},{"$f":"Race1328!C$17","v":0},{"$f":"Race1328!F$17","v":1}]
[null,{"$f":"Race1328!B$5","v":"Junior"},{"$f":"Race1328!B$4","v":"OC1"},{"$f":"Race1328!E$5","v":"Girls"},{"$f":"Race1328!D$5","v":"19 & Under"},{"$f":"Race1328!D$4","v":"Marathon"},{"$f":"Race1328!A$18","v":11},{"$f":"Race1328!D$18","v":0},{"$f":"Race1328!C$18","v":0},{"$f":"Race1328!F$18","v":1}]
[null,{"$f":"Race1328!B$5","v":"Junior"},{"$f":"Race1328!B$4","v":"OC1"},{"$f":"Race1328!E$5","v":"Girls"},{"$f":"Race1328!D$5","v":"19 & Under"},{"$f":"Race1328!D$4","v":"Marathon"},{"$f":"Race1328!A$19","v":12},{"$f":"Race1328!D$19","v":0},{"$f":"Race1328!C$19","v":0},{"$f":"Race1328!F$19","v":1}]
[null,{"$f":"Race1328!B$5","v":"Junior"},{"$f":"Race1328!B$4","v":"OC1"},{"$f":"Race1328!E$5","v":"Girls"},{"$f":"Race1328!D$5","v":"19 & Under"},{"$f":"Race1328!D$4","v":"Marathon"},{"$f":"Race1328!A$20","v":13},{"$f":"Race1328!D$20","v":0},{"$f":"Race1328!C$20","v":0},{"$f":"Race1328!F$20","v":1}]
[null,{"$f":"Race1328!B$5","v":"Junior"},{"$f":"Race1328!B$4","v":"OC1"},{"$f":"Race1328!E$5","v":"Girls"},{"$f":"Race1328!D$5","v":"19 & Under"},{"$f":"Race1328!D$4","v":"Marathon"},{"$f":"Race1328!A$21","v":14},{"$f":"Race1328!D$21","v":0},{"$f":"Race1328!C$21","v":0},{"$f":"Race1328!F$21","v":1}]
[null,{"$f":"Race1328!B$5","v":"Junior"},{"$f":"Race1328!B$4","v":"OC1"},{"$f":"Race1328!E$5","v":"Girls"},{"$f":"Race1328!D$5","v":"19 & Under"},{"$f":"Race1328!D$4","v":"Marathon"},{"$f":"Race1328!A$22","v":15},{"$f":"Race1328!D$22","v":0},{"$f":"Race1328!C$22","v":0},{"$f":"Race1328!F$22","v":1}]
[null,{"$f":"Race1328!B$5","v":"Junior"},{"$f":"Race1328!B$4","v":"OC1"},{"$f":"Race1328!E$5","v":"Girls"},{"$f":"Race1328!D$5","v":"19 & Under"},{"$f":"Race1328!D$4","v":"Marathon"},{"$f":"Race1328!A$23","v":16},{"$f":"Race1328!D$23","v":0},{"$f":"Race1328!C$23","v":0},{"$f":"Race1328!F$23","v":1}]
[null,{"$f":"Race1328!B$5","v":"Junior"},{"$f":"Race1328!B$4","v":"OC1"},{"$f":"Race1328!E$5","v":"Girls"},{"$f":"Race1328!D$5","v":"19 & Under"},{"$f":"Race1328!D$4","v":"Marathon"},{"$f":"Race1328!A$24","v":17},{"$f":"Race1328!D$24","v":0},{"$f":"Race1328!C$24","v":0},{"$f":"Race1328!F$24","v":1}]
[null,{"$f":"Race1328!B$5","v":"Junior"},{"$f":"Race1328!B$4","v":"OC1"},{"$f":"Race1328!E$5","v":"Girls"},{"$f":"Race1328!D$5","v":"19 & Under"},{"$f":"Race1328!D$4","v":"Marathon"},{"$f":"Race1328!A$25","v":18},{"$f":"Race1328!D$25","v":0},{"$f":"Race1328!C$25","v":0},{"$f":"Race1328!F$25","v":1}]
[null,{"$f":"Race1328!B$5","v":"Junior"},{"$f":"Race1328!B$4","v":"OC1"},{"$f":"Race1328!E$5","v":"Girls"},{"$f":"Race1328!D$5","v":"19 & Under"},{"$f":"Race1328!D$4","v":"Marathon"},{"$f":"Race1328!A$26","v":19},{"$f":"Race1328!D$26","v":0},{"$f":"Race1328!C$26","v":0},{"$f":"Race1328!F$26","v":1}]
[null,{"$f":"Race1328!B$5","v":"Junior"},{"$f":"Race1328!B$4","v":"OC1"},{"$f":"Race1328!E$5","v":"Girls"},{"$f":"Race1328!D$5","v":"19 & Under"},{"$f":"Race1328!D$4","v":"Marathon"},{"$f":"Race1328!A$27","v":20},{"$f":"Race1328!D$27","v":0},{"$f":"Race1328!C$27","v":0},{"$f":"Race1328!F$27","v":1}]
[null,{"$f":"Race1328!B$5","v":"Junior"},{"$f":"Race1328!B$4","v":"OC1"},{"$f":"Race1328!E$5","v":"Girls"},{"$f":"Race1328!D$5","v":"19 & Under"},{"$f":"Race1328!D$4","v":"Marathon"},{"$f":"Race1328!A$28","v":21},{"$f":"Race1328!D$28","v":0},{"$f":"Race1328!C$28","v":0},{"$f":"Race1328!F$28","v":1}]
[null,{"$f":"Race1328!B$5","v":"Junior"},{"$f":"Race1328!B$4","v":"OC1"},{"$f":"Race1328!E$5","v":"Girls"},{"$f":"Race1328!D$5","v":"19 & Under"},{"$f":"Race1328!D$4","v":"Marathon"},{"$f":"Race1328!A$29","v":22},{"$f":"Race1328!D$29","v":0},{"$f":"Race1328!C$29","v":0},{"$f":"Race1328!F$29","v":1}]
[null,{"$f":"Race1328!B$5","v":"Junior"},{"$f":"Race1328!B$4","v":"OC1"},{"$f":"Race1328!E$5","v":"Girls"},{"$f":"Race1328!D$5","v":"19 & Under"},{"$f":"Race1328!D$4","v":"Marathon"},{"$f":"Race1328!A$30","v":23},{"$f":"Race1328!D$30","v":0},{"$f":"Race1328!C$30","v":0},{"$f":"Race1328!F$30","v":1}]
[null,{"$f":"Race1328!B$5","v":"Junior"},{"$f":"Race1328!B$4","v":"OC1"},{"$f":"Race1328!E$5","v":"Girls"},{"$f":"Race1328!D$5","v":"19 & Under"},{"$f":"Race1328!D$4","v":"Marathon"},{"$f":"Race1328!A$31","v":24},{"$f":"Race1328!D$31","v":0},{"$f":"Race1328!C$31","v":0},{"$f":"Race1328!F$31","v":1}]
[null,{"$f":"Race1328!B$5","v":"Junior"},{"$f":"Race1328!B$4","v":"OC1"},{"$f":"Race1328!E$5","v":"Girls"},{"$f":"Race1328!D$5","v":"19 & Under"},{"$f":"Race1328!D$4","v":"Marathon"},{"$f":"Race1328!A$32","v":25},{"$f":"Race1328!D$32","v":0},{"$f":"Race1328!C$32","v":0},{"$f":"Race1328!F$32","v":1}]
[null,{"$f":"Race1328!B$5","v":"Junior"},{"$f":"Race1328!B$4","v":"OC1"},{"$f":"Race1328!E$5","v":"Girls"},{"$f":"Race1328!D$5","v":"19 & Under"},{"$f":"Race1328!D$4","v":"Marathon"},{"$f":"Race1328!A$33","v":26},{"$f":"Race1328!D$33","v":0},{"$f":"Race1328!C$33","v":0},{"$f":"Race1328!F$33","v":1}]
[null,{"$f":"Race1328!B$5","v":"Junior"},{"$f":"Race1328!B$4","v":"OC1"},{"$f":"Race1328!E$5","v":"Girls"},{"$f":"Race1328!D$5","v":"19 & Under"},{"$f":"Race1328!D$4","v":"Marathon"},{"$f":"Race1328!A$34","v":27},{"$f":"Race1328!D$34","v":0},{"$f":"Race1328!C$34","v":0},{"$f":"Race1328!F$34","v":1}]
[null,{"$f":"Race1328!B$5","v":"Junior"},{"$f":"Race1328!B$4","v":"OC1"},{"$f":"Race1328!E$5","v":"Girls"},{"$f":"Race1328!D$5","v":"19 & Under"},{"$f":"Race1328!D$4","v":"Marathon"},{"$f":"Race1328!A$35","v":28},{"$f":"Race1328!D$35","v":0},{"$f":"Race1328!C$35","v":0},{"$f":"Race1328!F$35","v":1}]
[null,{"$f":"Race1328!B$5","v":"Junior"},{"$f":"Race1328!B$4","v":"OC1"},{"$f":"Race1328!E$5","v":"Girls"},{"$f":"Race1328!D$5","v":"19 & Under"},{"$f":"Race1328!D$4","v":"Marathon"},{"$f":"Race1328!A$36","v":29},{"$f":"Race1328!D$36","v":0},{"$f":"Race1328!C$36","v":0},{"$f":"Race1328!F$36","v":1}]
[null,{"$f":"Race1328!B$5","v":"Junior"},{"$f":"Race1328!B$4","v":"OC1"},{"$f":"Race1328!E$5","v":"Girls"},{"$f":"Race1328!D$5","v":"19 & Under"},{"$f":"Race1328!D$4","v":"Marathon"},{"$f":"Race1328!A$37","v":30},{"$f":"Race1328!D$37","v":0},{"$f":"Race1328!C$37","v":0},{"$f":"Race1328!F$37","v":1}]
[null,{"$f":"Race1328!B$5","v":"Junior"},{"$f":"Race1328!B$4","v":"OC1"},{"$f":"Race1328!E$5","v":"Girls"},{"$f":"Race1328!D$5","v":"19 & Under"},{"$f":"Race1328!D$4","v":"Marathon"},{"$f":"Race1328!A$38","v":31},{"$f":"Race1328!D$38","v":0},{"$f":"Race1328!C$38","v":0},{"$f":"Race1328!F$38","v":1}]
[null,{"$f":"Race1328!B$5","v":"Junior"},{"$f":"Race1328!B$4","v":"OC1"},{"$f":"Race1328!E$5","v":"Girls"},{"$f":"Race1328!D$5","v":"19 & Under"},{"$f":"Race1328!D$4","v":"Marathon"},{"$f":"Race1328!A$39","v":32},{"$f":"Race1328!D$39","v":0},{"$f":"Race1328!C$39","v":0},{"$f":"Race1328!F$39","v":1}]
[null,{"$f":"Race1328!B$5","v":"Junior"},{"$f":"Race1328!B$4","v":"OC1"},{"$f":"Race1328!E$5","v":"Girls"},{"$f":"Race1328!D$5","v":"19 & Under"},{"$f":"Race1328!D$4","v":"Marathon"},{"$f":"Race1328!A$40","v":33},{"$f":"Race1328!D$40","v":0},{"$f":"Race1328!C$40","v":0},{"$f":"Race1328!F$40","v":1}]
[null,{"$f":"Race1328!B$5","v":"Junior"},{"$f":"Race1328!B$4","v":"OC1"},{"$f":"Race1328!E$5","v":"Girls"},{"$f":"Race1328!D$5","v":"19 & Under"},{"$f":"Race1328!D$4","v":"Marathon"},{"$f":"Race1328!A$41","v":34},{"$f":"Race1328!D$41","v":0},{"$f":"Race1328!C$41","v":0},{"$f":"Race1328!F$41","v":1}]
[null,{"$f":"Race1328!B$5","v":"Junior"},{"$f":"Race1328!B$4","v":"OC1"},{"$f":"Race1328!E$5","v":"Girls"},{"$f":"Race1328!D$5","v":"19 & Under"},{"$f":"Race1328!D$4","v":"Marathon"},{"$f":"Race1328!A$42","v":35},{"$f":"Race1328!D$42","v":0},{"$f":"Race1328!C$42","v":0},{"$f":"Race1328!F$42","v":1}]
[null,{"$f":"Race1328!B$5","v":"Junior"},{"$f":"Race1328!B$4","v":"OC1"},{"$f":"Race1328!E$5","v":"Girls"},{"$f":"Race1328!D$5","v":"19 & Under"},{"$f":"Race1328!D$4","v":"Marathon"},{"$f":"Race1328!A$43","v":36},{"$f":"Race1328!D$43","v":0},{"$f":"Race1328!C$43","v":0},{"$f":"Race1328!F$43","v":1}]
[null,{"$f":"Race1328!B$5","v":"Junior"},{"$f":"Race1328!B$4","v":"OC1"},{"$f":"Race1328!E$5","v":"Girls"},{"$f":"Race1328!D$5","v":"19 & Under"},{"$f":"Race1328!D$4","v":"Marathon"},{"$f":"Race1328!A$44","v":37},{"$f":"Race1328!D$44","v":0},{"$f":"Race1328!C$44","v":0},{"$f":"Race1328!F$44","v":1}]
[null,{"$f":"Race1328!B$5","v":"Junior"},{"$f":"Race1328!B$4","v":"OC1"},{"$f":"Race1328!E$5","v":"Girls"},{"$f":"Race1328!D$5","v":"19 & Under"},{"$f":"Race1328!D$4","v":"Marathon"},{"$f":"Race1328!A$45","v":38},{"$f":"Race1328!D$45","v":0},{"$f":"Race1328!C$45","v":0},{"$f":"Race1328!F$45","v":1}]
[null,{"$f":"Race1328!B$5","v":"Junior"},{"$f":"Race1328!B$4","v":"OC1"},{"$f":"Race1328!E$5","v":"Girls"},{"$f":"Race1328!D$5","v":"19 & Under"},{"$f":"Race1328!D$4","v":"Marathon"},{"$f":"Race1328!A$46","v":39},{"$f":"Race1328!D$46","v":0},{"$f":"Race1328!C$46","v":0},{"$f":"Race1328!F$46","v":1}]
[null,{"$f":"Race1328!B$5","v":"Junior"},{"$f":"Race1328!B$4","v":"OC1"},{"$f":"Race1328!E$5","v":"Girls"},{"$f":"Race1328!D$5","v":"19 & Under"},{"$f":"Race1328!D$4","v":"Marathon"},{"$f":"Race1328!A$47","v":40},{"$f":"Race1328!D$47","v":0},{"$f":"Race1328!C$47","v":0},{"$f":"Race1328!F$47","v":1}]
[null,{"$f":"Race1328!B$5","v":"Junior"},{"$f":"Race1328!B$4","v":"OC1"},{"$f":"Race1328!E$5","v":"Girls"},{"$f":"Race1328!D$5","v":"19 & Under"},{"$f":"Race1328!D$4","v":"Marathon"},{"$f":"Race1328!A$48","v":41},{"$f":"Race1328!D$48","v":0},{"$f":"Race1328!C$48","v":0},{"$f":"Race1328!F$48","v":1}]
[null,{"$f":"Race1328!B$5","v":"Junior"},{"$f":"Race1328!B$4","v":"OC1"},{"$f":"Race1328!E$5","v":"Girls"},{"$f":"Race1328!D$5","v":"19 & Under"},{"$f":"Race1328!D$4","v":"Marathon"},{"$f":"Race1328!A$49","v":42},{"$f":"Race1328!D$49","v":0},{"$f":"Race1328!C$49","v":0},{"$f":"Race1328!F$49","v":1}]
[null,{"$f":"Race1328!B$5","v":"Junior"},{"$f":"Race1328!B$4","v":"OC1"},{"$f":"Race1328!E$5","v":"Girls"},{"$f":"Race1328!D$5","v":"19 & Under"},{"$f":"Race1328!D$4","v":"Marathon"},{"$f":"Race1328!A$50","v":43},{"$f":"Race1328!D$50","v":0},{"$f":"Race1328!C$50","v":0},{"$f":"Race1328!F$50","v":1}]
[null,{"$f":"Race1328!B$5","v":"Junior"},{"$f":"Race1328!B$4","v":"OC1"},{"$f":"Race1328!E$5","v":"Girls"},{"$f":"Race1328!D$5","v":"19 & Under"},{"$f":"Race1328!D$4","v":"Marathon"},{"$f":"Race1328!A$51","v":44},{"$f":"Race1328!D$51","v":0},{"$f":"Race1328!C$51","v":0},{"$f":"Race1328!F$51","v":1}]
[null,{"$f":"Race1328!B$5","v":"Junior"},{"$f":"Race1328!B$4","v":"OC1"},{"$f":"Race1328!E$5","v":"Girls"},{"$f":"Race1328!D$5","v":"19 & Under"},{"$f":"Race1328!D$4","v":"Marathon"},{"$f":"Race1328!A$52","v":45},{"$f":"Race1328!D$52","v":0},{"$f":"Race1328!C$52","v":0},{"$f":"Race1328!F$52","v":1}]
[null,{"$f":"Race1328!B$5","v":"Junior"},{"$f":"Race1328!B$4","v":"OC1"},{"$f":"Race1328!E$5","v":"Girls"},{"$f":"Race1328!D$5","v":"19 & Under"},{"$f":"Race1328!D$4","v":"Marathon"},{"$f":"Race1328!A$53","v":46},{"$f":"Race1328!D$53","v":0},{"$f":"Race1328!C$53","v":0},{"$f":"Race1328!F$53","v":1}]
[null,{"$f":"Race1328!B$5","v":"Junior"},{"$f":"Race1328!B$4","v":"OC1"},{"$f":"Race1328!E$5","v":"Girls"},{"$f":"Race1328!D$5","v":"19 & Under"},{"$f":"Race1328!D$4","v":"Marathon"},{"$f":"Race1328!A$54","v":47},{"$f":"Race1328!D$54","v":0},{"$f":"Race1328!C$54","v":0},{"$f":"Race1328!F$54","v":1}]
[null,{"$f":"Race1328!B$5","v":"Junior"},{"$f":"Race1328!B$4","v":"OC1"},{"$f":"Race1328!E$5","v":"Girls"},{"$f":"Race1328!D$5","v":"19 & Under"},{"$f":"Race1328!D$4","v":"Marathon"},{"$f":"Race1328!A$55","v":48},{"$f":"Race1328!D$55","v":0},{"$f":"Race1328!C$55","v":0},{"$f":"Race1328!F$55","v":1}]
[null,{"$f":"Race1328!B$5","v":"Junior"},{"$f":"Race1328!B$4","v":"OC1"},{"$f":"Race1328!E$5","v":"Girls"},{"$f":"Race1328!D$5","v":"19 & Under"},{"$f":"Race1328!D$4","v":"Marathon"},{"$f":"Race1328!A$56","v":49},{"$f":"Race1328!D$56","v":0},{"$f":"Race1328!C$56","v":0},{"$f":"Race1328!F$56","v":1}]
[null,{"$f":"Race1328!B$5","v":"Junior"},{"$f":"Race1328!B$4","v":"OC1"},{"$f":"Race1328!E$5","v":"Girls"},{"$f":"Race1328!D$5","v":"19 & Under"},{"$f":"Race1328!D$4","v":"Marathon"},{"$f":"Race1328!A$57","v":50},{"$f":"Race1328!D$57","v":0},{"$f":"Race1328!C$57","v":0},{"$f":"Race1328!F$57","v":1}]
["Race1402",{"$f":"Race1402!B$5","v":"Senior"},{"$f":"Race1402!B$4","v":"SUP-Open"},{"$f":"Race1402!E$5","v":"Men"},{"$f":"Race1402!D$5","v":"Open"},{"$f":"Race1402!D$4","v":"Short Course"},{"$f":"Race1402!A$8","v":1},{"$f":"Race1402!D$8","v":0},{"$f":"Race1402!C$8","v":0},{"$f":"Race1402!F$8","v":9}]
[null,{"$f":"Race1402!B$5","v":"Senior"},{"$f":"Race1402!B$4","v":"SUP-Open"},{"$f":"Race1402!E$5","v":"Men"},{"$f":"Race1402!D$5","v":"Open"},{"$f":"Race1402!D$4","v":"Short Course"},{"$f":"Race1402!A$9","v":2},{"$f":"Race1402!D$9","v":0},{"$f":"Race1402!C$9","v":0},{"$f":"Race1402!F$9","v":7}]
[null,{"$f":"Race1402!B$5","v":"Senior"},{"$f":"Race1402!B$4","v":"SUP-Open"},{"$f":"Race1402!E$5","v":"Men"},{"$f":"Race1402!D$5","v":"Open"},{"$f":"Race1402!D$4","v":"Short Course"},{"$f":"Race1402!A$10","v":3},{"$f":"Race1402!D$10","v":0},{"$f":"Race1402!C$10","v":0},{"$f":"Race1402!F$10","v":5}]
[null,{"$f":"Race1402!B$5","v":"Senior"},{"$f":"Race1402!B$4","v":"SUP-Open"},{"$f":"Race1402!E$5","v":"Men"},{"$f":"Race1402!D$5","v":"Open"},{"$f":"Race1402!D$4","v":"Short Course"},{"$f":"Race1402!A$11","v":4},{"$f":"Race1402!D$11","v":0},{"$f":"Race1402!C$11","v":0},{"$f":"Race1402!F$11","v":3}]
[null,{"$f":"Race1402!B$5","v":"Senior"},{"$f":"Race1402!B$4","v":"SUP-Open"},{"$f":"Race1402!E$5","v":"Men"},{"$f":"Race1402!D$5","v":"Open"},{"$f":"Race1402!D$4","v":"Short Course"},{"$f":"Race1402!A$12","v":5},{"$f":"Race1402!D$12","v":0},{"$f":"Race1402!C$12","v":0},{"$f":"Race1402!F$12","v":2}]
[null,{"$f":"Race1402!B$5","v":"Senior"},{"$f":"Race1402!B$4","v":"SUP-Open"},{"$f":"Race1402!E$5","v":"Men"},{"$f":"Race1402!D$5","v":"Open"},{"$f":"Race1402!D$4","v":"Short Course"},{"$f":"Race1402!A$13","v":6},{"$f":"Race1402!D$13","v":0},{"$f":"Race1402!C$13","v":0},{"$f":"Race1402!F$13","v":1}]
[null,{"$f":"Race1402!B$5","v":"Senior"},{"$f":"Race1402!B$4","v":"SUP-Open"},{"$f":"Race1402!E$5","v":"Men"},{"$f":"Race1402!D$5","v":"Open"},{"$f":"Race1402!D$4","v":"Short Course"},{"$f":"Race1402!A$14","v":7},{"$f":"Race1402!D$14","v":0},{"$f":"Race1402!C$14","v":0},{"$f":"Race1402!F$14","v":1}]
[null,{"$f":"Race1402!B$5","v":"Senior"},{"$f":"Race1402!B$4","v":"SUP-Open"},{"$f":"Race1402!E$5","v":"Men"},{"$f":"Race1402!D$5","v":"Open"},{"$f":"Race1402!D$4","v":"Short Course"},{"$f":"Race1402!A$15","v":8},{"$f":"Race1402!D$15","v":0},{"$f":"Race1402!C$15","v":0},{"$f":"Race1402!F$15","v":1}]
[null,{"$f":"Race1402!B$5","v":"Senior"},{"$f":"Race1402!B$4","v":"SUP-Open"},{"$f":"Race1402!E$5","v":"Men"},{"$f":"Race1402!D$5","v":"Open"},{"$f":"Race1402!D$4","v":"Short Course"},{"$f":"Race1402!A$16","v":9},{"$f":"Race1402!D$16","v":0},{"$f":"Race1402!C$16","v":0},{"$f":"Race1402!F$16","v":1}]
[null,{"$f":"Race1402!B$5","v":"Senior"},{"$f":"Race1402!B$4","v":"SUP-Open"},{"$f":"Race1402!E$5","v":"Men"},{"$f":"Race1402!D$5","v":"Open"},{"$f":"Race1402!D$4","v":"Short Course"},{"$f":"Race1402!A$17","v":10},{"$f":"Race1402!D$17","v":0},{"$f":"Race1402!C$17","v":0},{"$f":"Race1402!F$17","v":1}]
[null,{"$f":"Race1402!B$5","v":"Senior"},{"$f":"Race1402!B$4","v":"SUP-Open"},{"$f":"Race1402!E$5","v":"Men"},{"$f":"Race1402!D$5","v":"Open"},{"$f":"Race1402!D$4","v":"Short Course"},{"$f":"Race1402!A$18","v":11},{"$f":"Race1402!D$18","v":0},{"$f":"Race1402!C$18","v":0},{"$f":"Race1402!F$18","v":1}]
[null,{"$f":"Race1402!B$5","v":"Senior"},{"$f":"Race1402!B$4","v":"SUP-Open"},{"$f":"Race1402!E$5","v":"Men"},{"$f":"Race1402!D$5","v":"Open"},{"$f":"Race1402!D$4","v":"Short Course"},{"$f":"Race1402!A$19","v":12},{"$f":"Race1402!D$19","v":0},{"$f":"Race1402!C$19","v":0},{"$f":"Race1402!F$19","v":1}]
[null,{"$f":"Race1402!B$5","v":"Senior"},{"$f":"Race1402!B$4","v":"SUP-Open"},{"$f":"Race1402!E$5","v":"Men"},{"$f":"Race1402!D$5","v":"Open"},{"$f":"Race1402!D$4","v":"Short Course"},{"$f":"Race1402!A$20","v":13},{"$f":"Race1402!D$20","v":0},{"$f":"Race1402!C$20","v":0},{"$f":"Race1402!F$20","v":1}]
[null,{"$f":"Race1402!B$5","v":"Senior"},{"$f":"Race1402!B$4","v":"SUP-Open"},{"$f":"Race1402!E$5","v":"Men"},{"$f":"Race1402!D$5","v":"Open"},{"$f":"Race1402!D$4","v":"Short Course"},{"$f":"Race1402!A$21","v":14},{"$f":"Race1402!D$21","v":0},{"$f":"Race1402!C$21","v":0},{"$f":"Race1402!F$21","v":1}]
[null,{"$f":"Race1402!B$5","v":"Senior"},{"$f":"Race1402!B$4","v":"SUP-Open"},{"$f":"Race1402!E$5","v":"Men"},{"$f":"Race1402!D$5","v":"Open"},{"$f":"Race1402!D$4","v":"Short Course"},{"$f":"Race1402!A$22","v":15},{"$f":"Race1402!D$22","v":0},{"$f":"Race1402!C$22","v":0},{"$f":"Race1402!F$22","v":1}]
[null,{"$f":"Race1402!B$5","v":"Senior"},{"$f":"Race1402!B$4","v":"SUP-Open"},{"$f":"Race1402!E$5","v":"Men"},{"$f":"Race1402!D$5","v":"Open"},{"$f":"Race1402!D$4","v":"Short Course"},{"$f":"Race1402!A$23","v":16},{"$f":"Race1402!D$23","v":0},{"$f":"Race1402!C$23","v":0},{"$f":"Race1402!F$23","v":1}]
[null,{"$f":"Race1402!B$5","v":"Senior"},{"$f":"Race1402!B$4","v":"SUP-Open"},{"$f":"Race1402!E$5","v":"Men"},{"$f":"Race1402!D$5","v":"Open"},{"$f":"Race1402!D$4","v":"Short Course"},{"$f":"Race1402!A$24","v":17},{"$f":"Race1402!D$24","v":0},{"$f":"Race1402!C$24","v":0},{"$f":"Race1402!F$24","v":1}]
[null,{"$f":"Race1402!B$5","v":"Senior"},{"$f":"Race1402!B$4","v":"SUP-Open"},{"$f":"Race1402!E$5","v":"Men"},{"$f":"Race1402!D$5","v":"Open"},{"$f":"Race1402!D$4","v":"Short Course"},{"$f":"Race1402!A$25","v":18},{"$f":"Race1402!D$25","v":0},{"$f":"Race1402!C$25","v":0},{"$f":"Race1402!F$25","v":1}]
[null,{"$f":"Race1402!B$5","v":"Senior"},{"$f":"Race1402!B$4","v":"SUP-Open"},{"$f":"Race1402!E$5","v":"Men"},{"$f":"Race1402!D$5","v":"Open"},{"$f":"Race1402!D$4","v":"Short Course"},{"$f":"Race1402!A$26","v":19},{"$f":"Race1402!D$26","v":0},{"$f":"Race1402!C$26","v":0},{"$f":"Race1402!F$26","v":1}]
[null,{"$f":"Race1402!B$5","v":"Senior"},{"$f":"Race1402!B$4","v":"SUP-Open"},{"$f":"Race1402!E$5","v":"Men"},{"$f":"Race1402!D$5","v":"Open"},{"$f":"Race1402!D$4","v":"Short Course"},{"$f":"Race1402!A$27","v":20},{"$f":"Race1402!D$27","v":0},{"$f":"Race1402!C$27","v":0},{"$f":"Race1402!F$27","v":1}]
[null,{"$f":"Race1402!B$5","v":"Senior"},{"$f":"Race1402!B$4","v":"SUP-Open"},{"$f":"Race1402!E$5","v":"Men"},{"$f":"Race1402!D$5","v":"Open"},{"$f":"Race1402!D$4","v":"Short Course"},{"$f":"Race1402!A$28","v":21},{"$f":"Race1402!D$28","v":0},{"$f":"Race1402!C$28","v":0},{"$f":"Race1402!F$28","v":1}]
[null,{"$f":"Race1402!B$5","v":"Senior"},{"$f":"Race1402!B$4","v":"SUP-Open"},{"$f":"Race1402!E$5","v":"Men"},{"$f":"Race1402!D$5","v":"Open"},{"$f":"Race1402!D$4","v":"Short Course"},{"$f":"Race1402!A$29","v":22},{"$f":"Race1402!D$29","v":0},{"$f":"Race1402!C$29","v":0},{"$f":"Race1402!F$29","v":1}]
[null,{"$f":"Race1402!B$5","v":"Senior"},{"$f":"Race1402!B$4","v":"SUP-Open"},{"$f":"Race1402!E$5","v":"Men"},{"$f":"Race1402!D$5","v":"Open"},{"$f":"Race1402!D$4","v":"Short Course"},{"$f":"Race1402!A$30","v":23},{"$f":"Race1402!D$30","v":0},{"$f":"Race1402!C$30","v":0},{"$f":"Race1402!F$30","v":1}]
[null,{"$f":"Race1402!B$5","v":"Senior"},{"$f":"Race1402!B$4","v":"SUP-Open"},{"$f":"Race1402!E$5","v":"Men"},{"$f":"Race1402!D$5","v":"Open"},{"$f":"Race1402!D$4","v":"Short Course"},{"$f":"Race1402!A$31","v":24},{"$f":"Race1402!D$31","v":0},{"$f":"Race1402!C$31","v":0},{"$f":"Race1402!F$31","v":1}]
[null,{"$f":"Race1402!B$5","v":"Senior"},{"$f":"Race1402!B$4","v":"SUP-Open"},{"$f":"Race1402!E$5","v":"Men"},{"$f":"Race1402!D$5","v":"Open"},{"$f":"Race1402!D$4","v":"Short Course"},{"$f":"Race1402!A$32","v":25},{"$f":"Race1402!D$32","v":0},{"$f":"Race1402!C$32","v":0},{"$f":"Race1402!F$32","v":1}]
[null,{"$f":"Race1402!B$5","v":"Senior"},{"$f":"Race1402!B$4","v":"SUP-Open"},{"$f":"Race1402!E$5","v":"Men"},{"$f":"Race1402!D$5","v":"Open"},{"$f":"Race1402!D$4","v":"Short Course"},{"$f":"Race1402!A$33","v":26},{"$f":"Race1402!D$33","v":0},{"$f":"Race1402!C$33","v":0},{"$f":"Race1402!F$33","v":1}]
[null,{"$f":"Race1402!B$5","v":"Senior"},{"$f":"Race1402!B$4","v":"SUP-Open"},{"$f":"Race1402!E$5","v":"Men"},{"$f":"Race1402!D$5","v":"Open"},{"$f":"Race1402!D$4","v":"Short Course"},{"$f":"Race1402!A$34","v":27},{"$f":"Race1402!D$34","v":0},{"$f":"Race1402!C$34","v":0},{"$f":"Race1402!F$34","v":1}]
[null,{"$f":"Race1402!B$5","v":"Senior"},{"$f":"Race1402!B$4","v":"SUP-Open"},{"$f":"Race1402!E$5","v":"Men"},{"$f":"Race1402!D$5","v":"Open"},{"$f":"Race1402!D$4","v":"Short Course"},{"$f":"Race1402!A$35","v":28},{"$f":"Race1402!D$35","v":0},{"$f":"Race1402!C$35","v":0},{"$f":"Race1402!F$35","v":1}]
[null,{"$f":"Race1402!B$5","v":"Senior"},{"$f":"Race1402!B$4","v":"SUP-Open"},{"$f":"Race1402!E$5","v":"Men"},{"$f":"Race1402!D$5","v":"Open"},{"$f":"Race1402!D$4","v":"Short Course"},{"$f":"Race1402!A$36","v":29},{"$f":"Race1402!D$36","v":0},{"$f":"Race1402!C$36","v":0},{"$f":"Race1402!F$36","v":1}]
[null,{"$f":"Race1402!B$5","v":"Senior"},{"$f":"Race1402!B$4","v":"SUP-Open"},{"$f":"Race1402!E$5","v":"Men"},{"$f":"Race1402!D$5","v":"Open"},{"$f":"Race1402!D$4","v":"Short Course"},{"$f":"Race1402!A$37","v":30},{"$f":"Race1402!D$37","v":0},{"$f":"Race1402!C$37","v":0},{"$f":"Race1402!F$37","v":1}]
[null,{"$f":"Race1402!B$5","v":"Senior"},{"$f":"Race1402!B$4","v":"SUP-Open"},{"$f":"Race1402!E$5","v":"Men"},{"$f":"Race1402!D$5","v":"Open"},{"$f":"Race1402!D$4","v":"Short Course"},{"$f":"Race1402!A$38","v":31},{"$f":"Race1402!D$38","v":0},{"$f":"Race1402!C$38","v":0},{"$f":"Race1402!F$38","v":1}]
[null,{"$f":"Race1402!B$5","v":"Senior"},{"$f":"Race1402!B$4","v":"SUP-Open"},{"$f":"Race1402!E$5","v":"Men"},{"$f":"Race1402!D$5","v":"Open"},{"$f":"Race1402!D$4","v":"Short Course"},{"$f":"Race1402!A$39","v":32},{"$f":"Race1402!D$39","v":0},{"$f":"Race1402!C$39","v":0},{"$f":"Race1402!F$39","v":1}]
[null,{"$f":"Race1402!B$5","v":"Senior"},{"$f":"Race1402!B$4","v":"SUP-Open"},{"$f":"Race1402!E$5","v":"Men"},{"$f":"Race1402!D$5","v":"Open"},{"$f":"Race1402!D$4","v":"Short Course"},{"$f":"Race1402!A$40","v":33},{"$f":"Race1402!D$40","v":0},{"$f":"Race1402!C$40","v":0},{"$f":"Race1402!F$40","v":1}]
[null,{"$f":"Race1402!B$5","v":"Senior"},{"$f":"Race1402!B$4","v":"SUP-Open"},{"$f":"Race1402!E$5","v":"Men"},{"$f":"Race1402!D$5","v":"Open"},{"$f":"Race1402!D$4","v":"Short Course"},{"$f":"Race1402!A$41","v":34},{"$f":"Race1402!D$41","v":0},{"$f":"Race1402!C$41","v":0},{"$f":"Race1402!F$41","v":1}]
[null,{"$f":"Race1402!B$5","v":"Senior"},{"$f":"Race1402!B$4","v":"SUP-Open"},{"$f":"Race1402!E$5","v":"Men"},{"$f":"Race1402!D$5","v":"Open"},{"$f":"Race1402!D$4","v":"Short Course"},{"$f":"Race1402!A$42","v":35},{"$f":"Race1402!D$42","v":0},{"$f":"Race1402!C$42","v":0},{"$f":"Race1402!F$42","v":1}]
[null,{"$f":"Race1402!B$5","v":"Senior"},{"$f":"Race1402!B$4","v":"SUP-Open"},{"$f":"Race1402!E$5","v":"Men"},{"$f":"Race1402!D$5","v":"Open"},{"$f":"Race1402!D$4","v":"Short Course"},{"$f":"Race1402!A$43","v":36},{"$f":"Race1402!D$43","v":0},{"$f":"Race1402!C$43","v":0},{"$f":"Race1402!F$43","v":1}]
[null,{"$f":"Race1402!B$5","v":"Senior"},{"$f":"Race1402!B$4","v":"SUP-Open"},{"$f":"Race1402!E$5","v":"Men"},{"$f":"Race1402!D$5","v":"Open"},{"$f":"Race1402!D$4","v":"Short Course"},{"$f":"Race1402!A$44","v":37},{"$f":"Race1402!D$44","v":0},{"$f":"Race1402!C$44","v":0},{"$f":"Race1402!F$44","v":1}]
[null,{"$f":"Race1402!B$5","v":"Senior"},{"$f":"Race1402!B$4","v":"SUP-Open"},{"$f":"Race1402!E$5","v":"Men"},{"$f":"Race1402!D$5","v":"Open"},{"$f":"Race1402!D$4","v":"Short Course"},{"$f":"Race1402!A$45","v":38},{"$f":"Race1402!D$45","v":0},{"$f":"Race1402!C$45","v":0},{"$f":"Race1402!F$45","v":1}]
[null,{"$f":"Race1402!B$5","v":"Senior"},{"$f":"Race1402!B$4","v":"SUP-Open"},{"$f":"Race1402!E$5","v":"Men"},{"$f":"Race1402!D$5","v":"Open"},{"$f":"Race1402!D$4","v":"Short Course"},{"$f":"Race1402!A$46","v":39},{"$f":"Race1402!D$46","v":0},{"$f":"Race1402!C$46","v":0},{"$f":"Race1402!F$46","v":1}]
[null,{"$f":"Race1402!B$5","v":"Senior"},{"$f":"Race1402!B$4","v":"SUP-Open"},{"$f":"Race1402!E$5","v":"Men"},{"$f":"Race1402!D$5","v":"Open"},{"$f":"Race1402!D$4","v":"Short Course"},{"$f":"Race1402!A$47","v":40},{"$f":"Race1402!D$47","v":0},{"$f":"Race1402!C$47","v":0},{"$f":"Race1402!F$47","v":1}]
[null,{"$f":"Race1402!B$5","v":"Senior"},{"$f":"Race1402!B$4","v":"SUP-Open"},{"$f":"Race1402!E$5","v":"Men"},{"$f":"Race1402!D$5","v":"Open"},{"$f":"Race1402!D$4","v":"Short Course"},{"$f":"Race1402!A$48","v":41},{"$f":"Race1402!D$48","v":0},{"$f":"Race1402!C$48","v":0},{"$f":"Race1402!F$48","v":1}]
[null,{"$f":"Race1402!B$5","v":"Senior"},{"$f":"Race1402!B$4","v":"SUP-Open"},{"$f":"Race1402!E$5","v":"Men"},{"$f":"Race1402!D$5","v":"Open"},{"$f":"Race1402!D$4","v":"Short Course"},{"$f":"Race1402!A$49","v":42},{"$f":"Race1402!D$49","v":0},{"$f":"Race1402!C$49","v":0},{"$f":"Race1402!F$49","v":1}]
[null,{"$f":"Race1402!B$5","v":"Senior"},{"$f":"Race1402!B$4","v":"SUP-Open"},{"$f":"Race1402!E$5","v":"Men"},{"$f":"Race1402!D$5","v":"Open"},{"$f":"Race1402!D$4","v":"Short Course"},{"$f":"Race1402!A$50","v":43},{"$f":"Race1402!D$50","v":0},{"$f":"Race1402!C$50","v":0},{"$f":"Race1402!F$50","v":1}]
[null,{"$f":"Race1402!B$5","v":"Senior"},{"$f":"Race1402!B$4","v":"SUP-Open"},{"$f":"Race1402!E$5","v":"Men"},{"$f":"Race1402!D$5","v":"Open"},{"$f":"Race1402!D$4","v":"Short Course"},{"$f":"Race1402!A$51","v":44},{"$f":"Race1402!D$51","v":0},{"$f":"Race1402!C$51","v":0},{"$f":"Race1402!F$51","v":1}]
[null,{"$f":"Race1402!B$5","v":"Senior"},{"$f":"Race1402!B$4","v":"SUP-Open"},{"$f":"Race1402!E$5","v":"Men"},{"$f":"Race1402!D$5","v":"Open"},{"$f":"Race1402!D$4","v":"Short Course"},{"$f":"Race1402!A$52","v":45},{"$f":"Race1402!D$52","v":0},{"$f":"Race1402!C$52","v":0},{"$f":"Race1402!F$52","v":1}]
[null,{"$f":"Race1402!B$5","v":"Senior"},{"$f":"Race1402!B$4","v":"SUP-Open"},{"$f":"Race1402!E$5","v":"Men"},{"$f":"Race1402!D$5","v":"Open"},{"$f":"Race1402!D$4","v":"Short Course"},{"$f":"Race1402!A$53","v":46},{"$f":"Race1402!D$53","v":0},{"$f":"Race1402!C$53","v":0},{"$f":"Race1402!F$53","v":1}]
[null,{"$f":"Race1402!B$5","v":"Senior"},{"$f":"Race1402!B$4","v":"SUP-Open"},{"$f":"Race1402!E$5","v":"Men"},{"$f":"Race1402!D$5","v":"Open"},{"$f":"Race1402!D$4","v":"Short Course"},{"$f":"Race1402!A$54","v":47},{"$f":"Race1402!D$54","v":0},{"$f":"Race1402!C$54","v":0},{"$f":"Race1402!F$54","v":1}]
[null,{"$f":"Race1402!B$5","v":"Senior"},{"$f":"Race1402!B$4","v":"SUP-Open"},{"$f":"Race1402!E$5","v":"Men"},{"$f":"Race1402!D$5","v":"Open"},{"$f":"Race1402!D$4","v":"Short Course"},{"$f":"Race1402!A$55","v":48},{"$f":"Race1402!D$55","v":0},{"$f":"Race1402!C$55","v":0},{"$f":"Race1402!F$55","v":1}]
[null,{"$f":"Race1402!B$5","v":"Senior"},{"$f":"Race1402!B$4","v":"SUP-Open"},{"$f":"Race1402!E$5","v":"Men"},{"$f":"Race1402!D$5","v":"Open"},{"$f":"Race1402!D$4","v":"Short Course"},{"$f":"Race1402!A$56","v":49},{"$f":"Race1402!D$56","v":0},{"$f":"Race1402!C$56","v":0},{"$f":"Race1402!F$56","v":1}]
[null,{"$f":"Race1402!B$5","v":"Senior"},{"$f":"Race1402!B$4","v":"SUP-Open"},{"$f":"Race1402!E$5","v":"Men"},{"$f":"Race1402!D$5","v":"Open"},{"$f":"Race1402!D$4","v":"Short Course"},{"$f":"Race1402!A$57","v":50},{"$f":"Race1402!D$57","v":0},{"$f":"Race1402!C$57","v":0},{"$f":"Race1402!F$57","v":1}]
["Race1407",{"$f":"Race1407!B$5","v":"Senior"},{"$f":"Race1407!B$4","v":"SUP-Open"},{"$f":"Race1407!E$5","v":"Women"},{"$f":"Race1407!D$5","v":"Open"},{"$f":"Race1407!D$4","v":"Short Course"},{"$f":"Race1407!A$8","v":1},{"$f":"Race1407!D$8","v":0},{"$f":"Race1407!C$8","v":0},{"$f":"Race1407!F$8","v":9}]
[null,{"$f":"Race1407!B$5","v":"Senior"},{"$f":"Race1407!B$4","v":"SUP-Open"},{"$f":"Race1407!E$5","v":"Women"},{"$f":"Race1407!D$5","v":"Open"},{"$f":"Race1407!D$4","v":"Short Course"},{"$f":"Race1407!A$9","v":2},{"$f":"Race1407!D$9","v":0},{"$f":"Race1407!C$9","v":0},{"$f":"Race1407!F$9","v":7}]
[null,{"$f":"Race1407!B$5","v":"Senior"},{"$f":"Race1407!B$4","v":"SUP-Open"},{"$f":"Race1407!E$5","v":"Women"},{"$f":"Race1407!D$5","v":"Open"},{"$f":"Race1407!D$4","v":"Short Course"},{"$f":"Race1407!A$10","v":3},{"$f":"Race1407!D$10","v":0},{"$f":"Race1407!C$10","v":0},{"$f":"Race1407!F$10","v":5}]
[null,{"$f":"Race1407!B$5","v":"Senior"},{"$f":"Race1407!B$4","v":"SUP-Open"},{"$f":"Race1407!E$5","v":"Women"},{"$f":"Race1407!D$5","v":"Open"},{"$f":"Race1407!D$4","v":"Short Course"},{"$f":"Race1407!A$11","v":4},{"$f":"Race1407!D$11","v":0},{"$f":"Race1407!C$11","v":0},{"$f":"Race1407!F$11","v":3}]
[null,{"$f":"Race1407!B$5","v":"Senior"},{"$f":"Race1407!B$4","v":"SUP-Open"},{"$f":"Race1407!E$5","v":"Women"},{"$f":"Race1407!D$5","v":"Open"},{"$f":"Race1407!D$4","v":"Short Course"},{"$f":"Race1407!A$12","v":5},{"$f":"Race1407!D$12","v":0},{"$f":"Race1407!C$12","v":0},{"$f":"Race1407!F$12","v":2}]
[null,{"$f":"Race1407!B$5","v":"Senior"},{"$f":"Race1407!B$4","v":"SUP-Open"},{"$f":"Race1407!E$5","v":"Women"},{"$f":"Race1407!D$5","v":"Open"},{"$f":"Race1407!D$4","v":"Short Course"},{"$f":"Race1407!A$13","v":6},{"$f":"Race1407!D$13","v":0},{"$f":"Race1407!C$13","v":0},{"$f":"Race1407!F$13","v":1}]
[null,{"$f":"Race1407!B$5","v":"Senior"},{"$f":"Race1407!B$4","v":"SUP-Open"},{"$f":"Race1407!E$5","v":"Women"},{"$f":"Race1407!D$5","v":"Open"},{"$f":"Race1407!D$4","v":"Short Course"},{"$f":"Race1407!A$14","v":7},{"$f":"Race1407!D$14","v":0},{"$f":"Race1407!C$14","v":0},{"$f":"Race1407!F$14","v":1}]
[null,{"$f":"Race1407!B$5","v":"Senior"},{"$f":"Race1407!B$4","v":"SUP-Open"},{"$f":"Race1407!E$5","v":"Women"},{"$f":"Race1407!D$5","v":"Open"},{"$f":"Race1407!D$4","v":"Short Course"},{"$f":"Race1407!A$15","v":8},{"$f":"Race1407!D$15","v":0},{"$f":"Race1407!C$15","v":0},{"$f":"Race1407!F$15","v":1}]
[null,{"$f":"Race1407!B$5","v":"Senior"},{"$f":"Race1407!B$4","v":"SUP-Open"},{"$f":"Race1407!E$5","v":"Women"},{"$f":"Race1407!D$5","v":"Open"},{"$f":"Race1407!D$4","v":"Short Course"},{"$f":"Race1407!A$16","v":9},{"$f":"Race1407!D$16","v":0},{"$f":"Race1407!C$16","v":0},{"$f":"Race1407!F$16","v":1}]
[null,{"$f":"Race1407!B$5","v":"Senior"},{"$f":"Race1407!B$4","v":"SUP-Open"},{"$f":"Race1407!E$5","v":"Women"},{"$f":"Race1407!D$5","v":"Open"},{"$f":"Race1407!D$4","v":"Short Course"},{"$f":"Race1407!A$17","v":10},{"$f":"Race1407!D$17","v":0},{"$f":"Race1407!C$17","v":0},{"$f":"Race1407!F$17","v":1}]
[null,{"$f":"Race1407!B$5","v":"Senior"},{"$f":"Race1407!B$4","v":"SUP-Open"},{"$f":"Race1407!E$5","v":"Women"},{"$f":"Race1407!D$5","v":"Open"},{"$f":"Race1407!D$4","v":"Short Course"},{"$f":"Race1407!A$18","v":11},{"$f":"Race1407!D$18","v":0},{"$f":"Race1407!C$18","v":0},{"$f":"Race1407!F$18","v":1}]
[null,{"$f":"Race1407!B$5","v":"Senior"},{"$f":"Race1407!B$4","v":"SUP-Open"},{"$f":"Race1407!E$5","v":"Women"},{"$f":"Race1407!D$5","v":"Open"},{"$f":"Race1407!D$4","v":"Short Course"},{"$f":"Race1407!A$19","v":12},{"$f":"Race1407!D$19","v":0},{"$f":"Race1407!C$19","v":0},{"$f":"Race1407!F$19","v":1}]
[null,{"$f":"Race1407!B$5","v":"Senior"},{"$f":"Race1407!B$4","v":"SUP-Open"},{"$f":"Race1407!E$5","v":"Women"},{"$f":"Race1407!D$5","v":"Open"},{"$f":"Race1407!D$4","v":"Short Course"},{"$f":"Race1407!A$20","v":13},{"$f":"Race1407!D$20","v":0},{"$f":"Race1407!C$20","v":0},{"$f":"Race1407!F$20","v":1}]
[null,{"$f":"Race1407!B$5","v":"Senior"},{"$f":"Race1407!B$4","v":"SUP-Open"},{"$f":"Race1407!E$5","v":"Women"},{"$f":"Race1407!D$5","v":"Open"},{"$f":"Race1407!D$4","v":"Short Course"},{"$f":"Race1407!A$21","v":14},{"$f":"Race1407!D$21","v":0},{"$f":"Race1407!C$21","v":0},{"$f":"Race1407!F$21","v":1}]
[null,{"$f":"Race1407!B$5","v":"Senior"},{"$f":"Race1407!B$4","v":"SUP-Open"},{"$f":"Race1407!E$5","v":"Women"},{"$f":"Race1407!D$5","v":"Open"},{"$f":"Race1407!D$4","v":"Short Course"},{"$f":"Race1407!A$22","v":15},{"$f":"Race1407!D$22","v":0},{"$f":"Race1407!C$22","v":0},{"$f":"Race1407!F$22","v":1}]
[null,{"$f":"Race1407!B$5","v":"Senior"},{"$f":"Race1407!B$4","v":"SUP-Open"},{"$f":"Race1407!E$5","v":"Women"},{"$f":"Race1407!D$5","v":"Open"},{"$f":"Race1407!D$4","v":"Short Course"},{"$f":"Race1407!A$23","v":16},{"$f":"Race1407!D$23","v":0},{"$f":"Race1407!C$23","v":0},{"$f":"Race1407!F$23","v":1}]
[null,{"$f":"Race1407!B$5","v":"Senior"},{"$f":"Race1407!B$4","v":"SUP-Open"},{"$f":"Race1407!E$5","v":"Women"},{"$f":"Race1407!D$5","v":"Open"},{"$f":"Race1407!D$4","v":"Short Course"},{"$f":"Race1407!A$24","v":17},{"$f":"Race1407!D$24","v":0},{"$f":"Race1407!C$24","v":0},{"$f":"Race1407!F$24","v":1}]
[null,{"$f":"Race1407!B$5","v":"Senior"},{"$f":"Race1407!B$4","v":"SUP-Open"},{"$f":"Race1407!E$5","v":"Women"},{"$f":"Race1407!D$5","v":"Open"},{"$f":"Race1407!D$4","v":"Short Course"},{"$f":"Race1407!A$25","v":18},{"$f":"Race1407!D$25","v":0},{"$f":"Race1407!C$25","v":0},{"$f":"Race1407!F$25","v":1}]
[null,{"$f":"Race1407!B$5","v":"Senior"},{"$f":"Race1407!B$4","v":"SUP-Open"},{"$f":"Race1407!E$5","v":"Women"},{"$f":"Race1407!D$5","v":"Open"},{"$f":"Race1407!D$4","v":"Short Course"},{"$f":"Race1407!A$26","v":19},{"$f":"Race1407!D$26","v":0},{"$f":"Race1407!C$26","v":0},{"$f":"Race1407!F$26","v":1}]
[null,{"$f":"Race1407!B$5","v":"Senior"},{"$f":"Race1407!B$4","v":"SUP-Open"},{"$f":"Race1407!E$5","v":"Women"},{"$f":"Race1407!D$5","v":"Open"},{"$f":"Race1407!D$4","v":"Short Course"},{"$f":"Race1407!A$27","v":20},{"$f":"Race1407!D$27","v":0},{"$f":"Race1407!C$27","v":0},{"$f":"Race1407!F$27","v":1}]
[null,{"$f":"Race1407!B$5","v":"Senior"},{"$f":"Race1407!B$4","v":"SUP-Open"},{"$f":"Race1407!E$5","v":"Women"},{"$f":"Race1407!D$5","v":"Open"},{"$f":"Race1407!D$4","v":"Short Course"},{"$f":"Race1407!A$28","v":21},{"$f":"Race1407!D$28","v":0},{"$f":"Race1407!C$28","v":0},{"$f":"Race1407!F$28","v":1}]
[null,{"$f":"Race1407!B$5","v":"Senior"},{"$f":"Race1407!B$4","v":"SUP-Open"},{"$f":"Race1407!E$5","v":"Women"},{"$f":"Race1407!D$5","v":"Open"},{"$f":"Race1407!D$4","v":"Short Course"},{"$f":"Race1407!A$29","v":22},{"$f":"Race1407!D$29","v":0},{"$f":"Race1407!C$29","v":0},{"$f":"Race1407!F$29","v":1}]
[null,{"$f":"Race1407!B$5","v":"Senior"},{"$f":"Race1407!B$4","v":"SUP-Open"},{"$f":"Race1407!E$5","v":"Women"},{"$f":"Race1407!D$5","v":"Open"},{"$f":"Race1407!D$4","v":"Short Course"},{"$f":"Race1407!A$30","v":23},{"$f":"Race1407!D$30","v":0},{"$f":"Race1407!C$30","v":0},{"$f":"Race1407!F$30","v":1}]
[null,{"$f":"Race1407!B$5","v":"Senior"},{"$f":"Race1407!B$4","v":"SUP-Open"},{"$f":"Race1407!E$5","v":"Women"},{"$f":"Race1407!D$5","v":"Open"},{"$f":"Race1407!D$4","v":"Short Course"},{"$f":"Race1407!A$31","v":24},{"$f":"Race1407!D$31","v":0},{"$f":"Race1407!C$31","v":0},{"$f":"Race1407!F$31","v":1}]
[null,{"$f":"Race1407!B$5","v":"Senior"},{"$f":"Race1407!B$4","v":"SUP-Open"},{"$f":"Race1407!E$5","v":"Women"},{"$f":"Race1407!D$5","v":"Open"},{"$f":"Race1407!D$4","v":"Short Course"},{"$f":"Race1407!A$32","v":25},{"$f":"Race1407!D$32","v":0},{"$f":"Race1407!C$32","v":0},{"$f":"Race1407!F$32","v":1}]
[null,{"$f":"Race1407!B$5","v":"Senior"},{"$f":"Race1407!B$4","v":"SUP-Open"},{"$f":"Race1407!E$5","v":"Women"},{"$f":"Race1407!D$5","v":"Open"},{"$f":"Race1407!D$4","v":"Short Course"},{"$f":"Race1407!A$33","v":26},{"$f":"Race1407!D$33","v":0},{"$f":"Race1407!C$33","v":0},{"$f":"Race1407!F$33","v":1}]
[null,{"$f":"Race1407!B$5","v":"Senior"},{"$f":"Race1407!B$4","v":"SUP-Open"},{"$f":"Race1407!E$5","v":"Women"},{"$f":"Race1407!D$5","v":"Open"},{"$f":"Race1407!D$4","v":"Short Course"},{"$f":"Race1407!A$34","v":27},{"$f":"Race1407!D$34","v":0},{"$f":"Race1407!C$34","v":0},{"$f":"Race1407!F$34","v":1}]
[null,{"$f":"Race1407!B$5","v":"Senior"},{"$f":"Race1407!B$4","v":"SUP-Open"},{"$f":"Race1407!E$5","v":"Women"},{"$f":"Race1407!D$5","v":"Open"},{"$f":"Race1407!D$4","v":"Short Course"},{"$f":"Race1407!A$35","v":28},{"$f":"Race1407!D$35","v":0},{"$f":"Race1407!C$35","v":0},{"$f":"Race1407!F$35","v":1}]
[null,{"$f":"Race1407!B$5","v":"Senior"},{"$f":"Race1407!B$4","v":"SUP-Open"},{"$f":"Race1407!E$5","v":"Women"},{"$f":"Race1407!D$5","v":"Open"},{"$f":"Race1407!D$4","v":"Short Course"},{"$f":"Race1407!A$36","v":29},{"$f":"Race1407!D$36","v":0},{"$f":"Race1407!C$36","v":0},{"$f":"Race1407!F$36","v":1}]
[null,{"$f":"Race1407!B$5","v":"Senior"},{"$f":"Race1407!B$4","v":"SUP-Open"},{"$f":"Race1407!E$5","v":"Women"},{"$f":"Race1407!D$5","v":"Open"},{"$f":"Race1407!D$4","v":"Short Course"},{"$f":"Race1407!A$37","v":30},{"$f":"Race1407!D$37","v":0},{"$f":"Race1407!C$37","v":0},{"$f":"Race1407!F$37","v":1}]
[null,{"$f":"Race1407!B$5","v":"Senior"},{"$f":"Race1407!B$4","v":"SUP-Open"},{"$f":"Race1407!E$5","v":"Women"},{"$f":"Race1407!D$5","v":"Open"},{"$f":"Race1407!D$4","v":"Short Course"},{"$f":"Race1407!A$38","v":31},{"$f":"Race1407!D$38","v":0},{"$f":"Race1407!C$38","v":0},{"$f":"Race1407!F$38","v":1}]
[null,{"$f":"Race1407!B$5","v":"Senior"},{"$f":"Race1407!B$4","v":"SUP-Open"},{"$f":"Race1407!E$5","v":"Women"},{"$f":"Race1407!D$5","v":"Open"},{"$f":"Race1407!D$4","v":"Short Course"},{"$f":"Race1407!A$39","v":32},{"$f":"Race1407!D$39","v":0},{"$f":"Race1407!C$39","v":0},{"$f":"Race1407!F$39","v":1}]
[null,{"$f":"Race1407!B$5","v":"Senior"},{"$f":"Race1407!B$4","v":"SUP-Open"},{"$f":"Race1407!E$5","v":"Women"},{"$f":"Race1407!D$5","v":"Open"},{"$f":"Race1407!D$4","v":"Short Course"},{"$f":"Race1407!A$40","v":33},{"$f":"Race1407!D$40","v":0},{"$f":"Race1407!C$40","v":0},{"$f":"Race1407!F$40","v":1}]
[null,{"$f":"Race1407!B$5","v":"Senior"},{"$f":"Race1407!B$4","v":"SUP-Open"},{"$f":"Race1407!E$5","v":"Women"},{"$f":"Race1407!D$5","v":"Open"},{"$f":"Race1407!D$4","v":"Short Course"},{"$f":"Race1407!A$41","v":34},{"$f":"Race1407!D$41","v":0},{"$f":"Race1407!C$41","v":0},{"$f":"Race1407!F$41","v":1}]
[null,{"$f":"Race1407!B$5","v":"Senior"},{"$f":"Race1407!B$4","v":"SUP-Open"},{"$f":"Race1407!E$5","v":"Women"},{"$f":"Race1407!D$5","v":"Open"},{"$f":"Race1407!D$4","v":"Short Course"},{"$f":"Race1407!A$42","v":35},{"$f":"Race1407!D$42","v":0},{"$f":"Race1407!C$42","v":0},{"$f":"Race1407!F$42","v":1}]
[null,{"$f":"Race1407!B$5","v":"Senior"},{"$f":"Race1407!B$4","v":"SUP-Open"},{"$f":"Race1407!E$5","v":"Women"},{"$f":"Race1407!D$5","v":"Open"},{"$f":"Race1407!D$4","v":"Short Course"},{"$f":"Race1407!A$43","v":36},{"$f":"Race1407!D$43","v":0},{"$f":"Race1407!C$43","v":0},{"$f":"Race1407!F$43","v":1}]
[null,{"$f":"Race1407!B$5","v":"Senior"},{"$f":"Race1407!B$4","v":"SUP-Open"},{"$f":"Race1407!E$5","v":"Women"},{"$f":"Race1407!D$5","v":"Open"},{"$f":"Race1407!D$4","v":"Short Course"},{"$f":"Race1407!A$44","v":37},{"$f":"Race1407!D$44","v":0},{"$f":"Race1407!C$44","v":0},{"$f":"Race1407!F$44","v":1}]
[null,{"$f":"Race1407!B$5","v":"Senior"},{"$f":"Race1407!B$4","v":"SUP-Open"},{"$f":"Race1407!E$5","v":"Women"},{"$f":"Race1407!D$5","v":"Open"},{"$f":"Race1407!D$4","v":"Short Course"},{"$f":"Race1407!A$45","v":38},{"$f":"Race1407!D$45","v":0},{"$f":"Race1407!C$45","v":0},{"$f":"Race1407!F$45","v":1}]
[null,{"$f":"Race1407!B$5","v":"Senior"},{"$f":"Race1407!B$4","v":"SUP-Open"},{"$f":"Race1407!E$5","v":"Women"},{"$f":"Race1407!D$5","v":"Open"},{"$f":"Race1407!D$4","v":"Short Course"},{"$f":"Race1407!A$46","v":39},{"$f":"Race1407!D$46","v":0},{"$f":"Race1407!C$46","v":0},{"$f":"Race1407!F$46","v":1}]
[null,{"$f":"Race1407!B$5","v":"Senior"},{"$f":"Race1407!B$4","v":"SUP-Open"},{"$f":"Race1407!E$5","v":"Women"},{"$f":"Race1407!D$5","v":"Open"},{"$f":"Race1407!D$4","v":"Short Course"},{"$f":"Race1407!A$47","v":40},{"$f":"Race1407!D$47","v":0},{"$f":"Race1407!C$47","v":0},{"$f":"Race1407!F$47","v":1}]
[null,{"$f":"Race1407!B$5","v":"Senior"},{"$f":"Race1407!B$4","v":"SUP-Open"},{"$f":"Race1407!E$5","v":"Women"},{"$f":"Race1407!D$5","v":"Open"},{"$f":"Race1407!D$4","v":"Short Course"},{"$f":"Race1407!A$48","v":41},{"$f":"Race1407!D$48","v":0},{"$f":"Race1407!C$48","v":0},{"$f":"Race1407!F$48","v":1}]
[null,{"$f":"Race1407!B$5","v":"Senior"},{"$f":"Race1407!B$4","v":"SUP-Open"},{"$f":"Race1407!E$5","v":"Women"},{"$f":"Race1407!D$5","v":"Open"},{"$f":"Race1407!D$4","v":"Short Course"},{"$f":"Race1407!A$49","v":42},{"$f":"Race1407!D$49","v":0},{"$f":"Race1407!C$49","v":0},{"$f":"Race1407!F$49","v":1}]
[null,{"$f":"Race1407!B$5","v":"Senior"},{"$f":"Race1407!B$4","v":"SUP-Open"},{"$f":"Race1407!E$5","v":"Women"},{"$f":"Race1407!D$5","v":"Open"},{"$f":"Race1407!D$4","v":"Short Course"},{"$f":"Race1407!A$50","v":43},{"$f":"Race1407!D$50","v":0},{"$f":"Race1407!C$50","v":0},{"$f":"Race1407!F$50","v":1}]
[null,{"$f":"Race1407!B$5","v":"Senior"},{"$f":"Race1407!B$4","v":"SUP-Open"},{"$f":"Race1407!E$5","v":"Women"},{"$f":"Race1407!D$5","v":"Open"},{"$f":"Race1407!D$4","v":"Short Course"},{"$f":"Race1407!A$51","v":44},{"$f":"Race1407!D$51","v":0},{"$f":"Race1407!C$51","v":0},{"$f":"Race1407!F$51","v":1}]
[null,{"$f":"Race1407!B$5","v":"Senior"},{"$f":"Race1407!B$4","v":"SUP-Open"},{"$f":"Race1407!E$5","v":"Women"},{"$f":"Race1407!D$5","v":"Open"},{"$f":"Race1407!D$4","v":"Short Course"},{"$f":"Race1407!A$52","v":45},{"$f":"Race1407!D$52","v":0},{"$f":"Race1407!C$52","v":0},{"$f":"Race1407!F$52","v":1}]
[null,{"$f":"Race1407!B$5","v":"Senior"},{"$f":"Race1407!B$4","v":"SUP-Open"},{"$f":"Race1407!E$5","v":"Women"},{"$f":"Race1407!D$5","v":"Open"},{"$f":"Race1407!D$4","v":"Short Course"},{"$f":"Race1407!A$53","v":46},{"$f":"Race1407!D$53","v":0},{"$f":"Race1407!C$53","v":0},{"$f":"Race1407!F$53","v":1}]
[null,{"$f":"Race1407!B$5","v":"Senior"},{"$f":"Race1407!B$4","v":"SUP-Open"},{"$f":"Race1407!E$5","v":"Women"},{"$f":"Race1407!D$5","v":"Open"},{"$f":"Race1407!D$4","v":"Short Course"},{"$f":"Race1407!A$54","v":47},{"$f":"Race1407!D$54","v":0},{"$f":"Race1407!C$54","v":0},{"$f":"Race1407!F$54","v":1}]
[null,{"$f":"Race1407!B$5","v":"Senior"},{"$f":"Race1407!B$4","v":"SUP-Open"},{"$f":"Race1407!E$5","v":"Women"},{"$f":"Race1407!D$5","v":"Open"},{"$f":"Race1407!D$4","v":"Short Course"},{"$f":"Race1407!A$55","v":48},{"$f":"Race1407!D$55","v":0},{"$f":"Race1407!C$55","v":0},{"$f":"Race1407!F$55","v":1}]
[null,{"$f":"Race1407!B$5","v":"Senior"},{"$f":"Race1407!B$4","v":"SUP-Open"},{"$f":"Race1407!E$5","v":"Women"},{"$f":"Race1407!D$5","v":"Open"},{"$f":"Race1407!D$4","v":"Short Course"},{"$f":"Race1407!A$56","v":49},{"$f":"Race1407!D$56","v":0},{"$f":"Race1407!C$56","v":0},{"$f":"Race1407!F$56","v":1}]
[null,{"$f":"Race1407!B$5","v":"Senior"},{"$f":"Race1407!B$4","v":"SUP-Open"},{"$f":"Race1407!E$5","v":"Women"},{"$f":"Race1407!D$5","v":"Open"},{"$f":"Race1407!D$4","v":"Short Course"},{"$f":"Race1407!A$57","v":50},{"$f":"Race1407!D$57","v":0},{"$f":"Race1407!C$57","v":0},{"$f":"Race1407!F$57","v":1}]